{"text_format":"1","workbook":"xlsx","n_sheets":47,"sheets":["CONTENTS","1. Experiment Setup","2. Search Object Types","3. Estimate Experiment Design","4. Env. Measurements","5. Photos","6. AMDR Adult","7. AMDR Child","8. AMDR Clue","9. Actual Experiment Design","10. Obj. Placement Tabl & Chart","11. Search Object Location","12. Searcher-Participant Log","13. Team Sign-Up","14. Subject Information Sheet","15. Task Instructions","16. Data Logger Briefing","17. Team Tracking","18. Vision Tests","19. Searcher Profile","20. Detection Log","21. Detection Template","22. Detection Scoring","23. Data Input Object # 1","24. Data Input Object # 2","25. Data Input Object # 3","26. Data Input Object # 4","27. Searcher Profile Data","28. Data Summary Object # 1","29. Object # 1 SW Estimator","30.Object 1 Lateral Range Curve","31. Data Summary Object # 2","32. Object # 2 SW Estimator","33.Object 2 Lateral Range Curve","34. Data Summary Object # 3","35. Object # 3 SW Estimator","36.Object 3 Lateral Range Curve","37. Data Summary Object # 4","38. Object # 4 SW Estimator","39.Object 4 Lateral Range Curve","40. Raw Data Summary","41. Summary Report","42.  POD calculation","43. POD vs. Coverage","44. Ecoregions World","45. Ecoregions USA","46. Calculations"],"not_rendered":{"charts":21,"images":55,"macros":1,"external_links":1,"defined_names":15,"comments":10,"pivot_tables":0},"unopened":[{"sheet":"29. Object # 1 SW Estimator","index":29,"reason":"not_a_worksheet"},{"sheet":"30.Object 1 Lateral Range Curve","index":30,"reason":"not_a_worksheet"},{"sheet":"32. Object # 2 SW Estimator","index":32,"reason":"not_a_worksheet"},{"sheet":"33.Object 2 Lateral Range Curve","index":33,"reason":"not_a_worksheet"},{"sheet":"35. Object # 3 SW Estimator","index":35,"reason":"not_a_worksheet"},{"sheet":"36.Object 3 Lateral Range Curve","index":36,"reason":"not_a_worksheet"},{"sheet":"38. Object # 4 SW Estimator","index":38,"reason":"not_a_worksheet"},{"sheet":"39.Object 4 Lateral Range Curve","index":39,"reason":"not_a_worksheet"},{"sheet":"43. POD vs. Coverage","index":43,"reason":"not_a_worksheet"}],"bounds":{"document_bytes":16777216,"sheet_cells":100000,"rows_first":2000,"rows_last":500,"rows_between":2000,"halvings":0,"cell_chars":16384,"cell_head_chars":4096},"cells_cut":0,"cells_raw":0,"read":"whole","date_system":"1900"}

{"sheet":"CONTENTS","index":0,"n_rows":52,"n_cols":7,"rows_kept":52,"cut":false,"hidden":false,"merged":[[0,0,0,6]]}
["Contents"]
["This worksheet provides an overview of all the forms and worksheets required during the design, implementation and"]
["analysis of an experiment.  Click on the worksheet name and you will be brought directly to that worksheet."]
["Worksheet","Worksheet","Intended","Copies","Print","Data Entry","Uses Data"]
["Number","Name","User","Needed","Out","Required","From"]
[null,"Contents","Exp. Designer",1,"N","N"]
[1,"Experiment Setup","Exp. Designer",1,"N","Y"]
[2,"Search Object Types","Exp. Designer",1,"N","Y",1]
[3,"Estimate Experiment Design","Exp. Designer",1,"N","Y","1, 2"]
[4,"Environmental Measurements","Exp. Designer",1,"Y","N",1]
[5,"Photos","Exp. Designer",1,"Y","N"]
[6,"AMDR Adult","Exp. Designer",1,"Y","Y"]
[7,"AMDR Child","Exp. Designer",1,"Y","Y"]
[8,"AMDR Clue","Exp. Designer",1,"Y","Y"]
[9,"Actual Experiment Design","Exp. Designer",1,"N","Y","1, 2, 3, 6, 7, 8"]
[10,"Object Placement Table & Chart","Exp. Designer",1,"Y","N","1, 2, 3, 9"]
[11,"Search Object Location Log","Exp. Setup",1,"Y","Y","1, 3, 10"]
[12,"Searcher-Participant Log","Participants",4,"Y","N",1]
[13,"Team Sign-up","Management",1,"Y","N","1, 3"]
[14,"Subject Information Sheet","Participants","# Participants","Y","N",1]
[15,"Task Instruction Form","Participants","# Searchers","Y","Y",1]
[16,"Data Logger Briefing","Participants","# Data Loggers","Y","N",1]
[17,"Team Tracking","Management",3,"Y","N",1]
[18,"Vision Tests","Management",3,"Y Color","N"]
[19,"Searcher Profile","Participants","# Searchers","Y","N",1]
[20,"Detection Log","Participants","# Searchers","Y","N","1, 2"]
[21,"Detection Template","Management/Analyst",1,"Y Acetate","N","multiple"]
[22,"Detection Scoring","Management/Analyst","# Searchers","Y","N","multiple"]
[23,"Data Input Object # 1","Analyst",1,"N","Y","2, 10, 22, 20"]
[24,"Data Input Object # 2","Analyst",1,"N","Y","2, 10, 22, 20"]
[25,"Data Input Object # 3","Analyst",1,"N","Y","2, 10, 22, 20"]
[26,"Data Input Object # 4","Analyst",1,"N","Y","2, 10, 22, 20"]
[27,"Searcher Profile Data","Analyst",1,"N","Y",20]
[28,"Data Summary Object # 1","Analyst",1,"N","N","2, 23"]
[29,"Object 1 SW Estimator Graph","Analyst",1,"N","N",28]
[30,"Object 1 Lateral Range Curve","Analyst",1,"N","N",28]
[31,"Data Summary Object # 2","Analyst",1,"N","N","2, 24"]
[32,"Object 2 SW Estimator Graph","Analyst",1,"N","N",31]
[33,"Object 2 Lateral Range Curve","Analyst",1,"N","N",31]
[34,"Data Summary Object # 3","Analyst",1,"N","N","2, 25"]
[35,"Object 3 SW Estimator Graph","Analyst",1,"N","N",34]
[36,"Object 3 Lateral Range Curve","Analyst",1,"N","N",34]
[37,"Data Summary Object # 4","Analyst",1,"N","N","2, 26"]
[38,"Object 4 SW Estimator Graph","Analyst",1,"N","N",37]
[39,"Object 4 Lateral Range Curve","Analyst",1,"N","N",37]
[40,"Raw Data Summary","Analyst",1,"N","N","multiple"]
[41,"Summary Report","Analyst",1,"Y","Y","multiple"]
[42,"POD Calculation","Analyst",1,"N","Y"]
[43,"POD vs. Coverage","Analyst",1,"N","N",42]
[44,"Ecoregions World","Analyst",1,"N","N"]
[45,"Ecoregions USA","Analyst",1,"N","N"]
[46,"Calculations","Programmer","N","N","N","multiple"]

{"sheet":"1. Experiment Setup","index":1,"n_rows":33,"n_cols":11,"rows_kept":33,"cut":false,"hidden":false,"merged":[[32,2,32,8],[11,2,11,6],[26,2,26,3],[26,7,26,10],[16,1,16,7],[0,0,0,11],[7,8,7,10],[14,1,14,7],[29,2,29,7]]}
["Experiment Setup"]
[null,"This worksheet allows the experiment designer to input information that is required on several worksheets"]
[null,"during the experiment.  Filling in the requested information will auto fill the worksheets later and minimize the"]
[null,"data that must be entered by the analyst."]
[]
[null,"1. Enter the date the experiment is scheduled to be performed (dd/mm/yy)",null,null,null,null,null,null,null,null,"17-07-06"]
[]
[null,"2. Enter the location of the experiment (City, State/Province)",null,null,null,null,null,null,"Mt. Greylock, MA"]
[]
[null,"3. Enter local sunrise (24 hour format, 8:00)",null,null,null,null,null,null,null,null,"05:15:00"]
[null,"    Enter local sunset (24 hour format, 20:00)",null,null,null,null,null,null,null,null,"20:28:00"]
[null,null,"Internet link to obtain sunrise/sunset times (worldwide)"]
[]
[null,"4. Choose season color to describe vegetation during experiment "]
[null,"    (brown, green, or white)"]
[]
[null,"5. Choose the expected terrain/vegetation type where \n    experiment will be conducted."]
[]
[null,"6. Choose datum that will be used throughout the experiment"]
[]
[null,"7. Choose the units that will be used for measurements"]
[null,"    (meters is preferred for use with Universal Transverse Mercator (UTM) Grids)"]
[]
[null,"8. Event Type (choose closest one)"]
[]
[null,"9. Choose the EcoRegion"]
[null,null,"World map",null,"USA map",null,null,"Internet map (most detailed with zoom)"]
[]
[null,"10. Choose the type of Forest Cover (if in forested area)"]
[null,null,"Internet map of Forest Cover, zoom to your area, see key for type"]
[]
[null,"11. Choose closest Land Classification type"]
[null,null,"Internet map of Land Classification types, zoom to your area, see map key"]

{"sheet":"2. Search Object Types","index":2,"n_rows":35,"n_cols":20,"rows_kept":35,"cut":false,"hidden":false,"merged":[[0,1,0,11],[15,8,15,9],[16,8,16,9],[17,8,17,9],[31,8,31,9],[18,8,18,9],[25,8,25,9],[27,8,27,9],[29,8,29,9],[23,2,23,9],[21,1,21,7]]}
[null,"Selecting Search Object Types"]
[null,"Each variable needs 300 interactions between searchers and the object.  This typically could be met with"]
[null,"10 objects of the same type and 30 searchers.  Adding a different variable results in the number of interactions"]
[null,"doubling to 600.  For this reason, the number of variables is limited to four.  The most common variable to"]
[null,"alter is the type of search object.  The highest visibility search object is search object type # 1.  The software"]
[null,"makes basic recommendations on the suggested types of search objects based upon the recommened"]
[null,"maximum number of search object types.  The user may depart from the recommendation when entering"]
[null,"the actual search objects in line 6-9.  Only one search object is required.  See the guide for visibility examples."]
[]
[null,"1. Recommended maximum # of search object types (based on experiment setup)",null,null,null,null,null,null,null,{"$f":"VLOOKUP('46. Calculations'!Q10,'46. Calculations'!X4:AA8,3)","v":4}]
[]
[null,"2. Recommended course time (based on experimentsetup)",null,null,null,null,null,null,null,{"$f":"VLOOKUP('46. Calculations'!Q10,'46. Calculations'!X4:AA8,4)","v":4}]
[]
[null,"3. Recommended course length (preliminary)",null,null,null,null,null,null,null,{"$f":"ROUND(3*IF(J10=4,N17*N19,IF(J10=3,P17*P19,IF(J10=2,R17*R19,S17*S19))),)","v":4693},{"$f":"'46. Calculations'!P9","v":"Yards"}]
[]
[null,"4.  Recommended search object types (in order of priority)",null,null,null,null,null,null,"Adult High-Visibility",null,null,null,"Recommended for 4","AMDR4","Recommended for 3","AMDR3","Recommended for 2","AMDR2","AMDR1"]
[null,null,null,null,null,null,null,null,{"$f":"IF(J10=1,\"\",IF(J10=2,\"Clue Low-Visibility\",\"Adult Low-Visibility\"))","v":"Adult Low-Visibility"},null,null,null,"Adult High Visibility",{"$f":"IF(K14=\"Meters\",AVERAGE(S27,S29,S31,S33),AVERAGE(T27,T29,T31,T33))","v":23.7},"Adult High-Visibility",{"$f":"IF(K14=\"Meters\",AVERAGE(S27,S29,S35),AVERAGE(T27,T29,T35))","v":22.700000000000003},"Adult High-Visibility",{"$f":"IF(K14=\"Meters\",AVERAGE(S27,S35),AVERAGE(T27,T35))","v":22.95},{"$f":"IF(K14=\"Meters\",S27,T27)","v":37}]
[null,null,null,null,null,null,null,null,{"$f":"IF(J10<3,\"\",IF(J10=3,\"Clue Low-Vis\",\"Child Medium-Visibility\"))","v":"Child Medium-Visibility"},null,null,null,"Adult Low-Visibility","Search objects","Adult Low-Visibility",null,"Clue Low-Visibility","Search objects","Object"]
[null,null,null,null,null,null,null,null,{"$f":"IF(J10<4,\"\",\"Clue High-Visibility\")","v":"Clue High-Visibility"},null,null,null,"Child Medium-Visibility",66,"Clue Low-Visibility",50,null,33,21]
[null,null,null,null,null,null,null,null,null,null,null,null,"Clue High-Visibility"]
[]
[null,"5. Enter the number of search objects ",null,null,null,null,null,null,null,3,null,null,"Results from input","Number of item"]
[]
[null,null,"Enter a number between 1 and 4 to represent the different search objects.  \nNo two search objects should be the same search object type."]
[null,null,null,null,null,null,null,null,null,null,null,null,"to be used in IDEA","chosen in drop list",null,null,"Object lookup","column for vlookup and list box"]
[null,"6. Choose Search Object Type # 1  (highest visibility)",null,null,null,null,null,null,null,null,null,null,{"$f":"VLOOKUP(N26,Q27:R35,2)","v":"Adult High-Visibility"},1,null,null,null,"Search Object Type","AMDR estimate Meters","AMDR estimate Yards"]
[null,null,null,null,null,null,null,null,null,null,null,null,null,null,null,null,1,"Adult High-Visibility",34,37]
[null,{"$f":"IF(J22>=2,\"7. Choose Search Object Type # 2 (optional)\",\"\")","v":"7. Choose Search Object Type # 2 (optional)"},null,null,null,null,null,{"$f":"IF(J22>=2,\"\",\"No input needed\")","v":""},null,null,null,null,{"$f":"IF(J22>=2,VLOOKUP($N$28,$Q$27:$R$35,2),\"Not Applicable\")","v":"Clue High-Visibility"},7,null,null,2,"Adult Medium-Visibility",25.5,27.8]
[null,null,null,null,null,null,null,null,null,null,null,null,null,null,null,null,3,"Adult Low-Visibility",20.399999999999999,22.2]
[null,{"$f":"IF(J22>=3,\"8. Choose Search Object Type # 3 (optional)\",\"\")","v":"8. Choose Search Object Type # 3 (optional)"},null,null,null,null,null,{"$f":"IF(J22>=3,\"\",\"No input needed\")","v":""},null,null,null,null,{"$f":"IF(J22>=3,VLOOKUP($N$30,$Q$27:$R$35,2),\"Not Applicable\")","v":"Clue Low-Visibility"},9,null,null,4,"Child High-Visibility",25.5,27.8]
[null,null,null,null,null,null,null,null,null,null,null,null,null,null,null,null,5,"Child Medium-Visibility",19.100000000000001,20.8]
[null,{"$f":"IF(J22=4,\"9. Choose Search Object Type # 4 (optional)\",\"\")","v":""},null,null,null,null,null,{"$f":"IF(J22>=4,\"\",\"No input needed\")","v":"No input needed"},null,null,null,null,{"$f":"IF(J22=4,VLOOKUP($N$32,$Q$27:$R$35,2),\"Not Applicable\")","v":"Not Applicable"},7,null,null,6,"Child Low-Visibility",15.3,16.7]
[null,null,null,null,null,null,null,null,null,null,null,null,null,null,null,null,7,"Clue High-Visibility",13.6,14.8]
[null,null,null,null,null,null,null,null,null,null,null,null,null,null,null,null,8,"Clue Medium-Visibility",10.199999999999999,11.1]
[null,null,null,null,null,null,null,null,null,null,null,null,null,null,null,null,9,"Clue Low-Visibility",8.16,8.9]

{"sheet":"3. Estimate Experiment Design","index":3,"n_rows":78,"n_cols":21,"rows_kept":78,"cut":false,"hidden":false,"merged":[[47,0,47,8],[0,0,0,8],[1,0,1,8],[2,0,2,8],[39,0,39,8],[34,5,34,7],[34,0,34,3],[16,0,16,5],[18,0,18,6],[6,1,6,8]]}
["Experiment Design Using Estimate AMDRs"]
["The purpose of this worksheet is to allow the experiment designer to determine the number of search objects, time,"]
["and total track length required to conduct the experiment given the number of searchers. "]
[]
["1. Enter the number of searchers who will participate",null,null,null,null,null,30]
[]
[null,"Input a number of searchers between 12 - 72.  Seventy-two searchers will require a 12 hour day, staggered starts of 20 minutes, and running searchers both clockwise and counter-clockwise.  If more searchers are expected consider setting up two courses."]
[]
["2. Searcher speed",null,null,"Unit","Maximum","Average","Minimum",null,null,null,"Units:",{"$f":"'46. Calculations'!P9","v":"Yards"}]
[null,null,"Speed used for estimates  ",{"$f":"IF($L$9=\"Meters\",\"Km/h\",\"MPH\")","v":"MPH"},{"$f":"E46","v":1.6},{"$f":"F46","v":1.1000000000000001},{"$f":"G46","v":0.6}]
[]
["3. Enter the maximum searching time available for searchers"]
[null,null,null,null,null,"Suggested maximum searching time  ",{"$f":"'2. Search Object Types'!J12","v":4},"hours"]
[null,null,null,null,null,"Selected search time                          ",2,{"$f":"IF(G14>0,IF(G14<=4,\"Within range\",\"ERROR\"),IF(G14=\"\",\"\",IF(G14=0,\"\",\"ERROR\")))","v":"Within range"}]
[null,null,null,null,null,"Search time used in calculations        ",{"$f":"IF(G14>0,IF(G14<=4,G14,G13),G13)","v":2}]
[]
["4. Number of desired search objects (from 2. Search Object Types)",null,null,null,null,null,{"$f":"'2. Search Object Types'!J22","v":3}]
[]
["5. Terrain type where the experiment will be conducted (from 1. Experiment Setup):",null,null,null,null,null,null,{"$f":"'46. Calculations'!P7","v":"Eastern Forest (Mountain, Green)"},null,null,"Terrain number",{"$f":"'46. Calculations'!Q7","v":2}]
[]
["6. Estimated AMDR values for each Search Object Type",null,null,null,null,null,null,null,null,null,"Objects chosen"]
[null,null,null,null,"Search Object Type          ","Unit","Estimated AMDR",null,null,null,"Object ","Object Type number from \"Search Objects\""]
[null,null,{"$f":"IF(D23=\"\",\"\",\"#1\")","v":"#1"},{"$f":"'2. Search Object Types'!M26","v":"Adult High-Visibility"},null,{"$f":"L9","v":"Yards"},{"$f":"ROUND(IF(L9=\"Meters\",VLOOKUP(L23,S67:U75,3),VLOOKUP(L23,S67:U75,3)),1)","v":21},null,null,null,"# 1",{"$f":"'2. Search Object Types'!N26","v":1}]
[null,null,{"$f":"IF(D24=\"\",\"\",\"#2\")","v":"#2"},{"$f":"IF('2. Search Object Types'!J22>=2,IF('2. Search Object Types'!M28='2. Search Object Types'!R26,\"Error, define object\",'2. Search Object Types'!M28),\"\")","v":"Clue High-Visibility"},null,{"$f":"IF(G17>=2,$F$23,\"\")","v":"Yards"},{"$f":"IF(G17>=2,ROUND(IF(L9=\"Meters\",VLOOKUP(L24,S67:U75,3),VLOOKUP(L24,S67:U75,3)),1),\"\")","v":8.4},null,null,null,"# 2",{"$f":"'2. Search Object Types'!N28","v":7}]
[null,null,{"$f":"IF(D25=\"\",\"\",\"#3\")","v":"#3"},{"$f":"IF('2. Search Object Types'!J22>=3,IF('2. Search Object Types'!M30='2. Search Object Types'!R26,\"Error, define object\",'2. Search Object Types'!M30),\"\")","v":"Clue Low-Visibility"},null,{"$f":"IF(G17>=3,$F$23,\"\")","v":"Yards"},{"$f":"IF(G17>=3,ROUND(IF(L9=\"Meters\",VLOOKUP(L25,S67:U75,3),VLOOKUP(L25,S67:U75,3)),1),\"\")","v":5},null,null,null,"# 3",{"$f":"'2. Search Object Types'!N30","v":9}]
[null,null,{"$f":"IF(D26=\"\",\"\",\"#4\")","v":""},{"$f":"IF('2. Search Object Types'!J22=4,IF('2. Search Object Types'!M32='2. Search Object Types'!R26,\"Error, define object\",'2. Search Object Types'!M32),\"\")","v":""},null,{"$f":"IF(G17=4,$F$23,\"\")","v":""},{"$f":"IF(G17=4,ROUND(IF(L9=\"Meters\",VLOOKUP(L26,S67:U75,3),VLOOKUP(L26,S67:U75,3)),1),\"\")","v":""},null,null,null,"# 4",{"$f":"'2. Search Object Types'!N32","v":7}]
[]
["7. Estimated course design",null,null,"# Objects","Track Length","Unit","Max Time","Avg Time","Min Time"]
[null,null,null,{"$f":"ROUND(1.1*((G17*300)/G5),)","v":33},{"$f":"ROUND(AVERAGE(G23:G26)*3*D29,)","v":1135},{"$f":"F23","v":"Yards"},{"$f":"IF(L9=\"Meters\",E29/(1000*G46),IF(L9=\"Feet\",(E29/L52)/G46,(E29/M52)/G46))","v":1.0748106060606062},{"$f":"IF(L9=\"Meters\",E29/(1000*F46),IF(L9=\"Feet\",(E29/L52)/F46,(E29/M52)/F46))","v":0.58626033057851235},{"$f":"IF(L9=\"Meters\",E29/(1000*E46),IF(L9=\"Feet\",(E29/L52)/E46,(E29/M52)/E46))","v":0.40305397727272724}]
[]
["8. Check Values:"]
["Max # of Search Objects",null,null,{"$f":"G17*25","v":75},null,"Maximum Time Range",null,{"$f":"G15","v":2}]
["Min # of Search Objects",null,null,{"$f":"1.1*G17*10","v":33},null,"Minimum Time Range",null,1]
["Current # of Search Objects",null,null,{"$f":"D29","v":33},null,"Current Estimated Time",null,{"$f":"H29","v":0.58626033057851235}]
[{"$f":"IF(D34<D33,\"Number of Search Objects too small, make course longer.\",IF(D34>D32,\"Number of Search Objects too large, increase searchers.\",\"Number of Search Objects correct.\"))","v":"Number of Search Objects correct."},null,null,null,null,{"$f":"IF(H34<1,\"Average time too short, increase number of search objects or decrease searchers.\",IF(H34>4,\"Average time too long, increase number of searchers.\",\"Average time acceptable.\"))","v":"Average time too short, increase number of search objects or decrease searchers."}]
[]
[]
[]
[]
["OPTIONAL    OPTIONAL    OPTIONAL    OPTIONAL    OPTIONAL    OPTIONAL    OPTIONAL    OPTIONAL\nIn the cells below, enter optional speed, optional size correction values, or optional visibility correction values if desired."]
[]
["Optional.  Enter new speeds",null,null,null,null,null,null,null,null,null,"Suggested Speed","Maximum","Average","Minimum"]
[null,null,null,null,"Maximum","Average","Minimum","Unit",null,null,"Km/h",2.5,1.75,1]
[null,null,null,"Suggested Speed              ",{"$f":"ROUND(IF($L$9=\"Meters\",L43,L44),1)","v":1.6},{"$f":"ROUND(IF($L$9=\"Meters\",M43,M44),1)","v":1.1000000000000001},{"$f":"ROUND(IF($L$9=\"Meters\",N43,N44),1)","v":0.6},{"$f":"IF($L$9=\"Meters\",\"Km/h\",\"MPH\")","v":"MPH"},null,null,"MPH",{"$f":"L43*$N$49*1000","v":1.5535037878787876},{"$f":"M43*$N$49*1000","v":1.0874526515151515},{"$f":"N43*$N$49*1000","v":0.62140151515151509}]
[null,null,null,"Enter desired Speed          ",null,null,null,{"$f":"IF($L$9=\"Meters\",\"Km/h\",\"MPH\")","v":"MPH"},null,null,"Feet/h",{"$f":"ROUND(L43*$L$49*1000,1)","v":8202.5},{"$f":"ROUND(M43*$L$49*1000,1)","v":5741.8},{"$f":"ROUND(N43*$L$49*1000,1)","v":3281}]
[null,null,null,"Speed Used for Estimates ",{"$f":"ROUND(IF($L$9=\"Meters\",IF(E45>1,IF(E45<=10,E45,E44),E44),IF(E45>0.62,IF(E45<=6,E45,E44),E44)),1)","v":1.6},{"$f":"ROUND(IF(L9=\"Meters\",IF(F45>0.5,IF(F45<=10,F45,F44),F44),IF(F45>0.31,IF(F45<=6,F45,F44),F44)),1)","v":1.1000000000000001},{"$f":"ROUND(IF(L9=\"Meters\",IF(G45>0.5,IF(G45<=10,G45,G44),G44),IF(G45>0.31,IF(G45<=6,G45,G44),G44)),1)","v":0.6},{"$f":"IF($L$9=\"Meters\",\"Km/h\",\"MPH\")","v":"MPH"},null,null,"Yards/h",{"$f":"ROUND(L45/3,1)","v":2734.2},{"$f":"ROUND(M45/3,1)","v":1913.9},{"$f":"ROUND(N45/3,1)","v":1093.7}]
[]
["The corrective values modify the predeterimned AMDR for a High-Visibility Adult, for a chosen terrain type, in order to estimate the AMDR of other search objects such as child or clue size objects as well as medium or low visibility objects.  For example, using the predetermined corrective values for size and visibility:  The worksheet already provides the estimated AMDR for an Adult High-Visibility search object in Eastern Forest (steep mountainous terrain) in full vegetation is 35 meters.  But, for an Adult Low-Visibility object, the worksheet corrects the 35 meter value to 21 meters (35 meters x 0.6 correction for low-visibility  = 21).  For a Child Medium-Visibility the worksheet would correct the 35 meter value to 20 meters (35 meters x 0.75 correction for child size x 0.75 correction for medium-visibility = 20 meters).  Finally, for a Clue High-Visibility, the worksheet corrects the 35 meter value to 14 meters (35 meters x 0.4 correction for clue size x 1.0 correction for high visibility = 14).  ",null,null,null,null,null,null,null,null,null,"Meter","Feet","Yards","mile"]
["Optional.  Enter new size correction values",null,null,null,null,null,null,null,null,null,1,3.2810000000000001,{"$f":"L49/3","v":1.0936666666666668},{"$f":"L49/5280","v":6.2140151515151514E-4}]
[null,"Correction values below are used to adjust the estimate AMDR for an adult corresponding to the terrain type"]
[null,"chosen in worksheet # 1 (Setup).  Estimate AMDR for adult of selected terrain type is:",null,null,null,null,null,null,{"$f":"IF(L9=\"Meters\",VLOOKUP(L19,O67:R78,3),IF(L9=\"Yards\",VLOOKUP(L19,O67:R78,4),\"Error\"))","v":21},null,"Mile","Feet","Yards","Meters"]
[null,null,null,null,null,null,null,null,{"$f":"L9","v":"Yards"},null,1,5280,{"$f":"L52/3","v":1760},{"$f":"1/N49","v":1609.2654678451693}]
[null,null,null,null,"Adult","Child","Clue"]
[null,null,null,"Suggested value             ",1,0.75,0.4]
[null,null,null,"Entered desired value      "]
[null,null,null,"Value used for estimates ",{"$f":"IF(E55>0,IF(E55<=1,E55,E54),E54)","v":1},{"$f":"IF(F55>0,IF(F55<=1,F55,F54),F54)","v":0.75},{"$f":"IF(G55>0,IF(G55<=1,G55,G54),G54)","v":0.4}]
[]
["Optional.  Enter new visibility correction values"]
[null,null,null,null,"High-Visibility","Medium-Visibility","Low-Visibility"]
[null,null,null,"Suggested value              ",1,0.75,0.6]
[null,null,null,"Selected value                 "]
[null,null,null,"Value used for estimates  ",{"$f":"IF(E61>0,IF(E61<=1,E61,E60),E60)","v":1},{"$f":"IF(F61>0,IF(F61<=1,F61,F60),F60)","v":0.75},{"$f":"IF(G61>0,IF(G61<=1,G61,G60),G60)","v":0.6}]
[]
[]
[]
[null,null,null,null,null,null,null,null,null,null,null,null,null,null,"vlookup for terrain","terrain","Meters","Yards","Object chosen","Search Object","Estimated AMDR"]
[null,null,null,null,null,null,null,null,null,null,null,null,null,null,1,"California Oak/Field",41,{"$f":"ROUND(Q67*$M$49,)","v":45},{"$f":"'2. Search Object Types'!Q27","v":1},{"$f":"'2. Search Object Types'!R27","v":"Adult High-Visibility"},{"$f":"I51*E56*E62","v":21}]
[null,null,null,null,null,null,null,null,null,null,null,null,null,null,2,"Eastern Forest (Mountain, Green)",19,21,{"$f":"'2. Search Object Types'!Q28","v":2},{"$f":"'2. Search Object Types'!R28","v":"Adult Medium-Visibility"},{"$f":"I51*E56*F62","v":15.75}]
[null,null,null,null,null,null,null,null,null,null,null,null,null,null,3,"Eastern Forest (Mountain, Brown)",80,87,{"$f":"'2. Search Object Types'!Q29","v":3},{"$f":"'2. Search Object Types'!R29","v":"Adult Low-Visibility"},{"$f":"I51*E56*G62","v":12.6}]
[null,null,null,null,null,null,null,null,null,null,null,null,null,null,4,"Eastern Forest (Steep Mountain side) (Green)",35,38,{"$f":"'2. Search Object Types'!Q30","v":4},{"$f":"'2. Search Object Types'!R30","v":"Child High-Visibility"},{"$f":"I51*F56*E62","v":15.75}]
[null,null,null,null,null,null,null,null,null,null,null,null,null,null,5,"Field (flat) 15 cm vertical ground cover",45,49,{"$f":"'2. Search Object Types'!Q31","v":5},{"$f":"'2. Search Object Types'!R31","v":"Child Medium-Visibility"},{"$f":"I51*F56*F62","v":11.8125}]
[null,null,null,null,null,null,null,null,null,null,null,null,null,null,6,"Field (flat) 35 cm vertical ground cover",12,13,{"$f":"'2. Search Object Types'!Q32","v":6},{"$f":"'2. Search Object Types'!R32","v":"Child Low-Visibility"},{"$f":"I51*F56*G62","v":9.4499999999999993}]
[null,null,null,null,null,null,null,null,null,null,null,null,null,null,7,"Field (flat) 75 cm vertical ground cover",4,4,{"$f":"'2. Search Object Types'!Q33","v":7},{"$f":"'2. Search Object Types'!R33","v":"Clue High-Visibility"},{"$f":"I51*G56*E62","v":8.4}]
[null,null,null,null,null,null,null,null,null,null,null,null,null,null,8,"High Density Urban",8,9,{"$f":"'2. Search Object Types'!Q34","v":8},{"$f":"'2. Search Object Types'!R34","v":"Clue Medium-Visibility"},{"$f":"I51*G56*F62","v":6.3000000000000007}]
[null,null,null,null,null,null,null,null,null,null,null,null,null,null,9,"Medium Density Urban",10,11,{"$f":"'2. Search Object Types'!Q35","v":9},{"$f":"'2. Search Object Types'!R35","v":"Clue Low-Visibility"},{"$f":"I51*G56*G62","v":5.04}]
[null,null,null,null,null,null,null,null,null,null,null,null,null,null,10,"New Mexico Pine Forest (Mountain)",34,37]
[null,null,null,null,null,null,null,null,null,null,null,null,null,null,11,"Orchard (Green)",14,15]
[null,null,null,null,null,null,null,null,null,null,null,null,null,null,12,"Western (Maritime) pine (Green)",34,37]

{"sheet":"4. Env. Measurements","index":4,"n_rows":54,"n_cols":10,"rows_kept":54,"cut":false,"hidden":false,"merged":[[6,0,6,9],[7,0,7,9],[9,5,9,8],[10,0,10,9],[0,0,0,9],[5,0,5,1],[5,2,5,3],[5,4,5,5],[5,6,5,9],[14,0,14,9],[15,0,15,9],[18,1,18,2],[18,3,18,4],[18,6,18,7],[18,8,18,9],[31,3,32,3],[31,4,32,4],[31,6,32,6],[31,7,32,8],[31,9,32,9],[21,1,23,4],[21,5,23,9],[24,1,26,4],[24,5,26,9],[48,0,48,9],[33,9,34,9],[35,3,37,4],[35,6,37,8],[35,9,37,9],[33,3,34,3],[33,4,34,4],[33,6,34,6],[33,7,34,8],[13,0,13,1],[13,8,13,9],[13,6,13,7],[13,4,13,5],[13,2,13,3],[38,0,46,2],[38,9,42,9],[43,9,46,9],[27,1,29,4],[27,5,29,9]]}
["Environmental Measurements"]
["The Environmental Measurements worksheet allows the researcher to record the land, vegetation, and weather"]
[" characteristics found at the site used to obtain the AMDR measurements.  Environmental measurements should be"]
["taken at the same time as obtaining the AMDR measurements.  "]
["1. Date",null,"2. Time",null,"3. Location",null,"4. Researcher's Name"]
["2006-06-16",null,null,null,{"$f":"'46. Calculations'!P5","v":"Mt. Greylock, MA"},null,"Charles Twardy"]
["Weather"]
["Record the general weather and light characteristics.  Measurements are typically taken during optimal weather."]
["5. Temp","6. Wind","7. Lux","8. Weather","9. Visibility","10. Light (direct,indirect,overcast,darkday,twilight)",null,null,null,"11. Snow Depth"]
["26 c",null,null,"Clear","Good","Clear",null,null,null,0]
["General Characteristics"]
["General characteristics are automatically carried over from the setup page."]
["12. Season Color",null,"13. Eco-Region",null,"14. NLCD Classification",null,"15. Gap Classification",null,"16. Forest Cover"]
[{"$f":"'[1]1. Setup'!N15","v":"Brown"},null,{"$f":"'[1]1. Setup'!N26","v":"210 Warm Continental Division"},null,{"$f":"'[1]1. Setup'!N32","v":"Deciduous Broadleaf Forest"},null,null,null,{"$f":"'[1]1. Setup'!N29","v":"Eastern Forest -- Maple - Beech - Birch"}]
["Location"]
["Ideally two locations are used to obtain AMDR measurements.  This form is designed to allow for environmental"]
["measurements from both locations.  See instruction manual for further details on how to take measurements."]
["Site #1","GPS E",null,"GPS W",null,"Site #2","GPS E",null,"GPS W"]
[null,"18 646735",null,"4 713174",null,null,"18 646890",null,4713057]
["Vegetation: List the types and sizes of the predominant vegetation. Describe the ground cover, mid-story (small trees/shrubs), and"]
[" canopy (types of trees, diameters, relative density)."]
["Ground:","Evening of 15 Jun, storms coming.  No notes taken, Hillside, scattered brush, no ferns",null,null,null,"More ferny, medium for course, about 1/m2, Measured at 8\", 2\"  using 5 \"  slope estimated"]
[]
[]
["Mid-Story:","Some saplings",null,null,null,"Not much, few saplings about 1/100m2"]
[]
[]
["Canopy:","Proabably not much",null,null,null,"Maple, birch, mixed decdious, 1-3' diamater about 1/100m2"]
[]
[]
[null,null,null,null,null,null,null,null,null,"Average"]
["Ground Cover: Measure the average ",null,null,7.5,"centimeters",null,13,"centimeters",null,{"$f":"IF(D32+G32=0,\"\",AVERAGE(D32,G32))","v":10.25}]
["height of the ground cover."]
["Slope: Using an inclinameter",null,null,null,"degrees",null,10,"degrees",null,{"$f":"IF(D34+G34=0,\"\",AVERAGE(D34,G34))","v":10}]
["give the slope of the terrain"]
["Obstructions: Count the # of rocks",null,null,5,null,null,null,null,null,{"$f":"IF(D36+G36=0,\"\",AVERAGE(D36,G36))","v":5}]
["/obstructions (at least 1'x1'x1') found"]
["within a 10 x 10 meter radius"]
["Horizontal Obstructions: Pace or measure (laser range finder) how far it is possible to see (at chest height) for each cardinal direction. A person may disappear due to vegetation or terrain. Enter the reason they disappear (\"V\"=vegetation, \"T\"=terrain).",null,null,"Distance","T or V",null,null,"Distance","T or V",{"$f":"IF(SUM(D40:D43,H40:H43)=0,\"\",AVERAGE(D40:D43,H40:H43))","v":57.2}]
[null,null,null,67,"T","North",null,78]
[null,null,null,null,null,"East"]
[null,null,null,48,"v","South",null,45]
[null,null,null,null,null,"West",null,48]
[]
[]
[]
[]
[]
["Photographs"]
["Digital photographs should be taken of the sites.  Digital photographs should be inserted on the photo worksheet"]
[]
[]
["Suggested equipment: Laser Range Finder, tape measure, GPS, topographic map, notebook, pencil,"]
["compass, digital camera, Environmental Measurements worksheet printed out on waterproof paper."]

{"sheet":"5. Photos","index":5,"n_rows":58,"n_cols":7,"rows_kept":58,"cut":false,"hidden":false,"merged":[[43,0,56,4],[43,5,56,9],[57,1,58,4],[57,6,58,9],[26,0,26,4],[26,5,26,9],[27,0,39,4],[27,5,39,9],[42,0,42,4],[42,5,42,9],[40,1,41,4],[40,6,41,9],[7,0,9,9],[10,0,10,4],[10,5,10,9],[11,0,23,4],[11,5,23,9],[24,1,25,4],[24,6,25,9],[0,0,0,9],[1,0,3,9],[5,0,5,1],[5,2,5,3],[5,4,5,5],[6,0,6,9]]}
["Photographic Site Record"]
["The photographic site record worksheet allows the researcher to document with photographs the vegetation and terrain at the site where AMDR measurements where taken.  In addition, photographs are taken to provide an overall view of the experiment course region, and a sample of the search object."]
[]
[]
["1. Date",null,"2. Time",null,"3. Location",null,"4. Photographer's Name"]
[null,null,null,null,{"$f":"'46. Calculations'!P5","v":"Mt. Greylock, MA"}]
["AMDR Site Photographs"]
["Take four photographs (digital pictures) of each of the four cardinal directions while standing at the site where the search object was placed for obtaining AMDR data. Click on target location, from menu, Insert, Picture, from file or Camera.  Use format picture to set picture width to 3\""]
[]
[]
["Photo #1",null,null,null,null,"Photo #2"]
[]
[]
[]
[]
[]
[]
[]
[]
[]
[]
[]
[]
[]
["Comments:",null,null,null,null,"Comments:"]
[]
["Photo #3",null,null,null,null,"Photo #4"]
[]
[]
[]
[]
[]
[]
[]
[]
[]
[]
[]
[]
[]
["Comments:",null,null,null,null,"Comments:"]
[]
["Photo #5  Picture of Search Object",null,null,null,null,"Photo #6 Picture of General Terrain"]
[]
[]
[]
[]
[]
[]
[]
[]
[]
[]
[]
[]
[]
[]
["Comments:",null,null,null,null,"Comments:"]

{"sheet":"6. AMDR Adult","index":6,"n_rows":56,"n_cols":10,"rows_kept":56,"cut":false,"hidden":false,"merged":[[0,0,0,8],[5,0,5,1],[5,2,5,3],[5,4,5,5],[36,5,36,9],[37,1,37,2],[37,3,37,4],[37,6,37,7],[37,8,37,9],[7,0,7,3],[8,0,8,9],[10,0,10,9],[14,6,14,7],[14,8,14,9]]}
["Determining AMDR Worksheet--Adult"]
["The Determining Average Maximum Detection (AMDR) Worksheet allows the researcher to determine and"]
["document AMDR and other measures to quantitate field visibility.  The values entered will automatically"]
["be used to determine several other experiment values on later worksheets."]
["1. Date",null,"2. Time",null,"3. Object Type",null,"4. GPS E",null,"GPS N"]
[null,null,null,null,"Adult"]
["5. Location",null,null,null,"6. Terrain Type",null,"7. Cloud Cover",null,"8. Precipitation"]
[{"$f":"'46. Calculations'!P5","v":"Mt. Greylock, MA"}]
["AMDR Measurements"]
["Starting on Leg 1 move toward the target until the target is detected.  Record the distance the target was first"]
["detected in the red AMRDd column. Move backwards until the target is no longer seen and record the distance"]
["in the blue AMDRe column.  Pace the same distance at a right angle to start Leg 2 and repeat the procedure."]
[]
[null,null,null,null,null,null,"High Visibility (normally Orange/white)"]
[null,null,null,null,null,null,"Trial #1",null,"Trial #2"]
[null,null,null,null,null,"Leg #","AMDRd","AMDRe","AMDRd","AMDRe"]
[null,null,null,null,null,1,26,44,73,73]
[null,null,null,null,null,2,20,35,51,58]
[null,null,null,null,null,3,30,45,44,54]
[null,null,null,null,null,4,68,70,24,40]
[null,null,null,null,null,5,64,70,50,60]
[null,null,null,null,null,6,31,47,34,46]
[null,null,null,null,null,7,19,24,22,26]
[null,null,null,null,null,8,36,36,23,26]
[null,null,null,null,null,"AVG",{"$f":"IF(SUM(G17:G24)>0,AVERAGE(G17:G24),\"\")","v":36.75},{"$f":"IF(SUM(H17:H24)>0,AVERAGE(H17:H24),\"\")","v":46.375},{"$f":"IF(SUM(I17:I24)>0,AVERAGE(I17:I24),\"\")","v":40.125},{"$f":"IF(SUM(J17:J24)>0,AVERAGE(J17:J24),\"\")","v":47.875}]
[null,null,null,null,null,"MAX",{"$f":"IF(SUM(G17:G24)>0,MAX(G17:G24),\"\")","v":68},{"$f":"IF(SUM(H17:H24)>0,MAX(H17:H24),\"\")","v":70},{"$f":"IF(SUM(I17:I24)>0,MAX(I17:I24),\"\")","v":73},{"$f":"IF(SUM(J17:J24)>0,MAX(J17:J24),\"\")","v":73}]
[null,null,null,null,null,"AVG",{"$f":"IF(SUM(G17:G24,I17:I24)>0,AVERAGE(G17:G24,I17:I24),\"\")","v":38.4375},{"$f":"IF(SUM(H17:H24,J17:J24)>0,AVERAGE(H17:H24,J17:J24),\"\")","v":47.125}]
[null,null,null,null,null,"AVGall",{"$f":"IF(SUM(G17:J24)>0,AVERAGE(G17:J24),\"\")","v":42.78125},{"$f":"'46. Calculations'!P9","v":"Yards"}]
[]
[null,null,null,null,null,"Suggested equipment:"]
[null,null,null,null,null,"Highest visibility target, Laser Range finder, tape"]
[null,null,null,null,null,"measure, GPS, topographic map, Vegetative density"]
[null,null,null,null,null,"board, notebook, pencil, Determining AMDR work-"]
[null,null,null,null,null,"sheet, digital camera, compass."]
[]
[]
[null,"Medium Visibility (normally blue)",null,null,null,"Low Visibility (normally green/brown)"]
[null,"Trial #1",null,"Trial #2",null,null,"Trial #1",null,"Trial #2"]
["Leg #","AMDRd","AMDRe","AMDRd","AMDRe","Leg #","AMDRd","AMDRe","AMDRd","AMDRe"]
[1,null,null,null,null,1]
[2,null,null,null,null,2]
[3,null,null,null,null,3]
[4,null,null,null,null,4]
[5,null,null,null,null,5]
[6,null,null,null,null,6]
[7,null,null,null,null,7]
[8,null,null,null,null,8]
["AVG",{"$f":"IF(SUM(B40:B47)>0,AVERAGE(B40:B47),\"\")","v":""},{"$f":"IF(SUM(C40:C47)>0,AVERAGE(C40:C47),\"\")","v":""},{"$f":"IF(SUM(D40:D47)>0,AVERAGE(D40:D47),\"\")","v":""},{"$f":"IF(SUM(E40:E47)>0,AVERAGE(E40:E47),\"\")","v":""},"AVG",{"$f":"IF(SUM(G40:G47)>0,AVERAGE(G40:G47),\"\")","v":""},{"$f":"IF(SUM(H40:H47)>0,AVERAGE(H40:H47),\"\")","v":""},{"$f":"IF(SUM(I40:I47)>0,AVERAGE(I40:I47),\"\")","v":""},{"$f":"IF(SUM(J40:J47)>0,AVERAGE(J40:J47),\"\")","v":""}]
["MAX",{"$f":"IF(SUM(B40:B47)>0,MAX(B40:B47),\"\")","v":""},{"$f":"IF(SUM(C40:C47)>0,MAX(C40:C47),\"\")","v":""},{"$f":"IF(SUM(D40:D47)>0,MAX(D40:D47),\"\")","v":""},{"$f":"IF(SUM(E40:E47)>0,MAX(E40:E47),\"\")","v":""},"MAX",{"$f":"IF(SUM(G40:G47)>0,MAX(G40:G47),\"\")","v":""},{"$f":"IF(SUM(H40:H47)>0,MAX(H40:H47),\"\")","v":""},{"$f":"IF(SUM(I40:I47)>0,MAX(I40:I47),\"\")","v":""},{"$f":"IF(SUM(J40:J47)>0,MAX(J40:J47),\"\")","v":""}]
["AVG",{"$f":"IF(SUM(B40:B47,D40:D47)>0,AVERAGE(B40:B47,D40:D47),\"\")","v":""},{"$f":"IF(SUM(C40:C47,E40:E47)>0,AVERAGE(C40:C47,E40:E47),\"\")","v":""},null,null,"AVG",{"$f":"IF(SUM(G40:G47,I40:I47)>0,AVERAGE(G40:G47,I40:I47),\"\")","v":""},{"$f":"IF(SUM(H40:H47,J40:J47)>0,AVERAGE(H40:H47,J40:J47),\"\")","v":""}]
["AVGall",{"$f":"IF(SUM(B40:E47)>0,AVERAGE(B40:E47),\"\")","v":""},{"$f":"H28","v":"Yards"},null,null,"AVGall",{"$f":"IF(SUM(G40:J47)>0,AVERAGE(G40:J47),\"\")","v":""},{"$f":"H28","v":"Yards"}]
[]
[null,"AMDRd","AMDRe","AMDR"]
["High Vis"]
["Medium Vis"]
["Low Vis"]

{"sheet":"7. AMDR Child","index":7,"n_rows":56,"n_cols":10,"rows_kept":56,"cut":false,"hidden":false,"merged":[[0,0,0,8],[5,0,5,1],[5,2,5,3],[5,4,5,5],[36,5,36,9],[37,1,37,2],[37,3,37,4],[37,6,37,7],[37,8,37,9],[7,0,7,3],[8,0,8,9],[10,0,10,9],[14,6,14,7],[14,8,14,9]]}
["Determining AMDR Worksheet--Child"]
["The Determining Average Maximum Detection (AMDR) Worksheet allows the researcher to determine and"]
["document AMDR and other measures to quantitate field visibility.  The values entered will automatically"]
["be used to determine several other experiment values on later worksheets."]
["1. Date",null,"2. Time",null,"3. Object Type",null,"4. GPS E",null,"GPS N"]
[null,null,null,null,"Child"]
["5. Location",null,null,null,"6. Terrain Type",null,"7. Cloud Cover",null,"8. Precipitation"]
[{"$f":"'46. Calculations'!P5","v":"Mt. Greylock, MA"}]
["AMDR Measurements"]
["Starting on Leg 1 move toward the target until the target is detected.  Record the distance the target was first"]
["detected in the red AMRDd column. Move backwards until the target is no longer seen and record the distance"]
["in the blue AMDRe column.  Pace the same distance at a right angle to start Leg 2 and repeat the procedure."]
[]
[null,null,null,null,null,null,"High Visibility (normally Orange/white)"]
[null,null,null,null,null,null,"Trial #1",null,"Trial #2"]
[null,null,null,null,null,"Leg #","AMDRd","AMDRe","AMDRd","AMDRe"]
[null,null,null,null,null,1]
[null,null,null,null,null,2]
[null,null,null,null,null,3]
[null,null,null,null,null,4]
[null,null,null,null,null,5]
[null,null,null,null,null,6]
[null,null,null,null,null,7]
[null,null,null,null,null,8]
[null,null,null,null,null,"AVG",{"$f":"IF(SUM(G17:G24)>0,AVERAGE(G17:G24),\"\")","v":""},{"$f":"IF(SUM(H17:H24)>0,AVERAGE(H17:H24),\"\")","v":""},{"$f":"IF(SUM(I17:I24)>0,AVERAGE(I17:I24),\"\")","v":""},{"$f":"IF(SUM(J17:J24)>0,AVERAGE(J17:J24),\"\")","v":""}]
[null,null,null,null,null,"MAX",{"$f":"IF(SUM(G17:G24)>0,MAX(G17:G24),\"\")","v":""},{"$f":"IF(SUM(H17:H24)>0,MAX(H17:H24),\"\")","v":""},{"$f":"IF(SUM(I17:I24)>0,MAX(I17:I24),\"\")","v":""},{"$f":"IF(SUM(J17:J24)>0,MAX(J17:J24),\"\")","v":""}]
[null,null,null,null,null,"AVG",{"$f":"IF(SUM(G17:G24,I17:I24)>0,AVERAGE(G17:G24,I17:I24),\"\")","v":""},{"$f":"IF(SUM(H17:H24,J17:J24)>0,AVERAGE(H17:H24,J17:J24),\"\")","v":""}]
[null,null,null,null,null,"AVGall",{"$f":"IF(SUM(G17:J24)>0,AVERAGE(G17:J24),\"\")","v":""},{"$f":"'46. Calculations'!P9","v":"Yards"}]
[]
[null,null,null,null,null,"Suggested equipment:"]
[null,null,null,null,null,"Highest visibility target, Laser Range finder, tape"]
[null,null,null,null,null,"measure, GPS, topographic map, Vegetative density"]
[null,null,null,null,null,"board, notebook, pencil, Determining AMDR work-"]
[null,null,null,null,null,"sheet, digital camera, compass."]
[]
[]
[null,"Medium Visibility (normally blue)",null,null,null,"Low Visibility (normally green/brown)"]
[null,"Trial #1",null,"Trial #2",null,null,"Trial #1",null,"Trial #2"]
["Leg #","AMDRd","AMDRe","AMDRd","AMDRe","Leg #","AMDRd","AMDRe","AMDRd","AMDRe"]
[1,null,null,null,null,1]
[2,null,null,null,null,2]
[3,null,null,null,null,3]
[4,null,null,null,null,4]
[5,null,null,null,null,5]
[6,null,null,null,null,6]
[7,null,null,null,null,7]
[8,null,null,null,null,8]
["AVG",{"$f":"IF(SUM(B40:B47)>0,AVERAGE(B40:B47),\"\")","v":""},{"$f":"IF(SUM(C40:C47)>0,AVERAGE(C40:C47),\"\")","v":""},{"$f":"IF(SUM(D40:D47)>0,AVERAGE(D40:D47),\"\")","v":""},{"$f":"IF(SUM(E40:E47)>0,AVERAGE(E40:E47),\"\")","v":""},"AVG",{"$f":"IF(SUM(G40:G47)>0,AVERAGE(G40:G47),\"\")","v":""},{"$f":"IF(SUM(H40:H47)>0,AVERAGE(H40:H47),\"\")","v":""},{"$f":"IF(SUM(I40:I47)>0,AVERAGE(I40:I47),\"\")","v":""},{"$f":"IF(SUM(J40:J47)>0,AVERAGE(J40:J47),\"\")","v":""}]
["MAX",{"$f":"IF(SUM(B40:B47)>0,MAX(B40:B47),\"\")","v":""},{"$f":"IF(SUM(C40:C47)>0,MAX(C40:C47),\"\")","v":""},{"$f":"IF(SUM(D40:D47)>0,MAX(D40:D47),\"\")","v":""},{"$f":"IF(SUM(E40:E47)>0,MAX(E40:E47),\"\")","v":""},"MAX",{"$f":"IF(SUM(G40:G47)>0,MAX(G40:G47),\"\")","v":""},{"$f":"IF(SUM(H40:H47)>0,MAX(H40:H47),\"\")","v":""},{"$f":"IF(SUM(I40:I47)>0,MAX(I40:I47),\"\")","v":""},{"$f":"IF(SUM(J40:J47)>0,MAX(J40:J47),\"\")","v":""}]
["AVG",{"$f":"IF(SUM(B40:B47,D40:D47)>0,AVERAGE(B40:B47,D40:D47),\"\")","v":""},{"$f":"IF(SUM(C40:C47,E40:E47)>0,AVERAGE(C40:C47,E40:E47),\"\")","v":""},null,null,"AVG",{"$f":"IF(SUM(G40:G47,I40:I47)>0,AVERAGE(G40:G47,I40:I47),\"\")","v":""},{"$f":"IF(SUM(H40:H47,J40:J47)>0,AVERAGE(H40:H47,J40:J47),\"\")","v":""}]
["AVGall",{"$f":"IF(SUM(B40:E47)>0,AVERAGE(B40:E47),\"\")","v":""},{"$f":"H28","v":"Yards"},null,null,"AVGall",{"$f":"IF(SUM(G40:J47)>0,AVERAGE(G40:J47),\"\")","v":""},{"$f":"H28","v":"Yards"}]
[]
[null,"AMDRd","AMDRe","AMDR"]
["High Vis"]
["Medium Vis"]
["Low Vis"]

{"sheet":"8. AMDR Clue","index":8,"n_rows":56,"n_cols":10,"rows_kept":56,"cut":false,"hidden":false,"merged":[[0,0,0,8],[5,0,5,1],[5,2,5,3],[5,4,5,5],[36,5,36,9],[37,1,37,2],[37,3,37,4],[37,6,37,7],[37,8,37,9],[7,0,7,3],[8,0,8,9],[10,0,10,9],[14,6,14,7],[14,8,14,9]]}
["Determining AMDR Worksheet--Clue"]
["The Determining Average Maximum Detection (AMDR) Worksheet allows the researcher to determine and"]
["document AMDR and other measures to quantitate field visibility.  The values entered will automatically"]
["be used to determine several other experiment values on later worksheets."]
["1. Date",null,"2. Time",null,"3. Object Type",null,"4. GPS E",null,"GPS N"]
[null,null,null,null,"Clue"]
["5. Location",null,null,null,"6. Terrain Type",null,"7. Cloud Cover",null,"8. Precipitation"]
[{"$f":"'46. Calculations'!P5","v":"Mt. Greylock, MA"}]
["AMDR Measurements"]
["Starting on Leg 1 move toward the target until the target is detected.  Record the distance the target was first"]
["detected in the red AMDRd column. Move backwards until the target is no longer seen and record the distance"]
["in the blue AMDRe column.  Pace the same distance at a right angle to start Leg 2 and repeat the procedure."]
[]
[null,null,null,null,null,null,"High Visibility (normally Orange/white)"]
[null,null,null,null,null,null,"Trial #1",null,"Trial #2"]
[null,null,null,null,null,"Leg #","AMDRd","AMDRe","AMDRd","AMDRe"]
[null,null,null,null,null,1,23,36]
[null,null,null,null,null,2,23,30]
[null,null,null,null,null,3,8,11]
[null,null,null,null,null,4,12,16]
[null,null,null,null,null,5,18,28]
[null,null,null,null,null,6,7,18]
[null,null,null,null,null,7,12,18]
[null,null,null,null,null,8,7,18]
[null,null,null,null,null,"AVG",{"$f":"IF(SUM(G17:G24)>0,AVERAGE(G17:G24),\"\")","v":13.75},{"$f":"IF(SUM(H17:H24)>0,AVERAGE(H17:H24),\"\")","v":21.875},{"$f":"IF(SUM(I17:I24)>0,AVERAGE(I17:I24),\"\")","v":""},{"$f":"IF(SUM(J17:J24)>0,AVERAGE(J17:J24),\"\")","v":""}]
[null,null,null,null,null,"MAX",{"$f":"IF(SUM(G17:G24)>0,MAX(G17:G24),\"\")","v":23},{"$f":"IF(SUM(H17:H24)>0,MAX(H17:H24),\"\")","v":36},{"$f":"IF(SUM(I17:I24)>0,MAX(I17:I24),\"\")","v":""},{"$f":"IF(SUM(J17:J24)>0,MAX(J17:J24),\"\")","v":""}]
[null,null,null,null,null,"AVG",{"$f":"IF(SUM(G17:G24,I17:I24)>0,AVERAGE(G17:G24,I17:I24),\"\")","v":13.75},{"$f":"IF(SUM(H17:H24,J17:J24)>0,AVERAGE(H17:H24,J17:J24),\"\")","v":21.875}]
[null,null,null,null,null,"AVGall",{"$f":"IF(SUM(G17:J24)>0,AVERAGE(G17:J24),\"\")","v":17.8125},{"$f":"'46. Calculations'!P9","v":"Yards"}]
[]
[null,null,null,null,null,"Suggested equipment:"]
[null,null,null,null,null,"Highest visibility target, Laser Range finder, tape"]
[null,null,null,null,null,"measure, GPS, topographic map, Vegetative density"]
[null,null,null,null,null,"board, notebook, pencil, Determining AMDR work-"]
[null,null,null,null,null,"sheet, digital camera, compass."]
[]
[]
[null,"Medium Visibility (normally blue)",null,null,null,"Low Visibility (normally green/brown)"]
[null,"Trial #1",null,"Trial #2",null,null,"Trial #1",null,"Trial #2"]
["Leg #","AMDRd","AMDRe","AMDRd","AMDRe","Leg #","AMDRd","AMDRe","AMDRd","AMDRe"]
[1,null,null,null,null,1]
[2,null,null,null,null,2]
[3,null,null,null,null,3]
[4,null,null,null,null,4]
[5,null,null,null,null,5]
[6,null,null,null,null,6]
[7,null,null,null,null,7]
[8,null,null,null,null,8]
["AVG",{"$f":"IF(SUM(B40:B47)>0,AVERAGE(B40:B47),\"\")","v":""},{"$f":"IF(SUM(C40:C47)>0,AVERAGE(C40:C47),\"\")","v":""},{"$f":"IF(SUM(D40:D47)>0,AVERAGE(D40:D47),\"\")","v":""},{"$f":"IF(SUM(E40:E47)>0,AVERAGE(E40:E47),\"\")","v":""},"AVG",{"$f":"IF(SUM(G40:G47)>0,AVERAGE(G40:G47),\"\")","v":""},{"$f":"IF(SUM(H40:H47)>0,AVERAGE(H40:H47),\"\")","v":""},{"$f":"IF(SUM(I40:I47)>0,AVERAGE(I40:I47),\"\")","v":""},{"$f":"IF(SUM(J40:J47)>0,AVERAGE(J40:J47),\"\")","v":""}]
["MAX",{"$f":"IF(SUM(B40:B47)>0,MAX(B40:B47),\"\")","v":""},{"$f":"IF(SUM(C40:C47)>0,MAX(C40:C47),\"\")","v":""},{"$f":"IF(SUM(D40:D47)>0,MAX(D40:D47),\"\")","v":""},{"$f":"IF(SUM(E40:E47)>0,MAX(E40:E47),\"\")","v":""},"MAX",{"$f":"IF(SUM(G40:G47)>0,MAX(G40:G47),\"\")","v":""},{"$f":"IF(SUM(H40:H47)>0,MAX(H40:H47),\"\")","v":""},{"$f":"IF(SUM(I40:I47)>0,MAX(I40:I47),\"\")","v":""},{"$f":"IF(SUM(J40:J47)>0,MAX(J40:J47),\"\")","v":""}]
["AVG",{"$f":"IF(SUM(B40:B47,D40:D47)>0,AVERAGE(B40:B47,D40:D47),\"\")","v":""},{"$f":"IF(SUM(C40:C47,E40:E47)>0,AVERAGE(C40:C47,E40:E47),\"\")","v":""},null,null,"AVG",{"$f":"IF(SUM(G40:G47,I40:I47)>0,AVERAGE(G40:G47,I40:I47),\"\")","v":""},{"$f":"IF(SUM(H40:H47,J40:J47)>0,AVERAGE(H40:H47,J40:J47),\"\")","v":""}]
["AVGall",{"$f":"IF(SUM(B40:E47)>0,AVERAGE(B40:E47),\"\")","v":""},{"$f":"H28","v":"Yards"},null,null,"AVGall",{"$f":"IF(SUM(G40:J47)>0,AVERAGE(G40:J47),\"\")","v":""},{"$f":"H28","v":"Yards"}]
[]
[null,"AMDRd","AMDRe","AMDR"]
["High Vis"]
["Medium Vis"]
["Low Vis"]

{"sheet":"9. Actual Experiment Design","index":9,"n_rows":67,"n_cols":20,"rows_kept":67,"cut":false,"hidden":false,"merged":[[0,0,0,8],[1,0,1,8],[42,0,42,8],[37,5,37,8],[37,0,37,4],[5,1,5,7],[9,1,9,7]]}
["Experiment Design Using Actual AMDRs"]
["The purpose of this worksheet is to show the experiment designer the number of search objects, time, and total track length required to conduct the experiment given the number of searchers, search time, and actual AMDRs. "]
[]
["1. Enter the number of searchers who will participate",null,null,null,null,"From estimate:","New:","Used:"]
[null,null,null,null,null,{"$f":"'3. Estimate Experiment Design'!G5","v":30},40,{"$f":"IF(AND(G5>=12,G5<=72),G5,F5)","v":40}]
[null,"   If actual number of searchers is different than estimated, enter new number of searchers.  \n   The number must be between 12 and 72."]
[]
["2. Searcher speed",null,null,null,"Unit","Maximum","Average","Minimum",null,null,null,"Units:",{"$f":"'46. Calculations'!P9","v":"Yards"}]
[null,null,null,"Speed used for course design",{"$f":"IF($M$8=\"Meters\",\"Km/h\",\"MPH\")","v":"MPH"},{"$f":"E49","v":1.6},{"$f":"F49","v":1.1000000000000001},{"$f":"G49","v":0.6}]
[null,"   If desired, adjust speed by scrolling down and change speed values."]
[]
["3. Enter the maximum searching time available for searchers"]
[null,null,null,null,null,"Search time from estimate AMDRs  ",{"$f":"'3. Estimate Experiment Design'!G15","v":2},"hours"]
[null,null,null,null,null,"New selected search time               ",3,{"$f":"IF(G14>0,IF(G14<=4,\"Within range\",\"ERROR\"),IF(G14=\"\",\"\",IF(G14=0,\"\",\"ERROR\")))","v":"Within range"}]
[null,null,null,null,null,"Search time for course design         ",{"$f":"IF(G14>0,IF(G14<=4,G14,G13),G13)","v":3}]
[]
["4. Number of desired search objects (from setup)",null,null,null,null,null,{"$f":"'2. Search Object Types'!J22","v":3}]
[]
["5. Terrain type where the experiment will be conducted (from setup):",null,null,null,null,null,{"$f":"'46. Calculations'!P7","v":"Eastern Forest (Mountain, Green)"}]
[null,null,null,null,null,null,null,null,null,null,null,"Objects chosen"]
["6. Actual AMDR values for each Search Object Type ",null,null,null,null,null,null,null,null,null,null,"Object ","Object Type number from \"Search Objects\""]
[null,null,null,null,"Search Object Type   ","Unit","Actual AMDR (extinquish)",null,null,null,null,"# 1",{"$f":"'2. Search Object Types'!N26","v":1}]
[null,null,{"$f":"IF(D23=\"\",\"\",\"#1\")","v":"#1"},{"$f":"'2. Search Object Types'!M26","v":"Adult High-Visibility"},null,{"$f":"M8","v":"Yards"},{"$f":"ROUND(IF(M8=\"Meters\",VLOOKUP(M22,Q59:T67,4),VLOOKUP(M22,Q59:T67,4)),1)","v":47.1},null,null,null,null,"# 2",{"$f":"'2. Search Object Types'!N28","v":7}]
[null,null,{"$f":"IF(D24=\"\",\"\",\"#2\")","v":"#2"},{"$f":"IF('2. Search Object Types'!J22>=2,IF('2. Search Object Types'!M28='2. Search Object Types'!R26,\"Error, define object\",'2. Search Object Types'!M28),\"\")","v":"Clue High-Visibility"},null,{"$f":"IF(G17>=2,$F$23,\"\")","v":"Yards"},{"$f":"IF(G17>=2,ROUND(IF(M8=\"Meters\",VLOOKUP(M23,Q59:T67,4),VLOOKUP(M23,Q59:T67,4)),1),\"\")","v":21.9},null,null,null,null,"# 3",{"$f":"'2. Search Object Types'!N30","v":9}]
[null,null,{"$f":"IF(D25=\"\",\"\",\"#3\")","v":"#3"},{"$f":"IF('2. Search Object Types'!J22>=3,IF('2. Search Object Types'!M30='2. Search Object Types'!R26,\"Error, define object\",'2. Search Object Types'!M30),\"\")","v":"Clue Low-Visibility"},null,{"$f":"IF(G17>=3,$F$23,\"\")","v":"Yards"},{"$f":"IF(G17>=3,ROUND(IF(M8=\"Meters\",VLOOKUP(M24,Q59:T67,4),VLOOKUP(M24,Q59:T67,4)),1),\"\")","v":5},null,null,null,null,"# 4",{"$f":"'2. Search Object Types'!N32","v":7}]
[null,null,{"$f":"IF(D26=\"\",\"\",\"#4\")","v":""},{"$f":"IF('2. Search Object Types'!J22=4,IF('2. Search Object Types'!M32='2. Search Object Types'!R26,\"Error, define object\",'2. Search Object Types'!M32),\"\")","v":""},null,{"$f":"IF(G17=4,$F$23,\"\")","v":""},{"$f":"IF(G17=4,ROUND(IF(M8=\"Meters\",VLOOKUP(M25,Q59:T67,4),VLOOKUP(M25,Q59:T67,4)),1),\"\")","v":""}]
[]
["7. Actual course design",null,null,"# Objects","Track Length","Unit","Max Time","Avg Time","Min Time"]
[null,null,null,{"$f":"ROUNDUP(1.1*((G17*300)/H5),)","v":25},{"$f":"ROUND(AVERAGE(G23:G26)*3*D29,)","v":1850},{"$f":"F23","v":"Yards"},{"$f":"IF(M8=\"Meters\",E29/(1000*G49),IF(M8=\"Feet\",(E29/M56)/G49,(E29/N56)/G49))","v":1.7518939393939392},{"$f":"IF(M8=\"Meters\",E29/(1000*F49),IF(M8=\"Feet\",(E29/M56)/F49,(E29/N56)/F49))","v":0.955578512396694},{"$f":"IF(M8=\"Meters\",E29/(1000*E49),IF(M8=\"Feet\",(E29/M56)/E49,(E29/N56)/E49))","v":0.65696022727272718}]
[]
["8. Enter actual Track Length:",null,null,null,3100,{"$f":"M8","v":"Yards"}]
[null,"Track Length used in software:",null,null,{"$f":"IF(AND(E31<=E29*1.1,E31>=E29*0.9),E31,E29)","v":1850},{"$f":"M8","v":"Yards"}]
[]
["9. Check Values:"]
["Max # of Search Objects",null,null,{"$f":"G17*25","v":75},null,"Maximum Time Range",null,{"$f":"G15","v":3}]
["Min # of Search Objects",null,null,{"$f":"1.1*G17*10","v":33},null,"Minimum Time Range",null,1]
["Current # of Search Objects",null,null,{"$f":"D29","v":25},null,"Current Estimated Time",null,{"$f":"H29","v":0.955578512396694}]
[{"$f":"IF(D37<D36,\"Number of Search Objects too small, make course longer.\",IF(D37>D35,\"Number of Search Objects too large, increase searchers.\",\"Number of Search Objects correct.\"))","v":"Number of Search Objects too small, make course longer."},null,null,null,null,{"$f":"IF(H37<1,\"Average time too short, increase number of search objects.\",IF(H37>4,\"Average time too long, increase number of searchers.\",\"Average time acceptable.\"))","v":"Average time too short, increase number of search objects."}]
[]
[]
[]
[]
["In the cells below, enter optional speed values or track length if desired."]
[]
["Optional.  Enter speeds"]
[null,null,null,null,"Maximum","Average","Minimum","Unit",null,null,null,"Suggested Speed","Maximum","Average","Minimum"]
[null,null,null,"Speed from Estimates             ",{"$f":"'3. Estimate Experiment Design'!E10","v":1.6},{"$f":"'3. Estimate Experiment Design'!F10","v":1.1000000000000001},{"$f":"'3. Estimate Experiment Design'!G10","v":0.6},{"$f":"IF($M$8=\"Meters\",\"Km/h\",\"MPH\")","v":"MPH"},null,null,null,"Km/h",{"$f":"'3. Estimate Experiment Design'!L43","v":2.5},{"$f":"'3. Estimate Experiment Design'!M43","v":1.75},{"$f":"'3. Estimate Experiment Design'!N43","v":1}]
[null,null,null,"Enter desired Speed                ",null,null,null,{"$f":"IF($M$8=\"Meters\",\"Km/h\",\"MPH\")","v":"MPH"},null,null,null,"MPH",{"$f":"M47*$O$53*1000","v":1.5535037878787876},{"$f":"N47*$O$53*1000","v":1.0874526515151515},{"$f":"O47*$O$53*1000","v":0.62140151515151509}]
[null,null,null,"Speed Used for Course Design ",{"$f":"IF($M$8=\"Meters\",IF(E48>1,IF(E48<=10,E48,E47),E47),IF(E48>0.62,IF(E48<=6,E48,E47),E47))","v":1.6},{"$f":"IF(M8=\"Meters\",IF(F48>0.5,IF(F48<=10,F48,F47),F47),IF(F48>0.31,IF(F48<=6,F48,F47),F47))","v":1.1000000000000001},{"$f":"IF(M8=\"Meters\",IF(G48>0.5,IF(G48<=10,G48,G47),G47),IF(G48>0.31,IF(G48<=6,G48,G47),G47))","v":0.6},{"$f":"IF($M$8=\"Meters\",\"Km/h\",\"MPH\")","v":"MPH"},null,null,null,"Feet/h",{"$f":"ROUND(M47*$M$53*1000,1)","v":8202.5},{"$f":"ROUND(N47*$M$53*1000,1)","v":5741.8},{"$f":"ROUND(O47*$M$53*1000,1)","v":3281}]
[null,null,null,null,null,null,null,null,null,null,null,"Yards/h",{"$f":"ROUND(M49/3,1)","v":2734.2},{"$f":"ROUND(N49/3,1)","v":1913.9},{"$f":"ROUND(O49/3,1)","v":1093.7}]
[]
[null,null,null,null,null,null,null,null,null,null,null,"Meter","Feet","Yards","mile"]
[null,null,null,null,null,null,null,null,null,null,null,1,3.2810000000000001,{"$f":"M53/3","v":1.0936666666666668},{"$f":"M53/5280","v":6.2140151515151514E-4}]
[]
[null,null,null,null,null,null,null,null,null,null,null,"Mile","Feet","Yards","Meters"]
[null,null,null,null,null,null,null,null,null,null,null,1,5280,{"$f":"M56/3","v":1760},{"$f":"1/O53","v":1609.2654678451693}]
[]
[null,null,null,null,null,null,null,null,null,null,null,null,null,null,null,null,"Chosen number for 2-4 objects","Search Object","Actual AMDR (Detect)","Actual AMDR (extinguish)"]
[null,null,null,null,null,null,null,null,null,null,null,null,null,null,null,null,{"$f":"'2. Search Object Types'!Q27","v":1},{"$f":"'2. Search Object Types'!R27","v":"Adult High-Visibility"},{"$f":"IF('6. AMDR Adult'!G27=\"\",'3. Estimate Experiment Design'!U67,'6. AMDR Adult'!G27)","v":38.4375},{"$f":"IF('6. AMDR Adult'!H27=\"\",'3. Estimate Experiment Design'!U67,'6. AMDR Adult'!H27)","v":47.125}]
[null,null,null,null,null,null,null,null,null,null,null,null,null,null,null,null,{"$f":"'2. Search Object Types'!Q28","v":2},{"$f":"'2. Search Object Types'!R28","v":"Adult Medium-Visibility"},{"$f":"IF('6. AMDR Adult'!B50=\"\",'3. Estimate Experiment Design'!U68,'6. AMDR Adult'!B50)","v":15.75},{"$f":"IF('6. AMDR Adult'!C50=\"\",'3. Estimate Experiment Design'!U68,'6. AMDR Adult'!C50)","v":15.75}]
[null,null,null,null,null,null,null,null,null,null,null,null,null,null,null,null,{"$f":"'2. Search Object Types'!Q29","v":3},{"$f":"'2. Search Object Types'!R29","v":"Adult Low-Visibility"},{"$f":"IF('6. AMDR Adult'!G50=\"\",'3. Estimate Experiment Design'!U69,'6. AMDR Adult'!G50)","v":12.6},{"$f":"IF('6. AMDR Adult'!H50=\"\",'3. Estimate Experiment Design'!U69,'6. AMDR Adult'!H50)","v":12.6}]
[null,null,null,null,null,null,null,null,null,null,null,null,null,null,null,null,{"$f":"'2. Search Object Types'!Q30","v":4},{"$f":"'2. Search Object Types'!R30","v":"Child High-Visibility"},{"$f":"IF('7. AMDR Child'!G27=\"\",'3. Estimate Experiment Design'!U70,'7. AMDR Child'!G27)","v":15.75},{"$f":"IF('7. AMDR Child'!H27=\"\",'3. Estimate Experiment Design'!U70,'7. AMDR Child'!H27)","v":15.75}]
[null,null,null,null,null,null,null,null,null,null,null,null,null,null,null,null,{"$f":"'2. Search Object Types'!Q31","v":5},{"$f":"'2. Search Object Types'!R31","v":"Child Medium-Visibility"},{"$f":"IF('7. AMDR Child'!B50=\"\",'3. Estimate Experiment Design'!U71,'7. AMDR Child'!B50)","v":11.8125},{"$f":"IF('7. AMDR Child'!C50=\"\",'3. Estimate Experiment Design'!U71,'7. AMDR Child'!C50)","v":11.8125}]
[null,null,null,null,null,null,null,null,null,null,null,null,null,null,null,null,{"$f":"'2. Search Object Types'!Q32","v":6},{"$f":"'2. Search Object Types'!R32","v":"Child Low-Visibility"},{"$f":"IF('7. AMDR Child'!G50=\"\",'3. Estimate Experiment Design'!U72,'7. AMDR Child'!G50)","v":9.4499999999999993},{"$f":"IF('7. AMDR Child'!H50=\"\",'3. Estimate Experiment Design'!U72,'7. AMDR Child'!H50)","v":9.4499999999999993}]
[null,null,null,null,null,null,null,null,null,null,null,null,null,null,null,null,{"$f":"'2. Search Object Types'!Q33","v":7},{"$f":"'2. Search Object Types'!R33","v":"Clue High-Visibility"},{"$f":"IF('8. AMDR Clue'!G27=\"\",'3. Estimate Experiment Design'!U73,'8. AMDR Clue'!G27)","v":13.75},{"$f":"IF('8. AMDR Clue'!H27=\"\",'3. Estimate Experiment Design'!U73,'8. AMDR Clue'!H27)","v":21.875}]
[null,null,null,null,null,null,null,null,null,null,null,null,null,null,null,null,{"$f":"'2. Search Object Types'!Q34","v":8},{"$f":"'2. Search Object Types'!R34","v":"Clue Medium-Visibility"},{"$f":"IF('8. AMDR Clue'!B50=\"\",'3. Estimate Experiment Design'!U74,'8. AMDR Clue'!B50)","v":6.3000000000000007},{"$f":"IF('8. AMDR Clue'!C50=\"\",'3. Estimate Experiment Design'!U74,'8. AMDR Clue'!C50)","v":6.3000000000000007}]
[null,null,null,null,null,null,null,null,null,null,null,null,null,null,null,null,{"$f":"'2. Search Object Types'!Q35","v":9},{"$f":"'2. Search Object Types'!R35","v":"Clue Low-Visibility"},{"$f":"IF('8. AMDR Clue'!G50=\"\",'3. Estimate Experiment Design'!U75,'8. AMDR Clue'!G50)","v":5.04},{"$f":"IF('8. AMDR Clue'!H50=\"\",'3. Estimate Experiment Design'!U75,'8. AMDR Clue'!H50)","v":5.04}]

{"sheet":"10. Obj. Placement Tabl & Chart","index":10,"n_rows":266,"n_cols":12,"rows_kept":266,"cut":false,"hidden":false,"merged":[[150,5,150,6],[0,1,0,11],[1,1,1,11],[146,1,146,11],[147,1,147,11]]}
[null,"Object Placement Table & Chart"]
[null,"This worksheet randomly determines the placement of search objects based upon the AMDR."]
[null,"Date Created:",null,{"$f":"'46. Calculations'!AN3","v":"2012-07-12"},null,"Units:",{"$f":"'46. Calculations'!AQ3","v":"Yards"},null,null,"Total # of Suggested Objects:",{"$f":"'46. Calculations'!AU3","v":25}]
[]
[]
[]
[]
[]
[]
[]
[null,null,null,null,null,null,null,0,0,0,0]
[]
[]
[]
[]
[]
[]
[]
[]
[]
[]
[null,"Location Number","Track Distance","Lateral Range","Left - Right",null,"Search Object Type            \n  (# and description)","Orientation"]
[null,{"$f":"'46. Calculations'!AL6","v":1},{"$f":"'46. Calculations'!AM6","v":35.325000000000003},{"$f":"'46. Calculations'!AN6","v":18},{"$f":"'46. Calculations'!AO6","v":"Left"},{"$f":"'46. Calculations'!AP6","v":1},{"$f":"'46. Calculations'!AQ6","v":"Adult High-Visibility"},{"$f":"'46. Calculations'!AR6","v":15.27774018218115}]
[null,{"$f":"'46. Calculations'!AL7","v":2},{"$f":"'46. Calculations'!AM7","v":151.30000000000001},{"$f":"'46. Calculations'!AN7","v":24},{"$f":"'46. Calculations'!AO7","v":"Right"},{"$f":"'46. Calculations'!AP7","v":2},{"$f":"'46. Calculations'!AQ7","v":"Clue High-Visibility"},{"$f":"'46. Calculations'!AR7","v":65.015000099875849}]
[null,{"$f":"'46. Calculations'!AL8","v":3},{"$f":"'46. Calculations'!AM8","v":208},{"$f":"'46. Calculations'!AN8","v":51},{"$f":"'46. Calculations'!AO8","v":"Right"},{"$f":"'46. Calculations'!AP8","v":1},{"$f":"'46. Calculations'!AQ8","v":"Adult High-Visibility"},{"$f":"'46. Calculations'!AR8","v":204.76843640341971}]
[null,{"$f":"'46. Calculations'!AL9","v":4},{"$f":"'46. Calculations'!AM9","v":375.3},{"$f":"'46. Calculations'!AN9","v":0.49},{"$f":"'46. Calculations'!AO9","v":"Left"},{"$f":"'46. Calculations'!AP9","v":2},{"$f":"'46. Calculations'!AQ9","v":"Clue High-Visibility"},{"$f":"'46. Calculations'!AR9","v":330.78949636572787}]
[null,{"$f":"'46. Calculations'!AL10","v":5},{"$f":"'46. Calculations'!AM10","v":418},{"$f":"'46. Calculations'!AN10","v":4},{"$f":"'46. Calculations'!AO10","v":"Right"},{"$f":"'46. Calculations'!AP10","v":3},{"$f":"'46. Calculations'!AQ10","v":"Clue Low-Visibility"},{"$f":"'46. Calculations'!AR10","v":265.51307746130414}]
[null,{"$f":"'46. Calculations'!AL11","v":6},{"$f":"'46. Calculations'!AM11","v":445},{"$f":"'46. Calculations'!AN11","v":8},{"$f":"'46. Calculations'!AO11","v":"Right"},{"$f":"'46. Calculations'!AP11","v":2},{"$f":"'46. Calculations'!AQ11","v":"Clue High-Visibility"},{"$f":"'46. Calculations'!AR11","v":169.87194050247405}]
[null,{"$f":"'46. Calculations'!AL12","v":7},{"$f":"'46. Calculations'!AM12","v":580.70000000000005},{"$f":"'46. Calculations'!AN12","v":35},{"$f":"'46. Calculations'!AO12","v":"Right"},{"$f":"'46. Calculations'!AP12","v":1},{"$f":"'46. Calculations'!AQ12","v":"Adult High-Visibility"},{"$f":"'46. Calculations'!AR12","v":198.40992762470495}]
[null,{"$f":"'46. Calculations'!AL13","v":8},{"$f":"'46. Calculations'!AM13","v":639},{"$f":"'46. Calculations'!AN13","v":2},{"$f":"'46. Calculations'!AO13","v":"Right"},{"$f":"'46. Calculations'!AP13","v":3},{"$f":"'46. Calculations'!AQ13","v":"Clue Low-Visibility"},{"$f":"'46. Calculations'!AR13","v":188.22263836916184}]
[null,{"$f":"'46. Calculations'!AL14","v":9},{"$f":"'46. Calculations'!AM14","v":653},{"$f":"'46. Calculations'!AN14","v":0.09},{"$f":"'46. Calculations'!AO14","v":"Right"},{"$f":"'46. Calculations'!AP14","v":3},{"$f":"'46. Calculations'!AQ14","v":"Clue Low-Visibility"},{"$f":"'46. Calculations'!AR14","v":322.31792309866199}]
[null,{"$f":"'46. Calculations'!AL15","v":10},{"$f":"'46. Calculations'!AM15","v":702},{"$f":"'46. Calculations'!AN15","v":13},{"$f":"'46. Calculations'!AO15","v":"Left"},{"$f":"'46. Calculations'!AP15","v":2},{"$f":"'46. Calculations'!AQ15","v":"Clue High-Visibility"},{"$f":"'46. Calculations'!AR15","v":311.03029147284116}]
[null,{"$f":"'46. Calculations'!AL16","v":11},{"$f":"'46. Calculations'!AM16","v":805.7},{"$f":"'46. Calculations'!AN16","v":0.19},{"$f":"'46. Calculations'!AO16","v":"Right"},{"$f":"'46. Calculations'!AP16","v":1},{"$f":"'46. Calculations'!AQ16","v":"Adult High-Visibility"},{"$f":"'46. Calculations'!AR16","v":216.19871388281143}]
[null,{"$f":"'46. Calculations'!AL17","v":12},{"$f":"'46. Calculations'!AM17","v":885},{"$f":"'46. Calculations'!AN17","v":32},{"$f":"'46. Calculations'!AO17","v":"Left"},{"$f":"'46. Calculations'!AP17","v":2},{"$f":"'46. Calculations'!AQ17","v":"Clue High-Visibility"},{"$f":"'46. Calculations'!AR17","v":224.26643986774599}]
[null,{"$f":"'46. Calculations'!AL18","v":13},{"$f":"'46. Calculations'!AM18","v":958.7},{"$f":"'46. Calculations'!AN18","v":20},{"$f":"'46. Calculations'!AO18","v":"Left"},{"$f":"'46. Calculations'!AP18","v":2},{"$f":"'46. Calculations'!AQ18","v":"Clue High-Visibility"},{"$f":"'46. Calculations'!AR18","v":321.84235020440627}]
[null,{"$f":"'46. Calculations'!AL19","v":14},{"$f":"'46. Calculations'!AM19","v":1011.4000000000001},{"$f":"'46. Calculations'!AN19","v":7},{"$f":"'46. Calculations'!AO19","v":"Left"},{"$f":"'46. Calculations'!AP19","v":3},{"$f":"'46. Calculations'!AQ19","v":"Clue Low-Visibility"},{"$f":"'46. Calculations'!AR19","v":86.223692809978587}]
[null,{"$f":"'46. Calculations'!AL20","v":15},{"$f":"'46. Calculations'!AM20","v":1026.4000000000001},{"$f":"'46. Calculations'!AN20","v":5},{"$f":"'46. Calculations'!AO20","v":"Left"},{"$f":"'46. Calculations'!AP20","v":3},{"$f":"'46. Calculations'!AQ20","v":"Clue Low-Visibility"},{"$f":"'46. Calculations'!AR20","v":108.64875804747969}]
[null,{"$f":"'46. Calculations'!AL21","v":16},{"$f":"'46. Calculations'!AM21","v":1113.4000000000001},{"$f":"'46. Calculations'!AN21","v":61},{"$f":"'46. Calculations'!AO21","v":"Left"},{"$f":"'46. Calculations'!AP21","v":1},{"$f":"'46. Calculations'!AQ21","v":"Adult High-Visibility"},{"$f":"'46. Calculations'!AR21","v":306.99351551938759}]
[null,{"$f":"'46. Calculations'!AL22","v":17},{"$f":"'46. Calculations'!AM22","v":1261.7},{"$f":"'46. Calculations'!AN22","v":50},{"$f":"'46. Calculations'!AO22","v":"Right"},{"$f":"'46. Calculations'!AP22","v":1},{"$f":"'46. Calculations'!AQ22","v":"Adult High-Visibility"},{"$f":"'46. Calculations'!AR22","v":27.877479520370784}]
[null,{"$f":"'46. Calculations'!AL23","v":18},{"$f":"'46. Calculations'!AM23","v":1350},{"$f":"'46. Calculations'!AN23","v":24},{"$f":"'46. Calculations'!AO23","v":"Left"},{"$f":"'46. Calculations'!AP23","v":1},{"$f":"'46. Calculations'!AQ23","v":"Adult High-Visibility"},{"$f":"'46. Calculations'!AR23","v":332.94769563713459}]
[null,{"$f":"'46. Calculations'!AL24","v":19},{"$f":"'46. Calculations'!AM24","v":1460.3},{"$f":"'46. Calculations'!AN24","v":61},{"$f":"'46. Calculations'!AO24","v":"Right"},{"$f":"'46. Calculations'!AP24","v":1},{"$f":"'46. Calculations'!AQ24","v":"Adult High-Visibility"},{"$f":"'46. Calculations'!AR24","v":231.88698140717125}]
[null,{"$f":"'46. Calculations'!AL25","v":20},{"$f":"'46. Calculations'!AM25","v":1604.6},{"$f":"'46. Calculations'!AN25","v":4},{"$f":"'46. Calculations'!AO25","v":"Right"},{"$f":"'46. Calculations'!AP25","v":3},{"$f":"'46. Calculations'!AQ25","v":"Clue Low-Visibility"},{"$f":"'46. Calculations'!AR25","v":309.0772537105795}]
[null,{"$f":"'46. Calculations'!AL26","v":21},{"$f":"'46. Calculations'!AM26","v":1620.6},{"$f":"'46. Calculations'!AN26","v":3},{"$f":"'46. Calculations'!AO26","v":"Right"},{"$f":"'46. Calculations'!AP26","v":2},{"$f":"'46. Calculations'!AQ26","v":"Clue High-Visibility"},{"$f":"'46. Calculations'!AR26","v":315.25689467891277}]
[null,{"$f":"'46. Calculations'!AL27","v":22},{"$f":"'46. Calculations'!AM27","v":1722.3},{"$f":"'46. Calculations'!AN27","v":31},{"$f":"'46. Calculations'!AO27","v":"Right"},{"$f":"'46. Calculations'!AP27","v":2},{"$f":"'46. Calculations'!AQ27","v":"Clue High-Visibility"},{"$f":"'46. Calculations'!AR27","v":162.08904229939918}]
[null,{"$f":"'46. Calculations'!AL28","v":23},{"$f":"'46. Calculations'!AM28","v":1750},{"$f":"'46. Calculations'!AN28","v":0.38},{"$f":"'46. Calculations'!AO28","v":"Left"},{"$f":"'46. Calculations'!AP28","v":3},{"$f":"'46. Calculations'!AQ28","v":"Clue Low-Visibility"},{"$f":"'46. Calculations'!AR28","v":208.55842144485922}]
[null,{"$f":"'46. Calculations'!AL29","v":24},{"$f":"'46. Calculations'!AM29","v":1855},{"$f":"'46. Calculations'!AN29","v":47},{"$f":"'46. Calculations'!AO29","v":"Left"},{"$f":"'46. Calculations'!AP29","v":1},{"$f":"'46. Calculations'!AQ29","v":"Adult High-Visibility"},{"$f":"'46. Calculations'!AR29","v":150.44324416755043}]
[null,{"$f":"'46. Calculations'!AL30","v":25},{"$f":"'46. Calculations'!AM30","v":1941.3},{"$f":"'46. Calculations'!AN30","v":2},{"$f":"'46. Calculations'!AO30","v":"Left"},{"$f":"'46. Calculations'!AP30","v":2},{"$f":"'46. Calculations'!AQ30","v":"Clue High-Visibility"},{"$f":"'46. Calculations'!AR30","v":259.98153694092724}]
[null,{"$f":"'46. Calculations'!AL31","v":26},{"$f":"'46. Calculations'!AM31","v":1975},{"$f":"'46. Calculations'!AN31","v":3},{"$f":"'46. Calculations'!AO31","v":"Left"},{"$f":"'46. Calculations'!AP31","v":3},{"$f":"'46. Calculations'!AQ31","v":"Clue Low-Visibility"},{"$f":"'46. Calculations'!AR31","v":227.95575103896184}]
[null,{"$f":"'46. Calculations'!AL32","v":0},{"$f":"'46. Calculations'!AM32","v":0},{"$f":"'46. Calculations'!AN32","v":0},{"$f":"'46. Calculations'!AO32","v":0},{"$f":"'46. Calculations'!AP32","v":0},{"$f":"'46. Calculations'!AQ32","v":0},{"$f":"'46. Calculations'!AR32","v":0}]
[null,{"$f":"'46. Calculations'!AL33","v":0},{"$f":"'46. Calculations'!AM33","v":0},{"$f":"'46. Calculations'!AN33","v":0},{"$f":"'46. Calculations'!AO33","v":0},{"$f":"'46. Calculations'!AP33","v":0},{"$f":"'46. Calculations'!AQ33","v":0},{"$f":"'46. Calculations'!AR33","v":0}]
[null,{"$f":"'46. Calculations'!AL34","v":0},{"$f":"'46. Calculations'!AM34","v":0},{"$f":"'46. Calculations'!AN34","v":0},{"$f":"'46. Calculations'!AO34","v":0},{"$f":"'46. Calculations'!AP34","v":0},{"$f":"'46. Calculations'!AQ34","v":0},{"$f":"'46. Calculations'!AR34","v":0}]
[null,{"$f":"'46. Calculations'!AL35","v":0},{"$f":"'46. Calculations'!AM35","v":0},{"$f":"'46. Calculations'!AN35","v":0},{"$f":"'46. Calculations'!AO35","v":0},{"$f":"'46. Calculations'!AP35","v":0},{"$f":"'46. Calculations'!AQ35","v":0},{"$f":"'46. Calculations'!AR35","v":0},null,{"$f":"'46. Calculations'!AT35","v":"Search Object Type # 1"}]
[null,{"$f":"'46. Calculations'!AL36","v":0},{"$f":"'46. Calculations'!AM36","v":0},{"$f":"'46. Calculations'!AN36","v":0},{"$f":"'46. Calculations'!AO36","v":0},{"$f":"'46. Calculations'!AP36","v":0},{"$f":"'46. Calculations'!AQ36","v":0},{"$f":"'46. Calculations'!AR36","v":0},null,{"$f":"'46. Calculations'!AT36","v":"Adult High-Visibility"}]
[null,{"$f":"'46. Calculations'!AL37","v":0},{"$f":"'46. Calculations'!AM37","v":0},{"$f":"'46. Calculations'!AN37","v":0},{"$f":"'46. Calculations'!AO37","v":0},{"$f":"'46. Calculations'!AP37","v":0},{"$f":"'46. Calculations'!AQ37","v":0},{"$f":"'46. Calculations'!AR37","v":0},null,{"$f":"'46. Calculations'!AT37","v":"AMDR1"},null,{"$f":"'46. Calculations'!AV37","v":47.1}]
[null,{"$f":"'46. Calculations'!AL38","v":0},{"$f":"'46. Calculations'!AM38","v":0},{"$f":"'46. Calculations'!AN38","v":0},{"$f":"'46. Calculations'!AO38","v":0},{"$f":"'46. Calculations'!AP38","v":0},{"$f":"'46. Calculations'!AQ38","v":0},{"$f":"'46. Calculations'!AR38","v":0}]
[null,{"$f":"'46. Calculations'!AL39","v":0},{"$f":"'46. Calculations'!AM39","v":0},{"$f":"'46. Calculations'!AN39","v":0},{"$f":"'46. Calculations'!AO39","v":0},{"$f":"'46. Calculations'!AP39","v":0},{"$f":"'46. Calculations'!AQ39","v":0},{"$f":"'46. Calculations'!AR39","v":0},null,{"$f":"'46. Calculations'!AT39","v":"Search Object Type # 2"}]
[null,{"$f":"'46. Calculations'!AL40","v":0},{"$f":"'46. Calculations'!AM40","v":0},{"$f":"'46. Calculations'!AN40","v":0},{"$f":"'46. Calculations'!AO40","v":0},{"$f":"'46. Calculations'!AP40","v":0},{"$f":"'46. Calculations'!AQ40","v":0},{"$f":"'46. Calculations'!AR40","v":0},null,{"$f":"'46. Calculations'!AT40","v":"Clue High-Visibility"}]
[null,{"$f":"'46. Calculations'!AL41","v":0},{"$f":"'46. Calculations'!AM41","v":0},{"$f":"'46. Calculations'!AN41","v":0},{"$f":"'46. Calculations'!AO41","v":0},{"$f":"'46. Calculations'!AP41","v":0},{"$f":"'46. Calculations'!AQ41","v":0},{"$f":"'46. Calculations'!AR41","v":0},null,{"$f":"'46. Calculations'!AT41","v":"AMDR2"},null,{"$f":"'46. Calculations'!AV41","v":21.9}]
[null,{"$f":"'46. Calculations'!AL42","v":0},{"$f":"'46. Calculations'!AM42","v":0},{"$f":"'46. Calculations'!AN42","v":0},{"$f":"'46. Calculations'!AO42","v":0},{"$f":"'46. Calculations'!AP42","v":0},{"$f":"'46. Calculations'!AQ42","v":0},{"$f":"'46. Calculations'!AR42","v":0}]
[null,{"$f":"'46. Calculations'!AL43","v":0},{"$f":"'46. Calculations'!AM43","v":0},{"$f":"'46. Calculations'!AN43","v":0},{"$f":"'46. Calculations'!AO43","v":0},{"$f":"'46. Calculations'!AP43","v":0},{"$f":"'46. Calculations'!AQ43","v":0},{"$f":"'46. Calculations'!AR43","v":0},null,{"$f":"'46. Calculations'!AT43","v":"Search Object Type # 3"}]
[null,{"$f":"'46. Calculations'!AL44","v":0},{"$f":"'46. Calculations'!AM44","v":0},{"$f":"'46. Calculations'!AN44","v":0},{"$f":"'46. Calculations'!AO44","v":0},{"$f":"'46. Calculations'!AP44","v":0},{"$f":"'46. Calculations'!AQ44","v":0},{"$f":"'46. Calculations'!AR44","v":0},null,{"$f":"'46. Calculations'!AT44","v":"Clue Low-Visibility"}]
[null,{"$f":"'46. Calculations'!AL45","v":0},{"$f":"'46. Calculations'!AM45","v":0},{"$f":"'46. Calculations'!AN45","v":0},{"$f":"'46. Calculations'!AO45","v":0},{"$f":"'46. Calculations'!AP45","v":0},{"$f":"'46. Calculations'!AQ45","v":0},{"$f":"'46. Calculations'!AR45","v":0},null,{"$f":"'46. Calculations'!AT45","v":"AMDR3"},null,{"$f":"'46. Calculations'!AV45","v":5}]
[null,{"$f":"'46. Calculations'!AL46","v":0},{"$f":"'46. Calculations'!AM46","v":0},{"$f":"'46. Calculations'!AN46","v":0},{"$f":"'46. Calculations'!AO46","v":0},{"$f":"'46. Calculations'!AP46","v":0},{"$f":"'46. Calculations'!AQ46","v":0},{"$f":"'46. Calculations'!AR46","v":0}]
[null,{"$f":"'46. Calculations'!AL47","v":0},{"$f":"'46. Calculations'!AM47","v":0},{"$f":"'46. Calculations'!AN47","v":0},{"$f":"'46. Calculations'!AO47","v":0},{"$f":"'46. Calculations'!AP47","v":0},{"$f":"'46. Calculations'!AQ47","v":0},{"$f":"'46. Calculations'!AR47","v":0},null,{"$f":"'46. Calculations'!AT47","v":""}]
[null,{"$f":"'46. Calculations'!AL48","v":0},{"$f":"'46. Calculations'!AM48","v":0},{"$f":"'46. Calculations'!AN48","v":0},{"$f":"'46. Calculations'!AO48","v":0},{"$f":"'46. Calculations'!AP48","v":0},{"$f":"'46. Calculations'!AQ48","v":0},{"$f":"'46. Calculations'!AR48","v":0},null,{"$f":"'46. Calculations'!AT48","v":"Not Applicable"}]
[null,{"$f":"'46. Calculations'!AL49","v":0},{"$f":"'46. Calculations'!AM49","v":0},{"$f":"'46. Calculations'!AN49","v":0},{"$f":"'46. Calculations'!AO49","v":0},{"$f":"'46. Calculations'!AP49","v":0},{"$f":"'46. Calculations'!AQ49","v":0},{"$f":"'46. Calculations'!AR49","v":0},null,{"$f":"'46. Calculations'!AT49","v":""},null,{"$f":"'46. Calculations'!AV49","v":0}]
[null,{"$f":"'46. Calculations'!AL50","v":0},{"$f":"'46. Calculations'!AM50","v":0},{"$f":"'46. Calculations'!AN50","v":0},{"$f":"'46. Calculations'!AO50","v":0},{"$f":"'46. Calculations'!AP50","v":0},{"$f":"'46. Calculations'!AQ50","v":0},{"$f":"'46. Calculations'!AR50","v":0}]
[null,{"$f":"'46. Calculations'!AL51","v":0},{"$f":"'46. Calculations'!AM51","v":0},{"$f":"'46. Calculations'!AN51","v":0},{"$f":"'46. Calculations'!AO51","v":0},{"$f":"'46. Calculations'!AP51","v":0},{"$f":"'46. Calculations'!AQ51","v":0},{"$f":"'46. Calculations'!AR51","v":0}]
[null,{"$f":"'46. Calculations'!AL52","v":0},{"$f":"'46. Calculations'!AM52","v":0},{"$f":"'46. Calculations'!AN52","v":0},{"$f":"'46. Calculations'!AO52","v":0},{"$f":"'46. Calculations'!AP52","v":0},{"$f":"'46. Calculations'!AQ52","v":0},{"$f":"'46. Calculations'!AR52","v":0},null,"Course Layout-Shopping List"]
[null,{"$f":"'46. Calculations'!AL53","v":0},{"$f":"'46. Calculations'!AM53","v":0},{"$f":"'46. Calculations'!AN53","v":0},{"$f":"'46. Calculations'!AO53","v":0},{"$f":"'46. Calculations'!AP53","v":0},{"$f":"'46. Calculations'!AQ53","v":0},{"$f":"'46. Calculations'!AR53","v":0},null,{"$f":"6*(ROUNDUP(MAX($C$23:$C$140)/1000,))","v":12},"Flagging tape rolls"]
[null,{"$f":"'46. Calculations'!AL54","v":0},{"$f":"'46. Calculations'!AM54","v":0},{"$f":"'46. Calculations'!AN54","v":0},{"$f":"'46. Calculations'!AO54","v":0},{"$f":"'46. Calculations'!AP54","v":0},{"$f":"'46. Calculations'!AQ54","v":0},{"$f":"'46. Calculations'!AR54","v":0},null,{"$f":"3*(ROUNDUP(MAX($C$23:$C$140)/1000,))","v":6},"Yellow flags"]
[null,{"$f":"'46. Calculations'!AL55","v":0},{"$f":"'46. Calculations'!AM55","v":0},{"$f":"'46. Calculations'!AN55","v":0},{"$f":"'46. Calculations'!AO55","v":0},{"$f":"'46. Calculations'!AP55","v":0},{"$f":"'46. Calculations'!AQ55","v":0},{"$f":"'46. Calculations'!AR55","v":0},null,{"$f":"40*(ROUNDUP(MAX($C$23:$C$140)/1000,))","v":80},"Lime green flags"]
[null,{"$f":"'46. Calculations'!AL56","v":0},{"$f":"'46. Calculations'!AM56","v":0},{"$f":"'46. Calculations'!AN56","v":0},{"$f":"'46. Calculations'!AO56","v":0},{"$f":"'46. Calculations'!AP56","v":0},{"$f":"'46. Calculations'!AQ56","v":0},{"$f":"'46. Calculations'!AR56","v":0},null,{"$f":"200*(ROUNDUP(MAX($C$23:$C$140)/1000,))","v":400},"Red flags"]
[null,{"$f":"'46. Calculations'!AL57","v":0},{"$f":"'46. Calculations'!AM57","v":0},{"$f":"'46. Calculations'!AN57","v":0},{"$f":"'46. Calculations'!AO57","v":0},{"$f":"'46. Calculations'!AP57","v":0},{"$f":"'46. Calculations'!AQ57","v":0},{"$f":"'46. Calculations'!AR57","v":0},null,{"$f":"10*(ROUNDUP(MAX($C$23:$C$140)/1000,))","v":20},"Orange flags"]
[null,{"$f":"'46. Calculations'!AL58","v":0},{"$f":"'46. Calculations'!AM58","v":0},{"$f":"'46. Calculations'!AN58","v":0},{"$f":"'46. Calculations'!AO58","v":0},{"$f":"'46. Calculations'!AP58","v":0},{"$f":"'46. Calculations'!AQ58","v":0},{"$f":"'46. Calculations'!AR58","v":0},null,2,"Permanent markers"]
[null,{"$f":"'46. Calculations'!AL59","v":0},{"$f":"'46. Calculations'!AM59","v":0},{"$f":"'46. Calculations'!AN59","v":0},{"$f":"'46. Calculations'!AO59","v":0},{"$f":"'46. Calculations'!AP59","v":0},{"$f":"'46. Calculations'!AQ59","v":0},{"$f":"'46. Calculations'!AR59","v":0},null,null,"Waterproof paper"]
[null,{"$f":"'46. Calculations'!AL60","v":0},{"$f":"'46. Calculations'!AM60","v":0},{"$f":"'46. Calculations'!AN60","v":0},{"$f":"'46. Calculations'!AO60","v":0},{"$f":"'46. Calculations'!AP60","v":0},{"$f":"'46. Calculations'!AQ60","v":0},{"$f":"'46. Calculations'!AR60","v":0},null,null,"Clear plastic or acetate"]
[null,{"$f":"'46. Calculations'!AL61","v":0},{"$f":"'46. Calculations'!AM61","v":0},{"$f":"'46. Calculations'!AN61","v":0},{"$f":"'46. Calculations'!AO61","v":0},{"$f":"'46. Calculations'!AP61","v":0},{"$f":"'46. Calculations'!AQ61","v":0},{"$f":"'46. Calculations'!AR61","v":0},null,"6 to 12","Clipboards"]
[null,{"$f":"'46. Calculations'!AL62","v":0},{"$f":"'46. Calculations'!AM62","v":0},{"$f":"'46. Calculations'!AN62","v":0},{"$f":"'46. Calculations'!AO62","v":0},{"$f":"'46. Calculations'!AP62","v":0},{"$f":"'46. Calculations'!AQ62","v":0},{"$f":"'46. Calculations'!AR62","v":0},null,"12 to 24","Pencils/Pens"]
[null,{"$f":"'46. Calculations'!AL63","v":0},{"$f":"'46. Calculations'!AM63","v":0},{"$f":"'46. Calculations'!AN63","v":0},{"$f":"'46. Calculations'!AO63","v":0},{"$f":"'46. Calculations'!AP63","v":0},{"$f":"'46. Calculations'!AQ63","v":0},{"$f":"'46. Calculations'!AR63","v":0},null,2,"Staplers"]
[null,{"$f":"'46. Calculations'!AL64","v":0},{"$f":"'46. Calculations'!AM64","v":0},{"$f":"'46. Calculations'!AN64","v":0},{"$f":"'46. Calculations'!AO64","v":0},{"$f":"'46. Calculations'!AP64","v":0},{"$f":"'46. Calculations'!AQ64","v":0},{"$f":"'46. Calculations'!AR64","v":0},null,null,"Adhesive tape"]
[null,{"$f":"'46. Calculations'!AL65","v":0},{"$f":"'46. Calculations'!AM65","v":0},{"$f":"'46. Calculations'!AN65","v":0},{"$f":"'46. Calculations'!AO65","v":0},{"$f":"'46. Calculations'!AP65","v":0},{"$f":"'46. Calculations'!AQ65","v":0},{"$f":"'46. Calculations'!AR65","v":0},null,null,"Blank paper/cardboard"]
[null,{"$f":"'46. Calculations'!AL66","v":0},{"$f":"'46. Calculations'!AM66","v":0},{"$f":"'46. Calculations'!AN66","v":0},{"$f":"'46. Calculations'!AO66","v":0},{"$f":"'46. Calculations'!AP66","v":0},{"$f":"'46. Calculations'!AQ66","v":0},{"$f":"'46. Calculations'!AR66","v":0},null,3,"Folders "]
[null,{"$f":"'46. Calculations'!AL67","v":0},{"$f":"'46. Calculations'!AM67","v":0},{"$f":"'46. Calculations'!AN67","v":0},{"$f":"'46. Calculations'!AO67","v":0},{"$f":"'46. Calculations'!AP67","v":0},{"$f":"'46. Calculations'!AQ67","v":0},{"$f":"'46. Calculations'!AR67","v":0}]
[null,{"$f":"'46. Calculations'!AL68","v":0},{"$f":"'46. Calculations'!AM68","v":0},{"$f":"'46. Calculations'!AN68","v":0},{"$f":"'46. Calculations'!AO68","v":0},{"$f":"'46. Calculations'!AP68","v":0},{"$f":"'46. Calculations'!AQ68","v":0},{"$f":"'46. Calculations'!AR68","v":0}]
[null,{"$f":"'46. Calculations'!AL69","v":0},{"$f":"'46. Calculations'!AM69","v":0},{"$f":"'46. Calculations'!AN69","v":0},{"$f":"'46. Calculations'!AO69","v":0},{"$f":"'46. Calculations'!AP69","v":0},{"$f":"'46. Calculations'!AQ69","v":0},{"$f":"'46. Calculations'!AR69","v":0}]
[null,{"$f":"'46. Calculations'!AL70","v":0},{"$f":"'46. Calculations'!AM70","v":0},{"$f":"'46. Calculations'!AN70","v":0},{"$f":"'46. Calculations'!AO70","v":0},{"$f":"'46. Calculations'!AP70","v":0},{"$f":"'46. Calculations'!AQ70","v":0},{"$f":"'46. Calculations'!AR70","v":0}]
[null,{"$f":"'46. Calculations'!AL71","v":0},{"$f":"'46. Calculations'!AM71","v":0},{"$f":"'46. Calculations'!AN71","v":0},{"$f":"'46. Calculations'!AO71","v":0},{"$f":"'46. Calculations'!AP71","v":0},{"$f":"'46. Calculations'!AQ71","v":0},{"$f":"'46. Calculations'!AR71","v":0}]
[null,{"$f":"'46. Calculations'!AL72","v":0},{"$f":"'46. Calculations'!AM72","v":0},{"$f":"'46. Calculations'!AN72","v":0},{"$f":"'46. Calculations'!AO72","v":0},{"$f":"'46. Calculations'!AP72","v":0},{"$f":"'46. Calculations'!AQ72","v":0},{"$f":"'46. Calculations'!AR72","v":0}]
[null,{"$f":"'46. Calculations'!AL73","v":0},{"$f":"'46. Calculations'!AM73","v":0},{"$f":"'46. Calculations'!AN73","v":0},{"$f":"'46. Calculations'!AO73","v":0},{"$f":"'46. Calculations'!AP73","v":0},{"$f":"'46. Calculations'!AQ73","v":0},{"$f":"'46. Calculations'!AR73","v":0}]
[null,{"$f":"'46. Calculations'!AL74","v":0},{"$f":"'46. Calculations'!AM74","v":0},{"$f":"'46. Calculations'!AN74","v":0},{"$f":"'46. Calculations'!AO74","v":0},{"$f":"'46. Calculations'!AP74","v":0},{"$f":"'46. Calculations'!AQ74","v":0},{"$f":"'46. Calculations'!AR74","v":0}]
[null,{"$f":"'46. Calculations'!AL75","v":0},{"$f":"'46. Calculations'!AM75","v":0},{"$f":"'46. Calculations'!AN75","v":0},{"$f":"'46. Calculations'!AO75","v":0},{"$f":"'46. Calculations'!AP75","v":0},{"$f":"'46. Calculations'!AQ75","v":0},{"$f":"'46. Calculations'!AR75","v":0}]
[null,{"$f":"'46. Calculations'!AL76","v":0},{"$f":"'46. Calculations'!AM76","v":0},{"$f":"'46. Calculations'!AN76","v":0},{"$f":"'46. Calculations'!AO76","v":0},{"$f":"'46. Calculations'!AP76","v":0},{"$f":"'46. Calculations'!AQ76","v":0},{"$f":"'46. Calculations'!AR76","v":0}]
[null,{"$f":"'46. Calculations'!AL77","v":0},{"$f":"'46. Calculations'!AM77","v":0},{"$f":"'46. Calculations'!AN77","v":0},{"$f":"'46. Calculations'!AO77","v":0},{"$f":"'46. Calculations'!AP77","v":0},{"$f":"'46. Calculations'!AQ77","v":0},{"$f":"'46. Calculations'!AR77","v":0}]
[null,{"$f":"'46. Calculations'!AL78","v":0},{"$f":"'46. Calculations'!AM78","v":0},{"$f":"'46. Calculations'!AN78","v":0},{"$f":"'46. Calculations'!AO78","v":0},{"$f":"'46. Calculations'!AP78","v":0},{"$f":"'46. Calculations'!AQ78","v":0},{"$f":"'46. Calculations'!AR78","v":0}]
[null,{"$f":"'46. Calculations'!AL79","v":0},{"$f":"'46. Calculations'!AM79","v":0},{"$f":"'46. Calculations'!AN79","v":0},{"$f":"'46. Calculations'!AO79","v":0},{"$f":"'46. Calculations'!AP79","v":0},{"$f":"'46. Calculations'!AQ79","v":0},{"$f":"'46. Calculations'!AR79","v":0}]
[null,{"$f":"'46. Calculations'!AL80","v":0},{"$f":"'46. Calculations'!AM80","v":0},{"$f":"'46. Calculations'!AN80","v":0},{"$f":"'46. Calculations'!AO80","v":0},{"$f":"'46. Calculations'!AP80","v":0},{"$f":"'46. Calculations'!AQ80","v":0},{"$f":"'46. Calculations'!AR80","v":0}]
[null,{"$f":"'46. Calculations'!AL81","v":0},{"$f":"'46. Calculations'!AM81","v":0},{"$f":"'46. Calculations'!AN81","v":0},{"$f":"'46. Calculations'!AO81","v":0},{"$f":"'46. Calculations'!AP81","v":0},{"$f":"'46. Calculations'!AQ81","v":0},{"$f":"'46. Calculations'!AR81","v":0}]
[null,{"$f":"'46. Calculations'!AL82","v":0},{"$f":"'46. Calculations'!AM82","v":0},{"$f":"'46. Calculations'!AN82","v":0},{"$f":"'46. Calculations'!AO82","v":0},{"$f":"'46. Calculations'!AP82","v":0},{"$f":"'46. Calculations'!AQ82","v":0},{"$f":"'46. Calculations'!AR82","v":0}]
[null,{"$f":"'46. Calculations'!AL83","v":0},{"$f":"'46. Calculations'!AM83","v":0},{"$f":"'46. Calculations'!AN83","v":0},{"$f":"'46. Calculations'!AO83","v":0},{"$f":"'46. Calculations'!AP83","v":0},{"$f":"'46. Calculations'!AQ83","v":0},{"$f":"'46. Calculations'!AR83","v":0}]
[null,{"$f":"'46. Calculations'!AL84","v":0},{"$f":"'46. Calculations'!AM84","v":0},{"$f":"'46. Calculations'!AN84","v":0},{"$f":"'46. Calculations'!AO84","v":0},{"$f":"'46. Calculations'!AP84","v":0},{"$f":"'46. Calculations'!AQ84","v":0},{"$f":"'46. Calculations'!AR84","v":0}]
[null,{"$f":"'46. Calculations'!AL85","v":0},{"$f":"'46. Calculations'!AM85","v":0},{"$f":"'46. Calculations'!AN85","v":0},{"$f":"'46. Calculations'!AO85","v":0},{"$f":"'46. Calculations'!AP85","v":0},{"$f":"'46. Calculations'!AQ85","v":0},{"$f":"'46. Calculations'!AR85","v":0}]
[null,{"$f":"'46. Calculations'!AL86","v":0},{"$f":"'46. Calculations'!AM86","v":0},{"$f":"'46. Calculations'!AN86","v":0},{"$f":"'46. Calculations'!AO86","v":0},{"$f":"'46. Calculations'!AP86","v":0},{"$f":"'46. Calculations'!AQ86","v":0},{"$f":"'46. Calculations'!AR86","v":0}]
[null,{"$f":"'46. Calculations'!AL87","v":0},{"$f":"'46. Calculations'!AM87","v":0},{"$f":"'46. Calculations'!AN87","v":0},{"$f":"'46. Calculations'!AO87","v":0},{"$f":"'46. Calculations'!AP87","v":0},{"$f":"'46. Calculations'!AQ87","v":0},{"$f":"'46. Calculations'!AR87","v":0}]
[null,{"$f":"'46. Calculations'!AL88","v":0},{"$f":"'46. Calculations'!AM88","v":0},{"$f":"'46. Calculations'!AN88","v":0},{"$f":"'46. Calculations'!AO88","v":0},{"$f":"'46. Calculations'!AP88","v":0},{"$f":"'46. Calculations'!AQ88","v":0},{"$f":"'46. Calculations'!AR88","v":0}]
[null,{"$f":"'46. Calculations'!AL89","v":0},{"$f":"'46. Calculations'!AM89","v":0},{"$f":"'46. Calculations'!AN89","v":0},{"$f":"'46. Calculations'!AO89","v":0},{"$f":"'46. Calculations'!AP89","v":0},{"$f":"'46. Calculations'!AQ89","v":0},{"$f":"'46. Calculations'!AR89","v":0}]
[null,{"$f":"'46. Calculations'!AL90","v":0},{"$f":"'46. Calculations'!AM90","v":0},{"$f":"'46. Calculations'!AN90","v":0},{"$f":"'46. Calculations'!AO90","v":0},{"$f":"'46. Calculations'!AP90","v":0},{"$f":"'46. Calculations'!AQ90","v":0},{"$f":"'46. Calculations'!AR90","v":0}]
[null,{"$f":"'46. Calculations'!AL91","v":0},{"$f":"'46. Calculations'!AM91","v":0},{"$f":"'46. Calculations'!AN91","v":0},{"$f":"'46. Calculations'!AO91","v":0},{"$f":"'46. Calculations'!AP91","v":0},{"$f":"'46. Calculations'!AQ91","v":0},{"$f":"'46. Calculations'!AR91","v":0}]
[null,{"$f":"'46. Calculations'!AL92","v":0},{"$f":"'46. Calculations'!AM92","v":0},{"$f":"'46. Calculations'!AN92","v":0},{"$f":"'46. Calculations'!AO92","v":0},{"$f":"'46. Calculations'!AP92","v":0},{"$f":"'46. Calculations'!AQ92","v":0},{"$f":"'46. Calculations'!AR92","v":0}]
[null,{"$f":"'46. Calculations'!AL93","v":0},{"$f":"'46. Calculations'!AM93","v":0},{"$f":"'46. Calculations'!AN93","v":0},{"$f":"'46. Calculations'!AO93","v":0},{"$f":"'46. Calculations'!AP93","v":0},{"$f":"'46. Calculations'!AQ93","v":0},{"$f":"'46. Calculations'!AR93","v":0}]
[null,{"$f":"'46. Calculations'!AL94","v":0},{"$f":"'46. Calculations'!AM94","v":0},{"$f":"'46. Calculations'!AN94","v":0},{"$f":"'46. Calculations'!AO94","v":0},{"$f":"'46. Calculations'!AP94","v":0},{"$f":"'46. Calculations'!AQ94","v":0},{"$f":"'46. Calculations'!AR94","v":0}]
[null,{"$f":"'46. Calculations'!AL95","v":0},{"$f":"'46. Calculations'!AM95","v":0},{"$f":"'46. Calculations'!AN95","v":0},{"$f":"'46. Calculations'!AO95","v":0},{"$f":"'46. Calculations'!AP95","v":0},{"$f":"'46. Calculations'!AQ95","v":0},{"$f":"'46. Calculations'!AR95","v":0}]
[null,{"$f":"'46. Calculations'!AL96","v":0},{"$f":"'46. Calculations'!AM96","v":0},{"$f":"'46. Calculations'!AN96","v":0},{"$f":"'46. Calculations'!AO96","v":0},{"$f":"'46. Calculations'!AP96","v":0},{"$f":"'46. Calculations'!AQ96","v":0},{"$f":"'46. Calculations'!AR96","v":0}]
[null,{"$f":"'46. Calculations'!AL97","v":0},{"$f":"'46. Calculations'!AM97","v":0},{"$f":"'46. Calculations'!AN97","v":0},{"$f":"'46. Calculations'!AO97","v":0},{"$f":"'46. Calculations'!AP97","v":0},{"$f":"'46. Calculations'!AQ97","v":0},{"$f":"'46. Calculations'!AR97","v":0}]
[null,{"$f":"'46. Calculations'!AL98","v":0},{"$f":"'46. Calculations'!AM98","v":0},{"$f":"'46. Calculations'!AN98","v":0},{"$f":"'46. Calculations'!AO98","v":0},{"$f":"'46. Calculations'!AP98","v":0},{"$f":"'46. Calculations'!AQ98","v":0},{"$f":"'46. Calculations'!AR98","v":0}]
[null,{"$f":"'46. Calculations'!AL99","v":0},{"$f":"'46. Calculations'!AM99","v":0},{"$f":"'46. Calculations'!AN99","v":0},{"$f":"'46. Calculations'!AO99","v":0},{"$f":"'46. Calculations'!AP99","v":0},{"$f":"'46. Calculations'!AQ99","v":0},{"$f":"'46. Calculations'!AR99","v":0}]
[null,{"$f":"'46. Calculations'!AL100","v":0},{"$f":"'46. Calculations'!AM100","v":0},{"$f":"'46. Calculations'!AN100","v":0},{"$f":"'46. Calculations'!AO100","v":0},{"$f":"'46. Calculations'!AP100","v":0},{"$f":"'46. Calculations'!AQ100","v":0},{"$f":"'46. Calculations'!AR100","v":0}]
[null,{"$f":"'46. Calculations'!AL101","v":0},{"$f":"'46. Calculations'!AM101","v":0},{"$f":"'46. Calculations'!AN101","v":0},{"$f":"'46. Calculations'!AO101","v":0},{"$f":"'46. Calculations'!AP101","v":0},{"$f":"'46. Calculations'!AQ101","v":0},{"$f":"'46. Calculations'!AR101","v":0}]
[null,{"$f":"'46. Calculations'!AL102","v":0},{"$f":"'46. Calculations'!AM102","v":0},{"$f":"'46. Calculations'!AN102","v":0},{"$f":"'46. Calculations'!AO102","v":0},{"$f":"'46. Calculations'!AP102","v":0},{"$f":"'46. Calculations'!AQ102","v":0},{"$f":"'46. Calculations'!AR102","v":0}]
[null,{"$f":"'46. Calculations'!AL103","v":0},{"$f":"'46. Calculations'!AM103","v":0},{"$f":"'46. Calculations'!AN103","v":0},{"$f":"'46. Calculations'!AO103","v":0},{"$f":"'46. Calculations'!AP103","v":0},{"$f":"'46. Calculations'!AQ103","v":0},{"$f":"'46. Calculations'!AR103","v":0}]
[null,{"$f":"'46. Calculations'!AL104","v":0},{"$f":"'46. Calculations'!AM104","v":0},{"$f":"'46. Calculations'!AN104","v":0},{"$f":"'46. Calculations'!AO104","v":0},{"$f":"'46. Calculations'!AP104","v":0},{"$f":"'46. Calculations'!AQ104","v":0},{"$f":"'46. Calculations'!AR104","v":0}]
[null,{"$f":"'46. Calculations'!AL105","v":0},{"$f":"'46. Calculations'!AM105","v":0},{"$f":"'46. Calculations'!AN105","v":0},{"$f":"'46. Calculations'!AO105","v":0},{"$f":"'46. Calculations'!AP105","v":0},{"$f":"'46. Calculations'!AQ105","v":0},{"$f":"'46. Calculations'!AR105","v":0}]
[null,{"$f":"'46. Calculations'!AL106","v":0},{"$f":"'46. Calculations'!AM106","v":0},{"$f":"'46. Calculations'!AN106","v":0},{"$f":"'46. Calculations'!AO106","v":0},{"$f":"'46. Calculations'!AP106","v":0},{"$f":"'46. Calculations'!AQ106","v":0},{"$f":"'46. Calculations'!AR106","v":0}]
[null,{"$f":"'46. Calculations'!AL107","v":0},{"$f":"'46. Calculations'!AM107","v":0},{"$f":"'46. Calculations'!AN107","v":0},{"$f":"'46. Calculations'!AO107","v":0},{"$f":"'46. Calculations'!AP107","v":0},{"$f":"'46. Calculations'!AQ107","v":0},{"$f":"'46. Calculations'!AR107","v":0}]
[null,{"$f":"'46. Calculations'!AL108","v":0},{"$f":"'46. Calculations'!AM108","v":0},{"$f":"'46. Calculations'!AN108","v":0},{"$f":"'46. Calculations'!AO108","v":0},{"$f":"'46. Calculations'!AP108","v":0},{"$f":"'46. Calculations'!AQ108","v":0},{"$f":"'46. Calculations'!AR108","v":0}]
[null,{"$f":"'46. Calculations'!AL109","v":0},{"$f":"'46. Calculations'!AM109","v":0},{"$f":"'46. Calculations'!AN109","v":0},{"$f":"'46. Calculations'!AO109","v":0},{"$f":"'46. Calculations'!AP109","v":0},{"$f":"'46. Calculations'!AQ109","v":0},{"$f":"'46. Calculations'!AR109","v":0}]
[null,{"$f":"'46. Calculations'!AL110","v":0},{"$f":"'46. Calculations'!AM110","v":0},{"$f":"'46. Calculations'!AN110","v":0},{"$f":"'46. Calculations'!AO110","v":0},{"$f":"'46. Calculations'!AP110","v":0},{"$f":"'46. Calculations'!AQ110","v":0},{"$f":"'46. Calculations'!AR110","v":0}]
[null,{"$f":"'46. Calculations'!AL111","v":0},{"$f":"'46. Calculations'!AM111","v":0},{"$f":"'46. Calculations'!AN111","v":0},{"$f":"'46. Calculations'!AO111","v":0},{"$f":"'46. Calculations'!AP111","v":0},{"$f":"'46. Calculations'!AQ111","v":0},{"$f":"'46. Calculations'!AR111","v":0}]
[null,{"$f":"'46. Calculations'!AL112","v":0},{"$f":"'46. Calculations'!AM112","v":0},{"$f":"'46. Calculations'!AN112","v":0},{"$f":"'46. Calculations'!AO112","v":0},{"$f":"'46. Calculations'!AP112","v":0},{"$f":"'46. Calculations'!AQ112","v":0},{"$f":"'46. Calculations'!AR112","v":0}]
[null,{"$f":"'46. Calculations'!AL113","v":0},{"$f":"'46. Calculations'!AM113","v":0},{"$f":"'46. Calculations'!AN113","v":0},{"$f":"'46. Calculations'!AO113","v":0},{"$f":"'46. Calculations'!AP113","v":0},{"$f":"'46. Calculations'!AQ113","v":0},{"$f":"'46. Calculations'!AR113","v":0}]
[null,{"$f":"'46. Calculations'!AL114","v":0},{"$f":"'46. Calculations'!AM114","v":0},{"$f":"'46. Calculations'!AN114","v":0},{"$f":"'46. Calculations'!AO114","v":0},{"$f":"'46. Calculations'!AP114","v":0},{"$f":"'46. Calculations'!AQ114","v":0},{"$f":"'46. Calculations'!AR114","v":0}]
[null,{"$f":"'46. Calculations'!AL115","v":0},{"$f":"'46. Calculations'!AM115","v":0},{"$f":"'46. Calculations'!AN115","v":0},{"$f":"'46. Calculations'!AO115","v":0},{"$f":"'46. Calculations'!AP115","v":0},{"$f":"'46. Calculations'!AQ115","v":0},{"$f":"'46. Calculations'!AR115","v":0}]
[null,{"$f":"'46. Calculations'!AL116","v":0},{"$f":"'46. Calculations'!AM116","v":0},{"$f":"'46. Calculations'!AN116","v":0},{"$f":"'46. Calculations'!AO116","v":0},{"$f":"'46. Calculations'!AP116","v":0},{"$f":"'46. Calculations'!AQ116","v":0},{"$f":"'46. Calculations'!AR116","v":0}]
[null,{"$f":"'46. Calculations'!AL117","v":0},{"$f":"'46. Calculations'!AM117","v":0},{"$f":"'46. Calculations'!AN117","v":0},{"$f":"'46. Calculations'!AO117","v":0},{"$f":"'46. Calculations'!AP117","v":0},{"$f":"'46. Calculations'!AQ117","v":0},{"$f":"'46. Calculations'!AR117","v":0}]
[null,{"$f":"'46. Calculations'!AL118","v":0},{"$f":"'46. Calculations'!AM118","v":0},{"$f":"'46. Calculations'!AN118","v":0},{"$f":"'46. Calculations'!AO118","v":0},{"$f":"'46. Calculations'!AP118","v":0},{"$f":"'46. Calculations'!AQ118","v":0},{"$f":"'46. Calculations'!AR118","v":0}]
[null,{"$f":"'46. Calculations'!AL119","v":0},{"$f":"'46. Calculations'!AM119","v":0},{"$f":"'46. Calculations'!AN119","v":0},{"$f":"'46. Calculations'!AO119","v":0},{"$f":"'46. Calculations'!AP119","v":0},{"$f":"'46. Calculations'!AQ119","v":0},{"$f":"'46. Calculations'!AR119","v":0}]
[null,{"$f":"'46. Calculations'!AL120","v":0},{"$f":"'46. Calculations'!AM120","v":0},{"$f":"'46. Calculations'!AN120","v":0},{"$f":"'46. Calculations'!AO120","v":0},{"$f":"'46. Calculations'!AP120","v":0},{"$f":"'46. Calculations'!AQ120","v":0},{"$f":"'46. Calculations'!AR120","v":0}]
[]
[]
[]
[]
[]
[]
[]
[]
[]
[null,{"$f":"B1","v":"Object Placement Table & Chart"}]
[null,{"$f":"B2","v":"This worksheet randomly determines the placement of search objects based upon the AMDR."}]
[null,"Date Created:",null,"2006-06-08",null,"Units:",{"$f":"G3","v":"Yards"},null,null,"Total # of Suggested Objects",25]
[]
[null,"Object #","Track Distance","Lateral Range","Left - Right","Search Object Type            \n  (# and description)",null,"Orientation"]
[null,1,15.75,31,"Left",1,"Adult High-Visibility",230.08877168830853]
[null,2,74,17,"Right",1,"Adult High-Visibility",117.67321358640447]
[null,3,129,0.21,"Right",3,"Clue Low-Visibility",18.633359660101625]
[null,4,148,7,"Right",3,"Clue Low-Visibility",208.56906443765476]
[null,5,161,6,"Right",3,"Clue Low-Visibility",210.06651358720453]
[null,6,180,2,"Left",3,"Clue Low-Visibility",153.20334918473591]
[null,7,191,9,"Right",1,"Adult High-Visibility",12.497569595188871]
[null,8,286,77,"Right",2,"Clue High-Visibility",1.180459126459148]
[null,9,620,109,"Right",2,"Clue High-Visibility",122.29727166032455]
[null,10,874,0.28000000000000003,"Right",1,"Adult High-Visibility",104.24469229278081]
[null,11,994,150,"Right",2,"Clue High-Visibility",44.58840995745792]
[null,12,1222,22,"Right",1,"Adult High-Visibility",14.050630504415675]
[null,13,1276,4,"Left",3,"Clue Low-Visibility",268.94545723587015]
[null,14,1366,2,"Left",2,"Clue High-Visibility",139.36001964616656]
[null,15,1734,38,"Left",2,"Clue High-Visibility",274.95590842715183]
[null,16,1899,38,"Left",2,"Clue High-Visibility",352.58707906679899]
[null,17,2207,6,"Right",1,"Adult High-Visibility",303.88657908991621]
[null,18,2259,20,"Left",1,"Adult High-Visibility",350.56280991580547]
[null,19,2325,146,"Right",2,"Clue High-Visibility",189.34455838592325]
[null,20,2625,0.15,"Left",3,"Clue Low-Visibility",26.463022578409365]
[null,21,2637,14,"Left",1,"Adult High-Visibility",167.66183941145073,null,"Search Object Type # 1"]
[null,22,2755,101,"Right",2,"Clue High-Visibility",168.60146022681801,null,"Adult High-Visibility"]
[null,23,2998,7,"Right",3,"Clue Low-Visibility",201.4636277783851,null,"AMDR1",null,21]
[null,24,3191,7,"Right",2,"Clue High-Visibility",303.20918009277466]
[null,25,3313,4,"Right",3,"Clue Low-Visibility",90.484802409679475,null,"Search Object Type # 2"]
[null,26,3351,23,"Right",1,"Adult High-Visibility",86.976275867414685,null,"Clue High-Visibility"]
[null,0,0,0,0,0,0,0,null,"AMDR2",null,100]
[null,0,0,0,0,0,0,0]
[null,0,0,0,0,0,0,0,null,"Search Object Type # 3"]
[null,0,0,0,0,0,0,0,null,"Clue Low-Visibility"]
[null,0,0,0,0,0,0,0,null,"AMDR3",null,5]
[null,0,0,0,0,0,0,0]
[null,0,0,0,0,0,0,0,null,""]
[null,0,0,0,0,0,0,0,null,"Not Applicable"]
[null,0,0,0,0,0,0,0,null,"",null,0]
[null,0,0,0,0,0,0,0]
[null,0,0,0,0,0,0,0]
[null,0,0,0,0,0,0,0]
[null,0,0,0,0,0,0,0]
[null,0,0,0,0,0,0,0]
[null,0,0,0,0,0,0,0]
[null,0,0,0,0,0,0,0]
[null,0,0,0,0,0,0,0]
[null,0,0,0,0,0,0,0]
[null,0,0,0,0,0,0,0]
[null,0,0,0,0,0,0,0]
[null,0,0,0,0,0,0,0]
[null,0,0,0,0,0,0,0]
[null,0,0,0,0,0,0,0]
[null,0,0,0,0,0,0,0]
[null,0,0,0,0,0,0,0]
[null,0,0,0,0,0,0,0]
[null,0,0,0,0,0,0,0,null,"Course Layout-Shopping List"]
[null,0,0,0,0,0,0,0,null,24,"Flagging tape rolls"]
[null,0,0,0,0,0,0,0,null,12,"Yellow flags"]
[null,0,0,0,0,0,0,0,null,160,"Lime green flags"]
[null,0,0,0,0,0,0,0,null,800,"Red flags"]
[null,0,0,0,0,0,0,0,null,40,"Orange flags"]
[null,0,0,0,0,0,0,0,null,2,"Permanent markers"]
[null,0,0,0,0,0,0,0,null,null,"Waterproof paper"]
[null,0,0,0,0,0,0,0,null,null,"Clear plastic or acetate"]
[null,0,0,0,0,0,0,0,null,"6 to 12","Clipboards"]
[null,0,0,0,0,0,0,0,null,"12 to 24","Pencils/Pens"]
[null,0,0,0,0,0,0,0,null,2,"Staplers"]
[null,0,0,0,0,0,0,0,null,null,"Adhesive tape"]
[null,0,0,0,0,0,0,0,null,null,"Blank paper/cardboard"]
[null,0,0,0,0,0,0,0,null,3,"Folders "]
[null,0,0,0,0,0,0,0]
[null,0,0,0,0,0,0,0]
[null,0,0,0,0,0,0,0]
[null,0,0,0,0,0,0,0]
[null,0,0,0,0,0,0,0]
[null,0,0,0,0,0,0,0]
[null,0,0,0,0,0,0,0]
[null,0,0,0,0,0,0,0]
[null,0,0,0,0,0,0,0]
[null,0,0,0,0,0,0,0]
[null,0,0,0,0,0,0,0]
[null,0,0,0,0,0,0,0]
[null,0,0,0,0,0,0,0]
[null,0,0,0,0,0,0,0]
[null,0,0,0,0,0,0,0]
[null,0,0,0,0,0,0,0]
[null,0,0,0,0,0,0,0]
[null,0,0,0,0,0,0,0]
[null,0,0,0,0,0,0,0]
[null,0,0,0,0,0,0,0]
[null,0,0,0,0,0,0,0]
[null,0,0,0,0,0,0,0]
[null,0,0,0,0,0,0,0]
[null,0,0,0,0,0,0,0]
[null,0,0,0,0,0,0,0]
[null,0,0,0,0,0,0,0]
[null,0,0,0,0,0,0,0]
[null,0,0,0,0,0,0,0]
[null,0,0,0,0,0,0,0]
[null,0,0,0,0,0,0,0]
[null,0,0,0,0,0,0,0]
[null,0,0,0,0,0,0,0]
[null,0,0,0,0,0,0,0]
[null,0,0,0,0,0,0,0]
[null,0,0,0,0,0,0,0]
[null,0,0,0,0,0,0,0]
[null,0,0,0,0,0,0,0]
[null,0,0,0,0,0,0,0]
[null,0,0,0,0,0,0,0]
[null,0,0,0,0,0,0,0]
[null,0,0,0,0,0,0,0]
[null,0,0,0,0,0,0,0]
[null,0,0,0,0,0,0,0]
[null,0,0,0,0,0,0,0]
[null,0,0,0,0,0,0,0]
[null,0,0,0,0,0,0,0]
[null,0,0,0,0,0,0,0]
[null,0,0,0,0,0,0,0]

{"sheet":"11. Search Object Location","index":11,"n_rows":126,"n_cols":11,"rows_kept":126,"cut":false,"hidden":false,"merged":[[1,0,1,7],[7,0,7,7],[8,0,8,7],[0,0,0,7],[6,0,6,7],[5,0,5,1],[5,2,5,3]]}
["Search Object Location Log"]
["This worksheet allows documentation of the actual placement of objects, way points, legs, and other measurements during the actual setup in the field.  This worksheet should be printed prior to setting up the experiment and brought into the field to facilitate field recording. Object Placement & Chart (Worksheet # 10) must also be printed out and brought into the field to determine the targeted object locations. Print on waterproof paper."]
["1. Date",null,"2. Time","3. Location",null,"4. Name"]
[{"$f":"'1. Experiment Setup'!K6","v":"17-07-06"},null,null,{"$f":"'46. Calculations'!P5","v":"Mt. Greylock, MA"}]
["5. Object Type # 1",null,"6. Object Type # 2",null,"7. Object Type # 3","8. Object Type # 4","9. Datum","10. Units"]
[{"$f":"'2. Search Object Types'!M26","v":"Adult High-Visibility"},null,{"$f":"IF('2. Search Object Types'!J22>=2,'2. Search Object Types'!M28,\"Not Applicable\")","v":"Clue High-Visibility"},null,{"$f":"IF('2. Search Object Types'!J22>=3,'2. Search Object Types'!M30,\"Not Applicable\")","v":"Clue Low-Visibility"},{"$f":"IF('2. Search Object Types'!J22=4,'2. Search Object Types'!M32,\"Not Applicable\")","v":"Not Applicable"},{"$f":"'46. Calculations'!P8","v":"WGS 84"},{"$f":"'46. Calculations'!P9","v":"Yards"}]
["Instructions"]
["Log the actual locations based on Worksheet # 10 (Object Placement & Chart).  Placement along Track Distance (TD) can be determined by roller wheel or GPS odometer.  The lateral range distance should be determined by Laser Range Finder or tape measure."]
["Suggested Equipment. Laying out the course will require the following: search objects (described in \"A Simple Guide to Conducting Ground Search and Rescue Detection Experiments\"), stake wire flags, permanent marker, flagging tape, GPS, Laser Range Finder, measuring tape, stakes, reflectors, roller wheel, digital camera, compass, topographic map, pencils, and the following forms on waterproof paper (10. Object Placement & Chart and 11. Search Object Location Log)."]
["Location #","Object Type","Track Distance","Lateral Range","Left - Right","Orientation","Elevation","Verification"]
["Example",1,28,17,"L",180,"Up","ü",null,null,{"$f":"115-COUNTIF('10. Obj. Placement Tabl & Chart'!B152:B267,0)","v":26}]
[1]
[2]
[3]
[4]
[5]
[6]
[7]
[8]
[9]
[10]
[11]
[12]
[13]
[14]
[15]
[16]
[17]
[18]
[19]
[20]
[21]
[22]
[23]
[24]
[25]
[26]
[27]
[28]
[29]
[30]
[31]
[32]
[33]
[34]
[35]
[36]
[37]
[38]
[39]
[40]
[41]
[42]
[43]
[44]
[45]
[46]
[47]
[48]
[49]
[50]
[51]
[52]
[53]
[54]
[55]
[56]
[57]
[58]
[59]
[60]
[61]
[62]
[63]
[64]
[65]
[66]
[67]
[68]
[69]
[70]
[71]
[72]
[73]
[74]
[75]
[76]
[77]
[78]
[79]
[80]
[81]
[82]
[83]
[84]
[85]
[86]
[87]
[88]
[89]
[90]
[91]
[92]
[93]
[94]
[95]
[96]
[97]
[98]
[99]
[100]
[101]
[102]
[103]
[104]
[105]
[106]
[107]
[108]
[109]
[110]
[111]
[112]
[113]
[114]
[115]

{"sheet":"12. Searcher-Participant Log","index":12,"n_rows":5,"n_cols":13,"rows_kept":5,"cut":false,"hidden":false,"merged":[[0,0,0,12],[1,0,1,12]]}
["Searcher--Participant Log"]
["Print as many copies as needed."]
["1. Date",{"$f":"'1. Experiment Setup'!K6","v":"17-07-06"},null,"2. Location",null,{"$f":"'46. Calculations'!P5","v":"Mt. Greylock, MA"},null,null,null,null,"3. Page","of"]
["Printed Name",null,null,"Organization",null,null,"SAR","Emergency Contact",null,null,"Arrival","Available","Departure"]
[null,null,null,null,null,null,"Qualification",null,null,null,"Date/Time","Until?","Date/Time"]

{"sheet":"13. Team Sign-Up","index":13,"n_rows":56,"n_cols":9,"rows_kept":56,"cut":false,"hidden":false,"merged":[]}
["Team Sign-Up",null,null,null,"1. Location",null,"2. Experiment Date",null,"3. Projected # searchers"]
[null,null,null,null,{"$f":"'1. Experiment Setup'!$I$8","v":"Mt. Greylock, MA"},null,{"$f":"'1. Experiment Setup'!$K$6","v":"17-07-06"},null,{"$f":"'3. Estimate Experiment Design'!G5","v":30}]
["4. Sunrise",null,null,"5. Sunset",null,"6. Estimated Avg Completion",null,null,"7. Actual Avg "]
[{"$f":"'1. Experiment Setup'!K10","v":"05:15:00"},null,null,{"$f":"'1. Experiment Setup'!K11","v":"20:28:00"},null,{"$f":"'3. Estimate Experiment Design'!G15","v":2},"hours"]
["The team sign-up log is used to schedule the departure times for teams (searcher and data logger)"]
["participating in the experiment.  All attempts should be made to assign teams in the clock-wise"]
["direction before sending teams counter-clockwise.  Searchers cannot function as a searcher"]
["twice.  However, they can serve as a searcher then a data logger.  Data loggers may be reassigned"]
["as often as needed."]
["Team",null,"Clock-wise",null,null,null,"Counter-Clockwise"]
["Number","Time","Searcher",null,"Data Logger",null,"Searcher",null,"Data Logger"]
[null,"07:00:00"]
[null,"07:15:00"]
[null,"07:30:00"]
[null,"07:45:00"]
[null,"08:00:00"]
[null,"08:15:00"]
[null,"08:30:00"]
[null,"08:45:00"]
[null,"09:00:00"]
[null,"09:15:00"]
[null,"09:30:00"]
[null,"09:45:00"]
[null,"10:00:00"]
[null,"10:15:00"]
[null,"10:30:00"]
[null,"10:45:00"]
[null,"11:00:00"]
[null,"11:15:00"]
[null,"11:30:00"]
[null,"11:45:00"]
[null,"12:00:00"]
[null,"12:15:00"]
[null,"12:30:00"]
[null,"12:45:00"]
[null,"13:00:00"]
[null,"13:15:00"]
[null,"13:30:00"]
[null,"13:45:00"]
[null,"14:00:00"]
[null,"14:15:00"]
[null,"14:30:00"]
[null,"14:45:00"]
[null,"15:00:00"]
[null,"15:15:00"]
[null,"15:30:00"]
[null,"15:45:00"]
[null,"16:00:00"]
[null,"16:15:00"]
[null,"16:30:00"]
[null,"16:45:00"]
[null,"17:00:00"]
[null,"17:15:00"]
[null,"17:30:00"]
[null,"17:45:00"]
[null,"18:00:00"]

{"sheet":"14. Subject Information Sheet","index":14,"n_rows":55,"n_cols":9,"rows_kept":55,"cut":false,"hidden":false,"merged":[]}
["Subject Information",null,null,"1. Location",null,null,"2. Date",null,"3. Time"]
["Sheet",null,null,{"$f":"'1. Experiment Setup'!$I$8","v":"Mt. Greylock, MA"},null,null,{"$f":"'1. Experiment Setup'!K6","v":"17-07-06"},null,"06:00:00"]
["4. Subject Name",null,null,null,null,null,"5. Gender",null,"6. Age"]
["Thomas Tema",null,null,null,null,null,"Male",null,35]
["7. Name to Call",null,null,null,null,"8. Expected Response"]
["Tom (N/A)",null,null,null,null,"None, subject 100% deaf"]
["9. Subject's Plans or Intent"]
["Subject departed campground to scout out survey locations.  Last seen at the campground last night.  Reported"]
["missing by employer early this morning.  Should have been out of the field early."]
["10. Physical Description",null,null,null,"11. Photo Changes:",null,null,"Date Taken",2002]
["Height:","5'10\"","Weight","175 lbs","Clean-shaven when last seen."]
["Race","White","Build","Avg"]
["Eyes","Hazel","Hair","Blond"]
["Complexion","Good","Facial hair","Clean"]
[]
[]
[]
[]
["12. Clothing Description"]
["Dark blue pants, dark blue workshirt.  May"]
["have white overalls with him.  May have"]
["orange survey vest.  Black boots. May have"]
["small backpack with assorted gear."]
[]
[]
[]
[]
[]
["13. Footwear/Track Description"]
["Vibram sole."]
[]
[]
[]
[]
[]
[]
[]
[]
["14. Incident Summary/Other Pertinent Information"]
[]
["Subject parked at campground.  Is a contractor to do survey work.  Should have returned Friday night."]
["Contractor informed SAR of overdue report this morning.  Subject is an insulin dependent"]
["diabetic and is totally deaf."]
[]
[]
[]
[]
[]
[]
[]
[]
[]
["Subj. Info. Sheet",null,"15. Prepared by",null,null,null,null,"16. Date Prepared"]
["Worksheet 14"]
["2006-03-24",null,"R. Koester",null,null,null,null,{"$f":"'1. Experiment Setup'!K6","v":"17-07-06"}]

{"sheet":"15. Task Instructions","index":15,"n_rows":55,"n_cols":10,"rows_kept":55,"cut":false,"hidden":false,"merged":[[54,0,54,1]]}
["1. Resource Type",null,null,null,null,null,null,null,null,"4. Task Completed e"]
["2. Planning #",null,null,null,null,null,null,null,null,"5. Partial Completion e"]
["3. Priority:",null,null,null,null,null,null,null,null,"6. Urgent Follow-Up e"]
["Task Assignment",null,null,null,"7. Task Number","8. Team Identifier","9. Resource Type","10. Task Map",null,"11. Datum"]
["Form",null,null,null,null,null,"Ground",null,null,{"$f":"'46. Calculations'!P8","v":"WGS 84"}]
[null,"12. Task Instructions"]
[null,"Data loggers serves as team leader and will handle navigation, team control, and radio communications."]
[null,"Start task as indicated on map and follow pink flags data logger indicates."]
[null,"Stay on track marked by pink flags at all times."]
[null,"Proceed at a typical search speed for a sweep task.  Data logger may ask you to speed up."]
["A","Do NOT race through the course, Data logger may ask you to slow down."]
["S","Upon spotting a search object; stop, point at the object, tell data logger what object is, and estimated range."]
["S","Data loggers will give guidance to types of valid clues that need to be reported."]
["I","Do NOT report objects over the radio!"]
["G","Talk to your data logger to a minimum."]
["N","Data logger is responsible for recording all results."]
["M","If you spot another team moving in the same direction as you, follow your data loggers instructions."]
["E","Upon completing assigned task area return to base for debriefing."]
["N","Do not share your results with anyone until the experiment has concluded."]
["T"]
[]
[null,"13. Previous Search Effort in Area",null,null,null,null,null,"16. Briefing Checklist"]
[null,null,null,null,null,null,null,"Expected time frame"]
[null,"Several teams have already walked the track today, do not record or report",null,null,null,null,null,"Teams nearby"]
[null,"tracks.",null,null,null,null,null,"Encounter with team"]
[null,"14. Transportation to Area",null,null,null,"15. Equipment",null,"Terrain/Hazards"]
[null,null,null,null,null,null,null,"Weather/Safety"]
[null,null,null,null,null,null,null,"Subject Information"]
[null,null,null,null,null,null,null,"Rescue/Medical Plan"]
[]
["T","17. Role","Name",null,null,null,"Agency","Medical Certification"]
["E","Data Logger"]
["A","Searcher"]
["M"]
[null,"18. Pertinent Phone Numbers",null,null,null,"19. Communications Instructions"]
[null,"Base:",null,null,null,"Report to base when starting task, at each 500 m waypoint,"]
[null,"Base Cell:",null,null,null,"and when finishing task.  Do NOT radio in clues or search"]
["C","Team Cell #1:",null,null,null,"objects."]
["O","Team Cell #2:"]
["M"]
["M","20. Function",null,null,"Frequency","Channel Description",null,"Comments"]
["O","Tactical I (Team - Base)"]
[null,"Tactical II"]
[null,"Logistics"]
[null,"Command"]
["21. Notes/Safety Message"]
[]
[]
[]
[]
[]
[]
["Task Assignment Fm",null,null,"22. Prepared by:",null,null,"23. Briefed by:",null,"24. Time out:"]
["Worksheet 15"]
["2006-03-24"]

{"sheet":"16. Data Logger Briefing","index":16,"n_rows":55,"n_cols":9,"rows_kept":55,"cut":false,"hidden":false,"merged":[[54,0,54,1]]}
["General Briefing",null,null,"1. Location",null,null,null,"2. Date"]
["Data Logger",null,null,{"$f":"'1. Experiment Setup'!I8","v":"Mt. Greylock, MA"},null,null,null,{"$f":"'1. Experiment Setup'!K6","v":"17-07-06"}]
["3. Task Instructions"]
["Data Logger serves as team leader and will handle navigation, team control, and radio communications."]
["Start task as indicated on map, follow flags.  Yellow flags serve as start, waypoint, and finish indicators."]
["Lime-green flags mark every 25 meters.  These will help determine your location when a clue is reported."]
["Hot pink flags assist with navigation and help to mark the course.  STAY ON THE TRACK"]
["Stay behind the searcher."]
["Record the starting time on your detection log.  If possible radio in your starting and finishing time."]
["Your searcher should be encouraged to move at a typical sweep task speed.  Not racing or moving too slow."]
["Your team should reach the 100 meter mark (yellow flag) within 6 minutes.  If longer, ask your searcher to"]
["increase speed.  If you reach the 100 meter mark quicker than 2 minutes ask your searcher to slow down."]
["Talk to the searcher to a minimum."]
["GIVE NO CLUES or HINTS, to the number of clues, types of clues.  You may encourage searcher to avoid"]
["reporting common trash or items not related to the search scenario."]
["Do NOT discuss what you found or didn't find if you covered the course as a searcher."]
["Do NOT report any clues over the radio."]
["Do NOT allow the searcher to leave the search track.  If they think they spot a search object record the sighting."]
["Do NOT record any tracks or signs."]
["Upon searcher spotting an object, record the sighting on the detection log (as instructed)."]
["Record the time you pass a yellow flag (placed every 500 meters or at other waypoints)."]
["PASSING RULES: 1) The first time you spot a team in front, slow down or wait 5 minutes (unless the team"]
["has stopped; then pass). 2) If you catch up to the team again, passing is allowed.  3) Initiating passing should"]
["be done when within voice contact.  4) Announce you are going to pass, try to ensure team is not in process of"]
["recording a sighting. 5) Do not allow searchers to discuss clues spotted.  6) If your team was passed, make"]
["sure your searcher stays focused on searching.  7.) USE COMMON SENSE,",null,null,null,null,null,null,"16. Briefing Checklist"]
["The goal is to avoid one searcher watching another searcher making a sighting.",null,null,null,null,null,null,"Expected time frame"]
["Be sure to report back to base for debriefing and collection of your forms.",null,null,null,null,null,null,"Teams nearby"]
[null,null,null,null,null,null,null,"Encounter with team"]
["14. Transportation to Area",null,null,null,"15. Equipment",null,null,"Terrain/Hazards"]
[null,null,null,null,"Data logging record sheet",null,null,"Weather/Safety"]
[null,null,null,null,null,null,null,"Subject Information"]
[null,null,null,null,null,null,null,"Rescue/Medical Plan"]
[]
["Communication Plan"]
["17. Pertinent Phone Numbers",null,null,null,"18. Communications Instructions"]
["Base:",null,null,null,"Report to base when starting task, at each 500 m waypoint"]
["Base Cell:",null,null,null,"and when finishing task.  Do NOT radio in clues or search"]
["Team Cell #1:",null,null,null,"objects."]
["Team Cell #2:"]
[]
["19. Function",null,null,"Frequency",null,"Channel Description",null,"Comments"]
["Tactical I (Team - Base)"]
["Tactical II"]
["Logistics"]
["Command"]
["20. Notes/Safety Message"]
[]
[]
[]
[]
[]
["Data Logger",null,"21. Prepared by:",null,null,null,"22. Briefed by:",null,"23. Time out:"]
["Worksheet 16"]
["2006-03-24"]

{"sheet":"17. Team Tracking","index":17,"n_rows":28,"n_cols":14,"rows_kept":28,"cut":false,"hidden":false,"merged":[[0,0,1,3],[0,9,1,13]]}
["Team Tracking Log",null,null,null,"1. Location",null,null,"2. Date",null,"3. Page _______ of ________ Pages"]
[null,null,null,null,null,{"$f":"'46. Calculations'!P5","v":"Mt. Greylock, MA"},null,{"$f":"'1. Experiment Setup'!K6","v":"17-07-06"}]
["Task ","Team","Searcher",null,"Data Logger",null,"Team Cell Phone",null,"Clock or",null,"Time","Time","Time","Time"]
["Number","Identifier","Name",null,"Name",null,"Number",null,"Counterclock wise",null,"Out*","Start*","Done*","Back*"]
[]
[]
[]
[]
[]
[]
[]
[]
[]
[]
[]
[]
[]
[]
[]
[]
[]
[]
[]
[]
[]
[]
[]
["* Local Time, 24-hour format.  Once a team has returned to base, highlight the entire row."]

{"sheet":"18. Vision Tests","index":18,"n_rows":60,"n_cols":6,"rows_kept":60,"cut":false,"hidden":false,"merged":[[0,0,0,9],[5,0,5,9]]}
["Color Vision Tests"]
["Two vision tests will be given to search participants. Visual acuity (20/20) and the Ishihara test for color"]
["blindness.  The tests should be given by the experiment staff as part of the check-in procedure.  The results"]
["will be recorded on the Searcher Profile (Worksheet # 19)."]
[]
["Ishihara Test for Color Blindness"]
["Instructions:  Print out this page on a color printer.  Place under a clear plastic sheet for protection.  "]
[]
["Instructions for Searchers:  "]
["Please record the numbers you see revealed in the patterns of notes below on your Searcher Profile "]
["(Worksheet # 19) under the color blindness test."]
["A",null,null,null,null,"B"]
[]
[]
[]
[]
[]
[]
[]
[]
[]
[]
[]
[]
[]
["C",null,null,null,null,"D"]
[]
[]
[]
[]
[]
[]
[]
[]
[]
[]
[]
[]
[]
[]
["E",null,null,null,null,"F"]
[]
[]
[]
[]
[]
[]
[]
[]
[]
[]
[]
[]
[]
[]
[]
[]
[]
[]
["Visual acuity tests are found as PDF files."]

{"sheet":"19. Searcher Profile","index":19,"n_rows":56,"n_cols":10,"rows_kept":56,"cut":false,"hidden":false,"merged":[[52,0,52,1],[44,0,44,9],[45,0,45,1],[45,6,46,9],[46,0,46,1],[47,0,47,1],[47,6,52,9],[48,0,48,1],[49,0,49,1],[50,0,50,1],[51,0,51,1],[31,7,31,8],[32,7,32,8],[33,7,33,8],[35,0,36,4],[42,0,43,3],[42,4,43,9],[6,0,6,9],[18,0,18,9],[26,0,26,9],[28,6,28,9],[29,7,29,8],[30,7,30,8]]}
["Searcher",null,"1. Name",null,"2. SAR Organization",null,"3.SAR Sign-In Level",null,"4. Date/Time"]
["Profile"]
["FOR OFFICE USE",null,"INSTRUCTIONS: Please complete all the requested information in section A prior to"]
["Searcher",null,"departing on your search task.  Your name will not be entered into the final database."]
["Number",null,"The research staff will assist you in completing section B (measurements). After you"]
[null,null,"return from your task, please complete section C (Debriefing). Thank-You!"]
["Section A - Searcher Demographics"]
["6. Age","7. Gender","9. # of years in SAR",null,"10. # of Searches",null,"11. # of Search in Field",null,"12. Regular Occupation"]
[null,"    Male"]
[null,"    Female"]
["13. Primary SAR Specialty (Check only one)",null,null,null,null,null,null,null,"     None"]
["     Ground Searcher",null,"     Bike SAR",null,"     Helicopter pilot",null,"     Ski Patrol",null,"     Mountain rescue"]
["     Tracking",null,"     ATV SAR",null,"     Fixed-wing pilot",null,"     Swiftwater rescue",null,"     USAR"]
["     Dog Handler",null,"     Snowmobile SAR",null,"     Maritime SAR",null,"     Cave rescue",null,"     SAR management"]
["     Mounted (horse)",null,"     4 x 4 SAR",null,"     Fire/EMS",null,"     Tech. Rescue",null,"     Other:_________"]
["14. SAR Certifications (Please list)"]
[]
[]
["Section B - Physical Characteristics"]
["15. Height w/ boots",null,"16. Wear Glasses?",null,"17. Eyewear in field?",null,"18. Visual Acuity"]
[null,null,"          No",null,"          No",null,null,null,"Uncorrected","Corrected"]
[null,null,"          Yes",null,"          Yes",null,null,"Right"]
[null,null,"          Sometimes",null,"   ",null,null,"Left"]
["19. Colorblind?",null,"20. Using the supplied Ishihara colorblindness chart, please record the",null,null,null,null,null,"A.","B."]
["          Yes",null,"numbers revealed by the pattern of dots.  Leave blank if no numbers seen.",null,null,null,null,null,"C.","D."]
["          No",null,null,null,null,null,null,null,"E. ","F."]
["Section C - Debriefing"]
["21. Hours on Task",null,"22. Morale?",null,"23. Fatigue",null,"24. Estimated POD"]
[null,null,"         High",null,"          Alert"]
[null,null,"         Medium",null,"          Medium",null,null,"Object",null,"Est. POD"]
[null,null,"         Low",null,"          Drowsy",null,"Object 1",{"$f":"'2. Search Object Types'!M26","v":"Adult High-Visibility"}]
["25. Temp","26. Wind Speed",null,"27. Cloud Cover (%)",null,"28. Lux","Object 2",{"$f":"IF('2. Search Object Types'!J22>=2,'2. Search Object Types'!M28,\"Not Applicable\")","v":"Clue High-Visibility"}]
[null,null,null,null,null,null,"Object 3",{"$f":"IF('2. Search Object Types'!J22>=3,'2. Search Object Types'!M30,\"Not Applicable\")","v":"Clue Low-Visibility"}]
[null,null,null,null,null,null,"Object 4",{"$f":"IF('2. Search Object Types'!J22=4,'2. Search Object Types'!M32,\"Not Applicable\")","v":"Not Applicable"}]
["29. Light (direct, indirect, overcast, darkday, twilight, night)",null,null,null,null,"30. Precipitation (type and intensity)",null,null,"31. Meteorological Visibility"]
[]
[]
["32.Problems encountered on Task/Suggestions/Comments",null,null,null,null,null,"33. Optional Question",null,"34.Optional Question 2"]
[]
[]
[]
["35.  Are you willing to serve as a data logger today?",null,null,null,"36.  E-mail address (optional - only if you wish to be contacted about results)"]
[]
[]
["Section D - Data Loggers Comments"]
["Searcher",null,"Never","Once","Seldom","Frequently","Data logger comments, suggestions, problems encountered"]
["Looked backwards"]
["Looked sideways"]
["Stopped and searched"]
["Scanned systematically"]
["Talked"]
["Wore hat/hood"]
[]
["Searcher Profile",null,"37. Debriefed by",null,"38. Time",null,"PLEASE MAKE SURE THIS FORM IS"]
["Worksheet # 19",null,null,null,null,null,"TURNED INTO MISSION BASE STAFF!"]
["2006-03-25",null,null,null,null,null,"THANK-YOU"]

{"sheet":"20. Detection Log","index":20,"n_rows":110,"n_cols":31,"rows_kept":110,"cut":false,"hidden":false,"merged":[[1,27,1,31],[1,21,1,26],[56,21,56,26],[56,27,56,31]]}
["Detection",null,null,null,null,"1. Searcher's Name",null,null,null,null,null,null,null,"2. Data Logger's Name",null,null,null,null,null,null,null,"3. Location",null,null,null,null,null,"4. Date"]
["Log",null,null,null,null,null,null,null,null,null,null,null,null,null,null,null,null,null,null,null," ",{"$f":"'1. Experiment Setup'!$I$8","v":"Mt. Greylock, MA"},null,null,null,null,null,{"$f":"'1. Experiment Setup'!K6","v":"17-07-06"}]
["5. Direction of Movement",null,null,null,null,null,null,"Clockwise (#s increasing)",null,null,null,null,null,null,null,null,"Counterclockwise"]
["6. Search Object Type 1",null,null,null,null,null,null,"7. Search Object Type 2",null,null,null,null,null,null,null,"8. Search Object Type 3",null,null,null,null,null,null,null,"9. Search Object Type 4"]
[null,{"$f":"'2. Search Object Types'!M26","v":"Adult High-Visibility"},null,null,null,null,null,null,{"$f":"IF('2. Search Object Types'!J22>=2,'2. Search Object Types'!M28,\"Not Applicable\")","v":"Clue High-Visibility"},null,null,null,null,null,null,null,{"$f":"IF('2. Search Object Types'!J22>=3,'2. Search Object Types'!M30,\"Not Applicable\")","v":"Clue Low-Visibility"},null,null,null,null,null,null,null,{"$f":"IF('2. Search Object Types'!J22=4,'2. Search Object Types'!M32,\"Not Applicable\")","v":"Not Applicable"}]
["Instructions: For each sighting the searcher makes, the data logger should record the following information:"]
["The team's location by placing a dot on the track using the wayflags, the time of the sighting, what the searcher"]
["sees, the estimated range of the object, and an arrow that gives the relative direction of the object."]
["All sightings should be recorded even if not matching to a known object.  An example sighting record is provided"]
["below.  Record time at start, finish, and waypoints specified."]
[]
[null,null,null,null,{"$f":"IF($F$52=\"Meters\", \"1 Km\", \"1,000 Yd\")","v":"1,000 Yd"},null,null,null,null,null,null,null,null,null,null,{"$f":"IF($F$52=\"Meters\", \"2 Km\", \"2,000 Yd\")","v":"2,000 Yd"},null,null,null,null,null,null,null,null,null,null,{"$f":"IF($F$52=\"Meters\", \"3 Km\", \"3,000 Yd\")","v":"3,000 Yd"}]
[]
[]
[]
[null,null,null,null,900,null,null,null,null,null,null,null,null,null,null,1900,null,null,null,null,null,null,null,null,null,null,2900]
[]
[]
[]
[null,null,null,null,800,null,null,null,null,null,null,null,null,null,null,1800,null,null,null,null,null,null,null,null,null,null,2800]
[]
[]
[]
[null,null,null,null,700,null,null,null,null,null,null,null,null,null,null,1700,null,null,null,null,null,null,null,null,null,null,2700]
[]
[]
[]
[null,null,null,null,600,null,null,null,null,null,null,null,null,null,null,1600,null,null,null,null,null,null,null,null,null,null,2600]
[]
[]
[]
[null,null,null,null,500,null,null,null,null,null,null,null,null,null,null,1500,null,null,null,null,null,null,null,null,null,null,2500]
[]
[]
[]
[null,null,null,null,400,null,null,null,null,null,null,null,null,null,null,1400,null,null,null,null,null,null,null,null,null,null,2400]
[]
[]
[]
[null,null,null,null,300,null,null,null,null,null,null,null,null,null,null,1300,null,null,null,null,null,null,null,null,null,null,2300]
[]
[]
[]
[null,null,null,null,200,null,null,null,null,null,null,null,null,null,null,1200,null,null,null,null,null,null,null,null,null,null,2200]
[]
[]
[]
[null,null,null,null,100,null,null,null,null,null,null,null,null,null,null,1100,null,null,null,null,null,null,null,null,null,null,2100]
[null,null,null,null,null,null,null,null,null,null,null,null,null,null,null,null,null,null,null,null,null,null,null,null,null,null,null,null,null,null,400]
[]
[]
[null,null,null,null,0,{"$f":"'46. Calculations'!P9","v":"Yards"},null,null,null,null,null,null,null,null,null,{"$f":"IF($F$52=\"Meters\", \"1 Km\", \"1,000 Yd\")","v":"1,000 Yd"},null,null,null,null,null,null,null,null,null,null,{"$f":"IF($F$52=\"Meters\", \"2 Km\", \"2,000\")","v":"2,000"},null,null,"14:32, 1,"]
[null,null,null,null,null,null,null,null,null,null,null,null,null,null,null,null,null,null,null,null,null,null,null,null,null,null,{"$f":"IF($F$52=\"Meters\", \"\", \"Yd\")","v":"Yd"},null,null,{"$f":"IF(F52=\"Meters\",\"20 m\",\"20 yd\")","v":"20 yd"},300]
["Example object data recording:  While walking the track clockwise the searcher first spots object 1"]
["at 14:32 halfway between flags 325 and 350, 20 meters (or yards) away at 4 o'clock."]
["Detection",null,null,null,null,"1. Searcher's Name",null,null,null,null,null,null,null,"2. Data Logger's Name",null,null,null,null,null,null,null,"3. Location",null,null,null,null,null,"4. Date"]
["Log (Cnt'd)",null,null,null,null,null,null,null,null,null,null,null,null,null,null,null,null,null,null,null," ",{"$f":"'1. Experiment Setup'!$I$8","v":"Mt. Greylock, MA"},null,null,null,null,null,{"$f":"'1. Experiment Setup'!K61","v":"00:00:00"}]
["5. Direction of Movement",null,null,null,null,null,null,"Clockwise (#s increasing)",null,null,null,null,null,null,null,null,"Counterclockwise"]
["6. Search Object Type 1",null,null,null,null,null,null,"7. Search Object Type 2",null,null,null,null,null,null,null,"8. Search Object Type 3",null,null,null,null,null,null,null,"9. Search Object Type 4"]
[null,{"$f":"B5","v":"Adult High-Visibility"},null,null,null,null,null,null,{"$f":"I5","v":"Clue High-Visibility"},null,null,null,null,null,null,null,{"$f":"Q5","v":"Clue Low-Visibility"},null,null,null,null,null,null,null,{"$f":"Y5","v":"Not Applicable"}]
["Instructions: For each sighting the searcher makes, the data logger should record the following information:"]
["The team's location by placing a dot on the track using the wayflags, the time of the sighting, what the searcher"]
["sees, the estimated range of the object, and an arrow that gives the relative direction of the object."]
["All sightings should be recorded even if not matching to a known object.  An example sighting record is provided"]
["below.  Record time at start, finish, and waypoints specified."]
[]
[null,null,null,null,{"$f":"IF($F$52=\"Meters\", \"4 Km\", \"4,000 Yd\")","v":"4,000 Yd"},null,null,null,null,null,null,null,null,null,null,{"$f":"IF($F$52=\"Meters\", \"5 Km\", \"5,000 Yd\")","v":"5,000 Yd"},null,null,null,null,null,null,null,null,null,null,{"$f":"IF($F$52=\"Meters\", \"6 Km\", \"6,000 Yd\")","v":"6,000 Yd"}]
[]
[]
[]
[null,null,null,null,3900,null,null,null,null,null,null,null,null,null,null,4900,null,null,null,null,null,null,null,null,null,null,5900]
[]
[]
[]
[null,null,null,null,3800,null,null,null,null,null,null,null,null,null,null,4800,null,null,null,null,null,null,null,null,null,null,5800]
[]
[]
[]
[null,null,null,null,3700,null,null,null,null,null,null,null,null,null,null,4700,null,null,null,null,null,null,null,null,null,null,5700]
[]
[]
[]
[null,null,null,null,3600,null,null,null,null,null,null,null,null,null,null,4600,null,null,null,null,null,null,null,null,null,null,5600]
[]
[]
[]
[null,null,null,null,3500,null,null,null,null,null,null,null,null,null,null,4500,null,null,null,null,null,null,null,null,null,null,5500]
[]
[]
[]
[null,null,null,null,3400,null,null,null,null,null,null,null,null,null,null,4400,null,null,null,null,null,null,null,null,null,null,5400]
[]
[]
[]
[null,null,null,null,3300,null,null,null,null,null,null,null,null,null,null,4300,null,null,null,null,null,null,null,null,null,null,5300]
[]
[]
[]
[null,null,null,null,3200,null,null,null,null,null,null,null,null,null,null,4200,null,null,null,null,null,null,null,null,null,null,5200]
[]
[]
[]
[null,null,null,null,3100,null,null,null,null,null,null,null,null,null,null,4100,null,null,null,null,null,null,null,null,null,null,5100]
[null,null,null,null,null,null,null,null,null,null,null,null,null,null,null,null,null,null,null,null,null,null,null,null,null,null,null,null,null,null,400]
[]
[]
[null,null,null,null,{"$f":"IF($F$52=\"Meters\", \"3 Km\", \"3,000 Yd\")","v":"3,000 Yd"},null,null,null,null,null,null,null,null,null,null,{"$f":"IF($F$52=\"Meters\", \"4 Km\", \"4,000 Yd\")","v":"4,000 Yd"},null,null,null,null,null,null,null,null,null,null,{"$f":"IF($F$52=\"Meters\", \"5 Km\", \"5,000\")","v":"5,000"},null,null,"14:32, 1,"]
[null,null,null,null,null,null,null,null,null,null,null,null,null,null,null,null,null,null,null,null,null,null,null,null,null,null,{"$f":"IF($F$52=\"Meters\", \"\", \"Yd\")","v":"Yd"},null,null,{"$f":"IF(F107=\"Meters\",\"20 m\",\"20 yd\")","v":"20 yd"},300]
["Example object data recording:  While walking the track clockwise the searcher first spots object 1"]
["at 14:32 halfway between flags 325 and 350, 20 meters (or yards) away at 4 o'clock."]

{"sheet":"21. Detection Template","index":21,"n_rows":108,"n_cols":30,"rows_kept":108,"cut":false,"hidden":false,"merged":[[3,0,9,23],[58,0,64,23]]}
["Detection Log Scoring Template",null,null,null,null,null,null,null,null,null,null,null,null,null,null,null,null,null,null,"1. Location",null,null,{"$f":"'1. Experiment Setup'!$I$8","v":"Mt. Greylock, MA"}]
["6. Search Object Type 1",null,null,null,null,null,null,"7. Search Object Type 2",null,null,null,null,null,null,null,"8. Search Object Type 3",null,null,null,null,null,null,null,"9. Search Object Type 4"]
[null,{"$f":"'2. Search Object Types'!M26","v":"Adult High-Visibility"},null,null,null,null,null,null,{"$f":"IF('2. Search Object Types'!J22>=2,'2. Search Object Types'!M28,\"Not Applicable\")","v":"Clue High-Visibility"},null,null,null,null,null,null,null,{"$f":"IF('2. Search Object Types'!J22>=3,'2. Search Object Types'!M30,\"Not Applicable\")","v":"Clue Low-Visibility"},null,null,null,null,null,null,null,{"$f":"IF('2. Search Object Types'!J22=4,'2. Search Object Types'!M32,\"Not Applicable\")","v":"Not Applicable"}]
["Instructions: Print out a copy of this template.  Then, using Search Object Placement and Chart (Worksheet # 10) plot the known location of each search object.  Plot track distance, lateral range, right/left, and search object type.  Indicate the search object type by 1, 2, 3 or 4.  Copy/print the template onto acetate.  Place the acetate over each searcher's Detection Log (Worksheet # 20) and determine for each search object if a valid detection occurred.  For each search object, record on the Detection Scoring (Worksheet # 22) a \"1\" if a valid detection was made or a \"0\" if the it was missed.",null,null,null,null,null,null,null,null,null,null,null,null,null,null,null,null,null,null,null,null,null,null,null,"Example"]
[null,null,null,null,null,null,null,null,null,null,null,null,null,null,null,null,null,null,null,null,null,null,null,null,null,null,null,null,null,400]
[null,null,null,null,null,null,null,null,null,null,null,null,null,null,null,null,null,null,null,null,null,null,null,null,"Object #4"]
[null,null,null,null,null,null,null,null,null,null,null,null,null,null,null,null,null,null,null,null,null,null,null,null,"TL=327",null,null,null,null,"50 m"]
[null,null,null,null,null,null,null,null,null,null,null,null,null,null,null,null,null,null,null,null,null,null,null,null,"LR=50",null,null,null,null,"#4, 1,"]
[null,null,null,null,null,null,null,null,null,null,null,null,null,null,null,null,null,null,null,null,null,null,null,null,"Right",null,null,null,null,300]
[null,null,null,null,null,null,null,null,null,null,null,null,null,null,null,null,null,null,null,null,null,null,null,null,"Object Type=1"]
[]
[null,null,null,null,{"$f":"IF($F$52=\"Meters\", \"1 Km\", \"1,000 Yd\")","v":"1,000 Yd"},null,null,null,null,null,null,null,null,null,null,{"$f":"IF($F$52=\"Meters\", \"2 Km\", \"2,000 Yd\")","v":"2,000 Yd"},null,null,null,null,null,null,null,null,null,null,{"$f":"IF($F$52=\"Meters\", \"3 Km\", \"3,000 Yd\")","v":"3,000 Yd"}]
[]
[]
[]
[null,null,null,null,900,null,null,null,null,null,null,null,null,null,null,1900,null,null,null,null,null,null,null,null,null,null,2900]
[]
[]
[]
[null,null,null,null,800,null,null,null,null,null,null,null,null,null,null,1800,null,null,null,null,null,null,null,null,null,null,2800]
[]
[]
[]
[null,null,null,null,700,null,null,null,null,null,null,null,null,null,null,1700,null,null,null,null,null,null,null,null,null,null,2700]
[]
[]
[]
[null,null,null,null,600,null,null,null,null,null,null,null,null,null,null,1600,null,null,null,null,null,null,null,null,null,null,2600]
[]
[]
[]
[null,null,null,null,500,null,null,null,null,null,null,null,null,null,null,1500,null,null,null,null,null,null,null,null,null,null,2500]
[]
[]
[]
[null,null,null,null,400,null,null,null,null,null,null,null,null,null,null,1400,null,null,null,null,null,null,null,null,null,null,2400]
[]
[]
[]
[null,null,null,null,300,null,null,null,null,null,null,null,null,null,null,1300,null,null,null,null,null,null,null,null,null,null,2300]
[]
[]
[]
[null,null,null,null,200,null,null,null,null,null,null,null,null,null,null,1200,null,null,null,null,null,null,null,null,null,null,2200]
[]
[]
[]
[null,null,null,null,100,null,null,null,null,null,null,null,null,null,null,1100,null,null,null,null,null,null,null,null,null,null,2100]
[]
[]
[]
[null,null,null,null,0,{"$f":"'46. Calculations'!P9","v":"Yards"},null,null,null,null,null,null,null,null,null,{"$f":"IF($F$52=\"Meters\", \"1 Km\", \"1,000 Yd\")","v":"1,000 Yd"},null,null,null,null,null,null,null,null,null,null,{"$f":"IF($F$52=\"Meters\", \"2 Km\", \"2,000\")","v":"2,000"}]
[null,null,null,null,null,null,null,null,null,null,null,null,null,null,null,null,null,null,null,null,null,null,null,null,null,null,{"$f":"IF($F$52=\"Meters\", \"\", \"Yd\")","v":"Yd"}]
[]
[]
["Detection Log Scoring Template (Cnt'd)",null,null,null,null,null,null,null,null,null,null,null,null,null,null,null,null,null,null,"1. Location",null,null,{"$f":"W1","v":"Mt. Greylock, MA"}]
["6. Search Object Type 1",null,null,null,null,null,null,"7. Search Object Type 2",null,null,null,null,null,null,null,"8. Search Object Type 3",null,null,null,null,null,null,null,"9. Search Object Type 4"]
[null,{"$f":"B3","v":"Adult High-Visibility"},null,null,null,null,null,null,{"$f":"I3","v":"Clue High-Visibility"},null,null,null,null,null,null,null,{"$f":"Q3","v":"Clue Low-Visibility"},null,null,null,null,null,null,null,{"$f":"Y3","v":"Not Applicable"}]
["Instructions: Print out a copy of this template.  Then, using Object Placement and Chart (Worksheet # 10) plot the known location of each search object.  Plot the track distance, lateral range, right/left, and search object type.  Indicate the search object type by 1, 2, 3 or 4.  Copy/print the template onto acetate.  Place the acetate over each searcher's Detection Log (Worksheet # 20) and determine for each search object if a valid detection occurred.  For each search object, record on the Detection Scoring (Worksheet # 22) a \"1\" if a valid detection was made or a \"0\" if the it was missed.",null,null,null,null,null,null,null,null,null,null,null,null,null,null,null,null,null,null,null,null,null,null,null,"Example"]
[null,null,null,null,null,null,null,null,null,null,null,null,null,null,null,null,null,null,null,null,null,null,null,null,null,null,null,null,null,400]
[null,null,null,null,null,null,null,null,null,null,null,null,null,null,null,null,null,null,null,null,null,null,null,null,"Object #4"]
[null,null,null,null,null,null,null,null,null,null,null,null,null,null,null,null,null,null,null,null,null,null,null,null,"TL=327",null,null,null,null,"50 m"]
[null,null,null,null,null,null,null,null,null,null,null,null,null,null,null,null,null,null,null,null,null,null,null,null,"LR=50",null,null,null,null,"#4, 1,"]
[null,null,null,null,null,null,null,null,null,null,null,null,null,null,null,null,null,null,null,null,null,null,null,null,"Right",null,null,null,null,300]
[null,null,null,null,null,null,null,null,null,null,null,null,null,null,null,null,null,null,null,null,null,null,null,null,"Object Type=1"]
[]
[null,null,null,null,{"$f":"IF($F$52=\"Meters\", \"4 Km\", \"4,000 Yd\")","v":"4,000 Yd"},null,null,null,null,null,null,null,null,null,null,{"$f":"IF($F$52=\"Meters\", \"5 Km\", \"5,000 Yd\")","v":"5,000 Yd"},null,null,null,null,null,null,null,null,null,null,{"$f":"IF($F$52=\"Meters\", \"6 Km\", \"6,000 Yd\")","v":"6,000 Yd"}]
[]
[]
[]
[null,null,null,null,3900,null,null,null,null,null,null,null,null,null,null,4900,null,null,null,null,null,null,null,null,null,null,5900]
[]
[]
[]
[null,null,null,null,3800,null,null,null,null,null,null,null,null,null,null,4800,null,null,null,null,null,null,null,null,null,null,5800]
[]
[]
[]
[null,null,null,null,3700,null,null,null,null,null,null,null,null,null,null,4700,null,null,null,null,null,null,null,null,null,null,5700]
[]
[]
[]
[null,null,null,null,3600,null,null,null,null,null,null,null,null,null,null,4600,null,null,null,null,null,null,null,null,null,null,5600]
[]
[]
[]
[null,null,null,null,3500,null,null,null,null,null,null,null,null,null,null,4500,null,null,null,null,null,null,null,null,null,null,5500]
[]
[]
[]
[null,null,null,null,3400,null,null,null,null,null,null,null,null,null,null,4400,null,null,null,null,null,null,null,null,null,null,5400]
[]
[]
[]
[null,null,null,null,3300,null,null,null,null,null,null,null,null,null,null,4300,null,null,null,null,null,null,null,null,null,null,5300]
[]
[]
[]
[null,null,null,null,3200,null,null,null,null,null,null,null,null,null,null,4200,null,null,null,null,null,null,null,null,null,null,5200]
[]
[]
[]
[null,null,null,null,3100,null,null,null,null,null,null,null,null,null,null,4100,null,null,null,null,null,null,null,null,null,null,5100]
[]
[]
[]
[null,null,null,null,{"$f":"IF($F$52=\"Meters\", \"3 Km\", \"3,000 Yd\")","v":"3,000 Yd"},null,null,null,null,null,null,null,null,null,null,{"$f":"IF($F$52=\"Meters\", \"4 Km\", \"4,000 Yd\")","v":"4,000 Yd"},null,null,null,null,null,null,null,null,null,null,{"$f":"IF($F$52=\"Meters\", \"5 Km\", \"5,000\")","v":"5,000"}]
[null,null,null,null,null,null,null,null,null,null,null,null,null,null,null,null,null,null,null,null,null,null,null,null,null,null,{"$f":"IF($F$52=\"Meters\", \"\", \"Yd\")","v":"Yd"}]

{"sheet":"22. Detection Scoring","index":22,"n_rows":122,"n_cols":17,"rows_kept":122,"cut":false,"hidden":false,"merged":[[4,0,4,10]]}
["Detection ",null,"1. Searcher's Name",null,null,"2. Searcher Number",null,"3. Data Logger's Name",null,"4. Date"]
["Scoring",null,null,null,null,null,null,null,null,{"$f":"'1. Experiment Setup'!K6","v":"17-07-06"}]
["5. Search Object 1",null,"6. Search Object 2",null,"7. Search Object 3",null,"8. Search Object 3",null,"7. Location"]
[{"$f":"'2. Search Object Types'!M26","v":"Adult High-Visibility"},null,{"$f":"IF('2. Search Object Types'!J22>=2,'2. Search Object Types'!M28,\"Not Applicable\")","v":"Clue High-Visibility"},null,{"$f":"IF('2. Search Object Types'!J22>=3,'2. Search Object Types'!M30,\"Not Applicable\")","v":"Clue Low-Visibility"},null,{"$f":"IF('2. Search Object Types'!J22=4,'2. Search Object Types'!M32,\"Not Applicable\")","v":"Not Applicable"},null,{"$f":"IF('2. Search Object Types'!J22=4,'2. Search Object Types'!M32,\"Not Applicable\")","v":"Not Applicable"}]
["Instructions: Make changes by hand on this form iff changes to the track, location numbers, and search object types, were made after Object Placement and Chart (Worksheet # 10) was printed or during search object set-up. \nUsing the searcher's Detection Log (Worksheet # 20) and the Detection Template (Worksheet # 21), record detection results as follows:  Record a zero \"0\" in the appropriate search object column if the search object was missed.  Record a one \"1\" in the appropriate search object column if that search object was detected.  Leave the other search object columns blank.  \nStaple together the following forms: the Searcher Profile (Worksheet # 19), the Detection Log (Worksheet # 20), and the scored Detection Scoring (Worksheet # 22). The results from this paper form will be inputted into the Data Input Object 1, 2, 3 and 4 (Worksheets # 23, 24, and 25) in order to determine the Sweep Width value for each object."]
[]
["Location","Search","Detections","Detections","Detections",null,"Location","Detections","Detections","Detections","Detections",null,null,null,"Search Object type from Worksheet 10","Search object types","number of items"]
["Number","Object 1","Object 2","Object 3","Object 4",null,"Number","Object 1","Object 2","Object 3","Object 4",null,null,null,{"$f":"'10. Obj. Placement Tabl & Chart'!F152","v":1},0,{"$f":"'10. Obj. Placement Tabl & Chart'!K149","v":25}]
[1,null,null,null,null,null,51,null,null,null,null,null,null,null,{"$f":"'10. Obj. Placement Tabl & Chart'!F153","v":1},1]
[2,null,null,null,null,null,52,null,null,null,null,null,null,null,{"$f":"'10. Obj. Placement Tabl & Chart'!F154","v":3},2]
[3,null,null,null,null,null,53,null,null,null,null,null,null,null,{"$f":"'10. Obj. Placement Tabl & Chart'!F155","v":3},3]
[4,null,null,null,null,null,54,null,null,null,null,null,null,null,{"$f":"'10. Obj. Placement Tabl & Chart'!F156","v":3},4]
[5,null,null,null,null,null,55,null,null,null,null,null,null,null,{"$f":"'10. Obj. Placement Tabl & Chart'!F157","v":3}]
[6,null,null,null,null,null,56,null,null,null,null,null,null,null,{"$f":"'10. Obj. Placement Tabl & Chart'!F158","v":1}]
[7,null,null,null,null,null,57,null,null,null,null,null,null,null,{"$f":"'10. Obj. Placement Tabl & Chart'!F159","v":2}]
[8,null,null,null,null,null,58,null,null,null,null,null,null,null,{"$f":"'10. Obj. Placement Tabl & Chart'!F160","v":2}]
[9,null,null,null,null,null,59,null,null,null,null,null,null,null,{"$f":"'10. Obj. Placement Tabl & Chart'!F161","v":1}]
[10,null,null,null,null,null,60,null,null,null,null,null,null,null,{"$f":"'10. Obj. Placement Tabl & Chart'!F162","v":2}]
[11,null,null,null,null,null,61,null,null,null,null,null,null,null,{"$f":"'10. Obj. Placement Tabl & Chart'!F163","v":1}]
[12,null,null,null,null,null,62,null,null,null,null,null,null,null,{"$f":"'10. Obj. Placement Tabl & Chart'!F164","v":3}]
[13,null,null,null,null,null,63,null,null,null,null,null,null,null,{"$f":"'10. Obj. Placement Tabl & Chart'!F165","v":2}]
[14,null,null,null,null,null,64,null,null,null,null,null,null,null,{"$f":"'10. Obj. Placement Tabl & Chart'!F166","v":2}]
[15,null,null,null,null,null,65,null,null,null,null,null,null,null,{"$f":"'10. Obj. Placement Tabl & Chart'!F167","v":2}]
[16,null,null,null,null,null,66,null,null,null,null,null,null,null,{"$f":"'10. Obj. Placement Tabl & Chart'!F168","v":1}]
[17,null,null,null,null,null,67,null,null,null,null,null,null,null,{"$f":"'10. Obj. Placement Tabl & Chart'!F169","v":1}]
[18,null,null,null,null,null,68,null,null,null,null,null,null,null,{"$f":"'10. Obj. Placement Tabl & Chart'!F170","v":2}]
[19,null,null,null,null,null,69,null,null,null,null,null,null,null,{"$f":"'10. Obj. Placement Tabl & Chart'!F171","v":3}]
[20,null,null,null,null,null,70,null,null,null,null,null,null,null,{"$f":"'10. Obj. Placement Tabl & Chart'!F172","v":1}]
[21,null,null,null,null,null,71,null,null,null,null,null,null,null,{"$f":"'10. Obj. Placement Tabl & Chart'!F173","v":2}]
[22,null,null,null,null,null,72,null,null,null,null,null,null,null,{"$f":"'10. Obj. Placement Tabl & Chart'!F174","v":3}]
[23,null,null,null,null,null,73,null,null,null,null,null,null,null,{"$f":"'10. Obj. Placement Tabl & Chart'!F175","v":2}]
[24,null,null,null,null,null,74,null,null,null,null,null,null,null,{"$f":"'10. Obj. Placement Tabl & Chart'!F176","v":3}]
[25,null,null,null,null,null,75,null,null,null,null,null,null,null,{"$f":"'10. Obj. Placement Tabl & Chart'!F177","v":1}]
[26,null,null,null,null,null,76,null,null,null,null,null,null,null,{"$f":"'10. Obj. Placement Tabl & Chart'!F178","v":0}]
[27,null,null,null,null,null,77,null,null,null,null,null,null,null,{"$f":"'10. Obj. Placement Tabl & Chart'!F179","v":0}]
[28,null,null,null,null,null,78,null,null,null,null,null,null,null,{"$f":"'10. Obj. Placement Tabl & Chart'!F180","v":0}]
[29,null,null,null,null,null,79,null,null,null,null,null,null,null,{"$f":"'10. Obj. Placement Tabl & Chart'!F181","v":0}]
[30,null,null,null,null,null,80,null,null,null,null,null,null,null,{"$f":"'10. Obj. Placement Tabl & Chart'!F182","v":0}]
[31,null,null,null,null,null,81,null,null,null,null,null,null,null,{"$f":"'10. Obj. Placement Tabl & Chart'!F183","v":0}]
[32,null,null,null,null,null,82,null,null,null,null,null,null,null,{"$f":"'10. Obj. Placement Tabl & Chart'!F184","v":0}]
[33,null,null,null,null,null,83,null,null,null,null,null,null,null,{"$f":"'10. Obj. Placement Tabl & Chart'!F185","v":0}]
[34,null,null,null,null,null,84,null,null,null,null,null,null,null,{"$f":"'10. Obj. Placement Tabl & Chart'!F186","v":0}]
[35,null,null,null,null,null,85,null,null,null,null,null,null,null,{"$f":"'10. Obj. Placement Tabl & Chart'!F187","v":0}]
[36,null,null,null,null,null,86,null,null,null,null,null,null,null,{"$f":"'10. Obj. Placement Tabl & Chart'!F188","v":0}]
[37,null,null,null,null,null,87,null,null,null,null,null,null,null,{"$f":"'10. Obj. Placement Tabl & Chart'!F189","v":0}]
[38,null,null,null,null,null,88,null,null,null,null,null,null,null,{"$f":"'10. Obj. Placement Tabl & Chart'!F190","v":0}]
[39,null,null,null,null,null,89,null,null,null,null,null,null,null,{"$f":"'10. Obj. Placement Tabl & Chart'!F191","v":0}]
[40,null,null,null,null,null,90,null,null,null,null,null,null,null,{"$f":"'10. Obj. Placement Tabl & Chart'!F192","v":0}]
[41,null,null,null,null,null,91,null,null,null,null,null,null,null,{"$f":"'10. Obj. Placement Tabl & Chart'!F193","v":0}]
[42,null,null,null,null,null,92,null,null,null,null,null,null,null,{"$f":"'10. Obj. Placement Tabl & Chart'!F194","v":0}]
[43,null,null,null,null,null,93,null,null,null,null,null,null,null,{"$f":"'10. Obj. Placement Tabl & Chart'!F195","v":0}]
[44,null,null,null,null,null,94,null,null,null,null,null,null,null,{"$f":"'10. Obj. Placement Tabl & Chart'!F196","v":0}]
[45,null,null,null,null,null,95,null,null,null,null,null,null,null,{"$f":"'10. Obj. Placement Tabl & Chart'!F197","v":0}]
[46,null,null,null,null,null,96,null,null,null,null,null,null,null,{"$f":"'10. Obj. Placement Tabl & Chart'!F198","v":0}]
[47,null,null,null,null,null,97,null,null,null,null,null,null,null,{"$f":"'10. Obj. Placement Tabl & Chart'!F199","v":0}]
[48,null,null,null,null,null,98,null,null,null,null,null,null,null,{"$f":"'10. Obj. Placement Tabl & Chart'!F200","v":0}]
[49,null,null,null,null,null,99,null,null,null,null,null,null,null,{"$f":"'10. Obj. Placement Tabl & Chart'!F201","v":0}]
[50,null,null,null,null,null,100,null,null,null,null,null,null,null,{"$f":"'10. Obj. Placement Tabl & Chart'!F202","v":0}]
[null,null,null,null,null,null,null,null,null,null,null,null,null,null,{"$f":"'10. Obj. Placement Tabl & Chart'!F203","v":0}]
[null,null,null,null,null,null,null,null,null,null,null,null,null,null,{"$f":"'10. Obj. Placement Tabl & Chart'!F204","v":0}]
[101,null,null,null,null,null,106,null,null,null,null,null,null,null,{"$f":"'10. Obj. Placement Tabl & Chart'!F205","v":0}]
[102,null,null,null,null,null,107,null,null,null,null,null,null,null,{"$f":"'10. Obj. Placement Tabl & Chart'!F206","v":0}]
[103,null,null,null,null,null,108,null,null,null,null,null,null,null,{"$f":"'10. Obj. Placement Tabl & Chart'!F207","v":0}]
[104,null,null,null,null,null,109,null,null,null,null,null,null,null,{"$f":"'10. Obj. Placement Tabl & Chart'!F208","v":0}]
[105,null,null,null,null,null,110,null,null,null,null,null,null,null,{"$f":"'10. Obj. Placement Tabl & Chart'!F209","v":0}]
[null,null,null,null,null,null,null,null,null,null,null,null,null,null,{"$f":"'10. Obj. Placement Tabl & Chart'!F210","v":0}]
[null,null,null,null,null,null,null,null,null,null,null,null,null,null,{"$f":"'10. Obj. Placement Tabl & Chart'!F211","v":0}]
[null,null,null,null,null,null,null,null,null,null,null,null,null,null,{"$f":"'10. Obj. Placement Tabl & Chart'!F212","v":0}]
[null,null,null,null,null,null,null,null,null,null,null,null,null,null,{"$f":"'10. Obj. Placement Tabl & Chart'!F213","v":0}]
[null,null,null,null,null,null,null,null,null,null,null,null,null,null,{"$f":"'10. Obj. Placement Tabl & Chart'!F214","v":0}]
[null,null,null,null,null,null,null,null,null,null,null,null,null,null,{"$f":"'10. Obj. Placement Tabl & Chart'!F215","v":0}]
[null,null,null,null,null,null,null,null,null,null,null,null,null,null,{"$f":"'10. Obj. Placement Tabl & Chart'!F216","v":0}]
[null,null,null,null,null,null,null,null,null,null,null,null,null,null,{"$f":"'10. Obj. Placement Tabl & Chart'!F217","v":0}]
[null,null,null,null,null,null,null,null,null,null,null,null,null,null,{"$f":"'10. Obj. Placement Tabl & Chart'!F218","v":0}]
[null,null,null,null,null,null,null,null,null,null,null,null,null,null,{"$f":"'10. Obj. Placement Tabl & Chart'!F219","v":0}]
[null,null,null,null,null,null,null,null,null,null,null,null,null,null,{"$f":"'10. Obj. Placement Tabl & Chart'!F220","v":0}]
[null,null,null,null,null,null,null,null,null,null,null,null,null,null,{"$f":"'10. Obj. Placement Tabl & Chart'!F221","v":0}]
[null,null,null,null,null,null,null,null,null,null,null,null,null,null,{"$f":"'10. Obj. Placement Tabl & Chart'!F222","v":0}]
[null,null,null,null,null,null,null,null,null,null,null,null,null,null,{"$f":"'10. Obj. Placement Tabl & Chart'!F223","v":0}]
[null,null,null,null,null,null,null,null,null,null,null,null,null,null,{"$f":"'10. Obj. Placement Tabl & Chart'!F224","v":0}]
[null,null,null,null,null,null,null,null,null,null,null,null,null,null,{"$f":"'10. Obj. Placement Tabl & Chart'!F225","v":0}]
[null,null,null,null,null,null,null,null,null,null,null,null,null,null,{"$f":"'10. Obj. Placement Tabl & Chart'!F226","v":0}]
[null,null,null,null,null,null,null,null,null,null,null,null,null,null,{"$f":"'10. Obj. Placement Tabl & Chart'!F227","v":0}]
[null,null,null,null,null,null,null,null,null,null,null,null,null,null,{"$f":"'10. Obj. Placement Tabl & Chart'!F228","v":0}]
[null,null,null,null,null,null,null,null,null,null,null,null,null,null,{"$f":"'10. Obj. Placement Tabl & Chart'!F229","v":0}]
[null,null,null,null,null,null,null,null,null,null,null,null,null,null,{"$f":"'10. Obj. Placement Tabl & Chart'!F230","v":0}]
[null,null,null,null,null,null,null,null,null,null,null,null,null,null,{"$f":"'10. Obj. Placement Tabl & Chart'!F231","v":0}]
[null,null,null,null,null,null,null,null,null,null,null,null,null,null,{"$f":"'10. Obj. Placement Tabl & Chart'!F232","v":0}]
[null,null,null,null,null,null,null,null,null,null,null,null,null,null,{"$f":"'10. Obj. Placement Tabl & Chart'!F233","v":0}]
[null,null,null,null,null,null,null,null,null,null,null,null,null,null,{"$f":"'10. Obj. Placement Tabl & Chart'!F234","v":0}]
[null,null,null,null,null,null,null,null,null,null,null,null,null,null,{"$f":"'10. Obj. Placement Tabl & Chart'!F235","v":0}]
[null,null,null,null,null,null,null,null,null,null,null,null,null,null,{"$f":"'10. Obj. Placement Tabl & Chart'!F236","v":0}]
[null,null,null,null,null,null,null,null,null,null,null,null,null,null,{"$f":"'10. Obj. Placement Tabl & Chart'!F237","v":0}]
[null,null,null,null,null,null,null,null,null,null,null,null,null,null,{"$f":"'10. Obj. Placement Tabl & Chart'!F238","v":0}]
[null,null,null,null,null,null,null,null,null,null,null,null,null,null,{"$f":"'10. Obj. Placement Tabl & Chart'!F239","v":0}]
[null,null,null,null,null,null,null,null,null,null,null,null,null,null,{"$f":"'10. Obj. Placement Tabl & Chart'!F240","v":0}]
[null,null,null,null,null,null,null,null,null,null,null,null,null,null,{"$f":"'10. Obj. Placement Tabl & Chart'!F241","v":0}]
[null,null,null,null,null,null,null,null,null,null,null,null,null,null,{"$f":"'10. Obj. Placement Tabl & Chart'!F242","v":0}]
[null,null,null,null,null,null,null,null,null,null,null,null,null,null,{"$f":"'10. Obj. Placement Tabl & Chart'!F243","v":0}]
[null,null,null,null,null,null,null,null,null,null,null,null,null,null,{"$f":"'10. Obj. Placement Tabl & Chart'!F244","v":0}]
[null,null,null,null,null,null,null,null,null,null,null,null,null,null,{"$f":"'10. Obj. Placement Tabl & Chart'!F245","v":0}]
[null,null,null,null,null,null,null,null,null,null,null,null,null,null,{"$f":"'10. Obj. Placement Tabl & Chart'!F246","v":0}]
[null,null,null,null,null,null,null,null,null,null,null,null,null,null,{"$f":"'10. Obj. Placement Tabl & Chart'!F247","v":0}]
[null,null,null,null,null,null,null,null,null,null,null,null,null,null,{"$f":"'10. Obj. Placement Tabl & Chart'!F248","v":0}]
[null,null,null,null,null,null,null,null,null,null,null,null,null,null,{"$f":"'10. Obj. Placement Tabl & Chart'!F249","v":0}]
[null,null,null,null,null,null,null,null,null,null,null,null,null,null,{"$f":"'10. Obj. Placement Tabl & Chart'!F250","v":0}]
[null,null,null,null,null,null,null,null,null,null,null,null,null,null,{"$f":"'10. Obj. Placement Tabl & Chart'!F251","v":0}]
[null,null,null,null,null,null,null,null,null,null,null,null,null,null,{"$f":"'10. Obj. Placement Tabl & Chart'!F252","v":0}]
[null,null,null,null,null,null,null,null,null,null,null,null,null,null,{"$f":"'10. Obj. Placement Tabl & Chart'!F253","v":0}]
[null,null,null,null,null,null,null,null,null,null,null,null,null,null,{"$f":"'10. Obj. Placement Tabl & Chart'!F254","v":0}]
[null,null,null,null,null,null,null,null,null,null,null,null,null,null,{"$f":"'10. Obj. Placement Tabl & Chart'!F255","v":0}]
[null,null,null,null,null,null,null,null,null,null,null,null,null,null,{"$f":"'10. Obj. Placement Tabl & Chart'!F256","v":0}]
[null,null,null,null,null,null,null,null,null,null,null,null,null,null,{"$f":"'10. Obj. Placement Tabl & Chart'!F257","v":0}]
[null,null,null,null,null,null,null,null,null,null,null,null,null,null,{"$f":"'10. Obj. Placement Tabl & Chart'!F258","v":0}]
[null,null,null,null,null,null,null,null,null,null,null,null,null,null,{"$f":"'10. Obj. Placement Tabl & Chart'!F259","v":0}]
[null,null,null,null,null,null,null,null,null,null,null,null,null,null,{"$f":"'10. Obj. Placement Tabl & Chart'!F260","v":0}]
[null,null,null,null,null,null,null,null,null,null,null,null,null,null,{"$f":"'10. Obj. Placement Tabl & Chart'!F261","v":0}]
[null,null,null,null,null,null,null,null,null,null,null,null,null,null,{"$f":"'10. Obj. Placement Tabl & Chart'!F262","v":0}]
[null,null,null,null,null,null,null,null,null,null,null,null,null,null,{"$f":"'10. Obj. Placement Tabl & Chart'!F263","v":0}]
[null,null,null,null,null,null,null,null,null,null,null,null,null,null,{"$f":"'10. Obj. Placement Tabl & Chart'!F264","v":0}]
[null,null,null,null,null,null,null,null,null,null,null,null,null,null,{"$f":"'10. Obj. Placement Tabl & Chart'!F265","v":0}]
[null,null,null,null,null,null,null,null,null,null,null,null,null,null,{"$f":"'10. Obj. Placement Tabl & Chart'!F266","v":0}]

{"sheet":"23. Data Input Object # 1","index":23,"n_rows":38,"n_cols":83,"rows_kept":38,"cut":false,"hidden":false,"merged":[[1,0,1,27]]}
["Data Input Search Object Type # 1",null,null,null,null,null,null,null,null,null,{"$f":"'2. Search Object Types'!M26","v":"Adult High-Visibility"}]
["Instructions: The purpose of this worksheet is to enter each searcher's detections and non-detections, scored on the Detection Scoring (Worksheet # 22) form for Search Object Type # 1.  From Detection Scoring (Worksheet #22) of each searcher, enter the search object location number in the \"Location #\" column.  From Object Placement and Chart (Worksheet # 10) enter the lateral range of the location number (for each Search Object Type # 1 that was placed in the experiment).  From each Searcher Profile (Worksheet # 20), enter each searcher number assigned.  For each search object and searcher interaction record either a \"1\" if a valid detection occurred (scored on the detection summary form), or a \"0\" if the object was not detected.  Leave other cells blank if no object placed."]
[null,null,"Searcher Number"]
["Location #","LR",1,2,3,4,5,6,7,8,9,10,11,12,13,14,15,16,17,18,19,20,21,22,23,24,25,26,27,28,29,30,31,32,33,34,35,36,37,38,39,40,41,42,43,44,45,46,47,48,49,50,51,52,53,54,55,56,57,58,59,60,61,62,63,64,65,66,67,68,69,70,71,72,73,74,75,76,77,"Count","Detections","Misses","% Detected"]
[1,19,1,0,1,0,1,1,1,1,0,0,1,1,0,0,1,0,0,1,1,1,0,1,0,1,0,0,1,0,0,0,1,0,0,0,null,null,null,null,null,null,null,null,null,null,null,null,null,null,null,null,null,null,null,null,null,null,null,null,null,null,null,null,null,null,null,null,null,null,null,null,null,null,null,null,null,null,null,{"$f":"COUNT(C5:CA5)","v":34},{"$f":"SUM(C5:CA5)","v":16},{"$f":"CB5-CC5","v":18},{"$f":"CC5/CB5","v":0.47058823529411764}]
[5,36,1,1,1,1,1,0,1,1,1,1,1,1,0,1,1,1,1,1,1,1,1,1,0,0,1,1,1,1,0,1,1,1,0,1,null,null,null,null,null,null,null,null,null,null,null,null,null,null,null,null,null,null,null,null,null,null,null,null,null,null,null,null,null,null,null,null,null,null,null,null,null,null,null,null,null,null,null,34,28,{"$f":"CB6-CC6","v":6},{"$f":"CC6/CB6","v":0.82352941176470584}]
[8,4,1,1,1,1,1,1,1,1,1,1,1,1,1,1,1,1,1,1,1,1,1,1,1,1,1,1,1,1,1,1,1,1,1,1,null,null,null,null,null,null,null,null,null,null,null,null,null,null,null,null,null,null,null,null,null,null,null,null,null,null,null,null,null,null,null,null,null,null,null,null,null,null,null,null,null,null,null,34,34,0,1]
[10,15,0,1,1,1,1,1,1,0,1,1,1,1,1,1,1,1,1,1,1,0,0,1,1,0,1,1,1,1,0,1,1,1,0,1,null,null,null,null,null,null,null,null,null,null,null,null,null,null,null,null,null,null,null,null,null,null,null,null,null,null,null,null,null,null,null,null,null,null,null,null,null,null,null,null,null,null,null,34,27,7,0.79411764705882348]
[11,15,1,1,1,1,1,1,1,1,1,0,1,1,1,1,1,1,1,1,1,1,1,1,0,0,1,1,1,1,1,0,1,0,0,1,null,null,null,null,null,null,null,null,null,null,null,null,null,null,null,null,null,null,null,null,null,null,null,null,null,null,null,null,null,null,null,null,null,null,null,null,null,null,null,null,null,null,null,34,28,6,0.82352941176470584]
[15,67,0,0,0,0,0,0,0,0,0,0,0,0,0,0,0,0,0,0,0,0,0,0,0,0,0,0,0,0,0,0,0,0,0,0,null,null,null,null,null,null,null,null,null,null,null,null,null,null,null,null,null,null,null,null,null,null,null,null,null,null,null,null,null,null,null,null,null,null,null,null,null,null,null,null,null,null,null,34,0,34,0]
[19,37,0,0,0,0,0,0,0,0,0,0,0,0,0,0,0,0,0,0,0,0,0,0,0,0,0,0,0,0,0,0,0,0,0,0,null,null,null,null,null,null,null,null,null,null,null,null,null,null,null,null,null,null,null,null,null,null,null,null,null,null,null,null,null,null,null,null,null,null,null,null,null,null,null,null,null,null,null,34,0,34,0]
[20,5,1,1,1,1,1,1,1,0,1,1,1,1,1,1,1,1,1,1,1,1,1,1,1,1,1,1,1,1,1,1,1,1,0,1,null,null,null,null,null,null,null,null,null,null,null,null,null,null,null,null,null,null,null,null,null,null,null,null,null,null,null,null,null,null,null,null,null,null,null,null,null,null,null,null,null,null,null,34,32,2,0.94117647058823528]
[21,40,0,0,0,1,1,0,1,1,1,0,1,0,1,1,1,1,0,1,1,1,0,1,1,0,0,1,1,1,0,0,1,0,1,1,null,null,null,null,null,null,null,null,null,null,null,null,null,null,null,null,null,null,null,null,null,null,null,null,null,null,null,null,null,null,null,null,null,null,null,null,null,null,null,null,null,null,null,34,21,13,0.61764705882352944]
[22,36,0,0,0,0,0,0,0,0,0,0,0,0,0,0,0,0,0,0,0,0,0,0,0,0,0,0,0,0,0,0,0,0,0,0,null,null,null,null,null,null,null,null,null,null,null,null,null,null,null,null,null,null,null,null,null,null,null,null,null,null,null,null,null,null,null,null,null,null,null,null,null,null,null,null,null,null,null,34,0,34,0]
[30,23,0,0,0,0,0,0,0,0,0,0,1,0,0,0,0,0,0,1,0,0,0,0,0,0,0,0,0,0,0,0,0,0,0,0,null,null,null,null,null,null,null,null,null,null,null,null,null,null,null,null,null,null,null,null,null,null,null,null,null,null,null,null,null,null,null,null,null,null,null,null,null,null,null,null,null,null,null,34,2,32,5.8823529411764705E-2]
[32,29,0,0,0,0,0,0,0,0,0,0,0,0,1,0,0,0,0,0,0,0,0,0,0,0,0,0,0,0,0,0,0,0,0,0,null,null,null,null,null,null,null,null,null,null,null,null,null,null,null,null,null,null,null,null,null,null,null,null,null,null,null,null,null,null,null,null,null,null,null,null,null,null,null,null,null,null,null,34,1,33,2.9411764705882353E-2]
[36,7,1,1,1,1,1,1,1,1,1,1,1,1,0,1,1,1,1,1,1,1,1,1,1,1,1,1,0,1,1,1,1,1,1,1,null,null,null,null,null,null,null,null,null,null,null,null,null,null,null,null,null,null,null,null,null,null,null,null,null,null,null,null,null,null,null,null,null,null,null,null,null,null,null,null,null,null,null,34,32,2,0.94117647058823528]
[41,11,1,1,1,1,1,1,1,1,1,1,1,1,1,1,1,1,1,1,1,1,1,1,1,1,1,1,1,1,1,1,1,1,1,1,null,null,null,null,null,null,null,null,null,null,null,null,null,null,null,null,null,null,null,null,null,null,null,null,null,null,null,null,null,null,null,null,null,null,null,null,null,null,null,null,null,null,null,{"$f":"COUNT(C18:CA18)","v":34},{"$f":"SUM(C18:CA18)","v":34},{"$f":"CB18-CC18","v":0},{"$f":"CC18/CB18","v":1}]
["44v",67,0,0,0,0,0,0,0,0,0,0,0,0,0,0,0,0,0,0,0,0,0,0,0,0,0,0,0,0,0,0,0,0,0,0,null,null,null,null,null,null,null,null,null,null,null,null,null,null,null,null,null,null,null,null,null,null,null,null,null,null,null,null,null,null,null,null,null,null,null,null,null,null,null,null,null,null,null,{"$f":"COUNT(C19:CA19)","v":34},{"$f":"SUM(C19:CA19)","v":0},{"$f":"CB19-CC19","v":34},{"$f":"CC19/CB19","v":0}]
["46v",62,0,0,0,0,0,0,0,0,0,0,0,0,0,0,0,0,0,0,0,0,0,0,0,0,0,0,0,0,0,0,0,0,0,0,null,null,null,null,null,null,null,null,null,null,null,null,null,null,null,null,null,null,null,null,null,null,null,null,null,null,null,null,null,null,null,null,null,null,null,null,null,null,null,null,null,null,null,{"$f":"COUNT(C20:CA20)","v":34},{"$f":"SUM(C20:CA20)","v":0},{"$f":"CB20-CC20","v":34},{"$f":"CC20/CB20","v":0}]
["47v",52,0,0,0,0,0,0,0,0,0,0,0,0,0,0,0,0,0,0,0,0,0,0,0,0,0,0,0,0,0,0,0,0,0,0,null,null,null,null,null,null,null,null,null,null,null,null,null,null,null,null,null,null,null,null,null,null,null,null,null,null,null,null,null,null,null,null,null,null,null,null,null,null,null,null,null,null,null,{"$f":"COUNT(C21:CA21)","v":34},{"$f":"SUM(C21:CA21)","v":0},{"$f":"CB21-CC21","v":34},{"$f":"CC21/CB21","v":0}]
[null,null,null,null,null,null,null,null,null,null,null,null,null,null,null,null,null,null,null,null,null,null,null,null,null,null,null,null,null,null,null,null,null,null,null,null,null,null,null,null,null,null,null,null,null,null,null,null,null,null,null,null,null,null,null,null,null,null,null,null,null,null,null,null,null,null,null,null,null,null,null,null,null,null,null,null,null,null,null,{"$f":"COUNT(C22:CA22)","v":0},{"$f":"SUM(C22:CA22)","v":0},{"$f":"CB22-CC22","v":0},{"$f":"CC22/CB22","v":{"$error":"#DIV/0!"}}]
[null,null,null,null,null,null,null,null,null,null,null,null,null,null,null,null,null,null,null,null,null,null,null,null,null,null,null,null,null,null,null,null,null,null,null,null,null,null,null,null,null,null,null,null,null,null,null,null,null,null,null,null,null,null,null,null,null,null,null,null,null,null,null,null,null,null,null,null,null,null,null,null,null,null,null,null,null,null,null,0,0,0,{"$error":"#DIV/0!"}]
[null,null,null,null,null,null,null,null,null,null,null,null,null,null,null,null,null,null,null,null,null,null,null,null,null,null,null,null,null,null,null,null,null,null,null,null,null,null,null,null,null,null,null,null,null,null,null,null,null,null,null,null,null,null,null,null,null,null,null,null,null,null,null,null,null,null,null,null,null,null,null,null,null,null,null,null,null,null,null,0,0,0,{"$error":"#DIV/0!"}]
[null,null,null,null,null,null,null,null,null,null,null,null,null,null,null,null,null,null,null,null,null,null,null,null,null,null,null,null,null,null,null,null,null,null,null,null,null,null,null,null,null,null,null,null,null,null,null,null,null,null,null,null,null,null,null,null,null,null,null,null,null,null,null,null,null,null,null,null,null,null,null,null,null,null,null,null,null,null,null,0,0,0,{"$error":"#DIV/0!"}]
[null,null,null,null,null,null,null,null,null,null,null,null,null,null,null,null,null,null,null,null,null,null,null,null,null,null,null,null,null,null,null,null,null,null,null,null,null,null,null,null,null,null,null,null,null,null,null,null,null,null,null,null,null,null,null,null,null,null,null,null,null,null,null,null,null,null,null,null,null,null,null,null,null,null,null,null,null,null,null,0,0,0,{"$error":"#DIV/0!"}]
[null,null,null,null,null,null,null,null,null,null,null,null,null,null,null,null,null,null,null,null,null,null,null,null,null,null,null,null,null,null,null,null,null,null,null,null,null,null,null,null,null,null,null,null,null,null,null,null,null,null,null,null,null,null,null,null,null,null,null,null,null,null,null,null,null,null,null,null,null,null,null,null,null,null,null,null,null,null,null,0,0,0,{"$error":"#DIV/0!"}]
[null,null,null,null,null,null,null,null,null,null,null,null,null,null,null,null,null,null,null,null,null,null,null,null,null,null,null,null,null,null,null,null,null,null,null,null,null,null,null,null,null,null,null,null,null,null,null,null,null,null,null,null,null,null,null,null,null,null,null,null,null,null,null,null,null,null,null,null,null,null,null,null,null,null,null,null,null,null,null,0,0,0,{"$error":"#DIV/0!"}]
[null,null,null,null,null,null,null,null,null,null,null,null,null,null,null,null,null,null,null,null,null,null,null,null,null,null,null,null,null,null,null,null,null,null,null,null,null,null,null,null,null,null,null,null,null,null,null,null,null,null,null,null,null,null,null,null,null,null,null,null,null,null,null,null,null,null,null,null,null,null,null,null,null,null,null,null,null,null,null,0,0,0,{"$error":"#DIV/0!"}]
[null,null,null,null,null,null,null,null,null,null,null,null,null,null,null,null,null,null,null,null,null,null,null,null,null,null,null,null,null,null,null,null,null,null,null,null,null,null,null,null,null,null,null,null,null,null,null,null,null,null,null,null,null,null,null,null,null,null,null,null,null,null,null,null,null,null,null,null,null,null,null,null,null,null,null,null,null,null,null,0,0,0,{"$error":"#DIV/0!"}]
[null,null,null,null,null,null,null,null,null,null,null,null,null,null,null,null,null,null,null,null,null,null,null,null,null,null,null,null,null,null,null,null,null,null,null,null,null,null,null,null,null,null,null,null,null,null,null,null,null,null,null,null,null,null,null,null,null,null,null,null,null,null,null,null,null,null,null,null,null,null,null,null,null,null,null,null,null,null,null,0,0,0,{"$error":"#DIV/0!"}]
[null,null,null,null,null,null,null,null,null,null,null,null,null,null,null,null,null,null,null,null,null,null,null,null,null,null,null,null,null,null,null,null,null,null,null,null,null,null,null,null,null,null,null,null,null,null,null,null,null,null,null,null,null,null,null,null,null,null,null,null,null,null,null,null,null,null,null,null,null,null,null,null,null,null,null,null,null,null,null,0,0,0,{"$error":"#DIV/0!"}]
[null,null,null,null,null,null,null,null,null,null,null,null,null,null,null,null,null,null,null,null,null,null,null,null,null,null,null,null,null,null,null,null,null,null,null,null,null,null,null,null,null,null,null,null,null,null,null,null,null,null,null,null,null,null,null,null,null,null,null,null,null,null,null,null,null,null,null,null,null,null,null,null,null,null,null,null,null,null,null,0,0,0,{"$error":"#DIV/0!"}]
[null,null,null,null,null,null,null,null,null,null,null,null,null,null,null,null,null,null,null,null,null,null,null,null,null,null,null,null,null,null,null,null,null,null,null,null,null,null,null,null,null,null,null,null,null,null,null,null,null,null,null,null,null,null,null,null,null,null,null,null,null,null,null,null,null,null,null,null,null,null,null,null,null,null,null,null,null,null,null,0,0,0,{"$error":"#DIV/0!"}]
["Count of objects",{"$f":"COUNT(B5:B34)","v":17},{"$f":"COUNT(C5:C34)","v":17},{"$f":"COUNT(D5:D34)","v":17},17,17,17,17,17,17,17,17,17,17,17,17,17,17,17,17,17,17,17,17,17,17,17,17,17,17,17,17,17,17,{"$f":"COUNT(AI5:AI34)","v":17},17,0,0,0,0,0,0,0,0,0,0,0,0,0,0,0,0,0,0,0,0,0,0,0,0,0,0,0,{"$f":"COUNT(BL5:BL34)","v":0},0,0,{"$f":"COUNT(BO5:BO34)","v":0},0,0,0,0,0,0,0,0,0,0,0,0]
["Detected",null,{"$f":"SUM(C5:C34)","v":7},7,8,8,9,7,9,7,8,6,10,8,7,8,9,8,7,10,9,8,6,9,6,5,7,8,8,8,5,6,9,6,{"$f":"SUM(AI5:AI34)","v":4},8,0,0,0,0,0,0,0,0,0,0,0,0,0,0,0,0,0,0,0,0,0,0,0,0,0,0,0,{"$f":"SUM(BL5:BL34)","v":0},0,0,{"$f":"SUM(BO5:BO34)","v":0},0,0,0,0,0,0,0,0,0,0,0,0]
["% Detected",null,{"$f":"IF(C35=0,\"\",C36/C35)","v":0.41176470588235292},{"$f":"IF(D35=0,\"\",D36/D35)","v":0.41176470588235292},0.47058823529411764,0.47058823529411764,0.52941176470588236,0.41176470588235292,0.52941176470588236,0.41176470588235292,0.47058823529411764,0.35294117647058826,0.58823529411764708,0.47058823529411764,0.41176470588235292,0.47058823529411764,0.52941176470588236,0.47058823529411764,0.41176470588235292,0.58823529411764708,0.52941176470588236,0.47058823529411764,0.35294117647058826,0.52941176470588236,0.35294117647058826,0.29411764705882354,0.41176470588235292,0.47058823529411764,0.47058823529411764,0.47058823529411764,0.29411764705882354,0.35294117647058826,0.52941176470588236,0.35294117647058826,0.23529411764705882,0.47058823529411764,"","","","","","","","","","","","","","","","","","","","","","","","","","","","","","","",{"$f":"IF(BP35=0,\"\",BP36/BP35)","v":""},"","","","","","","","","","",""]
["Count of searchers",{"$f":"COUNT(C37:CA37)","v":34}]

{"sheet":"24. Data Input Object # 2","index":24,"n_rows":38,"n_cols":83,"rows_kept":38,"cut":false,"hidden":false,"merged":[[1,0,1,27]]}
["Data Input Search Object Type # 2",null,null,null,null,null,null,null,null,null,{"$f":"IF('2. Search Object Types'!J22>=2,'2. Search Object Types'!M28,\"Not applicable\")","v":"Clue High-Visibility"}]
["Instructions: The purpose of this worksheet is to enter each searcher's detections and non-detections, scored on the Detection Scoring (Worksheet # 22) form for Search Object Type # 2.  From Detection Scoring (Worksheet #22) of each searcher, enter the search object location number in the \"Location #\" column.  From Object Placement and Chart (Worksheet # 10) enter the lateral range of the location number (for each Search Object Type # 2 that was placed in the experiment).  From each Searcher Profile (Worksheet # 20), enter each searcher number assigned.  For each search object and searcher interaction record either a \"1\" if a valid detection occurred (scored on the detection summary form), or a \"0\" if the object was not detected.  Leave other cells blank if no object placed."]
[null,null,"Searcher Number"]
["Location #","LR",1,2,3,4,5,6,7,8,9,10,11,12,13,14,15,16,17,18,19,20,21,22,23,24,25,26,27,28,29,30,31,32,33,34,35,36,37,38,39,40,41,42,43,44,45,46,47,48,49,50,51,52,53,54,55,56,57,58,59,60,61,62,63,64,65,66,67,68,69,70,71,72,73,74,75,76,77,"Count","Detections","Misses","% Detected"]
[2,17,1,1,1,1,1,1,1,1,1,1,1,1,1,1,1,1,1,1,1,1,1,1,1,1,1,1,1,1,0,1,1,1,0,1,null,null,null,null,null,null,null,null,null,null,null,null,null,null,null,null,null,null,null,null,null,null,null,null,null,null,null,null,null,null,null,null,null,null,null,null,null,null,null,null,null,null,null,{"$f":"COUNT(C5:CA5)","v":34},{"$f":"SUM(C5:CA5)","v":32},{"$f":"CB5-CC5","v":2},{"$f":"CC5/CB5","v":0.94117647058823528}]
[4,32,0,0,0,0,0,0,0,0,0,0,0,0,0,0,0,0,0,0,0,0,0,0,0,0,1,0,0,0,0,0,0,0,0,0,null,null,null,null,null,null,null,null,null,null,null,null,null,null,null,null,null,null,null,null,null,null,null,null,null,null,null,null,null,null,null,null,null,null,null,null,null,null,null,null,null,null,null,{"$f":"COUNT(C6:CA6)","v":34},{"$f":"SUM(C6:CA6)","v":1},{"$f":"CB6-CC6","v":33},{"$f":"CC6/CB6","v":2.9411764705882353E-2}]
[6,1,1,1,0,1,1,1,1,1,1,1,1,1,1,1,1,1,1,1,1,1,1,1,1,1,1,1,1,1,1,1,1,1,1,1,null,null,null,null,null,null,null,null,null,null,null,null,null,null,null,null,null,null,null,null,null,null,null,null,null,null,null,null,null,null,null,null,null,null,null,null,null,null,null,null,null,null,null,34,33,1,0.97058823529411764]
[9,32,0,0,0,0,0,1,0,0,0,0,0,0,0,0,0,0,0,0,0,0,0,1,0,0,0,0,0,0,0,0,0,0,0,0,null,null,null,null,null,null,null,null,null,null,null,null,null,null,null,null,null,null,null,null,null,null,null,null,null,null,null,null,null,null,null,null,null,null,null,null,null,null,null,null,null,null,null,34,2,32,5.8823529411764705E-2]
[12,9,1,1,0,1,1,1,1,1,1,1,1,1,1,1,1,1,1,1,0,1,1,1,1,1,1,0,1,1,0,0,1,1,0,1,null,null,null,null,null,null,null,null,null,null,null,null,null,null,null,null,null,null,null,null,null,null,null,null,null,null,null,null,null,null,null,null,null,null,null,null,null,null,null,null,null,null,null,34,28,6,0.82352941176470584]
[14,26,0,0,1,1,1,0,1,1,0,1,0,0,0,1,1,1,0,0,0,1,1,1,1,0,0,1,1,0,0,0,1,0,1,0,null,null,null,null,null,null,null,null,null,null,null,null,null,null,null,null,null,null,null,null,null,null,null,null,null,null,null,null,null,null,null,null,null,null,null,null,null,null,null,null,null,null,null,34,17,17,0.5]
[16,9,0,0,1,0,0,1,1,1,1,1,1,1,1,1,1,0,0,0,0,0,0,0,0,1,0,0,1,1,0,0,1,0,0,1,null,null,null,null,null,null,null,null,null,null,null,null,null,null,null,null,null,null,null,null,null,null,null,null,null,null,null,null,null,null,null,null,null,null,null,null,null,null,null,null,null,null,null,34,16,18,0.47058823529411764]
[17,16,null,null,null,null,null,null,null,null,null,null,null,null,null,null,null,null,null,null,null,null,null,null,null,null,null,null,null,null,null,null,null,null,null,null,null,null,null,null,null,null,null,null,null,null,null,null,null,null,null,null,null,null,null,null,null,null,null,null,null,null,null,null,null,null,null,null,null,null,null,null,null,null,null,null,null,null,null,0,0,0,{"$error":"#DIV/0!"}]
[24,25,0,1,0,1,1,1,1,1,1,1,1,1,1,1,1,1,1,0,1,1,1,1,0,1,0,1,0,0,0,1,1,1,0,1,null,null,null,null,null,null,null,null,null,null,null,null,null,null,null,null,null,null,null,null,null,null,null,null,null,null,null,null,null,null,null,null,null,null,null,null,null,null,null,null,null,null,null,34,25,9,0.73529411764705888]
[26,2,1,1,1,1,1,1,1,1,1,1,1,1,1,1,1,1,1,1,1,1,1,1,0,1,1,1,1,1,1,1,1,1,1,1,null,null,null,null,null,null,null,null,null,null,null,null,null,null,null,null,null,null,null,null,null,null,null,null,null,null,null,null,null,null,null,null,null,null,null,null,null,null,null,null,null,null,null,34,33,1,0.97058823529411764]
[31,12,0,1,0,0,0,0,0,0,0,1,0,0,0,0,0,0,0,0,1,0,0,0,0,0,0,1,0,0,0,0,0,0,0,0,null,null,null,null,null,null,null,null,null,null,null,null,null,null,null,null,null,null,null,null,null,null,null,null,null,null,null,null,null,null,null,null,null,null,null,null,null,null,null,null,null,null,null,34,4,30,0.11764705882352941]
[33,12,0,1,0,0,0,1,0,0,0,0,0,0,0,0,0,0,0,0,0,0,0,0,0,0,0,0,0,0,0,0,0,0,0,0,null,null,null,null,null,null,null,null,null,null,null,null,null,null,null,null,null,null,null,null,null,null,null,null,null,null,null,null,null,null,null,null,null,null,null,null,null,null,null,null,null,null,null,{"$f":"COUNT(C16:CA16)","v":34},{"$f":"SUM(C16:CA16)","v":2},{"$f":"CB16-CC16","v":32},{"$f":"CC16/CB16","v":5.8823529411764705E-2}]
[38,16,0,0,0,0,0,0,0,0,0,0,1,0,0,0,0,0,0,0,0,0,0,0,0,0,0,0,0,1,0,0,0,0,0,0,null,null,null,null,null,null,null,null,null,null,null,null,null,null,null,null,null,null,null,null,null,null,null,null,null,null,null,null,null,null,null,null,null,null,null,null,null,null,null,null,null,null,null,{"$f":"COUNT(C17:CA17)","v":34},{"$f":"SUM(C17:CA17)","v":2},{"$f":"CB17-CC17","v":32},{"$f":"CC17/CB17","v":5.8823529411764705E-2}]
[39,4,1,1,1,1,1,1,1,1,1,1,0,1,1,1,1,1,1,1,1,1,1,1,1,1,1,1,1,0,1,1,1,1,0,1,null,null,null,null,null,null,null,null,null,null,null,null,null,null,null,null,null,null,null,null,null,null,null,null,null,null,null,null,null,null,null,null,null,null,null,null,null,null,null,null,null,null,null,{"$f":"COUNT(C18:CA18)","v":34},{"$f":"SUM(C18:CA18)","v":31},{"$f":"CB18-CC18","v":3},{"$f":"CC18/CB18","v":0.91176470588235292}]
["48v",25,0,0,0,0,0,0,0,0,0,0,0,0,0,0,0,0,0,0,0,0,0,0,0,0,0,0,0,0,0,0,0,0,0,0,null,null,null,null,null,null,null,null,null,null,null,null,null,null,null,null,null,null,null,null,null,null,null,null,null,null,null,null,null,null,null,null,null,null,null,null,null,null,null,null,null,null,null,{"$f":"COUNT(C19:CA19)","v":34},{"$f":"SUM(C19:CA19)","v":0},{"$f":"CB19-CC19","v":34},{"$f":"CC19/CB19","v":0}]
[null,null,null,null,null,null,null,null,null,null,null,null,null,null,null,null,null,null,null,null,null,null,null,null,null,null,null,null,null,null,null,null,null,null,null,null,null,null,null,null,null,null,null,null,null,null,null,null,null,null,null,null,null,null,null,null,null,null,null,null,null,null,null,null,null,null,null,null,null,null,null,null,null,null,null,null,null,null,null,{"$f":"COUNT(C20:CA20)","v":0},{"$f":"SUM(C20:CA20)","v":0},{"$f":"CB20-CC20","v":0},{"$f":"CC20/CB20","v":{"$error":"#DIV/0!"}}]
[null,null,null,null,null,null,null,null,null,null,null,null,null,null,null,null,null,null,null,null,null,null,null,null,null,null,null,null,null,null,null,null,null,null,null,null,null,null,null,null,null,null,null,null,null,null,null,null,null,null,null,null,null,null,null,null,null,null,null,null,null,null,null,null,null,null,null,null,null,null,null,null,null,null,null,null,null,null,null,0,0,0,{"$error":"#DIV/0!"}]
[null,null,null,null,null,null,null,null,null,null,null,null,null,null,null,null,null,null,null,null,null,null,null,null,null,null,null,null,null,null,null,null,null,null,null,null,null,null,null,null,null,null,null,null,null,null,null,null,null,null,null,null,null,null,null,null,null,null,null,null,null,null,null,null,null,null,null,null,null,null,null,null,null,null,null,null,null,null,null,0,0,0,{"$error":"#DIV/0!"}]
[null,null,null,null,null,null,null,null,null,null,null,null,null,null,null,null,null,null,null,null,null,null,null,null,null,null,null,null,null,null,null,null,null,null,null,null,null,null,null,null,null,null,null,null,null,null,null,null,null,null,null,null,null,null,null,null,null,null,null,null,null,null,null,null,null,null,null,null,null,null,null,null,null,null,null,null,null,null,null,0,0,0,{"$error":"#DIV/0!"}]
[null,null,null,null,null,null,null,null,null,null,null,null,null,null,null,null,null,null,null,null,null,null,null,null,null,null,null,null,null,null,null,null,null,null,null,null,null,null,null,null,null,null,null,null,null,null,null,null,null,null,null,null,null,null,null,null,null,null,null,null,null,null,null,null,null,null,null,null,null,null,null,null,null,null,null,null,null,null,null,0,0,0,{"$error":"#DIV/0!"}]
[null,null,null,null,null,null,null,null,null,null,null,null,null,null,null,null,null,null,null,null,null,null,null,null,null,null,null,null,null,null,null,null,null,null,null,null,null,null,null,null,null,null,null,null,null,null,null,null,null,null,null,null,null,null,null,null,null,null,null,null,null,null,null,null,null,null,null,null,null,null,null,null,null,null,null,null,null,null,null,0,0,0,{"$error":"#DIV/0!"}]
[null,null,null,null,null,null,null,null,null,null,null,null,null,null,null,null,null,null,null,null,null,null,null,null,null,null,null,null,null,null,null,null,null,null,null,null,null,null,null,null,null,null,null,null,null,null,null,null,null,null,null,null,null,null,null,null,null,null,null,null,null,null,null,null,null,null,null,null,null,null,null,null,null,null,null,null,null,null,null,0,0,0,{"$error":"#DIV/0!"}]
[null,null,null,null,null,null,null,null,null,null,null,null,null,null,null,null,null,null,null,null,null,null,null,null,null,null,null,null,null,null,null,null,null,null,null,null,null,null,null,null,null,null,null,null,null,null,null,null,null,null,null,null,null,null,null,null,null,null,null,null,null,null,null,null,null,null,null,null,null,null,null,null,null,null,null,null,null,null,null,0,0,0,{"$error":"#DIV/0!"}]
[null,null,null,null,null,null,null,null,null,null,null,null,null,null,null,null,null,null,null,null,null,null,null,null,null,null,null,null,null,null,null,null,null,null,null,null,null,null,null,null,null,null,null,null,null,null,null,null,null,null,null,null,null,null,null,null,null,null,null,null,null,null,null,null,null,null,null,null,null,null,null,null,null,null,null,null,null,null,null,0,0,0,{"$error":"#DIV/0!"}]
[null,null,null,null,null,null,null,null,null,null,null,null,null,null,null,null,null,null,null,null,null,null,null,null,null,null,null,null,null,null,null,null,null,null,null,null,null,null,null,null,null,null,null,null,null,null,null,null,null,null,null,null,null,null,null,null,null,null,null,null,null,null,null,null,null,null,null,null,null,null,null,null,null,null,null,null,null,null,null,0,0,0,{"$error":"#DIV/0!"}]
[null,null,null,null,null,null,null,null,null,null,null,null,null,null,null,null,null,null,null,null,null,null,null,null,null,null,null,null,null,null,null,null,null,null,null,null,null,null,null,null,null,null,null,null,null,null,null,null,null,null,null,null,null,null,null,null,null,null,null,null,null,null,null,null,null,null,null,null,null,null,null,null,null,null,null,null,null,null,null,0,0,0,{"$error":"#DIV/0!"}]
[null,null,null,null,null,null,null,null,null,null,null,null,null,null,null,null,null,null,null,null,null,null,null,null,null,null,null,null,null,null,null,null,null,null,null,null,null,null,null,null,null,null,null,null,null,null,null,null,null,null,null,null,null,null,null,null,null,null,null,null,null,null,null,null,null,null,null,null,null,null,null,null,null,null,null,null,null,null,null,0,0,0,{"$error":"#DIV/0!"}]
[null,null,null,null,null,null,null,null,null,null,null,null,null,null,null,null,null,null,null,null,null,null,null,null,null,null,null,null,null,null,null,null,null,null,null,null,null,null,null,null,null,null,null,null,null,null,null,null,null,null,null,null,null,null,null,null,null,null,null,null,null,null,null,null,null,null,null,null,null,null,null,null,null,null,null,null,null,null,null,0,0,0,{"$error":"#DIV/0!"}]
[null,null,null,null,null,null,null,null,null,null,null,null,null,null,null,null,null,null,null,null,null,null,null,null,null,null,null,null,null,null,null,null,null,null,null,null,null,null,null,null,null,null,null,null,null,null,null,null,null,null,null,null,null,null,null,null,null,null,null,null,null,null,null,null,null,null,null,null,null,null,null,null,null,null,null,null,null,null,null,0,0,0,{"$error":"#DIV/0!"}]
[null,null,null,null,null,null,null,null,null,null,null,null,null,null,null,null,null,null,null,null,null,null,null,null,null,null,null,null,null,null,null,null,null,null,null,null,null,null,null,null,null,null,null,null,null,null,null,null,null,null,null,null,null,null,null,null,null,null,null,null,null,null,null,null,null,null,null,null,null,null,null,null,null,null,null,null,null,null,null,0,0,0,{"$error":"#DIV/0!"}]
["Count of objects",{"$f":"COUNT(B5:B34)","v":15},{"$f":"COUNT(C5:C34)","v":14},{"$f":"COUNT(D5:D34)","v":14},14,14,14,14,14,14,14,14,14,14,14,14,14,14,14,14,14,14,14,14,14,14,14,14,14,14,14,14,14,14,14,14,0,0,0,0,0,0,0,0,0,0,0,0,0,0,0,0,0,0,0,0,0,0,0,0,0,0,0,0,0,0,0,{"$f":"COUNT(BP5:BP34)","v":0},0,0,0,0,0,0,0,0,0,0,0]
["Detected",null,{"$f":"SUM(C5:C34)","v":5},{"$f":"SUM(D5:D34)","v":8},5,7,7,9,8,8,7,9,7,7,7,8,8,7,6,5,6,7,7,8,5,7,6,7,7,6,3,5,8,6,3,7,0,0,0,0,0,0,0,0,0,0,0,0,0,0,0,0,0,0,0,0,0,0,0,0,0,0,0,0,0,0,0,{"$f":"SUM(BP5:BP34)","v":0},0,0,0,0,0,0,0,0,0,0,0]
["% Detected",null,{"$f":"IF(C35=0,\"\",C36/C35)","v":0.35714285714285715},{"$f":"IF(D35=0,\"\",D36/D35)","v":0.5714285714285714},0.35714285714285715,0.5,0.5,0.6428571428571429,0.5714285714285714,0.5714285714285714,0.5,0.6428571428571429,0.5,0.5,0.5,0.5714285714285714,0.5714285714285714,0.5,0.42857142857142855,0.35714285714285715,0.42857142857142855,0.5,0.5,0.5714285714285714,0.35714285714285715,0.5,0.42857142857142855,0.5,0.5,0.42857142857142855,0.21428571428571427,0.35714285714285715,0.5714285714285714,0.42857142857142855,0.21428571428571427,0.5,"","","","","","","","","","","","","","","","","","","","","","","","","","","","","","","",{"$f":"IF(BP35=0,\"\",BP36/BP35)","v":""},"","","","","","","","","","",""]
["Count of searchers",{"$f":"COUNT(C37:CA37)","v":34}]

{"sheet":"25. Data Input Object # 3","index":25,"n_rows":38,"n_cols":83,"rows_kept":38,"cut":false,"hidden":false,"merged":[[1,0,1,27]]}
["Data Input Search Object Type # 3",null,null,null,null,null,null,null,null,null,{"$f":"IF('2. Search Object Types'!J22>=3,'2. Search Object Types'!M30,\"Not applicable\")","v":"Clue Low-Visibility"}]
["Instructions: The purpose of this worksheet is to enter each searcher's detections and non-detections, scored on the Detection Scoring (Worksheet # 22) form for Search Object Type # 3.  From Detection Scoring (Worksheet #22) of each searcher, enter the search object location number in the \"Location #\" column.  From Object Placement and Chart (Worksheet # 10) enter the lateral range of the location number (for each Search Object Type # 3 that was placed in the experiment).  From each Searcher Profile (Worksheet # 20), enter each searcher number assigned.  For each search object and searcher interaction record either a \"1\" if a valid detection occurred (scored on the detection summary form), or a \"0\" if the object was not detected.  Leave other cells blank if no object placed."]
[null,null,"Searcher Number"]
["Location #","LR",1,2,3,4,5,6,7,8,9,10,11,12,13,14,15,16,17,18,19,20,21,22,23,24,25,26,27,28,29,30,31,32,33,34,35,36,37,38,39,40,41,42,43,44,45,46,47,48,49,50,51,52,53,54,55,56,57,58,59,60,61,62,63,64,65,66,67,68,69,70,71,72,73,74,75,76,77,"Count","Detections","Misses","% Detected"]
[3,9,1,1,1,1,1,1,1,1,0,1,1,1,1,1,1,1,1,1,1,1,1,1,0,1,1,1,1,1,0,0,1,1,0,1,null,null,null,null,null,null,null,null,null,null,null,null,null,null,null,null,null,null,null,null,null,null,null,null,null,null,null,null,null,null,null,null,null,null,null,null,null,null,null,null,null,null,null,{"$f":"COUNT(C5:CA5)","v":34},{"$f":"SUM(C5:CA5)","v":29},{"$f":"CB5-CC5","v":5},{"$f":"CC5/CB5","v":0.8529411764705882}]
[7,18,1,1,0,0,0,1,1,1,1,1,1,1,1,1,1,1,1,1,1,1,1,1,1,0,1,1,0,1,0,1,1,0,0,0,null,null,null,null,null,null,null,null,null,null,null,null,null,null,null,null,null,null,null,null,null,null,null,null,null,null,null,null,null,null,null,null,null,null,null,null,null,null,null,null,null,null,null,34,25,9,0.73529411764705888]
[13,0.37,1,0,0,0,0,1,1,0,0,0,0,1,0,0,0,1,1,0,1,0,0,0,0,0,1,0,1,1,0,0,0,1,1,0,null,null,null,null,null,null,null,null,null,null,null,null,null,null,null,null,null,null,null,null,null,null,null,null,null,null,null,null,null,null,null,null,null,null,null,null,null,null,null,null,null,null,null,34,12,22,0.35294117647058826]
[18,18,0,0,0,0,0,0,0,0,0,0,0,0,0,0,0,0,0,0,0,0,0,0,0,0,0,0,0,0,0,0,0,0,0,0,null,null,null,null,null,null,null,null,null,null,null,null,null,null,null,null,null,null,null,null,null,null,null,null,null,null,null,null,null,null,null,null,null,null,null,null,null,null,null,null,null,null,null,34,0,34,0]
[23,8,0,0,0,0,0,0,1,0,0,1,0,0,1,0,0,0,0,0,0,0,0,0,0,0,0,0,0,0,0,0,0,0,0,0,null,null,null,null,null,null,null,null,null,null,null,null,null,null,null,null,null,null,null,null,null,null,null,null,null,null,null,null,null,null,null,null,null,null,null,null,null,null,null,null,null,null,null,34,3,31,8.8235294117647065E-2]
[25,5,1,1,1,1,1,1,1,1,1,1,1,1,1,1,1,1,1,1,1,0,1,1,1,1,1,1,1,1,1,1,1,1,0,1,null,null,null,null,null,null,null,null,null,null,null,null,null,null,null,null,null,null,null,null,null,null,null,null,null,null,null,null,null,null,null,null,null,null,null,null,null,null,null,null,null,null,null,34,32,2,0.94117647058823528]
[27,14,0,0,0,0,0,0,0,0,0,0,1,0,0,0,0,1,0,0,0,0,0,0,0,0,0,0,0,0,0,0,0,0,0,0,null,null,null,null,null,null,null,null,null,null,null,null,null,null,null,null,null,null,null,null,null,null,null,null,null,null,null,null,null,null,null,null,null,null,null,null,null,null,null,null,null,null,null,34,2,32,5.8823529411764705E-2]
[28,11,0,0,0,0,0,0,1,0,0,0,0,0,0,0,0,0,0,0,0,0,0,0,0,0,0,0,0,0,0,0,0,0,0,0,null,null,null,null,null,null,null,null,null,null,null,null,null,null,null,null,null,null,null,null,null,null,null,null,null,null,null,null,null,null,null,null,null,null,null,null,null,null,null,null,null,null,null,34,1,33,2.9411764705882353E-2]
[29,6,1,1,0,1,0,1,1,1,1,0,1,1,1,1,1,1,0,0,1,1,1,0,1,1,1,1,1,1,1,1,1,1,0,1,null,null,null,null,null,null,null,null,null,null,null,null,null,null,null,null,null,null,null,null,null,null,null,null,null,null,null,null,null,null,null,null,null,null,null,null,null,null,null,null,null,null,null,34,27,7,0.79411764705882348]
[34,1,1,1,0,0,1,1,1,0,0,1,0,1,1,0,0,1,0,0,0,1,0,1,0,1,1,0,1,1,1,0,0,1,1,1,null,null,null,null,null,null,null,null,null,null,null,null,null,null,null,null,null,null,null,null,null,null,null,null,null,null,null,null,null,null,null,null,null,null,null,null,null,null,null,null,null,null,null,34,19,15,0.55882352941176472]
[35,14,0,0,0,0,0,0,0,0,0,0,0,0,0,0,0,0,0,0,0,0,0,0,0,0,0,0,1,0,0,0,0,0,0,0,null,null,null,null,null,null,null,null,null,null,null,null,null,null,null,null,null,null,null,null,null,null,null,null,null,null,null,null,null,null,null,null,null,null,null,null,null,null,null,null,null,null,null,34,1,33,2.9411764705882353E-2]
[37,8,0,0,0,0,0,0,1,0,0,0,0,1,0,1,0,0,0,0,0,0,0,0,0,1,0,0,0,0,0,0,0,0,0,0,null,null,null,null,null,null,null,null,null,null,null,null,null,null,null,null,null,null,null,null,null,null,null,null,null,null,null,null,null,null,null,null,null,null,null,null,null,null,null,null,null,null,null,34,4,30,0.11764705882352941]
[40,5,0,1,0,0,1,1,1,0,1,1,0,1,1,1,1,1,1,1,1,1,1,0,1,0,0,1,1,1,1,1,1,1,0,0,null,null,null,null,null,null,null,null,null,null,null,null,null,null,null,null,null,null,null,null,null,null,null,null,null,null,null,null,null,null,null,null,null,null,null,null,null,null,null,null,null,null,null,{"$f":"COUNT(C17:CA17)","v":34},{"$f":"SUM(C17:CA17)","v":24},{"$f":"CB17-CC17","v":10},{"$f":"CC17/CB17","v":0.70588235294117652}]
[42,6,1,0,0,0,0,0,1,1,0,0,0,1,0,0,0,1,0,1,1,0,0,0,0,1,0,0,0,0,0,0,1,0,0,0,null,null,null,null,null,null,null,null,null,null,null,null,null,null,null,null,null,null,null,null,null,null,null,null,null,null,null,null,null,null,null,null,null,null,null,null,null,null,null,null,null,null,null,{"$f":"COUNT(C18:CA18)","v":34},{"$f":"SUM(C18:CA18)","v":9},{"$f":"CB18-CC18","v":25},{"$f":"CC18/CB18","v":0.26470588235294118}]
["43v ???",0.37,null,null,null,null,null,null,null,null,null,null,null,null,null,null,null,null,null,null,null,null,null,null,null,null,null,null,null,null,null,null,null,null,null,null,null,null,null,null,null,null,null,null,null,null,null,null,null,null,null,null,null,null,null,null,null,null,null,null,null,null,null,null,null,null,null,null,null,null,null,null,null,null,null,null,null,null,null,{"$f":"COUNT(C19:CA19)","v":0},{"$f":"SUM(C19:CA19)","v":0},{"$f":"CB19-CC19","v":0},{"$f":"CC19/CB19","v":{"$error":"#DIV/0!"}}]
["45v",14,0,0,0,0,0,0,0,0,0,0,0,0,0,0,0,0,0,0,0,0,0,0,0,0,0,0,0,0,0,0,0,0,0,0,null,null,null,null,null,null,null,null,null,null,null,null,null,null,null,null,null,null,null,null,null,null,null,null,null,null,null,null,null,null,null,null,null,null,null,null,null,null,null,null,null,null,null,{"$f":"COUNT(C20:CA20)","v":34},{"$f":"SUM(C20:CA20)","v":0},{"$f":"CB20-CC20","v":34},{"$f":"CC20/CB20","v":0}]
[null,null,null,null,null,null,null,null,null,null,null,null,null,null,null,null,null,null,null,null,null,null,null,null,null,null,null,null,null,null,null,null,null,null,null,null,null,null,null,null,null,null,null,null,null,null,null,null,null,null,null,null,null,null,null,null,null,null,null,null,null,null,null,null,null,null,null,null,null,null,null,null,null,null,null,null,null,null,null,{"$f":"COUNT(C21:CA21)","v":0},{"$f":"SUM(C21:CA21)","v":0},{"$f":"CB21-CC21","v":0},{"$f":"CC21/CB21","v":{"$error":"#DIV/0!"}}]
[null,null,null,null,null,null,null,null,null,null,null,null,null,null,null,null,null,null,null,null,null,null,null,null,null,null,null,null,null,null,null,null,null,null,null,null,null,null,null,null,null,null,null,null,null,null,null,null,null,null,null,null,null,null,null,null,null,null,null,null,null,null,null,null,null,null,null,null,null,null,null,null,null,null,null,null,null,null,null,0,0,0,{"$error":"#DIV/0!"}]
[null,null,null,null,null,null,null,null,null,null,null,null,null,null,null,null,null,null,null,null,null,null,null,null,null,null,null,null,null,null,null,null,null,null,null,null,null,null,null,null,null,null,null,null,null,null,null,null,null,null,null,null,null,null,null,null,null,null,null,null,null,null,null,null,null,null,null,null,null,null,null,null,null,null,null,null,null,null,null,0,0,0,{"$error":"#DIV/0!"}]
[null,null,null,null,null,null,null,null,null,null,null,null,null,null,null,null,null,null,null,null,null,null,null,null,null,null,null,null,null,null,null,null,null,null,null,null,null,null,null,null,null,null,null,null,null,null,null,null,null,null,null,null,null,null,null,null,null,null,null,null,null,null,null,null,null,null,null,null,null,null,null,null,null,null,null,null,null,null,null,0,0,0,{"$error":"#DIV/0!"}]
[null,null,null,null,null,null,null,null,null,null,null,null,null,null,null,null,null,null,null,null,null,null,null,null,null,null,null,null,null,null,null,null,null,null,null,null,null,null,null,null,null,null,null,null,null,null,null,null,null,null,null,null,null,null,null,null,null,null,null,null,null,null,null,null,null,null,null,null,null,null,null,null,null,null,null,null,null,null,null,0,0,0,{"$error":"#DIV/0!"}]
[null,null,null,null,null,null,null,null,null,null,null,null,null,null,null,null,null,null,null,null,null,null,null,null,null,null,null,null,null,null,null,null,null,null,null,null,null,null,null,null,null,null,null,null,null,null,null,null,null,null,null,null,null,null,null,null,null,null,null,null,null,null,null,null,null,null,null,null,null,null,null,null,null,null,null,null,null,null,null,0,0,0,{"$error":"#DIV/0!"}]
[null,null,null,null,null,null,null,null,null,null,null,null,null,null,null,null,null,null,null,null,null,null,null,null,null,null,null,null,null,null,null,null,null,null,null,null,null,null,null,null,null,null,null,null,null,null,null,null,null,null,null,null,null,null,null,null,null,null,null,null,null,null,null,null,null,null,null,null,null,null,null,null,null,null,null,null,null,null,null,0,0,0,{"$error":"#DIV/0!"}]
[null,null,null,null,null,null,null,null,null,null,null,null,null,null,null,null,null,null,null,null,null,null,null,null,null,null,null,null,null,null,null,null,null,null,null,null,null,null,null,null,null,null,null,null,null,null,null,null,null,null,null,null,null,null,null,null,null,null,null,null,null,null,null,null,null,null,null,null,null,null,null,null,null,null,null,null,null,null,null,0,0,0,{"$error":"#DIV/0!"}]
[null,null,null,null,null,null,null,null,null,null,null,null,null,null,null,null,null,null,null,null,null,null,null,null,null,null,null,null,null,null,null,null,null,null,null,null,null,null,null,null,null,null,null,null,null,null,null,null,null,null,null,null,null,null,null,null,null,null,null,null,null,null,null,null,null,null,null,null,null,null,null,null,null,null,null,null,null,null,null,0,0,0,{"$error":"#DIV/0!"}]
[null,null,null,null,null,null,null,null,null,null,null,null,null,null,null,null,null,null,null,null,null,null,null,null,null,null,null,null,null,null,null,null,null,null,null,null,null,null,null,null,null,null,null,null,null,null,null,null,null,null,null,null,null,null,null,null,null,null,null,null,null,null,null,null,null,null,null,null,null,null,null,null,null,null,null,null,null,null,null,0,0,0,{"$error":"#DIV/0!"}]
[null,null,null,null,null,null,null,null,null,null,null,null,null,null,null,null,null,null,null,null,null,null,null,null,null,null,null,null,null,null,null,null,null,null,null,null,null,null,null,null,null,null,null,null,null,null,null,null,null,null,null,null,null,null,null,null,null,null,null,null,null,null,null,null,null,null,null,null,null,null,null,null,null,null,null,null,null,null,null,0,0,0,{"$error":"#DIV/0!"}]
[null,null,null,null,null,null,null,null,null,null,null,null,null,null,null,null,null,null,null,null,null,null,null,null,null,null,null,null,null,null,null,null,null,null,null,null,null,null,null,null,null,null,null,null,null,null,null,null,null,null,null,null,null,null,null,null,null,null,null,null,null,null,null,null,null,null,null,null,null,null,null,null,null,null,null,null,null,null,null,0,0,0,{"$error":"#DIV/0!"}]
[null,null,null,null,null,null,null,null,null,null,null,null,null,null,null,null,null,null,null,null,null,null,null,null,null,null,null,null,null,null,null,null,null,null,null,null,null,null,null,null,null,null,null,null,null,null,null,null,null,null,null,null,null,null,null,null,null,null,null,null,null,null,null,null,null,null,null,null,null,null,null,null,null,null,null,null,null,null,null,0,0,0,{"$error":"#DIV/0!"}]
[null,null,null,null,null,null,null,null,null,null,null,null,null,null,null,null,null,null,null,null,null,null,null,null,null,null,null,null,null,null,null,null,null,null,null,null,null,null,null,null,null,null,null,null,null,null,null,null,null,null,null,null,null,null,null,null,null,null,null,null,null,null,null,null,null,null,null,null,null,null,null,null,null,null,null,null,null,null,null,0,0,0,{"$error":"#DIV/0!"}]
["Count of objects",{"$f":"COUNT(B5:B34)","v":16},{"$f":"COUNT(C5:C34)","v":15},15,15,15,15,15,15,15,15,15,15,15,15,15,15,15,15,15,15,15,15,15,15,15,15,15,15,15,15,15,15,15,{"$f":"COUNT(AI5:AI34)","v":15},15,0,0,0,0,0,0,0,0,0,0,0,0,0,0,0,0,0,0,0,0,0,0,0,0,0,0,0,0,0,0,{"$f":"COUNT(BO5:BO34)","v":0},0,0,0,0,0,0,0,0,0,0,0,0]
["Detected",null,{"$f":"SUM(C5:C34)","v":7},6,2,3,4,7,11,5,4,6,5,9,7,6,5,9,5,5,7,5,5,4,4,6,6,5,7,7,4,4,6,6,{"$f":"SUM(AI5:AI34)","v":2},4,0,0,0,0,0,0,0,0,0,0,0,0,0,0,0,0,0,0,0,0,0,0,0,0,0,0,0,0,0,0,{"$f":"SUM(BO5:BO34)","v":0},0,0,0,0,0,0,0,0,0,0,0,0]
["% Detected",null,{"$f":"IF(C35=0,\"\",C36/C35)","v":0.46666666666666667},{"$f":"IF(D35=0,\"\",D36/D35)","v":0.4},0.13333333333333333,0.2,0.26666666666666666,0.46666666666666667,0.73333333333333328,0.33333333333333331,0.26666666666666666,0.4,0.33333333333333331,0.6,0.46666666666666667,0.4,0.33333333333333331,0.6,0.33333333333333331,0.33333333333333331,0.46666666666666667,0.33333333333333331,0.33333333333333331,0.26666666666666666,0.26666666666666666,0.4,0.4,0.33333333333333331,0.46666666666666667,0.46666666666666667,0.26666666666666666,0.26666666666666666,0.4,0.4,0.13333333333333333,0.26666666666666666,"","","","","","","","","","","","","","","","","","","","","","","","","","","","","","","",{"$f":"IF(BP35=0,\"\",BP36/BP35)","v":""},"","","","","","","","","","",""]
["Count of searchers",{"$f":"COUNT(C37:CA37)","v":34}]

{"sheet":"26. Data Input Object # 4","index":26,"n_rows":38,"n_cols":83,"rows_kept":38,"cut":false,"hidden":false,"merged":[[1,0,1,27]]}
["Data Input Search Object Type # 4",null,null,null,null,null,null,null,null,null,{"$f":"IF('2. Search Object Types'!J22=4,'2. Search Object Types'!M32,\"Not applicable\")","v":"Not applicable"}]
["Instructions: The purpose of this worksheet is to enter each searcher's detections and non-detections, scored on the Detection Scoring (Worksheet # 22) form for Search Object Type # 4.  From Detection Scoring (Worksheet #22) of each searcher, enter the search object location number in the \"Location #\" column.  From Object Placement and Chart (Worksheet # 10) enter the lateral range of the location number (for each Search Object Type # 4 that was placed in the experiment).  From each Searcher Profile (Worksheet # 20), enter each searcher number assigned.  For each search object and searcher interaction record either a \"1\" if a valid detection occurred (scored on the detection summary form), or a \"0\" if the object was not detected.  Leave other cells blank if no object placed."]
[null,null,"Searcher Number"]
["Location #","LR",1,2,3,4,5,6,7,8,9,10,11,12,13,14,15,16,17,18,19,20,21,22,23,24,25,26,27,28,29,30,31,32,33,34,35,36,37,38,39,40,41,42,43,44,45,46,47,48,49,50,51,52,53,54,55,56,57,58,59,60,61,62,63,64,65,66,67,68,69,70,71,72,73,74,75,76,77,"Count","Detections","Misses","% Detected"]
[null,null,null,null,null,null,null,null,null,null,null,null,null,null,null,null,null,null,null,null,null,null,null,null,null,null,null,null,null,null,null,null,null,null,null,null,null,null,null,null,null,null,null,null,null,null,null,null,null,null,null,null,null,null,null,null,null,null,null,null,null,null,null,null,null,null,null,null,null,null,null,null,null,null,null,null,null,null,null,{"$f":"COUNT(C5:CA5)","v":0},{"$f":"SUM(C5:CA5)","v":0},{"$f":"CB5-CC5","v":0},{"$f":"CC5/CB5","v":{"$error":"#DIV/0!"}}]
[null,null,null,null,null,null,null,null,null,null,null,null,null,null,null,null,null,null,null,null,null,null,null,null,null,null,null,null,null,null,null,null,null,null,null,null,null,null,null,null,null,null,null,null,null,null,null,null,null,null,null,null,null,null,null,null,null,null,null,null,null,null,null,null,null,null,null,null,null,null,null,null,null,null,null,null,null,null,null,0,0,0,{"$error":"#DIV/0!"}]
[null,null,null,null,null,null,null,null,null,null,null,null,null,null,null,null,null,null,null,null,null,null,null,null,null,null,null,null,null,null,null,null,null,null,null,null,null,null,null,null,null,null,null,null,null,null,null,null,null,null,null,null,null,null,null,null,null,null,null,null,null,null,null,null,null,null,null,null,null,null,null,null,null,null,null,null,null,null,null,0,0,0,{"$error":"#DIV/0!"}]
[null,null,null,null,null,null,null,null,null,null,null,null,null,null,null,null,null,null,null,null,null,null,null,null,null,null,null,null,null,null,null,null,null,null,null,null,null,null,null,null,null,null,null,null,null,null,null,null,null,null,null,null,null,null,null,null,null,null,null,null,null,null,null,null,null,null,null,null,null,null,null,null,null,null,null,null,null,null,null,0,0,0,{"$error":"#DIV/0!"}]
[null,null,null,null,null,null,null,null,null,null,null,null,null,null,null,null,null,null,null,null,null,null,null,null,null,null,null,null,null,null,null,null,null,null,null,null,null,null,null,null,null,null,null,null,null,null,null,null,null,null,null,null,null,null,null,null,null,null,null,null,null,null,null,null,null,null,null,null,null,null,null,null,null,null,null,null,null,null,null,0,0,0,{"$error":"#DIV/0!"}]
[null,null,null,null,null,null,null,null,null,null,null,null,null,null,null,null,null,null,null,null,null,null,null,null,null,null,null,null,null,null,null,null,null,null,null,null,null,null,null,null,null,null,null,null,null,null,null,null,null,null,null,null,null,null,null,null,null,null,null,null,null,null,null,null,null,null,null,null,null,null,null,null,null,null,null,null,null,null,null,0,0,0,{"$error":"#DIV/0!"}]
[null,null,null,null,null,null,null,null,null,null,null,null,null,null,null,null,null,null,null,null,null,null,null,null,null,null,null,null,null,null,null,null,null,null,null,null,null,null,null,null,null,null,null,null,null,null,null,null,null,null,null,null,null,null,null,null,null,null,null,null,null,null,null,null,null,null,null,null,null,null,null,null,null,null,null,null,null,null,null,0,0,0,{"$error":"#DIV/0!"}]
[null,null,null,null,null,null,null,null,null,null,null,null,null,null,null,null,null,null,null,null,null,null,null,null,null,null,null,null,null,null,null,null,null,null,null,null,null,null,null,null,null,null,null,null,null,null,null,null,null,null,null,null,null,null,null,null,null,null,null,null,null,null,null,null,null,null,null,null,null,null,null,null,null,null,null,null,null,null,null,0,0,0,{"$error":"#DIV/0!"}]
[null,null,null,null,null,null,null,null,null,null,null,null,null,null,null,null,null,null,null,null,null,null,null,null,null,null,null,null,null,null,null,null,null,null,null,null,null,null,null,null,null,null,null,null,null,null,null,null,null,null,null,null,null,null,null,null,null,null,null,null,null,null,null,null,null,null,null,null,null,null,null,null,null,null,null,null,null,null,null,0,0,0,{"$error":"#DIV/0!"}]
[null,null,null,null,null,null,null,null,null,null,null,null,null,null,null,null,null,null,null,null,null,null,null,null,null,null,null,null,null,null,null,null,null,null,null,null,null,null,null,null,null,null,null,null,null,null,null,null,null,null,null,null,null,null,null,null,null,null,null,null,null,null,null,null,null,null,null,null,null,null,null,null,null,null,null,null,null,null,null,0,0,0,{"$error":"#DIV/0!"}]
[null,null,null,null,null,null,null,null,null,null,null,null,null,null,null,null,null,null,null,null,null,null,null,null,null,null,null,null,null,null,null,null,null,null,null,null,null,null,null,null,null,null,null,null,null,null,null,null,null,null,null,null,null,null,null,null,null,null,null,null,null,null,null,null,null,null,null,null,null,null,null,null,null,null,null,null,null,null,null,0,0,0,{"$error":"#DIV/0!"}]
[null,null,null,null,null,null,null,null,null,null,null,null,null,null,null,null,null,null,null,null,null,null,null,null,null,null,null,null,null,null,null,null,null,null,null,null,null,null,null,null,null,null,null,null,null,null,null,null,null,null,null,null,null,null,null,null,null,null,null,null,null,null,null,null,null,null,null,null,null,null,null,null,null,null,null,null,null,null,null,0,0,0,{"$error":"#DIV/0!"}]
[null,null,null,null,null,null,null,null,null,null,null,null,null,null,null,null,null,null,null,null,null,null,null,null,null,null,null,null,null,null,null,null,null,null,null,null,null,null,null,null,null,null,null,null,null,null,null,null,null,null,null,null,null,null,null,null,null,null,null,null,null,null,null,null,null,null,null,null,null,null,null,null,null,null,null,null,null,null,null,0,0,0,{"$error":"#DIV/0!"}]
[null,null,null,null,null,null,null,null,null,null,null,null,null,null,null,null,null,null,null,null,null,null,null,null,null,null,null,null,null,null,null,null,null,null,null,null,null,null,null,null,null,null,null,null,null,null,null,null,null,null,null,null,null,null,null,null,null,null,null,null,null,null,null,null,null,null,null,null,null,null,null,null,null,null,null,null,null,null,null,0,0,0,{"$error":"#DIV/0!"}]
[null,null,null,null,null,null,null,null,null,null,null,null,null,null,null,null,null,null,null,null,null,null,null,null,null,null,null,null,null,null,null,null,null,null,null,null,null,null,null,null,null,null,null,null,null,null,null,null,null,null,null,null,null,null,null,null,null,null,null,null,null,null,null,null,null,null,null,null,null,null,null,null,null,null,null,null,null,null,null,0,0,0,{"$error":"#DIV/0!"}]
[null,null,null,null,null,null,null,null,null,null,null,null,null,null,null,null,null,null,null,null,null,null,null,null,null,null,null,null,null,null,null,null,null,null,null,null,null,null,null,null,null,null,null,null,null,null,null,null,null,null,null,null,null,null,null,null,null,null,null,null,null,null,null,null,null,null,null,null,null,null,null,null,null,null,null,null,null,null,null,0,0,0,{"$error":"#DIV/0!"}]
[null,null,null,null,null,null,null,null,null,null,null,null,null,null,null,null,null,null,null,null,null,null,null,null,null,null,null,null,null,null,null,null,null,null,null,null,null,null,null,null,null,null,null,null,null,null,null,null,null,null,null,null,null,null,null,null,null,null,null,null,null,null,null,null,null,null,null,null,null,null,null,null,null,null,null,null,null,null,null,0,0,0,{"$error":"#DIV/0!"}]
[null,null,null,null,null,null,null,null,null,null,null,null,null,null,null,null,null,null,null,null,null,null,null,null,null,null,null,null,null,null,null,null,null,null,null,null,null,null,null,null,null,null,null,null,null,null,null,null,null,null,null,null,null,null,null,null,null,null,null,null,null,null,null,null,null,null,null,null,null,null,null,null,null,null,null,null,null,null,null,0,0,0,{"$error":"#DIV/0!"}]
[null,null,null,null,null,null,null,null,null,null,null,null,null,null,null,null,null,null,null,null,null,null,null,null,null,null,null,null,null,null,null,null,null,null,null,null,null,null,null,null,null,null,null,null,null,null,null,null,null,null,null,null,null,null,null,null,null,null,null,null,null,null,null,null,null,null,null,null,null,null,null,null,null,null,null,null,null,null,null,0,0,0,{"$error":"#DIV/0!"}]
[null,null,null,null,null,null,null,null,null,null,null,null,null,null,null,null,null,null,null,null,null,null,null,null,null,null,null,null,null,null,null,null,null,null,null,null,null,null,null,null,null,null,null,null,null,null,null,null,null,null,null,null,null,null,null,null,null,null,null,null,null,null,null,null,null,null,null,null,null,null,null,null,null,null,null,null,null,null,null,0,0,0,{"$error":"#DIV/0!"}]
[null,null,null,null,null,null,null,null,null,null,null,null,null,null,null,null,null,null,null,null,null,null,null,null,null,null,null,null,null,null,null,null,null,null,null,null,null,null,null,null,null,null,null,null,null,null,null,null,null,null,null,null,null,null,null,null,null,null,null,null,null,null,null,null,null,null,null,null,null,null,null,null,null,null,null,null,null,null,null,{"$f":"COUNT(C25:CA25)","v":0},{"$f":"SUM(C25:CA25)","v":0},{"$f":"CB25-CC25","v":0},{"$f":"CC25/CB25","v":{"$error":"#DIV/0!"}}]
[null,null,null,null,null,null,null,null,null,null,null,null,null,null,null,null,null,null,null,null,null,null,null,null,null,null,null,null,null,null,null,null,null,null,null,null,null,null,null,null,null,null,null,null,null,null,null,null,null,null,null,null,null,null,null,null,null,null,null,null,null,null,null,null,null,null,null,null,null,null,null,null,null,null,null,null,null,null,null,{"$f":"COUNT(C26:CA26)","v":0},{"$f":"SUM(C26:CA26)","v":0},{"$f":"CB26-CC26","v":0},{"$f":"CC26/CB26","v":{"$error":"#DIV/0!"}}]
[null,null,null,null,null,null,null,null,null,null,null,null,null,null,null,null,null,null,null,null,null,null,null,null,null,null,null,null,null,null,null,null,null,null,null,null,null,null,null,null,null,null,null,null,null,null,null,null,null,null,null,null,null,null,null,null,null,null,null,null,null,null,null,null,null,null,null,null,null,null,null,null,null,null,null,null,null,null,null,{"$f":"COUNT(C27:CA27)","v":0},{"$f":"SUM(C27:CA27)","v":0},{"$f":"CB27-CC27","v":0},{"$f":"CC27/CB27","v":{"$error":"#DIV/0!"}}]
[null,null,null,null,null,null,null,null,null,null,null,null,null,null,null,null,null,null,null,null,null,null,null,null,null,null,null,null,null,null,null,null,null,null,null,null,null,null,null,null,null,null,null,null,null,null,null,null,null,null,null,null,null,null,null,null,null,null,null,null,null,null,null,null,null,null,null,null,null,null,null,null,null,null,null,null,null,null,null,{"$f":"COUNT(C28:CA28)","v":0},{"$f":"SUM(C28:CA28)","v":0},{"$f":"CB28-CC28","v":0},{"$f":"CC28/CB28","v":{"$error":"#DIV/0!"}}]
[null,null,null,null,null,null,null,null,null,null,null,null,null,null,null,null,null,null,null,null,null,null,null,null,null,null,null,null,null,null,null,null,null,null,null,null,null,null,null,null,null,null,null,null,null,null,null,null,null,null,null,null,null,null,null,null,null,null,null,null,null,null,null,null,null,null,null,null,null,null,null,null,null,null,null,null,null,null,null,{"$f":"COUNT(C29:CA29)","v":0},{"$f":"SUM(C29:CA29)","v":0},{"$f":"CB29-CC29","v":0},{"$f":"CC29/CB29","v":{"$error":"#DIV/0!"}}]
[null,null,null,null,null,null,null,null,null,null,null,null,null,null,null,null,null,null,null,null,null,null,null,null,null,null,null,null,null,null,null,null,null,null,null,null,null,null,null,null,null,null,null,null,null,null,null,null,null,null,null,null,null,null,null,null,null,null,null,null,null,null,null,null,null,null,null,null,null,null,null,null,null,null,null,null,null,null,null,0,0,0,{"$error":"#DIV/0!"}]
[null,null,null,null,null,null,null,null,null,null,null,null,null,null,null,null,null,null,null,null,null,null,null,null,null,null,null,null,null,null,null,null,null,null,null,null,null,null,null,null,null,null,null,null,null,null,null,null,null,null,null,null,null,null,null,null,null,null,null,null,null,null,null,null,null,null,null,null,null,null,null,null,null,null,null,null,null,null,null,0,0,0,{"$error":"#DIV/0!"}]
[null,null,null,null,null,null,null,null,null,null,null,null,null,null,null,null,null,null,null,null,null,null,null,null,null,null,null,null,null,null,null,null,null,null,null,null,null,null,null,null,null,null,null,null,null,null,null,null,null,null,null,null,null,null,null,null,null,null,null,null,null,null,null,null,null,null,null,null,null,null,null,null,null,null,null,null,null,null,null,0,0,0,{"$error":"#DIV/0!"}]
[null,null,null,null,null,null,null,null,null,null,null,null,null,null,null,null,null,null,null,null,null,null,null,null,null,null,null,null,null,null,null,null,null,null,null,null,null,null,null,null,null,null,null,null,null,null,null,null,null,null,null,null,null,null,null,null,null,null,null,null,null,null,null,null,null,null,null,null,null,null,null,null,null,null,null,null,null,null,null,0,0,0,{"$error":"#DIV/0!"}]
[null,null,null,null,null,null,null,null,null,null,null,null,null,null,null,null,null,null,null,null,null,null,null,null,null,null,null,null,null,null,null,null,null,null,null,null,null,null,null,null,null,null,null,null,null,null,null,null,null,null,null,null,null,null,null,null,null,null,null,null,null,null,null,null,null,null,null,null,null,null,null,null,null,null,null,null,null,null,null,0,0,0,{"$error":"#DIV/0!"}]
["Count of objects",{"$f":"COUNT(B5:B34)","v":0},{"$f":"COUNT(C5:C34)","v":0},{"$f":"COUNT(D5:D34)","v":0},0,0,0,0,0,0,0,0,0,0,0,0,0,0,0,0,0,0,0,0,0,0,0,0,0,0,0,0,0,0,{"$f":"COUNT(AI5:AI34)","v":0},0,0,0,0,0,0,0,0,0,0,0,0,0,0,0,0,0,0,0,0,0,0,0,0,0,0,0,0,0,0,0,{"$f":"COUNT(BO5:BO34)","v":0},0,0,0,0,0,0,0,0,0,0,0,0]
["Detected",null,{"$f":"SUM(C5:C34)","v":0},0,0,0,0,0,0,0,0,0,0,0,0,0,0,0,0,0,0,0,0,0,0,0,0,0,0,0,0,0,0,0,{"$f":"SUM(AI5:AI34)","v":0},0,0,0,0,0,0,0,0,0,0,0,0,0,0,0,0,0,0,0,0,0,0,0,0,0,0,0,0,0,0,0,{"$f":"SUM(BO5:BO34)","v":0},0,0,0,0,0,0,0,0,0,0,0,0]
["% Detected",null,{"$f":"IF(C35=0,\"\",C36/C35)","v":""},{"$f":"IF(D35=0,\"\",D36/D35)","v":""},"","","","","","","","","","","","","","","","","","","","","","","","","","","","","","","","","","","","","","","","","","","","","","","","","","","","","","","","","","","","","","","",{"$f":"IF(BP35=0,\"\",BP36/BP35)","v":""},"","","","","","","","","","",""]
["Count of searchers",{"$f":"COUNT(C37:CA37)","v":0}]

{"sheet":"27. Searcher Profile Data","index":27,"n_rows":54,"n_cols":78,"rows_kept":54,"cut":false,"hidden":false,"merged":[]}
["Searcher Profile Data Entry"]
[]
[]
[null,"Searcher Number"]
["Searcher Characteristic",1,2,3,4,5,6,7,8,9,10,11,12,13,14,15,16,17,18,19,20,21,22,23,24,25,26,27,28,29,30,31,32,33,34,35,36,37,38,39,40,41,42,43,44,45,46,47,48,49,50,51,52,53,54,55,56,57,58,59,60,61,62,63,64,65,66,67,68,69,70,71,72,73,74,75,76,77]
["Age (in years)"]
["Gender (M or F)"]
["Years in SAR"]
["# of SAR Searches"]
["# of Searches in a field"]
["Regular Occupation"]
["Avg # of Searches",{"$f":"IF(B8=0,\"\",B9/B8)","v":""},{"$f":"IF(C8=0,\"\",C9/C8)","v":""},"","","","","","","","","","","","","","","","","","","","","","","","","","","","","","","","","","","","","","","","","","","","","","","","","","","","","","","","","","","","","","","",{"$f":"IF(BO8=0,\"\",BO9/BO8)","v":""},"","","","","","","","","","",""]
["Primary SAR specialty"]
["SAR Certifications"]
["Height with boots"]
["Wear glasses"]
["Eyewear in field"]
["R eye visual acuity"]
["L eye visual acuity"]
["Colorblindness"]
["Hours on Task"]
["Speed compared to average",{"$f":"IF(B21=0,\"\",'9. Actual Experiment Design'!$G$9/B21)","v":""},{"$f":"IF(C21=0,\"\",'9. Actual Experiment Design'!$G$9/C21)","v":""},{"$f":"IF(D21=0,\"\",'9. Actual Experiment Design'!$G$9/D21)","v":""},{"$f":"IF(E21=0,\"\",'9. Actual Experiment Design'!$G$9/E21)","v":""},{"$f":"IF(F21=0,\"\",'9. Actual Experiment Design'!$G$9/F21)","v":""},{"$f":"IF(G21=0,\"\",'9. Actual Experiment Design'!$G$9/G21)","v":""},{"$f":"IF(H21=0,\"\",'9. Actual Experiment Design'!$G$9/H21)","v":""},{"$f":"IF(I21=0,\"\",'9. Actual Experiment Design'!$G$9/I21)","v":""},{"$f":"IF(J21=0,\"\",'9. Actual Experiment Design'!$G$9/J21)","v":""},{"$f":"IF(K21=0,\"\",'9. Actual Experiment Design'!$G$9/K21)","v":""},{"$f":"IF(L21=0,\"\",'9. Actual Experiment Design'!$G$9/L21)","v":""},{"$f":"IF(M21=0,\"\",'9. Actual Experiment Design'!$G$9/M21)","v":""},{"$f":"IF(N21=0,\"\",'9. Actual Experiment Design'!$G$9/N21)","v":""},{"$f":"IF(O21=0,\"\",'9. Actual Experiment Design'!$G$9/O21)","v":""},{"$f":"IF(P21=0,\"\",'9. Actual Experiment Design'!$G$9/P21)","v":""},{"$f":"IF(Q21=0,\"\",'9. Actual Experiment Design'!$G$9/Q21)","v":""},{"$f":"IF(R21=0,\"\",'9. Actual Experiment Design'!$G$9/R21)","v":""},{"$f":"IF(S21=0,\"\",'9. Actual Experiment Design'!$G$9/S21)","v":""},{"$f":"IF(T21=0,\"\",'9. Actual Experiment Design'!$G$9/T21)","v":""},{"$f":"IF(U21=0,\"\",'9. Actual Experiment Design'!$G$9/U21)","v":""},{"$f":"IF(V21=0,\"\",'9. Actual Experiment Design'!$G$9/V21)","v":""},{"$f":"IF(W21=0,\"\",'9. Actual Experiment Design'!$G$9/W21)","v":""},{"$f":"IF(X21=0,\"\",'9. Actual Experiment Design'!$G$9/X21)","v":""},{"$f":"IF(Y21=0,\"\",'9. Actual Experiment Design'!$G$9/Y21)","v":""},{"$f":"IF(Z21=0,\"\",'9. Actual Experiment Design'!$G$9/Z21)","v":""},{"$f":"IF(AA21=0,\"\",'9. Actual Experiment Design'!$G$9/AA21)","v":""},{"$f":"IF(AB21=0,\"\",'9. Actual Experiment Design'!$G$9/AB21)","v":""},{"$f":"IF(AC21=0,\"\",'9. Actual Experiment Design'!$G$9/AC21)","v":""},{"$f":"IF(AD21=0,\"\",'9. Actual Experiment Design'!$G$9/AD21)","v":""},{"$f":"IF(AE21=0,\"\",'9. Actual Experiment Design'!$G$9/AE21)","v":""},{"$f":"IF(AF21=0,\"\",'9. Actual Experiment Design'!$G$9/AF21)","v":""},{"$f":"IF(AG21=0,\"\",'9. Actual Experiment Design'!$G$9/AG21)","v":""},{"$f":"IF(AH21=0,\"\",'9. Actual Experiment Design'!$G$9/AH21)","v":""},{"$f":"IF(AI21=0,\"\",'9. Actual Experiment Design'!$G$9/AI21)","v":""},{"$f":"IF(AJ21=0,\"\",'9. Actual Experiment Design'!$G$9/AJ21)","v":""},{"$f":"IF(AK21=0,\"\",'9. Actual Experiment Design'!$G$9/AK21)","v":""},{"$f":"IF(AL21=0,\"\",'9. Actual Experiment Design'!$G$9/AL21)","v":""},{"$f":"IF(AM21=0,\"\",'9. Actual Experiment Design'!$G$9/AM21)","v":""},{"$f":"IF(AN21=0,\"\",'9. Actual Experiment Design'!$G$9/AN21)","v":""},{"$f":"IF(AO21=0,\"\",'9. Actual Experiment Design'!$G$9/AO21)","v":""},{"$f":"IF(AP21=0,\"\",'9. Actual Experiment Design'!$G$9/AP21)","v":""},{"$f":"IF(AQ21=0,\"\",'9. Actual Experiment Design'!$G$9/AQ21)","v":""},{"$f":"IF(AR21=0,\"\",'9. Actual Experiment Design'!$G$9/AR21)","v":""},{"$f":"IF(AS21=0,\"\",'9. Actual Experiment Design'!$G$9/AS21)","v":""},{"$f":"IF(AT21=0,\"\",'9. Actual Experiment Design'!$G$9/AT21)","v":""},{"$f":"IF(AU21=0,\"\",'9. Actual Experiment Design'!$G$9/AU21)","v":""},{"$f":"IF(AV21=0,\"\",'9. Actual Experiment Design'!$G$9/AV21)","v":""},{"$f":"IF(AW21=0,\"\",'9. Actual Experiment Design'!$G$9/AW21)","v":""},{"$f":"IF(AX21=0,\"\",'9. Actual Experiment Design'!$G$9/AX21)","v":""},{"$f":"IF(AY21=0,\"\",'9. Actual Experiment Design'!$G$9/AY21)","v":""},{"$f":"IF(AZ21=0,\"\",'9. Actual Experiment Design'!$G$9/AZ21)","v":""},{"$f":"IF(BA21=0,\"\",'9. Actual Experiment Design'!$G$9/BA21)","v":""},{"$f":"IF(BB21=0,\"\",'9. Actual Experiment Design'!$G$9/BB21)","v":""},{"$f":"IF(BC21=0,\"\",'9. Actual Experiment Design'!$G$9/BC21)","v":""},{"$f":"IF(BD21=0,\"\",'9. Actual Experiment Design'!$G$9/BD21)","v":""},{"$f":"IF(BE21=0,\"\",'9. Actual Experiment Design'!$G$9/BE21)","v":""},{"$f":"IF(BF21=0,\"\",'9. Actual Experiment Design'!$G$9/BF21)","v":""},{"$f":"IF(BG21=0,\"\",'9. Actual Experiment Design'!$G$9/BG21)","v":""},{"$f":"IF(BH21=0,\"\",'9. Actual Experiment Design'!$G$9/BH21)","v":""},{"$f":"IF(BI21=0,\"\",'9. Actual Experiment Design'!$G$9/BI21)","v":""},{"$f":"IF(BJ21=0,\"\",'9. Actual Experiment Design'!$G$9/BJ21)","v":""},{"$f":"IF(BK21=0,\"\",'9. Actual Experiment Design'!$G$9/BK21)","v":""},{"$f":"IF(BL21=0,\"\",'9. Actual Experiment Design'!$G$9/BL21)","v":""},{"$f":"IF(BM21=0,\"\",'9. Actual Experiment Design'!$G$9/BM21)","v":""},{"$f":"IF(BN21=0,\"\",'9. Actual Experiment Design'!$G$9/BN21)","v":""},{"$f":"IF(BO21=0,\"\",'9. Actual Experiment Design'!$G$9/BO21)","v":""},{"$f":"IF(BP21=0,\"\",'9. Actual Experiment Design'!$G$9/BP21)","v":""},{"$f":"IF(BQ21=0,\"\",'9. Actual Experiment Design'!$G$9/BQ21)","v":""},{"$f":"IF(BR21=0,\"\",'9. Actual Experiment Design'!$G$9/BR21)","v":""},{"$f":"IF(BS21=0,\"\",'9. Actual Experiment Design'!$G$9/BS21)","v":""},{"$f":"IF(BT21=0,\"\",'9. Actual Experiment Design'!$G$9/BT21)","v":""},{"$f":"IF(BU21=0,\"\",'9. Actual Experiment Design'!$G$9/BU21)","v":""},{"$f":"IF(BV21=0,\"\",'9. Actual Experiment Design'!$G$9/BV21)","v":""},{"$f":"IF(BW21=0,\"\",'9. Actual Experiment Design'!$G$9/BW21)","v":""},{"$f":"IF(BX21=0,\"\",'9. Actual Experiment Design'!$G$9/BX21)","v":""},{"$f":"IF(BY21=0,\"\",'9. Actual Experiment Design'!$G$9/BY21)","v":""},{"$f":"IF(BZ21=0,\"\",'9. Actual Experiment Design'!$G$9/BZ21)","v":""}]
["Morale self assessment"]
["Fatigue self assessment"]
["Self POD Object #1"]
["Self POD Object #2"]
["Self POD Object #3"]
["Self POD Object #4"]
["Actual POD Search Object Type #1",{"$f":"'23. Data Input Object # 1'!C37","v":0.41176470588235292},{"$f":"'23. Data Input Object # 1'!D37","v":0.41176470588235292},{"$f":"'23. Data Input Object # 1'!E37","v":0.47058823529411764},{"$f":"'23. Data Input Object # 1'!F37","v":0.47058823529411764},{"$f":"'23. Data Input Object # 1'!G37","v":0.52941176470588236},{"$f":"'23. Data Input Object # 1'!H37","v":0.41176470588235292},{"$f":"'23. Data Input Object # 1'!I37","v":0.52941176470588236},{"$f":"'23. Data Input Object # 1'!J37","v":0.41176470588235292},{"$f":"'23. Data Input Object # 1'!K37","v":0.47058823529411764},{"$f":"'23. Data Input Object # 1'!L37","v":0.35294117647058826},{"$f":"'23. Data Input Object # 1'!M37","v":0.58823529411764708},{"$f":"'23. Data Input Object # 1'!N37","v":0.47058823529411764},{"$f":"'23. Data Input Object # 1'!O37","v":0.41176470588235292},{"$f":"'23. Data Input Object # 1'!P37","v":0.47058823529411764},{"$f":"'23. Data Input Object # 1'!Q37","v":0.52941176470588236},{"$f":"'23. Data Input Object # 1'!R37","v":0.47058823529411764},{"$f":"'23. Data Input Object # 1'!S37","v":0.41176470588235292},{"$f":"'23. Data Input Object # 1'!T37","v":0.58823529411764708},{"$f":"'23. Data Input Object # 1'!U37","v":0.52941176470588236},{"$f":"'23. Data Input Object # 1'!V37","v":0.47058823529411764},{"$f":"'23. Data Input Object # 1'!W37","v":0.35294117647058826},{"$f":"'23. Data Input Object # 1'!X37","v":0.52941176470588236},{"$f":"'23. Data Input Object # 1'!Y37","v":0.35294117647058826},{"$f":"'23. Data Input Object # 1'!Z37","v":0.29411764705882354},{"$f":"'23. Data Input Object # 1'!AA37","v":0.41176470588235292},{"$f":"'23. Data Input Object # 1'!AB37","v":0.47058823529411764},{"$f":"'23. Data Input Object # 1'!AC37","v":0.47058823529411764},{"$f":"'23. Data Input Object # 1'!AD37","v":0.47058823529411764},{"$f":"'23. Data Input Object # 1'!AE37","v":0.29411764705882354},{"$f":"'23. Data Input Object # 1'!AF37","v":0.35294117647058826},{"$f":"'23. Data Input Object # 1'!AG37","v":0.52941176470588236},{"$f":"'23. Data Input Object # 1'!AH37","v":0.35294117647058826},{"$f":"'23. Data Input Object # 1'!AI37","v":0.23529411764705882},{"$f":"'23. Data Input Object # 1'!AJ37","v":0.47058823529411764},{"$f":"'23. Data Input Object # 1'!AK37","v":""},{"$f":"'23. Data Input Object # 1'!AL37","v":""},{"$f":"'23. Data Input Object # 1'!AM37","v":""},{"$f":"'23. Data Input Object # 1'!AN37","v":""},{"$f":"'23. Data Input Object # 1'!AO37","v":""},{"$f":"'23. Data Input Object # 1'!AP37","v":""},{"$f":"'23. Data Input Object # 1'!AQ37","v":""},{"$f":"'23. Data Input Object # 1'!AR37","v":""},{"$f":"'23. Data Input Object # 1'!AS37","v":""},{"$f":"'23. Data Input Object # 1'!AT37","v":""},{"$f":"'23. Data Input Object # 1'!AU37","v":""},{"$f":"'23. Data Input Object # 1'!AV37","v":""},{"$f":"'23. Data Input Object # 1'!AW37","v":""},{"$f":"'23. Data Input Object # 1'!AX37","v":""},{"$f":"'23. Data Input Object # 1'!AY37","v":""},{"$f":"'23. Data Input Object # 1'!AZ37","v":""},{"$f":"'23. Data Input Object # 1'!BA37","v":""},{"$f":"'23. Data Input Object # 1'!BB37","v":""},{"$f":"'23. Data Input Object # 1'!BC37","v":""},{"$f":"'23. Data Input Object # 1'!BD37","v":""},{"$f":"'23. Data Input Object # 1'!BE37","v":""},{"$f":"'23. Data Input Object # 1'!BF37","v":""},{"$f":"'23. Data Input Object # 1'!BG37","v":""},{"$f":"'23. Data Input Object # 1'!BH37","v":""},{"$f":"'23. Data Input Object # 1'!BI37","v":""},{"$f":"'23. Data Input Object # 1'!BJ37","v":""},{"$f":"'23. Data Input Object # 1'!BK37","v":""},{"$f":"'23. Data Input Object # 1'!BL37","v":""},{"$f":"'23. Data Input Object # 1'!BM37","v":""},{"$f":"'23. Data Input Object # 1'!BN37","v":""},{"$f":"'23. Data Input Object # 1'!BO37","v":""},{"$f":"'23. Data Input Object # 1'!BP37","v":""},{"$f":"'23. Data Input Object # 1'!BQ37","v":""},{"$f":"'23. Data Input Object # 1'!BR37","v":""},{"$f":"'23. Data Input Object # 1'!BS37","v":""},{"$f":"'23. Data Input Object # 1'!BT37","v":""},{"$f":"'23. Data Input Object # 1'!BU37","v":""},{"$f":"'23. Data Input Object # 1'!BV37","v":""},{"$f":"'23. Data Input Object # 1'!BW37","v":""},{"$f":"'23. Data Input Object # 1'!BX37","v":""},{"$f":"'23. Data Input Object # 1'!BY37","v":""},{"$f":"'23. Data Input Object # 1'!BZ37","v":""},{"$f":"'23. Data Input Object # 1'!CA37","v":""}]
["Actual POD Search Object Type #2",{"$f":"'24. Data Input Object # 2'!C37","v":0.35714285714285715},{"$f":"'24. Data Input Object # 2'!D37","v":0.5714285714285714},{"$f":"'24. Data Input Object # 2'!E37","v":0.35714285714285715},{"$f":"'24. Data Input Object # 2'!F37","v":0.5},{"$f":"'24. Data Input Object # 2'!G37","v":0.5},{"$f":"'24. Data Input Object # 2'!H37","v":0.6428571428571429},{"$f":"'24. Data Input Object # 2'!I37","v":0.5714285714285714},{"$f":"'24. Data Input Object # 2'!J37","v":0.5714285714285714},{"$f":"'24. Data Input Object # 2'!K37","v":0.5},{"$f":"'24. Data Input Object # 2'!L37","v":0.6428571428571429},{"$f":"'24. Data Input Object # 2'!M37","v":0.5},{"$f":"'24. Data Input Object # 2'!N37","v":0.5},{"$f":"'24. Data Input Object # 2'!O37","v":0.5},{"$f":"'24. Data Input Object # 2'!P37","v":0.5714285714285714},{"$f":"'24. Data Input Object # 2'!Q37","v":0.5714285714285714},{"$f":"'24. Data Input Object # 2'!R37","v":0.5},{"$f":"'24. Data Input Object # 2'!S37","v":0.42857142857142855},{"$f":"'24. Data Input Object # 2'!T37","v":0.35714285714285715},{"$f":"'24. Data Input Object # 2'!U37","v":0.42857142857142855},{"$f":"'24. Data Input Object # 2'!V37","v":0.5},{"$f":"'24. Data Input Object # 2'!W37","v":0.5},{"$f":"'24. Data Input Object # 2'!X37","v":0.5714285714285714},{"$f":"'24. Data Input Object # 2'!Y37","v":0.35714285714285715},{"$f":"'24. Data Input Object # 2'!Z37","v":0.5},{"$f":"'24. Data Input Object # 2'!AA37","v":0.42857142857142855},{"$f":"'24. Data Input Object # 2'!AB37","v":0.5},{"$f":"'24. Data Input Object # 2'!AC37","v":0.5},{"$f":"'24. Data Input Object # 2'!AD37","v":0.42857142857142855},{"$f":"'24. Data Input Object # 2'!AE37","v":0.21428571428571427},{"$f":"'24. Data Input Object # 2'!AF37","v":0.35714285714285715},{"$f":"'24. Data Input Object # 2'!AG37","v":0.5714285714285714},{"$f":"'24. Data Input Object # 2'!AH37","v":0.42857142857142855},{"$f":"'24. Data Input Object # 2'!AI37","v":0.21428571428571427},{"$f":"'24. Data Input Object # 2'!AJ37","v":0.5},{"$f":"'24. Data Input Object # 2'!AK37","v":""},{"$f":"'24. Data Input Object # 2'!AL37","v":""},{"$f":"'24. Data Input Object # 2'!AM37","v":""},{"$f":"'24. Data Input Object # 2'!AN37","v":""},{"$f":"'24. Data Input Object # 2'!AO37","v":""},{"$f":"'24. Data Input Object # 2'!AP37","v":""},{"$f":"'24. Data Input Object # 2'!AQ37","v":""},{"$f":"'24. Data Input Object # 2'!AR37","v":""},{"$f":"'24. Data Input Object # 2'!AS37","v":""},{"$f":"'24. Data Input Object # 2'!AT37","v":""},{"$f":"'24. Data Input Object # 2'!AU37","v":""},{"$f":"'24. Data Input Object # 2'!AV37","v":""},{"$f":"'24. Data Input Object # 2'!AW37","v":""},{"$f":"'24. Data Input Object # 2'!AX37","v":""},{"$f":"'24. Data Input Object # 2'!AY37","v":""},{"$f":"'24. Data Input Object # 2'!AZ37","v":""},{"$f":"'24. Data Input Object # 2'!BA37","v":""},{"$f":"'24. Data Input Object # 2'!BB37","v":""},{"$f":"'24. Data Input Object # 2'!BC37","v":""},{"$f":"'24. Data Input Object # 2'!BD37","v":""},{"$f":"'24. Data Input Object # 2'!BE37","v":""},{"$f":"'24. Data Input Object # 2'!BF37","v":""},{"$f":"'24. Data Input Object # 2'!BG37","v":""},{"$f":"'24. Data Input Object # 2'!BH37","v":""},{"$f":"'24. Data Input Object # 2'!BI37","v":""},{"$f":"'24. Data Input Object # 2'!BJ37","v":""},{"$f":"'24. Data Input Object # 2'!BK37","v":""},{"$f":"'24. Data Input Object # 2'!BL37","v":""},{"$f":"'24. Data Input Object # 2'!BM37","v":""},{"$f":"'24. Data Input Object # 2'!BN37","v":""},{"$f":"'24. Data Input Object # 2'!BO37","v":""},{"$f":"'24. Data Input Object # 2'!BP37","v":""},{"$f":"'24. Data Input Object # 2'!BQ37","v":""},{"$f":"'24. Data Input Object # 2'!BR37","v":""},{"$f":"'24. Data Input Object # 2'!BS37","v":""},{"$f":"'24. Data Input Object # 2'!BT37","v":""},{"$f":"'24. Data Input Object # 2'!BU37","v":""},{"$f":"'24. Data Input Object # 2'!BV37","v":""},{"$f":"'24. Data Input Object # 2'!BW37","v":""},{"$f":"'24. Data Input Object # 2'!BX37","v":""},{"$f":"'24. Data Input Object # 2'!BY37","v":""},{"$f":"'24. Data Input Object # 2'!BZ37","v":""},{"$f":"'24. Data Input Object # 2'!CA37","v":""}]
["Actual POD Search Object Type #3",{"$f":"'25. Data Input Object # 3'!C37","v":0.46666666666666667},{"$f":"'25. Data Input Object # 3'!D37","v":0.4},{"$f":"'25. Data Input Object # 3'!E37","v":0.13333333333333333},{"$f":"'25. Data Input Object # 3'!F37","v":0.2},{"$f":"'25. Data Input Object # 3'!G37","v":0.26666666666666666},{"$f":"'25. Data Input Object # 3'!H37","v":0.46666666666666667},{"$f":"'25. Data Input Object # 3'!I37","v":0.73333333333333328},{"$f":"'25. Data Input Object # 3'!J37","v":0.33333333333333331},{"$f":"'25. Data Input Object # 3'!K37","v":0.26666666666666666},{"$f":"'25. Data Input Object # 3'!L37","v":0.4},{"$f":"'25. Data Input Object # 3'!M37","v":0.33333333333333331},{"$f":"'25. Data Input Object # 3'!N37","v":0.6},{"$f":"'25. Data Input Object # 3'!O37","v":0.46666666666666667},{"$f":"'25. Data Input Object # 3'!P37","v":0.4},{"$f":"'25. Data Input Object # 3'!Q37","v":0.33333333333333331},{"$f":"'25. Data Input Object # 3'!R37","v":0.6},{"$f":"'25. Data Input Object # 3'!S37","v":0.33333333333333331},{"$f":"'25. Data Input Object # 3'!T37","v":0.33333333333333331},{"$f":"'25. Data Input Object # 3'!U37","v":0.46666666666666667},{"$f":"'25. Data Input Object # 3'!V37","v":0.33333333333333331},{"$f":"'25. Data Input Object # 3'!W37","v":0.33333333333333331},{"$f":"'25. Data Input Object # 3'!X37","v":0.26666666666666666},{"$f":"'25. Data Input Object # 3'!Y37","v":0.26666666666666666},{"$f":"'25. Data Input Object # 3'!Z37","v":0.4},{"$f":"'25. Data Input Object # 3'!AA37","v":0.4},{"$f":"'25. Data Input Object # 3'!AB37","v":0.33333333333333331},{"$f":"'25. Data Input Object # 3'!AC37","v":0.46666666666666667},{"$f":"'25. Data Input Object # 3'!AD37","v":0.46666666666666667},{"$f":"'25. Data Input Object # 3'!AE37","v":0.26666666666666666},{"$f":"'25. Data Input Object # 3'!AF37","v":0.26666666666666666},{"$f":"'25. Data Input Object # 3'!AG37","v":0.4},{"$f":"'25. Data Input Object # 3'!AH37","v":0.4},{"$f":"'25. Data Input Object # 3'!AI37","v":0.13333333333333333},{"$f":"'25. Data Input Object # 3'!AJ37","v":0.26666666666666666},{"$f":"'25. Data Input Object # 3'!AK37","v":""},{"$f":"'25. Data Input Object # 3'!AL37","v":""},{"$f":"'25. Data Input Object # 3'!AM37","v":""},{"$f":"'25. Data Input Object # 3'!AN37","v":""},{"$f":"'25. Data Input Object # 3'!AO37","v":""},{"$f":"'25. Data Input Object # 3'!AP37","v":""},{"$f":"'25. Data Input Object # 3'!AQ37","v":""},{"$f":"'25. Data Input Object # 3'!AR37","v":""},{"$f":"'25. Data Input Object # 3'!AS37","v":""},{"$f":"'25. Data Input Object # 3'!AT37","v":""},{"$f":"'25. Data Input Object # 3'!AU37","v":""},{"$f":"'25. Data Input Object # 3'!AV37","v":""},{"$f":"'25. Data Input Object # 3'!AW37","v":""},{"$f":"'25. Data Input Object # 3'!AX37","v":""},{"$f":"'25. Data Input Object # 3'!AY37","v":""},{"$f":"'25. Data Input Object # 3'!AZ37","v":""},{"$f":"'25. Data Input Object # 3'!BA37","v":""},{"$f":"'25. Data Input Object # 3'!BB37","v":""},{"$f":"'25. Data Input Object # 3'!BC37","v":""},{"$f":"'25. Data Input Object # 3'!BD37","v":""},{"$f":"'25. Data Input Object # 3'!BE37","v":""},{"$f":"'25. Data Input Object # 3'!BF37","v":""},{"$f":"'25. Data Input Object # 3'!BG37","v":""},{"$f":"'25. Data Input Object # 3'!BH37","v":""},{"$f":"'25. Data Input Object # 3'!BI37","v":""},{"$f":"'25. Data Input Object # 3'!BJ37","v":""},{"$f":"'25. Data Input Object # 3'!BK37","v":""},{"$f":"'25. Data Input Object # 3'!BL37","v":""},{"$f":"'25. Data Input Object # 3'!BM37","v":""},{"$f":"'25. Data Input Object # 3'!BN37","v":""},{"$f":"'25. Data Input Object # 3'!BO37","v":""},{"$f":"'25. Data Input Object # 3'!BP37","v":""},{"$f":"'25. Data Input Object # 3'!BQ37","v":""},{"$f":"'25. Data Input Object # 3'!BR37","v":""},{"$f":"'25. Data Input Object # 3'!BS37","v":""},{"$f":"'25. Data Input Object # 3'!BT37","v":""},{"$f":"'25. Data Input Object # 3'!BU37","v":""},{"$f":"'25. Data Input Object # 3'!BV37","v":""},{"$f":"'25. Data Input Object # 3'!BW37","v":""},{"$f":"'25. Data Input Object # 3'!BX37","v":""},{"$f":"'25. Data Input Object # 3'!BY37","v":""},{"$f":"'25. Data Input Object # 3'!BZ37","v":""},{"$f":"'25. Data Input Object # 3'!CA37","v":""}]
["Actual POD Search Object Type #4",{"$f":"'26. Data Input Object # 4'!C37","v":""},{"$f":"'26. Data Input Object # 4'!D37","v":""},{"$f":"'26. Data Input Object # 4'!E37","v":""},{"$f":"'26. Data Input Object # 4'!F37","v":""},{"$f":"'26. Data Input Object # 4'!G37","v":""},{"$f":"'26. Data Input Object # 4'!H37","v":""},{"$f":"'26. Data Input Object # 4'!I37","v":""},{"$f":"'26. Data Input Object # 4'!J37","v":""},{"$f":"'26. Data Input Object # 4'!K37","v":""},{"$f":"'26. Data Input Object # 4'!L37","v":""},{"$f":"'26. Data Input Object # 4'!M37","v":""},{"$f":"'26. Data Input Object # 4'!N37","v":""},{"$f":"'26. Data Input Object # 4'!O37","v":""},{"$f":"'26. Data Input Object # 4'!P37","v":""},{"$f":"'26. Data Input Object # 4'!Q37","v":""},{"$f":"'26. Data Input Object # 4'!R37","v":""},{"$f":"'26. Data Input Object # 4'!S37","v":""},{"$f":"'26. Data Input Object # 4'!T37","v":""},{"$f":"'26. Data Input Object # 4'!U37","v":""},{"$f":"'26. Data Input Object # 4'!V37","v":""},{"$f":"'26. Data Input Object # 4'!W37","v":""},{"$f":"'26. Data Input Object # 4'!X37","v":""},{"$f":"'26. Data Input Object # 4'!Y37","v":""},{"$f":"'26. Data Input Object # 4'!Z37","v":""},{"$f":"'26. Data Input Object # 4'!AA37","v":""},{"$f":"'26. Data Input Object # 4'!AB37","v":""},{"$f":"'26. Data Input Object # 4'!AC37","v":""},{"$f":"'26. Data Input Object # 4'!AD37","v":""},{"$f":"'26. Data Input Object # 4'!AE37","v":""},{"$f":"'26. Data Input Object # 4'!AF37","v":""},{"$f":"'26. Data Input Object # 4'!AG37","v":""},{"$f":"'26. Data Input Object # 4'!AH37","v":""},{"$f":"'26. Data Input Object # 4'!AI37","v":""},{"$f":"'26. Data Input Object # 4'!AJ37","v":""},{"$f":"'26. Data Input Object # 4'!AK37","v":""},{"$f":"'26. Data Input Object # 4'!AL37","v":""},{"$f":"'26. Data Input Object # 4'!AM37","v":""},{"$f":"'26. Data Input Object # 4'!AN37","v":""},{"$f":"'26. Data Input Object # 4'!AO37","v":""},{"$f":"'26. Data Input Object # 4'!AP37","v":""},{"$f":"'26. Data Input Object # 4'!AQ37","v":""},{"$f":"'26. Data Input Object # 4'!AR37","v":""},{"$f":"'26. Data Input Object # 4'!AS37","v":""},{"$f":"'26. Data Input Object # 4'!AT37","v":""},{"$f":"'26. Data Input Object # 4'!AU37","v":""},{"$f":"'26. Data Input Object # 4'!AV37","v":""},{"$f":"'26. Data Input Object # 4'!AW37","v":""},{"$f":"'26. Data Input Object # 4'!AX37","v":""},{"$f":"'26. Data Input Object # 4'!AY37","v":""},{"$f":"'26. Data Input Object # 4'!AZ37","v":""},{"$f":"'26. Data Input Object # 4'!BA37","v":""},{"$f":"'26. Data Input Object # 4'!BB37","v":""},{"$f":"'26. Data Input Object # 4'!BC37","v":""},{"$f":"'26. Data Input Object # 4'!BD37","v":""},{"$f":"'26. Data Input Object # 4'!BE37","v":""},{"$f":"'26. Data Input Object # 4'!BF37","v":""},{"$f":"'26. Data Input Object # 4'!BG37","v":""},{"$f":"'26. Data Input Object # 4'!BH37","v":""},{"$f":"'26. Data Input Object # 4'!BI37","v":""},{"$f":"'26. Data Input Object # 4'!BJ37","v":""},{"$f":"'26. Data Input Object # 4'!BK37","v":""},{"$f":"'26. Data Input Object # 4'!BL37","v":""},{"$f":"'26. Data Input Object # 4'!BM37","v":""},{"$f":"'26. Data Input Object # 4'!BN37","v":""},{"$f":"'26. Data Input Object # 4'!BO37","v":""},{"$f":"'26. Data Input Object # 4'!BP37","v":""},{"$f":"'26. Data Input Object # 4'!BQ37","v":""},{"$f":"'26. Data Input Object # 4'!BR37","v":""},{"$f":"'26. Data Input Object # 4'!BS37","v":""},{"$f":"'26. Data Input Object # 4'!BT37","v":""},{"$f":"'26. Data Input Object # 4'!BU37","v":""},{"$f":"'26. Data Input Object # 4'!BV37","v":""},{"$f":"'26. Data Input Object # 4'!BW37","v":""},{"$f":"'26. Data Input Object # 4'!BX37","v":""},{"$f":"'26. Data Input Object # 4'!BY37","v":""},{"$f":"'26. Data Input Object # 4'!BZ37","v":""},{"$f":"'26. Data Input Object # 4'!CA37","v":""}]
["Delta POD Search Object Type #1",{"$f":"IF(B25=0,\"\",ABS(B25-B29))","v":""},{"$f":"IF(C25=0,\"\",ABS(C25-C29))","v":""},"","","","","","","","","","","","","","","","","","","","","","","","","","","","","","","","","","","","","","","","","","","","","","","","","","","","","","","","","","","","","","","",{"$f":"IF(BO25=0,\"\",ABS(BO25-BO29))","v":""},"","","","","","","","","","",""]
["Delta POD Search Object Type #2",{"$f":"IF(B26=0,\"\",ABS(B26-B30))","v":""},{"$f":"IF(C26=0,\"\",ABS(C26-C30))","v":""},"","","","","","","","","","","","","","","","","","","","","","","","","","","","","","","","","","","","","","","","","","","","","","","","","","","","","","","","","","","","","","","",{"$f":"IF(BO26=0,\"\",ABS(BO26-BO30))","v":""},"","","","","","","","","","",""]
["Delta POD Search Object Type #3",{"$f":"IF(B26=0,\"\",ABS(B26-B31))","v":""},{"$f":"IF(C26=0,\"\",ABS(C26-C31))","v":""},"","","","","","","","","","","","","","","","","","","","","","","","","","","","","","","","","","","","","","","","","","","","","","","","","","","","","","","","","","","","","","","",{"$f":"IF(BO26=0,\"\",ABS(BO26-BO31))","v":""},"","","","","","","","","","",""]
["Delta POD Search Object Type #4",{"$f":"IF(B26=0,\"\",ABS(B26-B32))","v":""},{"$f":"IF(C26=0,\"\",ABS(C26-C32))","v":""},"","","","","","","","","","","","","","","","","","","","","","","","","","","","","","","","","","","","","","","","","","","","","","","","","","","","","","","","","","","","","","","",{"$f":"IF(BO26=0,\"\",ABS(BO26-BO32))","v":""},"","","","","","","","","","",""]
["Temperature (F)"]
["Wind Speed (mph)"]
["Cloud Cover (%)"]
["Lux"]
["Light"]
["Precipitation (type and intensity)"]
["Meteorological Visibility"]
["Problems"]
["Optional question"]
["Optional question 2"]
["Willing to be data logger?"]
["email address"]
["Data logger: Looked backwards"]
["Data logger: looked sideways"]
["Data logger: stopped and searched"]
["Data logger: scanned systematically"]
["Data logger: Talked"]
["Data logger: Wore hat/hood"]

{"sheet":"28. Data Summary Object # 1","index":28,"n_rows":43,"n_cols":27,"rows_kept":43,"cut":false,"hidden":false,"merged":[]}
["Data Summary Search Object Type #1",null,null,null,null,null,null,null,{"$f":"'2. Search Object Types'!M26","v":"Adult High-Visibility"}]
["Purpose:  This worksheet allows the researcher to easily review the summary data involving detections of search object type # 1.  It also sets up the two graphs "]
["used to determine the sweep width of search object type # 1.   No data entry is required on this worksheet."]
["Instructions:  Click on the green button below to sort the data by lateral range values.  The data should now be arranged from the smallest lateral range to the "]
["greatest lateral range.  Chart One (Area under the curve for search object type # 1) and chart two (intersection of values) should automatically be generated.  See"]
["further instructions found at someplace clever to determine the sweep width value."]
[]
[]
["Location #","LR","Count","Detections","Misses","% Detected",null,"Detcum","Missescum",null,null,null,null,null,null,null,null,null,"Clue #","LR","Count","Detections","Misses","% Detected",null,"Det cum for chart","Misses cum for chart"]
[{"$f":"'23. Data Input Object # 1'!A7","v":8},{"$f":"IF(A10=0,1000,'23. Data Input Object # 1'!B7)","v":4},{"$f":"'23. Data Input Object # 1'!CB7","v":34},{"$f":"'23. Data Input Object # 1'!CC7","v":34},{"$f":"'23. Data Input Object # 1'!CD7","v":0},{"$f":"IF(A10=0,-1,D10/C10)","v":1},null,{"$f":"SUM(V10:$V$39)","v":255},{"$f":"SUM($W$10:W10)","v":0},null,null,null,null,null,null,null,null,null,{"$f":"A10","v":8},{"$f":"IF(A10=0,T9,B10)","v":4},{"$f":"C10","v":34},{"$f":"D10","v":34},{"$f":"E10","v":0},{"$f":"IF(A10=0,X9,V10/U10)","v":1},{"$f":"IF(AND(H10>I10,H11<I11),T10+(I10-H10)*(T11-T10)/((H11-H10)-(I11-I10)),IF(H10=I10,H10))","v":false},{"$f":"IF(A10=0,Z9,H10)","v":255},{"$f":"IF(A10=100,I9,I10)","v":0}]
[{"$f":"'23. Data Input Object # 1'!A12","v":20},{"$f":"IF(A11=0,1000,'23. Data Input Object # 1'!B12)","v":5},{"$f":"'23. Data Input Object # 1'!CB12","v":34},{"$f":"'23. Data Input Object # 1'!CC12","v":32},{"$f":"'23. Data Input Object # 1'!CD12","v":2},0.94117647058823528,null,{"$f":"SUM(V11:$V$39)","v":221},{"$f":"SUM($W$10:W11)","v":2},null,null,null,null,null,null,null,null,null,20,5,34,32,2,0.94117647058823528,false,221,2]
[{"$f":"'23. Data Input Object # 1'!A17","v":36},{"$f":"IF(A12=0,1000,'23. Data Input Object # 1'!B17)","v":7},{"$f":"'23. Data Input Object # 1'!CB17","v":34},{"$f":"'23. Data Input Object # 1'!CC17","v":32},{"$f":"'23. Data Input Object # 1'!CD17","v":2},0.94117647058823528,null,{"$f":"SUM(V12:$V$39)","v":189},{"$f":"SUM($W$10:W12)","v":4},null,null,null,null,null,null,null,null,null,36,7,34,32,2,0.94117647058823528,false,189,4]
[{"$f":"'23. Data Input Object # 1'!A18","v":41},{"$f":"IF(A13=0,1000,'23. Data Input Object # 1'!B18)","v":11},{"$f":"'23. Data Input Object # 1'!CB18","v":34},{"$f":"'23. Data Input Object # 1'!CC18","v":34},{"$f":"'23. Data Input Object # 1'!CD18","v":0},1,null,{"$f":"SUM(V13:$V$39)","v":157},{"$f":"SUM($W$10:W13)","v":4},null,null,null,null,null,null,null,null,null,41,11,34,34,0,1,false,157,4]
[{"$f":"'23. Data Input Object # 1'!A8","v":10},{"$f":"IF(A14=0,1000,'23. Data Input Object # 1'!B8)","v":15},{"$f":"'23. Data Input Object # 1'!CB8","v":34},{"$f":"'23. Data Input Object # 1'!CC8","v":27},{"$f":"'23. Data Input Object # 1'!CD8","v":7},0.79411764705882348,null,{"$f":"SUM(V14:$V$39)","v":123},{"$f":"SUM($W$10:W14)","v":11},null,null,null,null,null,null,null,null,null,10,15,34,27,7,0.79411764705882348,false,123,11]
[{"$f":"'23. Data Input Object # 1'!A9","v":11},{"$f":"IF(A15=0,1000,'23. Data Input Object # 1'!B9)","v":15},{"$f":"'23. Data Input Object # 1'!CB9","v":34},{"$f":"'23. Data Input Object # 1'!CC9","v":28},{"$f":"'23. Data Input Object # 1'!CD9","v":6},0.82352941176470584,null,{"$f":"SUM(V15:$V$39)","v":96},{"$f":"SUM($W$10:W15)","v":17},null,null,null,null,null,null,null,null,null,11,15,34,28,6,0.82352941176470584,false,96,17]
[{"$f":"'23. Data Input Object # 1'!A5","v":1},{"$f":"IF(A16=0,1000,'23. Data Input Object # 1'!B5)","v":19},{"$f":"'23. Data Input Object # 1'!CB5","v":34},{"$f":"'23. Data Input Object # 1'!CC5","v":16},{"$f":"'23. Data Input Object # 1'!CD5","v":18},0.47058823529411764,null,{"$f":"SUM(V16:$V$39)","v":68},{"$f":"SUM($W$10:W16)","v":35},null,null,null,null,null,null,null,null,null,1,19,34,16,18,0.47058823529411764,21.75,68,35]
[{"$f":"'23. Data Input Object # 1'!A15","v":30},{"$f":"IF(A17=0,1000,'23. Data Input Object # 1'!B15)","v":23},{"$f":"'23. Data Input Object # 1'!CB15","v":34},{"$f":"'23. Data Input Object # 1'!CC15","v":2},{"$f":"'23. Data Input Object # 1'!CD15","v":32},5.8823529411764705E-2,null,{"$f":"SUM(V17:$V$39)","v":52},{"$f":"SUM($W$10:W17)","v":67},null,null,null,null,null,null,null,null,null,30,23,34,2,32,5.8823529411764705E-2,{"$f":"IF(AND(H17>I17,H23<I23),T17+(I17-H17)*(T23-T17)/((H23-H17)-(I23-I17)),IF(H17=I17,H17))","v":false},52,67]
[{"$f":"'23. Data Input Object # 1'!A16","v":32},{"$f":"IF(A18=0,1000,'23. Data Input Object # 1'!B16)","v":29},{"$f":"'23. Data Input Object # 1'!CB16","v":34},{"$f":"'23. Data Input Object # 1'!CC16","v":1},{"$f":"'23. Data Input Object # 1'!CD16","v":33},2.9411764705882353E-2,null,{"$f":"SUM(V18:$V$39)","v":50},{"$f":"SUM($W$10:W18)","v":100},null,null,null,null,null,null,null,null,null,32,29,34,1,33,2.9411764705882353E-2,false,50,100]
[{"$f":"'23. Data Input Object # 1'!A14","v":22},{"$f":"IF(A19=0,1000,'23. Data Input Object # 1'!B14)","v":36},{"$f":"'23. Data Input Object # 1'!CB14","v":34},{"$f":"'23. Data Input Object # 1'!CC14","v":0},{"$f":"'23. Data Input Object # 1'!CD14","v":34},0,null,{"$f":"SUM(V19:$V$39)","v":49},{"$f":"SUM($W$10:W19)","v":134},null,null,null,null,null,null,null,null,null,22,36,34,0,34,0,false,49,134]
[{"$f":"'23. Data Input Object # 1'!A6","v":5},{"$f":"IF(A20=0,1000,'23. Data Input Object # 1'!B6)","v":36},{"$f":"'23. Data Input Object # 1'!CB6","v":34},{"$f":"'23. Data Input Object # 1'!CC6","v":28},{"$f":"'23. Data Input Object # 1'!CD6","v":6},0.82352941176470584,null,{"$f":"SUM(V20:$V$39)","v":49},{"$f":"SUM($W$10:W20)","v":140},null,null,null,null,null,null,null,null,null,5,36,34,28,6,0.82352941176470584,false,49,140]
[{"$f":"'23. Data Input Object # 1'!A11","v":19},{"$f":"IF(A21=0,1000,'23. Data Input Object # 1'!B11)","v":37},{"$f":"'23. Data Input Object # 1'!CB11","v":34},{"$f":"'23. Data Input Object # 1'!CC11","v":0},{"$f":"'23. Data Input Object # 1'!CD11","v":34},0,null,{"$f":"SUM(V21:$V$39)","v":21},{"$f":"SUM($W$10:W21)","v":174},null,null,null,null,null,null,null,null,null,19,37,34,0,34,0,false,21,174]
[{"$f":"'23. Data Input Object # 1'!A13","v":21},{"$f":"IF(A22=0,1000,'23. Data Input Object # 1'!B13)","v":40},{"$f":"'23. Data Input Object # 1'!CB13","v":34},{"$f":"'23. Data Input Object # 1'!CC13","v":21},{"$f":"'23. Data Input Object # 1'!CD13","v":13},0.61764705882352944,null,{"$f":"SUM(V22:$V$39)","v":21},{"$f":"SUM($W$10:W22)","v":187},null,null,null,null,null,null,null,null,null,21,40,34,21,13,0.61764705882352944,false,21,187]
[{"$f":"'23. Data Input Object # 1'!A21","v":"47v"},{"$f":"IF(A23=0,1000,'23. Data Input Object # 1'!B21)","v":52},{"$f":"'23. Data Input Object # 1'!CB21","v":34},{"$f":"'23. Data Input Object # 1'!CC21","v":0},{"$f":"'23. Data Input Object # 1'!CD21","v":34},0,null,{"$f":"SUM(V23:$V$39)","v":0},{"$f":"SUM($W$10:W23)","v":221},null,null,null,null,null,null,null,null,null,"47v",52,34,0,34,0,false,0,221]
[{"$f":"'23. Data Input Object # 1'!A20","v":"46v"},{"$f":"IF(A24=0,1000,'23. Data Input Object # 1'!B20)","v":62},{"$f":"'23. Data Input Object # 1'!CB20","v":34},{"$f":"'23. Data Input Object # 1'!CC20","v":0},{"$f":"'23. Data Input Object # 1'!CD20","v":34},0,null,{"$f":"SUM(V24:$V$39)","v":0},{"$f":"SUM($W$10:W24)","v":255},null,null,null,null,null,null,null,null,null,"46v",62,34,0,34,0,false,0,255]
[{"$f":"'23. Data Input Object # 1'!A10","v":15},{"$f":"IF(A25=0,1000,'23. Data Input Object # 1'!B10)","v":67},{"$f":"'23. Data Input Object # 1'!CB10","v":34},{"$f":"'23. Data Input Object # 1'!CC10","v":0},{"$f":"'23. Data Input Object # 1'!CD10","v":34},0,null,{"$f":"SUM(V25:$V$39)","v":0},{"$f":"SUM($W$10:W25)","v":289},null,null,null,null,null,null,null,null,null,15,67,34,0,34,0,false,0,289]
[{"$f":"'23. Data Input Object # 1'!A19","v":"44v"},{"$f":"IF(A26=0,1000,'23. Data Input Object # 1'!B19)","v":67},{"$f":"'23. Data Input Object # 1'!CB19","v":34},{"$f":"'23. Data Input Object # 1'!CC19","v":0},{"$f":"'23. Data Input Object # 1'!CD19","v":34},0,null,{"$f":"SUM(V26:$V$39)","v":0},{"$f":"SUM($W$10:W26)","v":323},null,null,null,null,null,null,null,null,null,"44v",67,34,0,34,0,false,0,323]
[{"$f":"'23. Data Input Object # 1'!A22","v":0},{"$f":"IF(A27=0,1000,'23. Data Input Object # 1'!B22)","v":1000},{"$f":"'23. Data Input Object # 1'!CB22","v":0},{"$f":"'23. Data Input Object # 1'!CC22","v":0},{"$f":"'23. Data Input Object # 1'!CD22","v":0},-1,null,{"$f":"SUM(V27:$V$39)","v":0},{"$f":"SUM($W$10:W27)","v":323},null,null,null,null,null,null,null,null,null,0,67,0,0,0,0,false,0,323]
[{"$f":"'23. Data Input Object # 1'!A23","v":0},{"$f":"IF(A28=0,1000,'23. Data Input Object # 1'!B23)","v":1000},{"$f":"'23. Data Input Object # 1'!CB23","v":0},{"$f":"'23. Data Input Object # 1'!CC23","v":0},{"$f":"'23. Data Input Object # 1'!CD23","v":0},-1,null,{"$f":"SUM(V28:$V$39)","v":0},{"$f":"SUM($W$10:W28)","v":323},null,null,null,null,null,null,null,null,null,0,67,0,0,0,0,false,0,323]
[{"$f":"'23. Data Input Object # 1'!A24","v":0},{"$f":"IF(A29=0,1000,'23. Data Input Object # 1'!B24)","v":1000},{"$f":"'23. Data Input Object # 1'!CB24","v":0},{"$f":"'23. Data Input Object # 1'!CC24","v":0},{"$f":"'23. Data Input Object # 1'!CD24","v":0},-1,null,{"$f":"SUM(V29:$V$39)","v":0},{"$f":"SUM($W$10:W29)","v":323},null,null,null,null,null,null,null,null,null,0,67,0,0,0,0,false,0,323]
[{"$f":"'23. Data Input Object # 1'!A25","v":0},{"$f":"IF(A30=0,1000,'23. Data Input Object # 1'!B25)","v":1000},{"$f":"'23. Data Input Object # 1'!CB25","v":0},{"$f":"'23. Data Input Object # 1'!CC25","v":0},{"$f":"'23. Data Input Object # 1'!CD25","v":0},-1,null,{"$f":"SUM(V30:$V$39)","v":0},{"$f":"SUM($W$10:W30)","v":323},null,null,null,null,null,null,null,null,null,0,67,0,0,0,0,false,0,323]
[{"$f":"'23. Data Input Object # 1'!A26","v":0},{"$f":"IF(A31=0,1000,'23. Data Input Object # 1'!B26)","v":1000},{"$f":"'23. Data Input Object # 1'!CB26","v":0},{"$f":"'23. Data Input Object # 1'!CC26","v":0},{"$f":"'23. Data Input Object # 1'!CD26","v":0},-1,null,{"$f":"SUM(V31:$V$39)","v":0},{"$f":"SUM($W$10:W31)","v":323},null,null,null,null,null,null,null,null,null,0,67,0,0,0,0,false,0,323]
[{"$f":"'23. Data Input Object # 1'!A27","v":0},{"$f":"IF(A32=0,1000,'23. Data Input Object # 1'!B27)","v":1000},{"$f":"'23. Data Input Object # 1'!CB27","v":0},{"$f":"'23. Data Input Object # 1'!CC27","v":0},{"$f":"'23. Data Input Object # 1'!CD27","v":0},-1,null,{"$f":"SUM(V32:$V$39)","v":0},{"$f":"SUM($W$10:W32)","v":323},null,null,null,null,null,null,null,null,null,0,67,0,0,0,0,false,0,323]
[{"$f":"'23. Data Input Object # 1'!A28","v":0},{"$f":"IF(A33=0,1000,'23. Data Input Object # 1'!B28)","v":1000},{"$f":"'23. Data Input Object # 1'!CB28","v":0},{"$f":"'23. Data Input Object # 1'!CC28","v":0},{"$f":"'23. Data Input Object # 1'!CD28","v":0},-1,null,{"$f":"SUM(V33:$V$39)","v":0},{"$f":"SUM($W$10:W33)","v":323},null,null,null,null,null,null,null,null,null,0,67,0,0,0,0,false,0,323]
[{"$f":"'23. Data Input Object # 1'!A29","v":0},{"$f":"IF(A34=0,1000,'23. Data Input Object # 1'!B29)","v":1000},{"$f":"'23. Data Input Object # 1'!CB29","v":0},{"$f":"'23. Data Input Object # 1'!CC29","v":0},{"$f":"'23. Data Input Object # 1'!CD29","v":0},-1,null,{"$f":"SUM(V34:$V$39)","v":0},{"$f":"SUM($W$10:W34)","v":323},null,null,null,null,null,null,null,null,null,0,67,0,0,0,0,{"$f":"IF(AND(H34>I34,H41<I41),T34+(I34-H34)*(T41-T34)/((H41-H34)-(I41-I34)),IF(H34=I34,H34))","v":false},0,323]
[{"$f":"'23. Data Input Object # 1'!A30","v":0},{"$f":"IF(A35=0,1000,'23. Data Input Object # 1'!B30)","v":1000},{"$f":"'23. Data Input Object # 1'!CB30","v":0},{"$f":"'23. Data Input Object # 1'!CC30","v":0},{"$f":"'23. Data Input Object # 1'!CD30","v":0},-1,null,{"$f":"SUM(V35:$V$39)","v":0},{"$f":"SUM($W$10:W35)","v":323},null,null,null,null,null,null,null,null,null,0,67,0,0,0,0,false,0,323]
[{"$f":"'23. Data Input Object # 1'!A31","v":0},{"$f":"IF(A36=0,1000,'23. Data Input Object # 1'!B31)","v":1000},{"$f":"'23. Data Input Object # 1'!CB31","v":0},{"$f":"'23. Data Input Object # 1'!CC31","v":0},{"$f":"'23. Data Input Object # 1'!CD31","v":0},-1,null,{"$f":"SUM(V36:$V$39)","v":0},{"$f":"SUM($W$10:W36)","v":323},null,null,null,null,null,null,null,null,null,0,67,0,0,0,0,false,0,323]
[{"$f":"'23. Data Input Object # 1'!A32","v":0},{"$f":"IF(A37=0,1000,'23. Data Input Object # 1'!B32)","v":1000},{"$f":"'23. Data Input Object # 1'!CB32","v":0},{"$f":"'23. Data Input Object # 1'!CC32","v":0},{"$f":"'23. Data Input Object # 1'!CD32","v":0},-1,null,{"$f":"SUM(V37:$V$39)","v":0},{"$f":"SUM($W$10:W37)","v":323},null,null,null,null,null,null,null,null,null,0,67,0,0,0,0,false,0,323]
[{"$f":"'23. Data Input Object # 1'!A33","v":0},{"$f":"IF(A38=0,1000,'23. Data Input Object # 1'!B33)","v":1000},{"$f":"'23. Data Input Object # 1'!CB33","v":0},{"$f":"'23. Data Input Object # 1'!CC33","v":0},{"$f":"'23. Data Input Object # 1'!CD33","v":0},-1,null,{"$f":"SUM(V38:$V$39)","v":0},{"$f":"SUM($W$10:W38)","v":323},null,null,null,null,null,null,null,null,null,0,67,0,0,0,0,false,0,323]
[{"$f":"'23. Data Input Object # 1'!A34","v":0},{"$f":"IF(A39=0,1000,'23. Data Input Object # 1'!B34)","v":1000},{"$f":"'23. Data Input Object # 1'!CB34","v":0},{"$f":"'23. Data Input Object # 1'!CC34","v":0},{"$f":"'23. Data Input Object # 1'!CD34","v":0},-1,null,{"$f":"SUM(V39:$V$39)","v":0},{"$f":"SUM($W$10:W39)","v":323},null,null,null,null,null,null,null,null,null,0,67,0,0,0,0,false,0,323]
[]
["Checksums",null,{"$f":"SUM(C10:C39)","v":578},{"$f":"SUM(D10:D39)","v":255},{"$f":"SUM(E10:E39)","v":323}]
["Effective Sweep Width:",null,null,null,{"$f":"2*MAX(Y9:Y38)","v":43.5},{"$f":"'46. Calculations'!P9","v":"Yards"}]
["Max POD",null,{"$f":"MAX(F11:F41)","v":1}]

{"sheet":"31. Data Summary Object # 2","index":31,"n_rows":43,"n_cols":25,"rows_kept":43,"cut":false,"hidden":false,"merged":[]}
["Data Summary Object # 2",null,null,null,null,{"$f":"'24. Data Input Object # 2'!K1","v":"Clue High-Visibility"}]
["Purpose:  This worksheet allows the researcher to easily review the summary data involving detections of search object type # 2.  It also sets up the two graphs "]
["used to determine the sweep width of search object type # 2.   No data entry is required on this worksheet."]
["Instructions:  Click on the green button below to sort the data by lateral range values.  The data should now be arranged from the smallest lateral range to the "]
["greatest lateral range.  Chart One (Area under the curve for search object type # 2) and chart two (intersection of values) should automatically be generated.  See "]
["instructions found at someplace clever to determine the sweep width value."]
[]
[]
["Location #","LR","Count","Detections","Misses","% Detected",null,"Detcum","Missescum",null,null,null,null,null,null,null,null,null,"Clue #","LR","Count","Detections","Misses","% Detected"]
[{"$f":"'24. Data Input Object # 2'!A7","v":6},{"$f":"IF(A10=0,1000,'24. Data Input Object # 2'!B7)","v":1},{"$f":"'24. Data Input Object # 2'!CB7","v":34},{"$f":"'24. Data Input Object # 2'!CC7","v":33},{"$f":"'24. Data Input Object # 2'!CD7","v":1},{"$f":"IF(A10=0,-1,D10/C10)","v":0.97058823529411764},null,{"$f":"SUM(V10:$V$39)","v":226},{"$f":"SUM($W$10:W10)","v":1},null,null,null,null,null,null,null,null,null,{"$f":"A10","v":6},{"$f":"IF(A10=0,T9,B10)","v":1},{"$f":"C10","v":34},{"$f":"D10","v":33},{"$f":"E10","v":1},{"$f":"IF(A10=0,X9,V10/U10)","v":0.97058823529411764},{"$f":"IF(AND(H10>I10,H11<I11),T10+(I10-H10)*(T11-T10)/((H11-H10)-(I11-I10)),IF(H10=I10,I10))","v":false}]
[{"$f":"'24. Data Input Object # 2'!A14","v":26},{"$f":"IF(A11=0,1000,'24. Data Input Object # 2'!B14)","v":2},{"$f":"'24. Data Input Object # 2'!CB14","v":34},{"$f":"'24. Data Input Object # 2'!CC14","v":33},{"$f":"'24. Data Input Object # 2'!CD14","v":1},0.97058823529411764,null,{"$f":"SUM(V11:$V$39)","v":193},{"$f":"SUM($W$10:W11)","v":2},null,null,null,null,null,null,null,null,null,26,{"$f":"IF(A11=0,T10,B11)","v":2},34,33,1,{"$f":"IF(A11=0,X10,V11/U11)","v":0.97058823529411764},false]
[{"$f":"'24. Data Input Object # 2'!A18","v":39},{"$f":"IF(A12=0,1000,'24. Data Input Object # 2'!B18)","v":4},{"$f":"'24. Data Input Object # 2'!CB18","v":34},{"$f":"'24. Data Input Object # 2'!CC18","v":31},{"$f":"'24. Data Input Object # 2'!CD18","v":3},0.91176470588235292,null,{"$f":"SUM(V12:$V$39)","v":160},{"$f":"SUM($W$10:W12)","v":5},null,null,null,null,null,null,null,null,null,39,4,34,31,3,0.91176470588235292,false]
[{"$f":"'24. Data Input Object # 2'!A11","v":16},{"$f":"IF(A13=0,1000,'24. Data Input Object # 2'!B11)","v":9},{"$f":"'24. Data Input Object # 2'!CB11","v":34},{"$f":"'24. Data Input Object # 2'!CC11","v":16},{"$f":"'24. Data Input Object # 2'!CD11","v":18},0.47058823529411764,null,{"$f":"SUM(V13:$V$39)","v":129},{"$f":"SUM($W$10:W13)","v":23},null,null,null,null,null,null,null,null,null,16,9,34,16,18,0.47058823529411764,false]
[{"$f":"'24. Data Input Object # 2'!A9","v":12},{"$f":"IF(A14=0,1000,'24. Data Input Object # 2'!B9)","v":9},{"$f":"'24. Data Input Object # 2'!CB9","v":34},{"$f":"'24. Data Input Object # 2'!CC9","v":28},{"$f":"'24. Data Input Object # 2'!CD9","v":6},0.82352941176470584,null,{"$f":"SUM(V14:$V$39)","v":113},{"$f":"SUM($W$10:W14)","v":29},null,null,null,null,null,null,null,null,null,12,9,34,28,6,0.82352941176470584,false]
[{"$f":"'24. Data Input Object # 2'!A15","v":31},{"$f":"IF(A15=0,1000,'24. Data Input Object # 2'!B15)","v":12},{"$f":"'24. Data Input Object # 2'!CB15","v":34},{"$f":"'24. Data Input Object # 2'!CC15","v":4},{"$f":"'24. Data Input Object # 2'!CD15","v":30},0.11764705882352941,null,{"$f":"SUM(V15:$V$39)","v":85},{"$f":"SUM($W$10:W15)","v":59},null,null,null,null,null,null,null,null,null,31,12,34,4,30,0.11764705882352941,12]
[{"$f":"'24. Data Input Object # 2'!A16","v":33},{"$f":"IF(A16=0,1000,'24. Data Input Object # 2'!B16)","v":12},{"$f":"'24. Data Input Object # 2'!CB16","v":34},{"$f":"'24. Data Input Object # 2'!CC16","v":2},{"$f":"'24. Data Input Object # 2'!CD16","v":32},5.8823529411764705E-2,null,{"$f":"SUM(V16:$V$39)","v":81},{"$f":"SUM($W$10:W16)","v":91},null,null,null,null,null,null,null,null,null,33,12,34,2,32,5.8823529411764705E-2,false]
[{"$f":"'24. Data Input Object # 2'!A12","v":17},{"$f":"IF(A17=0,1000,'24. Data Input Object # 2'!B12)","v":16},{"$f":"'24. Data Input Object # 2'!CB12","v":0},{"$f":"'24. Data Input Object # 2'!CC12","v":0},{"$f":"'24. Data Input Object # 2'!CD12","v":0},null,null,{"$f":"SUM(V17:$V$39)","v":79},{"$f":"SUM($W$10:W17)","v":91},null,null,null,null,null,null,null,null,null,17,16,0,0,0,{"$error":"#DIV/0!"},false]
[{"$f":"'24. Data Input Object # 2'!A17","v":38},{"$f":"IF(A18=0,1000,'24. Data Input Object # 2'!B17)","v":16},{"$f":"'24. Data Input Object # 2'!CB17","v":34},{"$f":"'24. Data Input Object # 2'!CC17","v":2},{"$f":"'24. Data Input Object # 2'!CD17","v":32},{"$f":"IF(A18=0,-1,D18/C18)","v":5.8823529411764705E-2},null,{"$f":"SUM(V18:$V$39)","v":79},{"$f":"SUM($W$10:W18)","v":123},null,null,null,null,null,null,null,null,null,38,16,34,2,32,5.8823529411764705E-2,false]
[{"$f":"'24. Data Input Object # 2'!A5","v":2},{"$f":"IF(A19=0,1000,'24. Data Input Object # 2'!B5)","v":17},{"$f":"'24. Data Input Object # 2'!CB5","v":34},{"$f":"'24. Data Input Object # 2'!CC5","v":32},{"$f":"'24. Data Input Object # 2'!CD5","v":2},0.94117647058823528,null,{"$f":"SUM(V19:$V$39)","v":77},{"$f":"SUM($W$10:W19)","v":125},null,null,null,null,null,null,null,null,null,2,17,34,32,2,0.94117647058823528,false]
[{"$f":"'24. Data Input Object # 2'!A13","v":24},{"$f":"IF(A20=0,1000,'24. Data Input Object # 2'!B13)","v":25},{"$f":"'24. Data Input Object # 2'!CB13","v":34},{"$f":"'24. Data Input Object # 2'!CC13","v":25},{"$f":"'24. Data Input Object # 2'!CD13","v":9},0.73529411764705888,null,{"$f":"SUM(V20:$V$39)","v":45},{"$f":"SUM($W$10:W20)","v":134},null,null,null,null,null,null,null,null,null,24,25,34,25,9,0.73529411764705888,false]
[{"$f":"'24. Data Input Object # 2'!A19","v":"48v"},{"$f":"IF(A21=0,1000,'24. Data Input Object # 2'!B19)","v":25},{"$f":"'24. Data Input Object # 2'!CB19","v":34},{"$f":"'24. Data Input Object # 2'!CC19","v":0},{"$f":"'24. Data Input Object # 2'!CD19","v":34},0,null,{"$f":"SUM(V21:$V$39)","v":20},{"$f":"SUM($W$10:W21)","v":168},null,null,null,null,null,null,null,null,null,"48v",25,34,0,34,0,false]
[{"$f":"'24. Data Input Object # 2'!A10","v":14},{"$f":"IF(A22=0,1000,'24. Data Input Object # 2'!B10)","v":26},{"$f":"'24. Data Input Object # 2'!CB10","v":34},{"$f":"'24. Data Input Object # 2'!CC10","v":17},{"$f":"'24. Data Input Object # 2'!CD10","v":17},0.5,null,{"$f":"SUM(V22:$V$39)","v":20},{"$f":"SUM($W$10:W22)","v":185},null,null,null,null,null,null,null,null,null,14,26,34,17,17,0.5,false]
[{"$f":"'24. Data Input Object # 2'!A8","v":9},{"$f":"IF(A23=0,1000,'24. Data Input Object # 2'!B8)","v":32},{"$f":"'24. Data Input Object # 2'!CB8","v":34},{"$f":"'24. Data Input Object # 2'!CC8","v":2},{"$f":"'24. Data Input Object # 2'!CD8","v":32},5.8823529411764705E-2,null,{"$f":"SUM(V23:$V$39)","v":3},{"$f":"SUM($W$10:W23)","v":217},null,null,null,null,null,null,null,null,null,9,32,34,2,32,5.8823529411764705E-2,false]
[{"$f":"'24. Data Input Object # 2'!A6","v":4},{"$f":"IF(A24=0,1000,'24. Data Input Object # 2'!B6)","v":32},{"$f":"'24. Data Input Object # 2'!CB6","v":34},{"$f":"'24. Data Input Object # 2'!CC6","v":1},{"$f":"'24. Data Input Object # 2'!CD6","v":33},2.9411764705882353E-2,null,{"$f":"SUM(V24:$V$39)","v":1},{"$f":"SUM($W$10:W24)","v":250},null,null,null,null,null,null,null,null,null,4,32,34,1,33,2.9411764705882353E-2,false]
[{"$f":"'24. Data Input Object # 2'!A20","v":0},{"$f":"IF(A25=0,1000,'24. Data Input Object # 2'!B20)","v":1000},{"$f":"'24. Data Input Object # 2'!CB20","v":0},{"$f":"'24. Data Input Object # 2'!CC20","v":0},{"$f":"'24. Data Input Object # 2'!CD20","v":0},-1,null,{"$f":"SUM(V25:$V$39)","v":0},{"$f":"SUM($W$10:W25)","v":250},null,null,null,null,null,null,null,null,null,0,32,0,0,0,2.9411764705882353E-2,{"$f":"IF(AND(H25>I25,H31<I31),T25+(I25-H25)*(T31-T25)/((H31-H25)-(I31-I25)),IF(H25=I25,I25))","v":false}]
[{"$f":"'24. Data Input Object # 2'!A21","v":0},{"$f":"IF(A26=0,1000,'24. Data Input Object # 2'!B21)","v":1000},{"$f":"'24. Data Input Object # 2'!CB21","v":0},{"$f":"'24. Data Input Object # 2'!CC21","v":0},{"$f":"'24. Data Input Object # 2'!CD21","v":0},-1,null,{"$f":"SUM(V26:$V$39)","v":0},{"$f":"SUM($W$10:W26)","v":250},null,null,null,null,null,null,null,null,null,{"$f":"A26","v":0},32,{"$f":"C26","v":0},{"$f":"D26","v":0},{"$f":"E26","v":0},2.9411764705882353E-2,{"$f":"IF(AND(H26>I26,H32<I32),T26+(I26-H26)*(T32-T26)/((H32-H26)-(I32-I26)),IF(H26=I26,I26))","v":false}]
[{"$f":"'24. Data Input Object # 2'!A22","v":0},{"$f":"IF(A27=0,1000,'24. Data Input Object # 2'!B22)","v":1000},{"$f":"'24. Data Input Object # 2'!CB22","v":0},{"$f":"'24. Data Input Object # 2'!CC22","v":0},{"$f":"'24. Data Input Object # 2'!CD22","v":0},-1,null,{"$f":"SUM(V27:$V$39)","v":0},{"$f":"SUM($W$10:W27)","v":250},null,null,null,null,null,null,null,null,null,0,32,0,0,0,2.9411764705882353E-2,false]
[{"$f":"'24. Data Input Object # 2'!A23","v":0},{"$f":"IF(A28=0,1000,'24. Data Input Object # 2'!B23)","v":1000},{"$f":"'24. Data Input Object # 2'!CB23","v":0},{"$f":"'24. Data Input Object # 2'!CC23","v":0},{"$f":"'24. Data Input Object # 2'!CD23","v":0},-1,null,{"$f":"SUM(V28:$V$39)","v":0},{"$f":"SUM($W$10:W28)","v":250},null,null,null,null,null,null,null,null,null,0,32,0,0,0,2.9411764705882353E-2,false]
[{"$f":"'24. Data Input Object # 2'!A24","v":0},{"$f":"IF(A29=0,1000,'24. Data Input Object # 2'!B24)","v":1000},{"$f":"'24. Data Input Object # 2'!CB24","v":0},{"$f":"'24. Data Input Object # 2'!CC24","v":0},{"$f":"'24. Data Input Object # 2'!CD24","v":0},-1,null,{"$f":"SUM(V29:$V$39)","v":0},{"$f":"SUM($W$10:W29)","v":250},null,null,null,null,null,null,null,null,null,0,32,0,0,0,2.9411764705882353E-2,false]
[{"$f":"'24. Data Input Object # 2'!A25","v":0},{"$f":"IF(A30=0,1000,'24. Data Input Object # 2'!B25)","v":1000},{"$f":"'24. Data Input Object # 2'!CB25","v":0},{"$f":"'24. Data Input Object # 2'!CC25","v":0},{"$f":"'24. Data Input Object # 2'!CD25","v":0},-1,null,{"$f":"SUM(V30:$V$39)","v":0},{"$f":"SUM($W$10:W30)","v":250},null,null,null,null,null,null,null,null,null,0,32,0,0,0,2.9411764705882353E-2,false]
[{"$f":"'24. Data Input Object # 2'!A26","v":0},{"$f":"IF(A31=0,1000,'24. Data Input Object # 2'!B26)","v":1000},{"$f":"'24. Data Input Object # 2'!CB26","v":0},{"$f":"'24. Data Input Object # 2'!CC26","v":0},{"$f":"'24. Data Input Object # 2'!CD26","v":0},-1,null,{"$f":"SUM(V31:$V$39)","v":0},{"$f":"SUM($W$10:W31)","v":250},null,null,null,null,null,null,null,null,null,0,32,0,0,0,2.9411764705882353E-2,false]
[{"$f":"'24. Data Input Object # 2'!A27","v":0},{"$f":"IF(A32=0,1000,'24. Data Input Object # 2'!B27)","v":1000},{"$f":"'24. Data Input Object # 2'!CB27","v":0},{"$f":"'24. Data Input Object # 2'!CC27","v":0},{"$f":"'24. Data Input Object # 2'!CD27","v":0},-1,null,{"$f":"SUM(V32:$V$39)","v":0},{"$f":"SUM($W$10:W32)","v":250},null,null,null,null,null,null,null,null,null,0,32,0,0,0,2.9411764705882353E-2,false]
[{"$f":"'24. Data Input Object # 2'!A28","v":0},{"$f":"IF(A33=0,1000,'24. Data Input Object # 2'!B28)","v":1000},{"$f":"'24. Data Input Object # 2'!CB28","v":0},{"$f":"'24. Data Input Object # 2'!CC28","v":0},{"$f":"'24. Data Input Object # 2'!CD28","v":0},-1,null,{"$f":"SUM(V33:$V$39)","v":0},{"$f":"SUM($W$10:W33)","v":250},null,null,null,null,null,null,null,null,null,0,32,0,0,0,2.9411764705882353E-2,false]
[{"$f":"'24. Data Input Object # 2'!A29","v":0},{"$f":"IF(A34=0,1000,'24. Data Input Object # 2'!B29)","v":1000},{"$f":"'24. Data Input Object # 2'!CB29","v":0},{"$f":"'24. Data Input Object # 2'!CC29","v":0},{"$f":"'24. Data Input Object # 2'!CD29","v":0},-1,null,{"$f":"SUM(V34:$V$39)","v":0},{"$f":"SUM($W$10:W34)","v":250},null,null,null,null,null,null,null,null,null,0,32,0,0,0,2.9411764705882353E-2,false]
[{"$f":"'24. Data Input Object # 2'!A30","v":0},{"$f":"IF(A35=0,1000,'24. Data Input Object # 2'!B30)","v":1000},{"$f":"'24. Data Input Object # 2'!CB30","v":0},{"$f":"'24. Data Input Object # 2'!CC30","v":0},{"$f":"'24. Data Input Object # 2'!CD30","v":0},-1,null,{"$f":"SUM(V35:$V$39)","v":0},{"$f":"SUM($W$10:W35)","v":250},null,null,null,null,null,null,null,null,null,0,32,0,0,0,2.9411764705882353E-2,false]
[{"$f":"'24. Data Input Object # 2'!A31","v":0},{"$f":"IF(A36=0,1000,'24. Data Input Object # 2'!B31)","v":1000},{"$f":"'24. Data Input Object # 2'!CB31","v":0},{"$f":"'24. Data Input Object # 2'!CC31","v":0},{"$f":"'24. Data Input Object # 2'!CD31","v":0},-1,null,{"$f":"SUM(V36:$V$39)","v":0},{"$f":"SUM($W$10:W36)","v":250},null,null,null,null,null,null,null,null,null,0,32,0,0,0,2.9411764705882353E-2,false]
[{"$f":"'24. Data Input Object # 2'!A32","v":0},{"$f":"IF(A37=0,1000,'24. Data Input Object # 2'!B32)","v":1000},{"$f":"'24. Data Input Object # 2'!CB32","v":0},{"$f":"'24. Data Input Object # 2'!CC32","v":0},{"$f":"'24. Data Input Object # 2'!CD32","v":0},-1,null,{"$f":"SUM(V37:$V$39)","v":0},{"$f":"SUM($W$10:W37)","v":250},null,null,null,null,null,null,null,null,null,0,32,0,0,0,2.9411764705882353E-2,false]
[{"$f":"'24. Data Input Object # 2'!A33","v":0},{"$f":"IF(A38=0,1000,'24. Data Input Object # 2'!B33)","v":1000},{"$f":"'24. Data Input Object # 2'!CB33","v":0},{"$f":"'24. Data Input Object # 2'!CC33","v":0},{"$f":"'24. Data Input Object # 2'!CD33","v":0},-1,null,{"$f":"SUM(V38:$V$39)","v":0},{"$f":"SUM($W$10:W38)","v":250},null,null,null,null,null,null,null,null,null,0,32,0,0,0,2.9411764705882353E-2,false]
[{"$f":"'24. Data Input Object # 2'!A34","v":0},{"$f":"IF(A39=0,1000,'24. Data Input Object # 2'!B34)","v":1000},{"$f":"'24. Data Input Object # 2'!CB34","v":0},{"$f":"'24. Data Input Object # 2'!CC34","v":0},{"$f":"'24. Data Input Object # 2'!CD34","v":0},-1,null,{"$f":"SUM(V39:$V$39)","v":0},{"$f":"SUM($W$10:W39)","v":250},null,null,null,null,null,null,null,null,null,0,32,0,0,0,2.9411764705882353E-2,false]
[]
["Check Sums",null,{"$f":"SUM(C10:C39)","v":476},{"$f":"SUM(D10:D39)","v":226},{"$f":"SUM(E10:E39)","v":250}]
["Effective Sweep Width",null,null,{"$f":"2*MAX(Y10:Y39)","v":24},{"$f":"'46. Calculations'!P9","v":"Yards"}]
["Maximum POD =",null,{"$f":"MAX(F10:F39)","v":0.97058823529411764}]

{"sheet":"34. Data Summary Object # 3","index":34,"n_rows":43,"n_cols":25,"rows_kept":43,"cut":false,"hidden":false,"merged":[]}
["Data Summary Object # 3",null,null,null,null,{"$f":"'25. Data Input Object # 3'!K1","v":"Clue Low-Visibility"}]
["Purpose:  This worksheet allows the researcher to easily review the summary data involving detections of search object type # 3.  It also sets up the two graphs "]
["used to determine the sweep width of search object type # 3.   No data entry is required on this worksheet."]
["Instructions:  Click on the green button below to sort the data by lateral range values.  The data should now be arranged from the smallest lateral range to the "]
["greatest lateral range.  Chart One (Area under the curve for search object type # 3) and chart two (intersection of values) should automatically be generated.  See "]
["instructions found at someplace clever to determine the sweep width value."]
[]
[]
["Location #","LR","Count","Detections","Misses","% Detected",null,"Detcum","Missescum",null,null,null,null,null,null,null,null,null,"Clue #","LR","Count","Detections","Misses","% Detected"]
[{"$f":"'25. Data Input Object # 3'!A7","v":13},{"$f":"IF(A10=0,1000,'25. Data Input Object # 3'!B7)","v":0.37},{"$f":"'25. Data Input Object # 3'!CB7","v":34},{"$f":"'25. Data Input Object # 3'!CC7","v":12},{"$f":"'25. Data Input Object # 3'!CD7","v":22},{"$f":"IF(A10=0,-1,D10/C10)","v":0.35294117647058826},null,{"$f":"SUM(V10:$V$39)","v":188},{"$f":"SUM($W$10:W10)","v":22},null,null,null,null,null,null,null,null,null,{"$f":"A10","v":13},{"$f":"IF(A10=0,T9,B10)","v":0.37},{"$f":"C10","v":34},{"$f":"D10","v":12},{"$f":"E10","v":22},{"$f":"IF(A10=0,X9,V10/U10)","v":0.35294117647058826},{"$f":"IF(AND(H10>I10,H11<I11),T10+(I10-H10)*(T11-T10)/((H11-H10)-(I11-I10)),IF(H10=I10,I10))","v":false}]
[{"$f":"'25. Data Input Object # 3'!A19","v":"43v ???"},{"$f":"IF(A11=0,1000,'25. Data Input Object # 3'!B19)","v":0.37},{"$f":"'25. Data Input Object # 3'!CB19","v":0},{"$f":"'25. Data Input Object # 3'!CC19","v":0},{"$f":"'25. Data Input Object # 3'!CD19","v":0},null,null,{"$f":"SUM(V11:$V$39)","v":176},{"$f":"SUM($W$10:W11)","v":22},null,null,null,null,null,null,null,null,null,"43v ???",{"$f":"IF(A11=0,T10,B11)","v":0.37},0,0,0,{"$f":"IF(A11=0,X10,V11/U11)","v":{"$error":"#DIV/0!"}},false]
[{"$f":"'25. Data Input Object # 3'!A14","v":34},{"$f":"IF(A12=0,1000,'25. Data Input Object # 3'!B14)","v":1},{"$f":"'25. Data Input Object # 3'!CB14","v":34},{"$f":"'25. Data Input Object # 3'!CC14","v":19},{"$f":"'25. Data Input Object # 3'!CD14","v":15},{"$f":"IF(A12=0,-1,D12/C12)","v":0.55882352941176472},null,{"$f":"SUM(V12:$V$39)","v":176},{"$f":"SUM($W$10:W12)","v":37},null,null,null,null,null,null,null,null,null,34,1,34,19,15,0.55882352941176472,false]
[{"$f":"'25. Data Input Object # 3'!A10","v":25},{"$f":"IF(A13=0,1000,'25. Data Input Object # 3'!B10)","v":5},{"$f":"'25. Data Input Object # 3'!CB10","v":34},{"$f":"'25. Data Input Object # 3'!CC10","v":32},{"$f":"'25. Data Input Object # 3'!CD10","v":2},0.94117647058823528,null,{"$f":"SUM(V13:$V$39)","v":157},{"$f":"SUM($W$10:W13)","v":39},null,null,null,null,null,null,null,null,null,25,5,34,32,2,0.94117647058823528,false]
[{"$f":"'25. Data Input Object # 3'!A17","v":40},{"$f":"IF(A14=0,1000,'25. Data Input Object # 3'!B17)","v":5},{"$f":"'25. Data Input Object # 3'!CB17","v":34},{"$f":"'25. Data Input Object # 3'!CC17","v":24},{"$f":"'25. Data Input Object # 3'!CD17","v":10},0.70588235294117652,null,{"$f":"SUM(V14:$V$39)","v":125},{"$f":"SUM($W$10:W14)","v":49},null,null,null,null,null,null,null,null,null,40,5,34,24,10,0.70588235294117652,false]
[{"$f":"'25. Data Input Object # 3'!A13","v":29},{"$f":"IF(A15=0,1000,'25. Data Input Object # 3'!B13)","v":6},{"$f":"'25. Data Input Object # 3'!CB13","v":34},{"$f":"'25. Data Input Object # 3'!CC13","v":27},{"$f":"'25. Data Input Object # 3'!CD13","v":7},0.79411764705882348,null,{"$f":"SUM(V15:$V$39)","v":101},{"$f":"SUM($W$10:W15)","v":56},null,null,null,null,null,null,null,null,null,29,6,34,27,7,0.79411764705882348,6]
[{"$f":"'25. Data Input Object # 3'!A18","v":42},{"$f":"IF(A16=0,1000,'25. Data Input Object # 3'!B18)","v":6},{"$f":"'25. Data Input Object # 3'!CB18","v":34},{"$f":"'25. Data Input Object # 3'!CC18","v":9},{"$f":"'25. Data Input Object # 3'!CD18","v":25},0.26470588235294118,null,{"$f":"SUM(V16:$V$39)","v":74},{"$f":"SUM($W$10:W16)","v":81},null,null,null,null,null,null,null,null,null,42,6,34,9,25,0.26470588235294118,false]
[{"$f":"'25. Data Input Object # 3'!A9","v":23},{"$f":"IF(A17=0,1000,'25. Data Input Object # 3'!B9)","v":8},{"$f":"'25. Data Input Object # 3'!CB9","v":34},{"$f":"'25. Data Input Object # 3'!CC9","v":3},{"$f":"'25. Data Input Object # 3'!CD9","v":31},8.8235294117647065E-2,null,{"$f":"SUM(V17:$V$39)","v":65},{"$f":"SUM($W$10:W17)","v":112},null,null,null,null,null,null,null,null,null,23,8,34,3,31,8.8235294117647065E-2,false]
[{"$f":"'25. Data Input Object # 3'!A16","v":37},{"$f":"IF(A18=0,1000,'25. Data Input Object # 3'!B16)","v":8},{"$f":"'25. Data Input Object # 3'!CB16","v":34},{"$f":"'25. Data Input Object # 3'!CC16","v":4},{"$f":"'25. Data Input Object # 3'!CD16","v":30},0.11764705882352941,null,{"$f":"SUM(V18:$V$39)","v":62},{"$f":"SUM($W$10:W18)","v":142},null,null,null,null,null,null,null,null,null,37,8,34,4,30,0.11764705882352941,{"$f":"IF(AND(H18>I18,H24<I24),T18+(I18-H18)*(T24-T18)/((H24-H18)-(I24-I18)),IF(H18=I18,I18))","v":false}]
[{"$f":"'25. Data Input Object # 3'!A5","v":3},{"$f":"IF(A19=0,1000,'25. Data Input Object # 3'!B5)","v":9},{"$f":"'25. Data Input Object # 3'!CB5","v":34},{"$f":"'25. Data Input Object # 3'!CC5","v":29},{"$f":"'25. Data Input Object # 3'!CD5","v":5},0.8529411764705882,null,{"$f":"SUM(V19:$V$39)","v":58},{"$f":"SUM($W$10:W19)","v":147},null,null,null,null,null,null,null,null,null,{"$f":"A19","v":3},9,{"$f":"C19","v":34},{"$f":"D19","v":29},{"$f":"E19","v":5},0.8529411764705882,{"$f":"IF(AND(H19>I19,H25<I25),T19+(I19-H19)*(T25-T19)/((H25-H19)-(I25-I19)),IF(H19=I19,I19))","v":false}]
[{"$f":"'25. Data Input Object # 3'!A12","v":28},{"$f":"IF(A20=0,1000,'25. Data Input Object # 3'!B12)","v":11},{"$f":"'25. Data Input Object # 3'!CB12","v":34},{"$f":"'25. Data Input Object # 3'!CC12","v":1},{"$f":"'25. Data Input Object # 3'!CD12","v":33},2.9411764705882353E-2,null,{"$f":"SUM(V20:$V$39)","v":29},{"$f":"SUM($W$10:W20)","v":180},null,null,null,null,null,null,null,null,null,28,11,34,1,33,2.9411764705882353E-2,false]
[{"$f":"'25. Data Input Object # 3'!A11","v":27},{"$f":"IF(A21=0,1000,'25. Data Input Object # 3'!B11)","v":14},{"$f":"'25. Data Input Object # 3'!CB11","v":34},{"$f":"'25. Data Input Object # 3'!CC11","v":2},{"$f":"'25. Data Input Object # 3'!CD11","v":32},5.8823529411764705E-2,null,{"$f":"SUM(V21:$V$39)","v":28},{"$f":"SUM($W$10:W21)","v":212},null,null,null,null,null,null,null,null,null,27,14,34,2,32,5.8823529411764705E-2,false]
[{"$f":"'25. Data Input Object # 3'!A15","v":35},{"$f":"IF(A22=0,1000,'25. Data Input Object # 3'!B15)","v":14},{"$f":"'25. Data Input Object # 3'!CB15","v":34},{"$f":"'25. Data Input Object # 3'!CC15","v":1},{"$f":"'25. Data Input Object # 3'!CD15","v":33},2.9411764705882353E-2,null,{"$f":"SUM(V22:$V$39)","v":26},{"$f":"SUM($W$10:W22)","v":245},null,null,null,null,null,null,null,null,null,35,14,34,1,33,2.9411764705882353E-2,false]
[{"$f":"'25. Data Input Object # 3'!A20","v":"45v"},{"$f":"IF(A23=0,1000,'25. Data Input Object # 3'!B20)","v":14},{"$f":"'25. Data Input Object # 3'!CB20","v":34},{"$f":"'25. Data Input Object # 3'!CC20","v":0},{"$f":"'25. Data Input Object # 3'!CD20","v":34},0,null,{"$f":"SUM(V23:$V$39)","v":25},{"$f":"SUM($W$10:W23)","v":279},null,null,null,null,null,null,null,null,null,"45v",14,34,0,34,0,false]
[{"$f":"'25. Data Input Object # 3'!A8","v":18},{"$f":"IF(A24=0,1000,'25. Data Input Object # 3'!B8)","v":18},{"$f":"'25. Data Input Object # 3'!CB8","v":34},{"$f":"'25. Data Input Object # 3'!CC8","v":0},{"$f":"'25. Data Input Object # 3'!CD8","v":34},0,null,{"$f":"SUM(V24:$V$39)","v":25},{"$f":"SUM($W$10:W24)","v":313},null,null,null,null,null,null,null,null,null,18,18,34,0,34,0,false]
[{"$f":"'25. Data Input Object # 3'!A6","v":7},{"$f":"IF(A25=0,1000,'25. Data Input Object # 3'!B6)","v":18},{"$f":"'25. Data Input Object # 3'!CB6","v":34},{"$f":"'25. Data Input Object # 3'!CC6","v":25},{"$f":"'25. Data Input Object # 3'!CD6","v":9},0.73529411764705888,null,{"$f":"SUM(V25:$V$39)","v":25},{"$f":"SUM($W$10:W25)","v":322},null,null,null,null,null,null,null,null,null,7,18,34,25,9,0.73529411764705888,false]
[{"$f":"'25. Data Input Object # 3'!A21","v":0},{"$f":"IF(A26=0,1000,'25. Data Input Object # 3'!B21)","v":1000},{"$f":"'25. Data Input Object # 3'!CB21","v":0},{"$f":"'25. Data Input Object # 3'!CC21","v":0},{"$f":"'25. Data Input Object # 3'!CD21","v":0},-1,null,{"$f":"SUM(V26:$V$39)","v":0},{"$f":"SUM($W$10:W26)","v":322},null,null,null,null,null,null,null,null,null,0,18,0,0,0,0.73529411764705888,false]
[{"$f":"'25. Data Input Object # 3'!A22","v":0},{"$f":"IF(A27=0,1000,'25. Data Input Object # 3'!B22)","v":1000},{"$f":"'25. Data Input Object # 3'!CB22","v":0},{"$f":"'25. Data Input Object # 3'!CC22","v":0},{"$f":"'25. Data Input Object # 3'!CD22","v":0},-1,null,{"$f":"SUM(V27:$V$39)","v":0},{"$f":"SUM($W$10:W27)","v":322},null,null,null,null,null,null,null,null,null,0,18,0,0,0,0.73529411764705888,false]
[{"$f":"'25. Data Input Object # 3'!A23","v":0},{"$f":"IF(A28=0,1000,'25. Data Input Object # 3'!B23)","v":1000},{"$f":"'25. Data Input Object # 3'!CB23","v":0},{"$f":"'25. Data Input Object # 3'!CC23","v":0},{"$f":"'25. Data Input Object # 3'!CD23","v":0},-1,null,{"$f":"SUM(V28:$V$39)","v":0},{"$f":"SUM($W$10:W28)","v":322},null,null,null,null,null,null,null,null,null,0,18,0,0,0,0.73529411764705888,false]
[{"$f":"'25. Data Input Object # 3'!A24","v":0},{"$f":"IF(A29=0,1000,'25. Data Input Object # 3'!B24)","v":1000},{"$f":"'25. Data Input Object # 3'!CB24","v":0},{"$f":"'25. Data Input Object # 3'!CC24","v":0},{"$f":"'25. Data Input Object # 3'!CD24","v":0},-1,null,{"$f":"SUM(V29:$V$39)","v":0},{"$f":"SUM($W$10:W29)","v":322},null,null,null,null,null,null,null,null,null,0,18,0,0,0,0.73529411764705888,false]
[{"$f":"'25. Data Input Object # 3'!A25","v":0},{"$f":"IF(A30=0,1000,'25. Data Input Object # 3'!B25)","v":1000},{"$f":"'25. Data Input Object # 3'!CB25","v":0},{"$f":"'25. Data Input Object # 3'!CC25","v":0},{"$f":"'25. Data Input Object # 3'!CD25","v":0},-1,null,{"$f":"SUM(V30:$V$39)","v":0},{"$f":"SUM($W$10:W30)","v":322},null,null,null,null,null,null,null,null,null,0,18,0,0,0,0.73529411764705888,false]
[{"$f":"'25. Data Input Object # 3'!A26","v":0},{"$f":"IF(A31=0,1000,'25. Data Input Object # 3'!B26)","v":1000},{"$f":"'25. Data Input Object # 3'!CB26","v":0},{"$f":"'25. Data Input Object # 3'!CC26","v":0},{"$f":"'25. Data Input Object # 3'!CD26","v":0},-1,null,{"$f":"SUM(V31:$V$39)","v":0},{"$f":"SUM($W$10:W31)","v":322},null,null,null,null,null,null,null,null,null,0,18,0,0,0,0.73529411764705888,false]
[{"$f":"'25. Data Input Object # 3'!A27","v":0},{"$f":"IF(A32=0,1000,'25. Data Input Object # 3'!B27)","v":1000},{"$f":"'25. Data Input Object # 3'!CB27","v":0},{"$f":"'25. Data Input Object # 3'!CC27","v":0},{"$f":"'25. Data Input Object # 3'!CD27","v":0},-1,null,{"$f":"SUM(V32:$V$39)","v":0},{"$f":"SUM($W$10:W32)","v":322},null,null,null,null,null,null,null,null,null,0,18,0,0,0,0.73529411764705888,false]
[{"$f":"'25. Data Input Object # 3'!A28","v":0},{"$f":"IF(A33=0,1000,'25. Data Input Object # 3'!B28)","v":1000},{"$f":"'25. Data Input Object # 3'!CB28","v":0},{"$f":"'25. Data Input Object # 3'!CC28","v":0},{"$f":"'25. Data Input Object # 3'!CD28","v":0},-1,null,{"$f":"SUM(V33:$V$39)","v":0},{"$f":"SUM($W$10:W33)","v":322},null,null,null,null,null,null,null,null,null,0,18,0,0,0,0.73529411764705888,false]
[{"$f":"'25. Data Input Object # 3'!A29","v":0},{"$f":"IF(A34=0,1000,'25. Data Input Object # 3'!B29)","v":1000},{"$f":"'25. Data Input Object # 3'!CB29","v":0},{"$f":"'25. Data Input Object # 3'!CC29","v":0},{"$f":"'25. Data Input Object # 3'!CD29","v":0},-1,null,{"$f":"SUM(V34:$V$39)","v":0},{"$f":"SUM($W$10:W34)","v":322},null,null,null,null,null,null,null,null,null,0,18,0,0,0,0.73529411764705888,false]
[{"$f":"'25. Data Input Object # 3'!A30","v":0},{"$f":"IF(A35=0,1000,'25. Data Input Object # 3'!B30)","v":1000},{"$f":"'25. Data Input Object # 3'!CB30","v":0},{"$f":"'25. Data Input Object # 3'!CC30","v":0},{"$f":"'25. Data Input Object # 3'!CD30","v":0},-1,null,{"$f":"SUM(V35:$V$39)","v":0},{"$f":"SUM($W$10:W35)","v":322},null,null,null,null,null,null,null,null,null,0,18,0,0,0,0.73529411764705888,false]
[{"$f":"'25. Data Input Object # 3'!A31","v":0},{"$f":"IF(A36=0,1000,'25. Data Input Object # 3'!B31)","v":1000},{"$f":"'25. Data Input Object # 3'!CB31","v":0},{"$f":"'25. Data Input Object # 3'!CC31","v":0},{"$f":"'25. Data Input Object # 3'!CD31","v":0},-1,null,{"$f":"SUM(V36:$V$39)","v":0},{"$f":"SUM($W$10:W36)","v":322},null,null,null,null,null,null,null,null,null,0,18,0,0,0,0.73529411764705888,false]
[{"$f":"'25. Data Input Object # 3'!A32","v":0},{"$f":"IF(A37=0,1000,'25. Data Input Object # 3'!B32)","v":1000},{"$f":"'25. Data Input Object # 3'!CB32","v":0},{"$f":"'25. Data Input Object # 3'!CC32","v":0},{"$f":"'25. Data Input Object # 3'!CD32","v":0},-1,null,{"$f":"SUM(V37:$V$39)","v":0},{"$f":"SUM($W$10:W37)","v":322},null,null,null,null,null,null,null,null,null,0,18,0,0,0,0.73529411764705888,false]
[{"$f":"'25. Data Input Object # 3'!A33","v":0},{"$f":"IF(A38=0,1000,'25. Data Input Object # 3'!B33)","v":1000},{"$f":"'25. Data Input Object # 3'!CB33","v":0},{"$f":"'25. Data Input Object # 3'!CC33","v":0},{"$f":"'25. Data Input Object # 3'!CD33","v":0},-1,null,{"$f":"SUM(V38:$V$39)","v":0},{"$f":"SUM($W$10:W38)","v":322},null,null,null,null,null,null,null,null,null,0,18,0,0,0,0.73529411764705888,false]
[{"$f":"'25. Data Input Object # 3'!A34","v":0},{"$f":"IF(A39=0,1000,'25. Data Input Object # 3'!B34)","v":1000},{"$f":"'25. Data Input Object # 3'!CB34","v":0},{"$f":"'25. Data Input Object # 3'!CC34","v":0},{"$f":"'25. Data Input Object # 3'!CD34","v":0},-1,null,{"$f":"SUM(V39:$V$39)","v":0},{"$f":"SUM($W$10:W39)","v":322},null,null,null,null,null,null,null,null,null,0,18,0,0,0,0.73529411764705888,false]
[]
["Check Sums",null,{"$f":"SUM(C10:C39)","v":510},{"$f":"SUM(D10:D39)","v":188},{"$f":"SUM(E10:E39)","v":322}]
["Effective Sweep Width",null,null,{"$f":"2*MAX(Y10:Y39)","v":12},{"$f":"'46. Calculations'!P9","v":"Yards"}]
["Maximum POD =",null,{"$f":"MAX(F10:F39)","v":0.94117647058823528}]

{"sheet":"37. Data Summary Object # 4","index":37,"n_rows":43,"n_cols":25,"rows_kept":43,"cut":false,"hidden":false,"merged":[]}
["Data Summary Object # 4",null,null,null,null,{"$f":"'26. Data Input Object # 4'!K1","v":"Not applicable"}]
["Purpose:  This worksheet allows the researcher to easily review the summary data involving detections of search object type # 4.  It also sets up the two graphs "]
["used to determine the sweep width of search object type # 4.   No data entry is required on this worksheet."]
["Instructions:  Click on the green button below to sort the data by lateral range values.  The data should now be arranged from the smallest lateral range to the "]
["greatest lateral range.  Chart One (Area under the curve for search object type # 4) and chart two (intersection of values) should automatically be generated.  See "]
["instructions found at someplace clever to determine the sweep width value."]
[]
[]
["Location #","LR","Count","Detections","Misses","% Detected",null,"Detcum","Missescum",null,null,null,null,null,null,null,null,null,"Clue #","LR","Count","Detections","Misses","% Detected"]
[{"$f":"'26. Data Input Object # 4'!A5","v":0},{"$f":"IF(A10=0,1000,'26. Data Input Object # 4'!B5)","v":1000},{"$f":"'26. Data Input Object # 4'!CB5","v":0},{"$f":"'26. Data Input Object # 4'!CC5","v":0},{"$f":"'26. Data Input Object # 4'!CD5","v":0},{"$f":"IF(A10=0,-1,D10/C10)","v":-1},null,{"$f":"SUM(V10:$V$39)","v":0},{"$f":"SUM($W$10:W10)","v":0},null,null,null,null,null,null,null,null,null,{"$f":"A10","v":0},{"$f":"IF(A10=0,T9,B10)","v":"LR"},{"$f":"C10","v":0},{"$f":"D10","v":0},{"$f":"E10","v":0},{"$f":"IF(A10=0,X9,V10/U10)","v":"% Detected"},{"$f":"IF(AND(H10>I10,H11<I11),T10+(I10-H10)*(T11-T10)/((H11-H10)-(I11-I10)),IF(H10=I10,I10))","v":0}]
[{"$f":"'26. Data Input Object # 4'!A11","v":0},{"$f":"IF(A11=0,1000,'26. Data Input Object # 4'!B11)","v":1000},{"$f":"'26. Data Input Object # 4'!CB11","v":0},{"$f":"'26. Data Input Object # 4'!CC11","v":0},{"$f":"'26. Data Input Object # 4'!CD11","v":0},-1,null,{"$f":"SUM(V11:$V$39)","v":0},{"$f":"SUM($W$10:W11)","v":0},null,null,null,null,null,null,null,null,null,0,{"$f":"IF(A11=0,T10,B11)","v":"LR"},0,0,0,{"$f":"IF(A11=0,X10,V11/U11)","v":"% Detected"},0]
[{"$f":"'26. Data Input Object # 4'!A8","v":0},{"$f":"IF(A12=0,1000,'26. Data Input Object # 4'!B8)","v":1000},{"$f":"'26. Data Input Object # 4'!CB8","v":0},{"$f":"'26. Data Input Object # 4'!CC8","v":0},{"$f":"'26. Data Input Object # 4'!CD8","v":0},-1,null,{"$f":"SUM(V12:$V$39)","v":0},{"$f":"SUM($W$10:W12)","v":0},null,null,null,null,null,null,null,null,null,0,"LR",0,0,0,"% Detected",0]
[{"$f":"'26. Data Input Object # 4'!A6","v":0},{"$f":"IF(A13=0,1000,'26. Data Input Object # 4'!B6)","v":1000},{"$f":"'26. Data Input Object # 4'!CB6","v":0},{"$f":"'26. Data Input Object # 4'!CC6","v":0},{"$f":"'26. Data Input Object # 4'!CD6","v":0},-1,null,{"$f":"SUM(V13:$V$39)","v":0},{"$f":"SUM($W$10:W13)","v":0},null,null,null,null,null,null,null,null,null,0,"LR",0,0,0,"% Detected",0]
[{"$f":"'26. Data Input Object # 4'!A10","v":0},{"$f":"IF(A14=0,1000,'26. Data Input Object # 4'!B10)","v":1000},{"$f":"'26. Data Input Object # 4'!CB10","v":0},{"$f":"'26. Data Input Object # 4'!CC10","v":0},{"$f":"'26. Data Input Object # 4'!CD10","v":0},-1,null,{"$f":"SUM(V14:$V$39)","v":0},{"$f":"SUM($W$10:W14)","v":0},null,null,null,null,null,null,null,null,null,0,"LR",0,0,0,"% Detected",0]
[{"$f":"'26. Data Input Object # 4'!A12","v":0},{"$f":"IF(A15=0,1000,'26. Data Input Object # 4'!B12)","v":1000},{"$f":"'26. Data Input Object # 4'!CB12","v":0},{"$f":"'26. Data Input Object # 4'!CC12","v":0},{"$f":"'26. Data Input Object # 4'!CD12","v":0},-1,null,{"$f":"SUM(V15:$V$39)","v":0},{"$f":"SUM($W$10:W15)","v":0},null,null,null,null,null,null,null,null,null,0,"LR",0,0,0,"% Detected",0]
[{"$f":"'26. Data Input Object # 4'!A7","v":0},{"$f":"IF(A16=0,1000,'26. Data Input Object # 4'!B7)","v":1000},{"$f":"'26. Data Input Object # 4'!CB7","v":0},{"$f":"'26. Data Input Object # 4'!CC7","v":0},{"$f":"'26. Data Input Object # 4'!CD7","v":0},-1,null,{"$f":"SUM(V16:$V$39)","v":0},{"$f":"SUM($W$10:W16)","v":0},null,null,null,null,null,null,null,null,null,0,"LR",0,0,0,"% Detected",0]
[{"$f":"'26. Data Input Object # 4'!A13","v":0},{"$f":"IF(A17=0,1000,'26. Data Input Object # 4'!B13)","v":1000},{"$f":"'26. Data Input Object # 4'!CB13","v":0},{"$f":"'26. Data Input Object # 4'!CC13","v":0},{"$f":"'26. Data Input Object # 4'!CD13","v":0},-1,null,{"$f":"SUM(V17:$V$39)","v":0},{"$f":"SUM($W$10:W17)","v":0},null,null,null,null,null,null,null,null,null,0,"LR",0,0,0,"% Detected",0]
[{"$f":"'26. Data Input Object # 4'!A9","v":0},{"$f":"IF(A18=0,1000,'26. Data Input Object # 4'!B9)","v":1000},{"$f":"'26. Data Input Object # 4'!CB9","v":0},{"$f":"'26. Data Input Object # 4'!CC9","v":0},{"$f":"'26. Data Input Object # 4'!CD9","v":0},-1,null,{"$f":"SUM(V18:$V$39)","v":0},{"$f":"SUM($W$10:W18)","v":0},null,null,null,null,null,null,null,null,null,0,"LR",0,0,0,"% Detected",0]
[{"$f":"'26. Data Input Object # 4'!A14","v":0},{"$f":"IF(A19=0,1000,'26. Data Input Object # 4'!B14)","v":1000},{"$f":"'26. Data Input Object # 4'!CB14","v":0},{"$f":"'26. Data Input Object # 4'!CC14","v":0},{"$f":"'26. Data Input Object # 4'!CD14","v":0},-1,null,{"$f":"SUM(V19:$V$39)","v":0},{"$f":"SUM($W$10:W19)","v":0},null,null,null,null,null,null,null,null,null,0,"LR",0,0,0,"% Detected",0]
[{"$f":"'26. Data Input Object # 4'!A15","v":0},{"$f":"IF(A20=0,1000,'26. Data Input Object # 4'!B15)","v":1000},{"$f":"'26. Data Input Object # 4'!CB15","v":0},{"$f":"'26. Data Input Object # 4'!CC15","v":0},{"$f":"'26. Data Input Object # 4'!CD15","v":0},-1,null,{"$f":"SUM(V20:$V$39)","v":0},{"$f":"SUM($W$10:W20)","v":0},null,null,null,null,null,null,null,null,null,0,"LR",0,0,0,"% Detected",0]
[{"$f":"'26. Data Input Object # 4'!A16","v":0},{"$f":"IF(A21=0,1000,'26. Data Input Object # 4'!B16)","v":1000},{"$f":"'26. Data Input Object # 4'!CB16","v":0},{"$f":"'26. Data Input Object # 4'!CC16","v":0},{"$f":"'26. Data Input Object # 4'!CD16","v":0},-1,null,{"$f":"SUM(V21:$V$39)","v":0},{"$f":"SUM($W$10:W21)","v":0},null,null,null,null,null,null,null,null,null,0,"LR",0,0,0,"% Detected",0]
[{"$f":"'26. Data Input Object # 4'!A17","v":0},{"$f":"IF(A22=0,1000,'26. Data Input Object # 4'!B17)","v":1000},{"$f":"'26. Data Input Object # 4'!CB17","v":0},{"$f":"'26. Data Input Object # 4'!CC17","v":0},{"$f":"'26. Data Input Object # 4'!CD17","v":0},-1,null,{"$f":"SUM(V22:$V$39)","v":0},{"$f":"SUM($W$10:W22)","v":0},null,null,null,null,null,null,null,null,null,0,"LR",0,0,0,"% Detected",0]
[{"$f":"'26. Data Input Object # 4'!A18","v":0},{"$f":"IF(A23=0,1000,'26. Data Input Object # 4'!B18)","v":1000},{"$f":"'26. Data Input Object # 4'!CB18","v":0},{"$f":"'26. Data Input Object # 4'!CC18","v":0},{"$f":"'26. Data Input Object # 4'!CD18","v":0},-1,null,{"$f":"SUM(V23:$V$39)","v":0},{"$f":"SUM($W$10:W23)","v":0},null,null,null,null,null,null,null,null,null,0,"LR",0,0,0,"% Detected",0]
[{"$f":"'26. Data Input Object # 4'!A19","v":0},{"$f":"IF(A24=0,1000,'26. Data Input Object # 4'!B19)","v":1000},{"$f":"'26. Data Input Object # 4'!CB19","v":0},{"$f":"'26. Data Input Object # 4'!CC19","v":0},{"$f":"'26. Data Input Object # 4'!CD19","v":0},-1,null,{"$f":"SUM(V24:$V$39)","v":0},{"$f":"SUM($W$10:W24)","v":0},null,null,null,null,null,null,null,null,null,0,"LR",0,0,0,"% Detected",0]
[{"$f":"'26. Data Input Object # 4'!A20","v":0},{"$f":"IF(A25=0,1000,'26. Data Input Object # 4'!B20)","v":1000},{"$f":"'26. Data Input Object # 4'!CB20","v":0},{"$f":"'26. Data Input Object # 4'!CC20","v":0},{"$f":"'26. Data Input Object # 4'!CD20","v":0},-1,null,{"$f":"SUM(V25:$V$39)","v":0},{"$f":"SUM($W$10:W25)","v":0},null,null,null,null,null,null,null,null,null,0,"LR",0,0,0,"% Detected",0]
[{"$f":"'26. Data Input Object # 4'!A21","v":0},{"$f":"IF(A26=0,1000,'26. Data Input Object # 4'!B21)","v":1000},{"$f":"'26. Data Input Object # 4'!CB21","v":0},{"$f":"'26. Data Input Object # 4'!CC21","v":0},{"$f":"'26. Data Input Object # 4'!CD21","v":0},-1,null,{"$f":"SUM(V26:$V$39)","v":0},{"$f":"SUM($W$10:W26)","v":0},null,null,null,null,null,null,null,null,null,0,"LR",0,0,0,"% Detected",0]
[{"$f":"'26. Data Input Object # 4'!A22","v":0},{"$f":"IF(A27=0,1000,'26. Data Input Object # 4'!B22)","v":1000},{"$f":"'26. Data Input Object # 4'!CB22","v":0},{"$f":"'26. Data Input Object # 4'!CC22","v":0},{"$f":"'26. Data Input Object # 4'!CD22","v":0},-1,null,{"$f":"SUM(V27:$V$39)","v":0},{"$f":"SUM($W$10:W27)","v":0},null,null,null,null,null,null,null,null,null,0,"LR",0,0,0,"% Detected",0]
[{"$f":"'26. Data Input Object # 4'!A23","v":0},{"$f":"IF(A28=0,1000,'26. Data Input Object # 4'!B23)","v":1000},{"$f":"'26. Data Input Object # 4'!CB23","v":0},{"$f":"'26. Data Input Object # 4'!CC23","v":0},{"$f":"'26. Data Input Object # 4'!CD23","v":0},-1,null,{"$f":"SUM(V28:$V$39)","v":0},{"$f":"SUM($W$10:W28)","v":0},null,null,null,null,null,null,null,null,null,0,"LR",0,0,0,"% Detected",{"$f":"IF(AND(H28>I28,H34<I34),T28+(I28-H28)*(T34-T28)/((H34-H28)-(I34-I28)),IF(H28=I28,I28))","v":0}]
[{"$f":"'26. Data Input Object # 4'!A24","v":0},{"$f":"IF(A29=0,1000,'26. Data Input Object # 4'!B24)","v":1000},{"$f":"'26. Data Input Object # 4'!CB24","v":0},{"$f":"'26. Data Input Object # 4'!CC24","v":0},{"$f":"'26. Data Input Object # 4'!CD24","v":0},-1,null,{"$f":"SUM(V29:$V$39)","v":0},{"$f":"SUM($W$10:W29)","v":0},null,null,null,null,null,null,null,null,null,{"$f":"A29","v":0},"LR",{"$f":"C29","v":0},{"$f":"D29","v":0},{"$f":"E29","v":0},"% Detected",{"$f":"IF(AND(H29>I29,H35<I35),T29+(I29-H29)*(T35-T29)/((H35-H29)-(I35-I29)),IF(H29=I29,I29))","v":0}]
[{"$f":"'26. Data Input Object # 4'!A25","v":0},{"$f":"IF(A30=0,1000,'26. Data Input Object # 4'!B25)","v":1000},{"$f":"'26. Data Input Object # 4'!CB25","v":0},{"$f":"'26. Data Input Object # 4'!CC25","v":0},{"$f":"'26. Data Input Object # 4'!CD25","v":0},-1,null,{"$f":"SUM(V30:$V$39)","v":0},{"$f":"SUM($W$10:W30)","v":0},null,null,null,null,null,null,null,null,null,0,"LR",0,0,0,"% Detected",0]
[{"$f":"'26. Data Input Object # 4'!A26","v":0},{"$f":"IF(A31=0,1000,'26. Data Input Object # 4'!B26)","v":1000},{"$f":"'26. Data Input Object # 4'!CB26","v":0},{"$f":"'26. Data Input Object # 4'!CC26","v":0},{"$f":"'26. Data Input Object # 4'!CD26","v":0},-1,null,{"$f":"SUM(V31:$V$39)","v":0},{"$f":"SUM($W$10:W31)","v":0},null,null,null,null,null,null,null,null,null,0,"LR",0,0,0,"% Detected",0]
[{"$f":"'26. Data Input Object # 4'!A27","v":0},{"$f":"IF(A32=0,1000,'26. Data Input Object # 4'!B27)","v":1000},{"$f":"'26. Data Input Object # 4'!CB27","v":0},{"$f":"'26. Data Input Object # 4'!CC27","v":0},{"$f":"'26. Data Input Object # 4'!CD27","v":0},-1,null,{"$f":"SUM(V32:$V$39)","v":0},{"$f":"SUM($W$10:W32)","v":0},null,null,null,null,null,null,null,null,null,0,"LR",0,0,0,"% Detected",0]
[{"$f":"'26. Data Input Object # 4'!A28","v":0},{"$f":"IF(A33=0,1000,'26. Data Input Object # 4'!B28)","v":1000},{"$f":"'26. Data Input Object # 4'!CB28","v":0},{"$f":"'26. Data Input Object # 4'!CC28","v":0},{"$f":"'26. Data Input Object # 4'!CD28","v":0},-1,null,{"$f":"SUM(V33:$V$39)","v":0},{"$f":"SUM($W$10:W33)","v":0},null,null,null,null,null,null,null,null,null,0,"LR",0,0,0,"% Detected",0]
[{"$f":"'26. Data Input Object # 4'!A29","v":0},{"$f":"IF(A34=0,1000,'26. Data Input Object # 4'!B29)","v":1000},{"$f":"'26. Data Input Object # 4'!CB29","v":0},{"$f":"'26. Data Input Object # 4'!CC29","v":0},{"$f":"'26. Data Input Object # 4'!CD29","v":0},-1,null,{"$f":"SUM(V34:$V$39)","v":0},{"$f":"SUM($W$10:W34)","v":0},null,null,null,null,null,null,null,null,null,0,"LR",0,0,0,"% Detected",0]
[{"$f":"'26. Data Input Object # 4'!A30","v":0},{"$f":"IF(A35=0,1000,'26. Data Input Object # 4'!B30)","v":1000},{"$f":"'26. Data Input Object # 4'!CB30","v":0},{"$f":"'26. Data Input Object # 4'!CC30","v":0},{"$f":"'26. Data Input Object # 4'!CD30","v":0},-1,null,{"$f":"SUM(V35:$V$39)","v":0},{"$f":"SUM($W$10:W35)","v":0},null,null,null,null,null,null,null,null,null,0,"LR",0,0,0,"% Detected",0]
[{"$f":"'26. Data Input Object # 4'!A31","v":0},{"$f":"IF(A36=0,1000,'26. Data Input Object # 4'!B31)","v":1000},{"$f":"'26. Data Input Object # 4'!CB31","v":0},{"$f":"'26. Data Input Object # 4'!CC31","v":0},{"$f":"'26. Data Input Object # 4'!CD31","v":0},-1,null,{"$f":"SUM(V36:$V$39)","v":0},{"$f":"SUM($W$10:W36)","v":0},null,null,null,null,null,null,null,null,null,0,"LR",0,0,0,"% Detected",0]
[{"$f":"'26. Data Input Object # 4'!A32","v":0},{"$f":"IF(A37=0,1000,'26. Data Input Object # 4'!B32)","v":1000},{"$f":"'26. Data Input Object # 4'!CB32","v":0},{"$f":"'26. Data Input Object # 4'!CC32","v":0},{"$f":"'26. Data Input Object # 4'!CD32","v":0},-1,null,{"$f":"SUM(V37:$V$39)","v":0},{"$f":"SUM($W$10:W37)","v":0},null,null,null,null,null,null,null,null,null,0,"LR",0,0,0,"% Detected",0]
[{"$f":"'26. Data Input Object # 4'!A33","v":0},{"$f":"IF(A38=0,1000,'26. Data Input Object # 4'!B33)","v":1000},{"$f":"'26. Data Input Object # 4'!CB33","v":0},{"$f":"'26. Data Input Object # 4'!CC33","v":0},{"$f":"'26. Data Input Object # 4'!CD33","v":0},-1,null,{"$f":"SUM(V38:$V$39)","v":0},{"$f":"SUM($W$10:W38)","v":0},null,null,null,null,null,null,null,null,null,0,"LR",0,0,0,"% Detected",0]
[{"$f":"'26. Data Input Object # 4'!A34","v":0},{"$f":"IF(A39=0,1000,'26. Data Input Object # 4'!B34)","v":1000},{"$f":"'26. Data Input Object # 4'!CB34","v":0},{"$f":"'26. Data Input Object # 4'!CC34","v":0},{"$f":"'26. Data Input Object # 4'!CD34","v":0},-1,null,{"$f":"SUM(V39:$V$39)","v":0},{"$f":"SUM($W$10:W39)","v":0},null,null,null,null,null,null,null,null,null,0,"LR",0,0,0,"% Detected",0]
[]
["Check Sums",null,{"$f":"SUM(C10:C39)","v":0},{"$f":"SUM(D10:D39)","v":0},{"$f":"SUM(E10:E39)","v":0}]
["Effective Sweep Width",null,null,{"$f":"2*MAX(Y10:Y39)","v":0},{"$f":"'46. Calculations'!P9","v":"Yards"}]
["Maximum POD =",null,{"$f":"MAX(F10:F39)","v":-1}]

{"sheet":"40. Raw Data Summary","index":40,"n_rows":186,"n_cols":79,"rows_kept":186,"cut":false,"hidden":false,"merged":[]}
["Raw Data Summary"]
[null,null,{"$f":"'27. Searcher Profile Data'!B4","v":"Searcher Number"}]
[{"$f":"'27. Searcher Profile Data'!A5","v":"Searcher Characteristic"},null,{"$f":"'27. Searcher Profile Data'!B5","v":1},{"$f":"'27. Searcher Profile Data'!C5","v":2},{"$f":"'27. Searcher Profile Data'!D5","v":3},{"$f":"'27. Searcher Profile Data'!E5","v":4},{"$f":"'27. Searcher Profile Data'!F5","v":5},{"$f":"'27. Searcher Profile Data'!G5","v":6},{"$f":"'27. Searcher Profile Data'!H5","v":7},{"$f":"'27. Searcher Profile Data'!I5","v":8},{"$f":"'27. Searcher Profile Data'!J5","v":9},{"$f":"'27. Searcher Profile Data'!K5","v":10},{"$f":"'27. Searcher Profile Data'!L5","v":11},{"$f":"'27. Searcher Profile Data'!M5","v":12},{"$f":"'27. Searcher Profile Data'!N5","v":13},{"$f":"'27. Searcher Profile Data'!O5","v":14},{"$f":"'27. Searcher Profile Data'!P5","v":15},{"$f":"'27. Searcher Profile Data'!Q5","v":16},{"$f":"'27. Searcher Profile Data'!R5","v":17},{"$f":"'27. Searcher Profile Data'!S5","v":18},{"$f":"'27. Searcher Profile Data'!T5","v":19},{"$f":"'27. Searcher Profile Data'!U5","v":20},{"$f":"'27. Searcher Profile Data'!V5","v":21},{"$f":"'27. Searcher Profile Data'!W5","v":22},{"$f":"'27. Searcher Profile Data'!X5","v":23},{"$f":"'27. Searcher Profile Data'!Y5","v":24},{"$f":"'27. Searcher Profile Data'!Z5","v":25},{"$f":"'27. Searcher Profile Data'!AA5","v":26},{"$f":"'27. Searcher Profile Data'!AB5","v":27},{"$f":"'27. Searcher Profile Data'!AC5","v":28},{"$f":"'27. Searcher Profile Data'!AD5","v":29},{"$f":"'27. Searcher Profile Data'!AE5","v":30},{"$f":"'27. Searcher Profile Data'!AF5","v":31},{"$f":"'27. Searcher Profile Data'!AG5","v":32},{"$f":"'27. Searcher Profile Data'!AH5","v":33},{"$f":"'27. Searcher Profile Data'!AI5","v":34},{"$f":"'27. Searcher Profile Data'!AJ5","v":35},{"$f":"'27. Searcher Profile Data'!AK5","v":36},{"$f":"'27. Searcher Profile Data'!AL5","v":37},{"$f":"'27. Searcher Profile Data'!AM5","v":38},{"$f":"'27. Searcher Profile Data'!AN5","v":39},{"$f":"'27. Searcher Profile Data'!AO5","v":40},{"$f":"'27. Searcher Profile Data'!AP5","v":41},{"$f":"'27. Searcher Profile Data'!AQ5","v":42},{"$f":"'27. Searcher Profile Data'!AR5","v":43},{"$f":"'27. Searcher Profile Data'!AS5","v":44},{"$f":"'27. Searcher Profile Data'!AT5","v":45},{"$f":"'27. Searcher Profile Data'!AU5","v":46},{"$f":"'27. Searcher Profile Data'!AV5","v":47},{"$f":"'27. Searcher Profile Data'!AW5","v":48},{"$f":"'27. Searcher Profile Data'!AX5","v":49},{"$f":"'27. Searcher Profile Data'!AY5","v":50},{"$f":"'27. Searcher Profile Data'!AZ5","v":51},{"$f":"'27. Searcher Profile Data'!BA5","v":52},{"$f":"'27. Searcher Profile Data'!BB5","v":53},{"$f":"'27. Searcher Profile Data'!BC5","v":54},{"$f":"'27. Searcher Profile Data'!BD5","v":55},{"$f":"'27. Searcher Profile Data'!BE5","v":56},{"$f":"'27. Searcher Profile Data'!BF5","v":57},{"$f":"'27. Searcher Profile Data'!BG5","v":58},{"$f":"'27. Searcher Profile Data'!BH5","v":59},{"$f":"'27. Searcher Profile Data'!BI5","v":60},{"$f":"'27. Searcher Profile Data'!BJ5","v":61},{"$f":"'27. Searcher Profile Data'!BK5","v":62},{"$f":"'27. Searcher Profile Data'!BL5","v":63},{"$f":"'27. Searcher Profile Data'!BM5","v":64},{"$f":"'27. Searcher Profile Data'!BN5","v":65},{"$f":"'27. Searcher Profile Data'!BO5","v":66},{"$f":"'27. Searcher Profile Data'!BP5","v":67},{"$f":"'27. Searcher Profile Data'!BQ5","v":68},{"$f":"'27. Searcher Profile Data'!BR5","v":69},{"$f":"'27. Searcher Profile Data'!BS5","v":70},{"$f":"'27. Searcher Profile Data'!BT5","v":71},{"$f":"'27. Searcher Profile Data'!BU5","v":72},{"$f":"'27. Searcher Profile Data'!BV5","v":73},{"$f":"'27. Searcher Profile Data'!BW5","v":74},{"$f":"'27. Searcher Profile Data'!BX5","v":75},{"$f":"'27. Searcher Profile Data'!BY5","v":76},{"$f":"'27. Searcher Profile Data'!BZ5","v":77}]
[{"$f":"'27. Searcher Profile Data'!A6","v":"Age (in years)"},null,{"$f":"'27. Searcher Profile Data'!B6","v":0},{"$f":"'27. Searcher Profile Data'!C6","v":0},{"$f":"'27. Searcher Profile Data'!D6","v":0},{"$f":"'27. Searcher Profile Data'!E6","v":0},{"$f":"'27. Searcher Profile Data'!F6","v":0},{"$f":"'27. Searcher Profile Data'!G6","v":0},{"$f":"'27. Searcher Profile Data'!H6","v":0},{"$f":"'27. Searcher Profile Data'!I6","v":0},{"$f":"'27. Searcher Profile Data'!J6","v":0},{"$f":"'27. Searcher Profile Data'!K6","v":0},{"$f":"'27. Searcher Profile Data'!L6","v":0},{"$f":"'27. Searcher Profile Data'!M6","v":0},{"$f":"'27. Searcher Profile Data'!N6","v":0},{"$f":"'27. Searcher Profile Data'!O6","v":0},{"$f":"'27. Searcher Profile Data'!P6","v":0},{"$f":"'27. Searcher Profile Data'!Q6","v":0},{"$f":"'27. Searcher Profile Data'!R6","v":0},{"$f":"'27. Searcher Profile Data'!S6","v":0},{"$f":"'27. Searcher Profile Data'!T6","v":0},{"$f":"'27. Searcher Profile Data'!U6","v":0},{"$f":"'27. Searcher Profile Data'!V6","v":0},{"$f":"'27. Searcher Profile Data'!W6","v":0},{"$f":"'27. Searcher Profile Data'!X6","v":0},{"$f":"'27. Searcher Profile Data'!Y6","v":0},{"$f":"'27. Searcher Profile Data'!Z6","v":0},{"$f":"'27. Searcher Profile Data'!AA6","v":0},{"$f":"'27. Searcher Profile Data'!AB6","v":0},{"$f":"'27. Searcher Profile Data'!AC6","v":0},{"$f":"'27. Searcher Profile Data'!AD6","v":0},{"$f":"'27. Searcher Profile Data'!AE6","v":0},{"$f":"'27. Searcher Profile Data'!AF6","v":0},{"$f":"'27. Searcher Profile Data'!AG6","v":0},{"$f":"'27. Searcher Profile Data'!AH6","v":0},{"$f":"'27. Searcher Profile Data'!AI6","v":0},{"$f":"'27. Searcher Profile Data'!AJ6","v":0},{"$f":"'27. Searcher Profile Data'!AK6","v":0},{"$f":"'27. Searcher Profile Data'!AL6","v":0},{"$f":"'27. Searcher Profile Data'!AM6","v":0},{"$f":"'27. Searcher Profile Data'!AN6","v":0},{"$f":"'27. Searcher Profile Data'!AO6","v":0},{"$f":"'27. Searcher Profile Data'!AP6","v":0},{"$f":"'27. Searcher Profile Data'!AQ6","v":0},{"$f":"'27. Searcher Profile Data'!AR6","v":0},{"$f":"'27. Searcher Profile Data'!AS6","v":0},{"$f":"'27. Searcher Profile Data'!AT6","v":0},{"$f":"'27. Searcher Profile Data'!AU6","v":0},{"$f":"'27. Searcher Profile Data'!AV6","v":0},{"$f":"'27. Searcher Profile Data'!AW6","v":0},{"$f":"'27. Searcher Profile Data'!AX6","v":0},{"$f":"'27. Searcher Profile Data'!AY6","v":0},{"$f":"'27. Searcher Profile Data'!AZ6","v":0},{"$f":"'27. Searcher Profile Data'!BA6","v":0},{"$f":"'27. Searcher Profile Data'!BB6","v":0},{"$f":"'27. Searcher Profile Data'!BC6","v":0},{"$f":"'27. Searcher Profile Data'!BD6","v":0},{"$f":"'27. Searcher Profile Data'!BE6","v":0},{"$f":"'27. Searcher Profile Data'!BF6","v":0},{"$f":"'27. Searcher Profile Data'!BG6","v":0},{"$f":"'27. Searcher Profile Data'!BH6","v":0},{"$f":"'27. Searcher Profile Data'!BI6","v":0},{"$f":"'27. Searcher Profile Data'!BJ6","v":0},{"$f":"'27. Searcher Profile Data'!BK6","v":0},{"$f":"'27. Searcher Profile Data'!BL6","v":0},{"$f":"'27. Searcher Profile Data'!BM6","v":0},{"$f":"'27. Searcher Profile Data'!BN6","v":0},{"$f":"'27. Searcher Profile Data'!BO6","v":0},{"$f":"'27. Searcher Profile Data'!BP6","v":0},{"$f":"'27. Searcher Profile Data'!BQ6","v":0},{"$f":"'27. Searcher Profile Data'!BR6","v":0},{"$f":"'27. Searcher Profile Data'!BS6","v":0},{"$f":"'27. Searcher Profile Data'!BT6","v":0},{"$f":"'27. Searcher Profile Data'!BU6","v":0},{"$f":"'27. Searcher Profile Data'!BV6","v":0},{"$f":"'27. Searcher Profile Data'!BW6","v":0},{"$f":"'27. Searcher Profile Data'!BX6","v":0},{"$f":"'27. Searcher Profile Data'!BY6","v":0},{"$f":"'27. Searcher Profile Data'!BZ6","v":0}]
[{"$f":"'27. Searcher Profile Data'!A7","v":"Gender (M or F)"},null,{"$f":"'27. Searcher Profile Data'!B7","v":0},{"$f":"'27. Searcher Profile Data'!C7","v":0},{"$f":"'27. Searcher Profile Data'!D7","v":0},{"$f":"'27. Searcher Profile Data'!E7","v":0},{"$f":"'27. Searcher Profile Data'!F7","v":0},{"$f":"'27. Searcher Profile Data'!G7","v":0},{"$f":"'27. Searcher Profile Data'!H7","v":0},{"$f":"'27. Searcher Profile Data'!I7","v":0},{"$f":"'27. Searcher Profile Data'!J7","v":0},{"$f":"'27. Searcher Profile Data'!K7","v":0},{"$f":"'27. Searcher Profile Data'!L7","v":0},{"$f":"'27. Searcher Profile Data'!M7","v":0},{"$f":"'27. Searcher Profile Data'!N7","v":0},{"$f":"'27. Searcher Profile Data'!O7","v":0},{"$f":"'27. Searcher Profile Data'!P7","v":0},{"$f":"'27. Searcher Profile Data'!Q7","v":0},{"$f":"'27. Searcher Profile Data'!R7","v":0},{"$f":"'27. Searcher Profile Data'!S7","v":0},{"$f":"'27. Searcher Profile Data'!T7","v":0},{"$f":"'27. Searcher Profile Data'!U7","v":0},{"$f":"'27. Searcher Profile Data'!V7","v":0},{"$f":"'27. Searcher Profile Data'!W7","v":0},{"$f":"'27. Searcher Profile Data'!X7","v":0},{"$f":"'27. Searcher Profile Data'!Y7","v":0},{"$f":"'27. Searcher Profile Data'!Z7","v":0},{"$f":"'27. Searcher Profile Data'!AA7","v":0},{"$f":"'27. Searcher Profile Data'!AB7","v":0},{"$f":"'27. Searcher Profile Data'!AC7","v":0},{"$f":"'27. Searcher Profile Data'!AD7","v":0},{"$f":"'27. Searcher Profile Data'!AE7","v":0},{"$f":"'27. Searcher Profile Data'!AF7","v":0},{"$f":"'27. Searcher Profile Data'!AG7","v":0},{"$f":"'27. Searcher Profile Data'!AH7","v":0},{"$f":"'27. Searcher Profile Data'!AI7","v":0},{"$f":"'27. Searcher Profile Data'!AJ7","v":0},{"$f":"'27. Searcher Profile Data'!AK7","v":0},{"$f":"'27. Searcher Profile Data'!AL7","v":0},{"$f":"'27. Searcher Profile Data'!AM7","v":0},{"$f":"'27. Searcher Profile Data'!AN7","v":0},{"$f":"'27. Searcher Profile Data'!AO7","v":0},{"$f":"'27. Searcher Profile Data'!AP7","v":0},{"$f":"'27. Searcher Profile Data'!AQ7","v":0},{"$f":"'27. Searcher Profile Data'!AR7","v":0},{"$f":"'27. Searcher Profile Data'!AS7","v":0},{"$f":"'27. Searcher Profile Data'!AT7","v":0},{"$f":"'27. Searcher Profile Data'!AU7","v":0},{"$f":"'27. Searcher Profile Data'!AV7","v":0},{"$f":"'27. Searcher Profile Data'!AW7","v":0},{"$f":"'27. Searcher Profile Data'!AX7","v":0},{"$f":"'27. Searcher Profile Data'!AY7","v":0},{"$f":"'27. Searcher Profile Data'!AZ7","v":0},{"$f":"'27. Searcher Profile Data'!BA7","v":0},{"$f":"'27. Searcher Profile Data'!BB7","v":0},{"$f":"'27. Searcher Profile Data'!BC7","v":0},{"$f":"'27. Searcher Profile Data'!BD7","v":0},{"$f":"'27. Searcher Profile Data'!BE7","v":0},{"$f":"'27. Searcher Profile Data'!BF7","v":0},{"$f":"'27. Searcher Profile Data'!BG7","v":0},{"$f":"'27. Searcher Profile Data'!BH7","v":0},{"$f":"'27. Searcher Profile Data'!BI7","v":0},{"$f":"'27. Searcher Profile Data'!BJ7","v":0},{"$f":"'27. Searcher Profile Data'!BK7","v":0},{"$f":"'27. Searcher Profile Data'!BL7","v":0},{"$f":"'27. Searcher Profile Data'!BM7","v":0},{"$f":"'27. Searcher Profile Data'!BN7","v":0},{"$f":"'27. Searcher Profile Data'!BO7","v":0},{"$f":"'27. Searcher Profile Data'!BP7","v":0},{"$f":"'27. Searcher Profile Data'!BQ7","v":0},{"$f":"'27. Searcher Profile Data'!BR7","v":0},{"$f":"'27. Searcher Profile Data'!BS7","v":0},{"$f":"'27. Searcher Profile Data'!BT7","v":0},{"$f":"'27. Searcher Profile Data'!BU7","v":0},{"$f":"'27. Searcher Profile Data'!BV7","v":0},{"$f":"'27. Searcher Profile Data'!BW7","v":0},{"$f":"'27. Searcher Profile Data'!BX7","v":0},{"$f":"'27. Searcher Profile Data'!BY7","v":0},{"$f":"'27. Searcher Profile Data'!BZ7","v":0}]
[{"$f":"'27. Searcher Profile Data'!A8","v":"Years in SAR"},null,{"$f":"'27. Searcher Profile Data'!B8","v":0},{"$f":"'27. Searcher Profile Data'!C8","v":0},{"$f":"'27. Searcher Profile Data'!D8","v":0},{"$f":"'27. Searcher Profile Data'!E8","v":0},{"$f":"'27. Searcher Profile Data'!F8","v":0},{"$f":"'27. Searcher Profile Data'!G8","v":0},{"$f":"'27. Searcher Profile Data'!H8","v":0},{"$f":"'27. Searcher Profile Data'!I8","v":0},{"$f":"'27. Searcher Profile Data'!J8","v":0},{"$f":"'27. Searcher Profile Data'!K8","v":0},{"$f":"'27. Searcher Profile Data'!L8","v":0},{"$f":"'27. Searcher Profile Data'!M8","v":0},{"$f":"'27. Searcher Profile Data'!N8","v":0},{"$f":"'27. Searcher Profile Data'!O8","v":0},{"$f":"'27. Searcher Profile Data'!P8","v":0},{"$f":"'27. Searcher Profile Data'!Q8","v":0},{"$f":"'27. Searcher Profile Data'!R8","v":0},{"$f":"'27. Searcher Profile Data'!S8","v":0},{"$f":"'27. Searcher Profile Data'!T8","v":0},{"$f":"'27. Searcher Profile Data'!U8","v":0},{"$f":"'27. Searcher Profile Data'!V8","v":0},{"$f":"'27. Searcher Profile Data'!W8","v":0},{"$f":"'27. Searcher Profile Data'!X8","v":0},{"$f":"'27. Searcher Profile Data'!Y8","v":0},{"$f":"'27. Searcher Profile Data'!Z8","v":0},{"$f":"'27. Searcher Profile Data'!AA8","v":0},{"$f":"'27. Searcher Profile Data'!AB8","v":0},{"$f":"'27. Searcher Profile Data'!AC8","v":0},{"$f":"'27. Searcher Profile Data'!AD8","v":0},{"$f":"'27. Searcher Profile Data'!AE8","v":0},{"$f":"'27. Searcher Profile Data'!AF8","v":0},{"$f":"'27. Searcher Profile Data'!AG8","v":0},{"$f":"'27. Searcher Profile Data'!AH8","v":0},{"$f":"'27. Searcher Profile Data'!AI8","v":0},{"$f":"'27. Searcher Profile Data'!AJ8","v":0},{"$f":"'27. Searcher Profile Data'!AK8","v":0},{"$f":"'27. Searcher Profile Data'!AL8","v":0},{"$f":"'27. Searcher Profile Data'!AM8","v":0},{"$f":"'27. Searcher Profile Data'!AN8","v":0},{"$f":"'27. Searcher Profile Data'!AO8","v":0},{"$f":"'27. Searcher Profile Data'!AP8","v":0},{"$f":"'27. Searcher Profile Data'!AQ8","v":0},{"$f":"'27. Searcher Profile Data'!AR8","v":0},{"$f":"'27. Searcher Profile Data'!AS8","v":0},{"$f":"'27. Searcher Profile Data'!AT8","v":0},{"$f":"'27. Searcher Profile Data'!AU8","v":0},{"$f":"'27. Searcher Profile Data'!AV8","v":0},{"$f":"'27. Searcher Profile Data'!AW8","v":0},{"$f":"'27. Searcher Profile Data'!AX8","v":0},{"$f":"'27. Searcher Profile Data'!AY8","v":0},{"$f":"'27. Searcher Profile Data'!AZ8","v":0},{"$f":"'27. Searcher Profile Data'!BA8","v":0},{"$f":"'27. Searcher Profile Data'!BB8","v":0},{"$f":"'27. Searcher Profile Data'!BC8","v":0},{"$f":"'27. Searcher Profile Data'!BD8","v":0},{"$f":"'27. Searcher Profile Data'!BE8","v":0},{"$f":"'27. Searcher Profile Data'!BF8","v":0},{"$f":"'27. Searcher Profile Data'!BG8","v":0},{"$f":"'27. Searcher Profile Data'!BH8","v":0},{"$f":"'27. Searcher Profile Data'!BI8","v":0},{"$f":"'27. Searcher Profile Data'!BJ8","v":0},{"$f":"'27. Searcher Profile Data'!BK8","v":0},{"$f":"'27. Searcher Profile Data'!BL8","v":0},{"$f":"'27. Searcher Profile Data'!BM8","v":0},{"$f":"'27. Searcher Profile Data'!BN8","v":0},{"$f":"'27. Searcher Profile Data'!BO8","v":0},{"$f":"'27. Searcher Profile Data'!BP8","v":0},{"$f":"'27. Searcher Profile Data'!BQ8","v":0},{"$f":"'27. Searcher Profile Data'!BR8","v":0},{"$f":"'27. Searcher Profile Data'!BS8","v":0},{"$f":"'27. Searcher Profile Data'!BT8","v":0},{"$f":"'27. Searcher Profile Data'!BU8","v":0},{"$f":"'27. Searcher Profile Data'!BV8","v":0},{"$f":"'27. Searcher Profile Data'!BW8","v":0},{"$f":"'27. Searcher Profile Data'!BX8","v":0},{"$f":"'27. Searcher Profile Data'!BY8","v":0},{"$f":"'27. Searcher Profile Data'!BZ8","v":0}]
[{"$f":"'27. Searcher Profile Data'!A9","v":"# of SAR Searches"},null,{"$f":"'27. Searcher Profile Data'!B9","v":0},{"$f":"'27. Searcher Profile Data'!C9","v":0},{"$f":"'27. Searcher Profile Data'!D9","v":0},{"$f":"'27. Searcher Profile Data'!E9","v":0},{"$f":"'27. Searcher Profile Data'!F9","v":0},{"$f":"'27. Searcher Profile Data'!G9","v":0},{"$f":"'27. Searcher Profile Data'!H9","v":0},{"$f":"'27. Searcher Profile Data'!I9","v":0},{"$f":"'27. Searcher Profile Data'!J9","v":0},{"$f":"'27. Searcher Profile Data'!K9","v":0},{"$f":"'27. Searcher Profile Data'!L9","v":0},{"$f":"'27. Searcher Profile Data'!M9","v":0},{"$f":"'27. Searcher Profile Data'!N9","v":0},{"$f":"'27. Searcher Profile Data'!O9","v":0},{"$f":"'27. Searcher Profile Data'!P9","v":0},{"$f":"'27. Searcher Profile Data'!Q9","v":0},{"$f":"'27. Searcher Profile Data'!R9","v":0},{"$f":"'27. Searcher Profile Data'!S9","v":0},{"$f":"'27. Searcher Profile Data'!T9","v":0},{"$f":"'27. Searcher Profile Data'!U9","v":0},{"$f":"'27. Searcher Profile Data'!V9","v":0},{"$f":"'27. Searcher Profile Data'!W9","v":0},{"$f":"'27. Searcher Profile Data'!X9","v":0},{"$f":"'27. Searcher Profile Data'!Y9","v":0},{"$f":"'27. Searcher Profile Data'!Z9","v":0},{"$f":"'27. Searcher Profile Data'!AA9","v":0},{"$f":"'27. Searcher Profile Data'!AB9","v":0},{"$f":"'27. Searcher Profile Data'!AC9","v":0},{"$f":"'27. Searcher Profile Data'!AD9","v":0},{"$f":"'27. Searcher Profile Data'!AE9","v":0},{"$f":"'27. Searcher Profile Data'!AF9","v":0},{"$f":"'27. Searcher Profile Data'!AG9","v":0},{"$f":"'27. Searcher Profile Data'!AH9","v":0},{"$f":"'27. Searcher Profile Data'!AI9","v":0},{"$f":"'27. Searcher Profile Data'!AJ9","v":0},{"$f":"'27. Searcher Profile Data'!AK9","v":0},{"$f":"'27. Searcher Profile Data'!AL9","v":0},{"$f":"'27. Searcher Profile Data'!AM9","v":0},{"$f":"'27. Searcher Profile Data'!AN9","v":0},{"$f":"'27. Searcher Profile Data'!AO9","v":0},{"$f":"'27. Searcher Profile Data'!AP9","v":0},{"$f":"'27. Searcher Profile Data'!AQ9","v":0},{"$f":"'27. Searcher Profile Data'!AR9","v":0},{"$f":"'27. Searcher Profile Data'!AS9","v":0},{"$f":"'27. Searcher Profile Data'!AT9","v":0},{"$f":"'27. Searcher Profile Data'!AU9","v":0},{"$f":"'27. Searcher Profile Data'!AV9","v":0},{"$f":"'27. Searcher Profile Data'!AW9","v":0},{"$f":"'27. Searcher Profile Data'!AX9","v":0},{"$f":"'27. Searcher Profile Data'!AY9","v":0},{"$f":"'27. Searcher Profile Data'!AZ9","v":0},{"$f":"'27. Searcher Profile Data'!BA9","v":0},{"$f":"'27. Searcher Profile Data'!BB9","v":0},{"$f":"'27. Searcher Profile Data'!BC9","v":0},{"$f":"'27. Searcher Profile Data'!BD9","v":0},{"$f":"'27. Searcher Profile Data'!BE9","v":0},{"$f":"'27. Searcher Profile Data'!BF9","v":0},{"$f":"'27. Searcher Profile Data'!BG9","v":0},{"$f":"'27. Searcher Profile Data'!BH9","v":0},{"$f":"'27. Searcher Profile Data'!BI9","v":0},{"$f":"'27. Searcher Profile Data'!BJ9","v":0},{"$f":"'27. Searcher Profile Data'!BK9","v":0},{"$f":"'27. Searcher Profile Data'!BL9","v":0},{"$f":"'27. Searcher Profile Data'!BM9","v":0},{"$f":"'27. Searcher Profile Data'!BN9","v":0},{"$f":"'27. Searcher Profile Data'!BO9","v":0},{"$f":"'27. Searcher Profile Data'!BP9","v":0},{"$f":"'27. Searcher Profile Data'!BQ9","v":0},{"$f":"'27. Searcher Profile Data'!BR9","v":0},{"$f":"'27. Searcher Profile Data'!BS9","v":0},{"$f":"'27. Searcher Profile Data'!BT9","v":0},{"$f":"'27. Searcher Profile Data'!BU9","v":0},{"$f":"'27. Searcher Profile Data'!BV9","v":0},{"$f":"'27. Searcher Profile Data'!BW9","v":0},{"$f":"'27. Searcher Profile Data'!BX9","v":0},{"$f":"'27. Searcher Profile Data'!BY9","v":0},{"$f":"'27. Searcher Profile Data'!BZ9","v":0}]
[{"$f":"'27. Searcher Profile Data'!A10","v":"# of Searches in a field"},null,{"$f":"'27. Searcher Profile Data'!B10","v":0},{"$f":"'27. Searcher Profile Data'!C10","v":0},{"$f":"'27. Searcher Profile Data'!D10","v":0},{"$f":"'27. Searcher Profile Data'!E10","v":0},{"$f":"'27. Searcher Profile Data'!F10","v":0},{"$f":"'27. Searcher Profile Data'!G10","v":0},{"$f":"'27. Searcher Profile Data'!H10","v":0},{"$f":"'27. Searcher Profile Data'!I10","v":0},{"$f":"'27. Searcher Profile Data'!J10","v":0},{"$f":"'27. Searcher Profile Data'!K10","v":0},{"$f":"'27. Searcher Profile Data'!L10","v":0},{"$f":"'27. Searcher Profile Data'!M10","v":0},{"$f":"'27. Searcher Profile Data'!N10","v":0},{"$f":"'27. Searcher Profile Data'!O10","v":0},{"$f":"'27. Searcher Profile Data'!P10","v":0},{"$f":"'27. Searcher Profile Data'!Q10","v":0},{"$f":"'27. Searcher Profile Data'!R10","v":0},{"$f":"'27. Searcher Profile Data'!S10","v":0},{"$f":"'27. Searcher Profile Data'!T10","v":0},{"$f":"'27. Searcher Profile Data'!U10","v":0},{"$f":"'27. Searcher Profile Data'!V10","v":0},{"$f":"'27. Searcher Profile Data'!W10","v":0},{"$f":"'27. Searcher Profile Data'!X10","v":0},{"$f":"'27. Searcher Profile Data'!Y10","v":0},{"$f":"'27. Searcher Profile Data'!Z10","v":0},{"$f":"'27. Searcher Profile Data'!AA10","v":0},{"$f":"'27. Searcher Profile Data'!AB10","v":0},{"$f":"'27. Searcher Profile Data'!AC10","v":0},{"$f":"'27. Searcher Profile Data'!AD10","v":0},{"$f":"'27. Searcher Profile Data'!AE10","v":0},{"$f":"'27. Searcher Profile Data'!AF10","v":0},{"$f":"'27. Searcher Profile Data'!AG10","v":0},{"$f":"'27. Searcher Profile Data'!AH10","v":0},{"$f":"'27. Searcher Profile Data'!AI10","v":0},{"$f":"'27. Searcher Profile Data'!AJ10","v":0},{"$f":"'27. Searcher Profile Data'!AK10","v":0},{"$f":"'27. Searcher Profile Data'!AL10","v":0},{"$f":"'27. Searcher Profile Data'!AM10","v":0},{"$f":"'27. Searcher Profile Data'!AN10","v":0},{"$f":"'27. Searcher Profile Data'!AO10","v":0},{"$f":"'27. Searcher Profile Data'!AP10","v":0},{"$f":"'27. Searcher Profile Data'!AQ10","v":0},{"$f":"'27. Searcher Profile Data'!AR10","v":0},{"$f":"'27. Searcher Profile Data'!AS10","v":0},{"$f":"'27. Searcher Profile Data'!AT10","v":0},{"$f":"'27. Searcher Profile Data'!AU10","v":0},{"$f":"'27. Searcher Profile Data'!AV10","v":0},{"$f":"'27. Searcher Profile Data'!AW10","v":0},{"$f":"'27. Searcher Profile Data'!AX10","v":0},{"$f":"'27. Searcher Profile Data'!AY10","v":0},{"$f":"'27. Searcher Profile Data'!AZ10","v":0},{"$f":"'27. Searcher Profile Data'!BA10","v":0},{"$f":"'27. Searcher Profile Data'!BB10","v":0},{"$f":"'27. Searcher Profile Data'!BC10","v":0},{"$f":"'27. Searcher Profile Data'!BD10","v":0},{"$f":"'27. Searcher Profile Data'!BE10","v":0},{"$f":"'27. Searcher Profile Data'!BF10","v":0},{"$f":"'27. Searcher Profile Data'!BG10","v":0},{"$f":"'27. Searcher Profile Data'!BH10","v":0},{"$f":"'27. Searcher Profile Data'!BI10","v":0},{"$f":"'27. Searcher Profile Data'!BJ10","v":0},{"$f":"'27. Searcher Profile Data'!BK10","v":0},{"$f":"'27. Searcher Profile Data'!BL10","v":0},{"$f":"'27. Searcher Profile Data'!BM10","v":0},{"$f":"'27. Searcher Profile Data'!BN10","v":0},{"$f":"'27. Searcher Profile Data'!BO10","v":0},{"$f":"'27. Searcher Profile Data'!BP10","v":0},{"$f":"'27. Searcher Profile Data'!BQ10","v":0},{"$f":"'27. Searcher Profile Data'!BR10","v":0},{"$f":"'27. Searcher Profile Data'!BS10","v":0},{"$f":"'27. Searcher Profile Data'!BT10","v":0},{"$f":"'27. Searcher Profile Data'!BU10","v":0},{"$f":"'27. Searcher Profile Data'!BV10","v":0},{"$f":"'27. Searcher Profile Data'!BW10","v":0},{"$f":"'27. Searcher Profile Data'!BX10","v":0},{"$f":"'27. Searcher Profile Data'!BY10","v":0},{"$f":"'27. Searcher Profile Data'!BZ10","v":0}]
[{"$f":"'27. Searcher Profile Data'!A11","v":"Regular Occupation"},null,{"$f":"'27. Searcher Profile Data'!B11","v":0},{"$f":"'27. Searcher Profile Data'!C11","v":0},{"$f":"'27. Searcher Profile Data'!D11","v":0},{"$f":"'27. Searcher Profile Data'!E11","v":0},{"$f":"'27. Searcher Profile Data'!F11","v":0},{"$f":"'27. Searcher Profile Data'!G11","v":0},{"$f":"'27. Searcher Profile Data'!H11","v":0},{"$f":"'27. Searcher Profile Data'!I11","v":0},{"$f":"'27. Searcher Profile Data'!J11","v":0},{"$f":"'27. Searcher Profile Data'!K11","v":0},{"$f":"'27. Searcher Profile Data'!L11","v":0},{"$f":"'27. Searcher Profile Data'!M11","v":0},{"$f":"'27. Searcher Profile Data'!N11","v":0},{"$f":"'27. Searcher Profile Data'!O11","v":0},{"$f":"'27. Searcher Profile Data'!P11","v":0},{"$f":"'27. Searcher Profile Data'!Q11","v":0},{"$f":"'27. Searcher Profile Data'!R11","v":0},{"$f":"'27. Searcher Profile Data'!S11","v":0},{"$f":"'27. Searcher Profile Data'!T11","v":0},{"$f":"'27. Searcher Profile Data'!U11","v":0},{"$f":"'27. Searcher Profile Data'!V11","v":0},{"$f":"'27. Searcher Profile Data'!W11","v":0},{"$f":"'27. Searcher Profile Data'!X11","v":0},{"$f":"'27. Searcher Profile Data'!Y11","v":0},{"$f":"'27. Searcher Profile Data'!Z11","v":0},{"$f":"'27. Searcher Profile Data'!AA11","v":0},{"$f":"'27. Searcher Profile Data'!AB11","v":0},{"$f":"'27. Searcher Profile Data'!AC11","v":0},{"$f":"'27. Searcher Profile Data'!AD11","v":0},{"$f":"'27. Searcher Profile Data'!AE11","v":0},{"$f":"'27. Searcher Profile Data'!AF11","v":0},{"$f":"'27. Searcher Profile Data'!AG11","v":0},{"$f":"'27. Searcher Profile Data'!AH11","v":0},{"$f":"'27. Searcher Profile Data'!AI11","v":0},{"$f":"'27. Searcher Profile Data'!AJ11","v":0},{"$f":"'27. Searcher Profile Data'!AK11","v":0},{"$f":"'27. Searcher Profile Data'!AL11","v":0},{"$f":"'27. Searcher Profile Data'!AM11","v":0},{"$f":"'27. Searcher Profile Data'!AN11","v":0},{"$f":"'27. Searcher Profile Data'!AO11","v":0},{"$f":"'27. Searcher Profile Data'!AP11","v":0},{"$f":"'27. Searcher Profile Data'!AQ11","v":0},{"$f":"'27. Searcher Profile Data'!AR11","v":0},{"$f":"'27. Searcher Profile Data'!AS11","v":0},{"$f":"'27. Searcher Profile Data'!AT11","v":0},{"$f":"'27. Searcher Profile Data'!AU11","v":0},{"$f":"'27. Searcher Profile Data'!AV11","v":0},{"$f":"'27. Searcher Profile Data'!AW11","v":0},{"$f":"'27. Searcher Profile Data'!AX11","v":0},{"$f":"'27. Searcher Profile Data'!AY11","v":0},{"$f":"'27. Searcher Profile Data'!AZ11","v":0},{"$f":"'27. Searcher Profile Data'!BA11","v":0},{"$f":"'27. Searcher Profile Data'!BB11","v":0},{"$f":"'27. Searcher Profile Data'!BC11","v":0},{"$f":"'27. Searcher Profile Data'!BD11","v":0},{"$f":"'27. Searcher Profile Data'!BE11","v":0},{"$f":"'27. Searcher Profile Data'!BF11","v":0},{"$f":"'27. Searcher Profile Data'!BG11","v":0},{"$f":"'27. Searcher Profile Data'!BH11","v":0},{"$f":"'27. Searcher Profile Data'!BI11","v":0},{"$f":"'27. Searcher Profile Data'!BJ11","v":0},{"$f":"'27. Searcher Profile Data'!BK11","v":0},{"$f":"'27. Searcher Profile Data'!BL11","v":0},{"$f":"'27. Searcher Profile Data'!BM11","v":0},{"$f":"'27. Searcher Profile Data'!BN11","v":0},{"$f":"'27. Searcher Profile Data'!BO11","v":0},{"$f":"'27. Searcher Profile Data'!BP11","v":0},{"$f":"'27. Searcher Profile Data'!BQ11","v":0},{"$f":"'27. Searcher Profile Data'!BR11","v":0},{"$f":"'27. Searcher Profile Data'!BS11","v":0},{"$f":"'27. Searcher Profile Data'!BT11","v":0},{"$f":"'27. Searcher Profile Data'!BU11","v":0},{"$f":"'27. Searcher Profile Data'!BV11","v":0},{"$f":"'27. Searcher Profile Data'!BW11","v":0},{"$f":"'27. Searcher Profile Data'!BX11","v":0},{"$f":"'27. Searcher Profile Data'!BY11","v":0},{"$f":"'27. Searcher Profile Data'!BZ11","v":0}]
[{"$f":"'27. Searcher Profile Data'!A12","v":"Avg # of Searches"},null,{"$f":"'27. Searcher Profile Data'!B12","v":""},{"$f":"'27. Searcher Profile Data'!C12","v":""},{"$f":"'27. Searcher Profile Data'!D12","v":""},{"$f":"'27. Searcher Profile Data'!E12","v":""},{"$f":"'27. Searcher Profile Data'!F12","v":""},{"$f":"'27. Searcher Profile Data'!G12","v":""},{"$f":"'27. Searcher Profile Data'!H12","v":""},{"$f":"'27. Searcher Profile Data'!I12","v":""},{"$f":"'27. Searcher Profile Data'!J12","v":""},{"$f":"'27. Searcher Profile Data'!K12","v":""},{"$f":"'27. Searcher Profile Data'!L12","v":""},{"$f":"'27. Searcher Profile Data'!M12","v":""},{"$f":"'27. Searcher Profile Data'!N12","v":""},{"$f":"'27. Searcher Profile Data'!O12","v":""},{"$f":"'27. Searcher Profile Data'!P12","v":""},{"$f":"'27. Searcher Profile Data'!Q12","v":""},{"$f":"'27. Searcher Profile Data'!R12","v":""},{"$f":"'27. Searcher Profile Data'!S12","v":""},{"$f":"'27. Searcher Profile Data'!T12","v":""},{"$f":"'27. Searcher Profile Data'!U12","v":""},{"$f":"'27. Searcher Profile Data'!V12","v":""},{"$f":"'27. Searcher Profile Data'!W12","v":""},{"$f":"'27. Searcher Profile Data'!X12","v":""},{"$f":"'27. Searcher Profile Data'!Y12","v":""},{"$f":"'27. Searcher Profile Data'!Z12","v":""},{"$f":"'27. Searcher Profile Data'!AA12","v":""},{"$f":"'27. Searcher Profile Data'!AB12","v":""},{"$f":"'27. Searcher Profile Data'!AC12","v":""},{"$f":"'27. Searcher Profile Data'!AD12","v":""},{"$f":"'27. Searcher Profile Data'!AE12","v":""},{"$f":"'27. Searcher Profile Data'!AF12","v":""},{"$f":"'27. Searcher Profile Data'!AG12","v":""},{"$f":"'27. Searcher Profile Data'!AH12","v":""},{"$f":"'27. Searcher Profile Data'!AI12","v":""},{"$f":"'27. Searcher Profile Data'!AJ12","v":""},{"$f":"'27. Searcher Profile Data'!AK12","v":""},{"$f":"'27. Searcher Profile Data'!AL12","v":""},{"$f":"'27. Searcher Profile Data'!AM12","v":""},{"$f":"'27. Searcher Profile Data'!AN12","v":""},{"$f":"'27. Searcher Profile Data'!AO12","v":""},{"$f":"'27. Searcher Profile Data'!AP12","v":""},{"$f":"'27. Searcher Profile Data'!AQ12","v":""},{"$f":"'27. Searcher Profile Data'!AR12","v":""},{"$f":"'27. Searcher Profile Data'!AS12","v":""},{"$f":"'27. Searcher Profile Data'!AT12","v":""},{"$f":"'27. Searcher Profile Data'!AU12","v":""},{"$f":"'27. Searcher Profile Data'!AV12","v":""},{"$f":"'27. Searcher Profile Data'!AW12","v":""},{"$f":"'27. Searcher Profile Data'!AX12","v":""},{"$f":"'27. Searcher Profile Data'!AY12","v":""},{"$f":"'27. Searcher Profile Data'!AZ12","v":""},{"$f":"'27. Searcher Profile Data'!BA12","v":""},{"$f":"'27. Searcher Profile Data'!BB12","v":""},{"$f":"'27. Searcher Profile Data'!BC12","v":""},{"$f":"'27. Searcher Profile Data'!BD12","v":""},{"$f":"'27. Searcher Profile Data'!BE12","v":""},{"$f":"'27. Searcher Profile Data'!BF12","v":""},{"$f":"'27. Searcher Profile Data'!BG12","v":""},{"$f":"'27. Searcher Profile Data'!BH12","v":""},{"$f":"'27. Searcher Profile Data'!BI12","v":""},{"$f":"'27. Searcher Profile Data'!BJ12","v":""},{"$f":"'27. Searcher Profile Data'!BK12","v":""},{"$f":"'27. Searcher Profile Data'!BL12","v":""},{"$f":"'27. Searcher Profile Data'!BM12","v":""},{"$f":"'27. Searcher Profile Data'!BN12","v":""},{"$f":"'27. Searcher Profile Data'!BO12","v":""},{"$f":"'27. Searcher Profile Data'!BP12","v":""},{"$f":"'27. Searcher Profile Data'!BQ12","v":""},{"$f":"'27. Searcher Profile Data'!BR12","v":""},{"$f":"'27. Searcher Profile Data'!BS12","v":""},{"$f":"'27. Searcher Profile Data'!BT12","v":""},{"$f":"'27. Searcher Profile Data'!BU12","v":""},{"$f":"'27. Searcher Profile Data'!BV12","v":""},{"$f":"'27. Searcher Profile Data'!BW12","v":""},{"$f":"'27. Searcher Profile Data'!BX12","v":""},{"$f":"'27. Searcher Profile Data'!BY12","v":""},{"$f":"'27. Searcher Profile Data'!BZ12","v":""}]
[{"$f":"'27. Searcher Profile Data'!A13","v":"Primary SAR specialty"},null,{"$f":"'27. Searcher Profile Data'!B13","v":0},{"$f":"'27. Searcher Profile Data'!C13","v":0},{"$f":"'27. Searcher Profile Data'!D13","v":0},{"$f":"'27. Searcher Profile Data'!E13","v":0},{"$f":"'27. Searcher Profile Data'!F13","v":0},{"$f":"'27. Searcher Profile Data'!G13","v":0},{"$f":"'27. Searcher Profile Data'!H13","v":0},{"$f":"'27. Searcher Profile Data'!I13","v":0},{"$f":"'27. Searcher Profile Data'!J13","v":0},{"$f":"'27. Searcher Profile Data'!K13","v":0},{"$f":"'27. Searcher Profile Data'!L13","v":0},{"$f":"'27. Searcher Profile Data'!M13","v":0},{"$f":"'27. Searcher Profile Data'!N13","v":0},{"$f":"'27. Searcher Profile Data'!O13","v":0},{"$f":"'27. Searcher Profile Data'!P13","v":0},{"$f":"'27. Searcher Profile Data'!Q13","v":0},{"$f":"'27. Searcher Profile Data'!R13","v":0},{"$f":"'27. Searcher Profile Data'!S13","v":0},{"$f":"'27. Searcher Profile Data'!T13","v":0},{"$f":"'27. Searcher Profile Data'!U13","v":0},{"$f":"'27. Searcher Profile Data'!V13","v":0},{"$f":"'27. Searcher Profile Data'!W13","v":0},{"$f":"'27. Searcher Profile Data'!X13","v":0},{"$f":"'27. Searcher Profile Data'!Y13","v":0},{"$f":"'27. Searcher Profile Data'!Z13","v":0},{"$f":"'27. Searcher Profile Data'!AA13","v":0},{"$f":"'27. Searcher Profile Data'!AB13","v":0},{"$f":"'27. Searcher Profile Data'!AC13","v":0},{"$f":"'27. Searcher Profile Data'!AD13","v":0},{"$f":"'27. Searcher Profile Data'!AE13","v":0},{"$f":"'27. Searcher Profile Data'!AF13","v":0},{"$f":"'27. Searcher Profile Data'!AG13","v":0},{"$f":"'27. Searcher Profile Data'!AH13","v":0},{"$f":"'27. Searcher Profile Data'!AI13","v":0},{"$f":"'27. Searcher Profile Data'!AJ13","v":0},{"$f":"'27. Searcher Profile Data'!AK13","v":0},{"$f":"'27. Searcher Profile Data'!AL13","v":0},{"$f":"'27. Searcher Profile Data'!AM13","v":0},{"$f":"'27. Searcher Profile Data'!AN13","v":0},{"$f":"'27. Searcher Profile Data'!AO13","v":0},{"$f":"'27. Searcher Profile Data'!AP13","v":0},{"$f":"'27. Searcher Profile Data'!AQ13","v":0},{"$f":"'27. Searcher Profile Data'!AR13","v":0},{"$f":"'27. Searcher Profile Data'!AS13","v":0},{"$f":"'27. Searcher Profile Data'!AT13","v":0},{"$f":"'27. Searcher Profile Data'!AU13","v":0},{"$f":"'27. Searcher Profile Data'!AV13","v":0},{"$f":"'27. Searcher Profile Data'!AW13","v":0},{"$f":"'27. Searcher Profile Data'!AX13","v":0},{"$f":"'27. Searcher Profile Data'!AY13","v":0},{"$f":"'27. Searcher Profile Data'!AZ13","v":0},{"$f":"'27. Searcher Profile Data'!BA13","v":0},{"$f":"'27. Searcher Profile Data'!BB13","v":0},{"$f":"'27. Searcher Profile Data'!BC13","v":0},{"$f":"'27. Searcher Profile Data'!BD13","v":0},{"$f":"'27. Searcher Profile Data'!BE13","v":0},{"$f":"'27. Searcher Profile Data'!BF13","v":0},{"$f":"'27. Searcher Profile Data'!BG13","v":0},{"$f":"'27. Searcher Profile Data'!BH13","v":0},{"$f":"'27. Searcher Profile Data'!BI13","v":0},{"$f":"'27. Searcher Profile Data'!BJ13","v":0},{"$f":"'27. Searcher Profile Data'!BK13","v":0},{"$f":"'27. Searcher Profile Data'!BL13","v":0},{"$f":"'27. Searcher Profile Data'!BM13","v":0},{"$f":"'27. Searcher Profile Data'!BN13","v":0},{"$f":"'27. Searcher Profile Data'!BO13","v":0},{"$f":"'27. Searcher Profile Data'!BP13","v":0},{"$f":"'27. Searcher Profile Data'!BQ13","v":0},{"$f":"'27. Searcher Profile Data'!BR13","v":0},{"$f":"'27. Searcher Profile Data'!BS13","v":0},{"$f":"'27. Searcher Profile Data'!BT13","v":0},{"$f":"'27. Searcher Profile Data'!BU13","v":0},{"$f":"'27. Searcher Profile Data'!BV13","v":0},{"$f":"'27. Searcher Profile Data'!BW13","v":0},{"$f":"'27. Searcher Profile Data'!BX13","v":0},{"$f":"'27. Searcher Profile Data'!BY13","v":0},{"$f":"'27. Searcher Profile Data'!BZ13","v":0}]
[{"$f":"'27. Searcher Profile Data'!A14","v":"SAR Certifications"},null,{"$f":"'27. Searcher Profile Data'!B14","v":0},{"$f":"'27. Searcher Profile Data'!C14","v":0},{"$f":"'27. Searcher Profile Data'!D14","v":0},{"$f":"'27. Searcher Profile Data'!E14","v":0},{"$f":"'27. Searcher Profile Data'!F14","v":0},{"$f":"'27. Searcher Profile Data'!G14","v":0},{"$f":"'27. Searcher Profile Data'!H14","v":0},{"$f":"'27. Searcher Profile Data'!I14","v":0},{"$f":"'27. Searcher Profile Data'!J14","v":0},{"$f":"'27. Searcher Profile Data'!K14","v":0},{"$f":"'27. Searcher Profile Data'!L14","v":0},{"$f":"'27. Searcher Profile Data'!M14","v":0},{"$f":"'27. Searcher Profile Data'!N14","v":0},{"$f":"'27. Searcher Profile Data'!O14","v":0},{"$f":"'27. Searcher Profile Data'!P14","v":0},{"$f":"'27. Searcher Profile Data'!Q14","v":0},{"$f":"'27. Searcher Profile Data'!R14","v":0},{"$f":"'27. Searcher Profile Data'!S14","v":0},{"$f":"'27. Searcher Profile Data'!T14","v":0},{"$f":"'27. Searcher Profile Data'!U14","v":0},{"$f":"'27. Searcher Profile Data'!V14","v":0},{"$f":"'27. Searcher Profile Data'!W14","v":0},{"$f":"'27. Searcher Profile Data'!X14","v":0},{"$f":"'27. Searcher Profile Data'!Y14","v":0},{"$f":"'27. Searcher Profile Data'!Z14","v":0},{"$f":"'27. Searcher Profile Data'!AA14","v":0},{"$f":"'27. Searcher Profile Data'!AB14","v":0},{"$f":"'27. Searcher Profile Data'!AC14","v":0},{"$f":"'27. Searcher Profile Data'!AD14","v":0},{"$f":"'27. Searcher Profile Data'!AE14","v":0},{"$f":"'27. Searcher Profile Data'!AF14","v":0},{"$f":"'27. Searcher Profile Data'!AG14","v":0},{"$f":"'27. Searcher Profile Data'!AH14","v":0},{"$f":"'27. Searcher Profile Data'!AI14","v":0},{"$f":"'27. Searcher Profile Data'!AJ14","v":0},{"$f":"'27. Searcher Profile Data'!AK14","v":0},{"$f":"'27. Searcher Profile Data'!AL14","v":0},{"$f":"'27. Searcher Profile Data'!AM14","v":0},{"$f":"'27. Searcher Profile Data'!AN14","v":0},{"$f":"'27. Searcher Profile Data'!AO14","v":0},{"$f":"'27. Searcher Profile Data'!AP14","v":0},{"$f":"'27. Searcher Profile Data'!AQ14","v":0},{"$f":"'27. Searcher Profile Data'!AR14","v":0},{"$f":"'27. Searcher Profile Data'!AS14","v":0},{"$f":"'27. Searcher Profile Data'!AT14","v":0},{"$f":"'27. Searcher Profile Data'!AU14","v":0},{"$f":"'27. Searcher Profile Data'!AV14","v":0},{"$f":"'27. Searcher Profile Data'!AW14","v":0},{"$f":"'27. Searcher Profile Data'!AX14","v":0},{"$f":"'27. Searcher Profile Data'!AY14","v":0},{"$f":"'27. Searcher Profile Data'!AZ14","v":0},{"$f":"'27. Searcher Profile Data'!BA14","v":0},{"$f":"'27. Searcher Profile Data'!BB14","v":0},{"$f":"'27. Searcher Profile Data'!BC14","v":0},{"$f":"'27. Searcher Profile Data'!BD14","v":0},{"$f":"'27. Searcher Profile Data'!BE14","v":0},{"$f":"'27. Searcher Profile Data'!BF14","v":0},{"$f":"'27. Searcher Profile Data'!BG14","v":0},{"$f":"'27. Searcher Profile Data'!BH14","v":0},{"$f":"'27. Searcher Profile Data'!BI14","v":0},{"$f":"'27. Searcher Profile Data'!BJ14","v":0},{"$f":"'27. Searcher Profile Data'!BK14","v":0},{"$f":"'27. Searcher Profile Data'!BL14","v":0},{"$f":"'27. Searcher Profile Data'!BM14","v":0},{"$f":"'27. Searcher Profile Data'!BN14","v":0},{"$f":"'27. Searcher Profile Data'!BO14","v":0},{"$f":"'27. Searcher Profile Data'!BP14","v":0},{"$f":"'27. Searcher Profile Data'!BQ14","v":0},{"$f":"'27. Searcher Profile Data'!BR14","v":0},{"$f":"'27. Searcher Profile Data'!BS14","v":0},{"$f":"'27. Searcher Profile Data'!BT14","v":0},{"$f":"'27. Searcher Profile Data'!BU14","v":0},{"$f":"'27. Searcher Profile Data'!BV14","v":0},{"$f":"'27. Searcher Profile Data'!BW14","v":0},{"$f":"'27. Searcher Profile Data'!BX14","v":0},{"$f":"'27. Searcher Profile Data'!BY14","v":0},{"$f":"'27. Searcher Profile Data'!BZ14","v":0}]
[{"$f":"'27. Searcher Profile Data'!A15","v":"Height with boots"},null,{"$f":"'27. Searcher Profile Data'!B15","v":0},{"$f":"'27. Searcher Profile Data'!C15","v":0},{"$f":"'27. Searcher Profile Data'!D15","v":0},{"$f":"'27. Searcher Profile Data'!E15","v":0},{"$f":"'27. Searcher Profile Data'!F15","v":0},{"$f":"'27. Searcher Profile Data'!G15","v":0},{"$f":"'27. Searcher Profile Data'!H15","v":0},{"$f":"'27. Searcher Profile Data'!I15","v":0},{"$f":"'27. Searcher Profile Data'!J15","v":0},{"$f":"'27. Searcher Profile Data'!K15","v":0},{"$f":"'27. Searcher Profile Data'!L15","v":0},{"$f":"'27. Searcher Profile Data'!M15","v":0},{"$f":"'27. Searcher Profile Data'!N15","v":0},{"$f":"'27. Searcher Profile Data'!O15","v":0},{"$f":"'27. Searcher Profile Data'!P15","v":0},{"$f":"'27. Searcher Profile Data'!Q15","v":0},{"$f":"'27. Searcher Profile Data'!R15","v":0},{"$f":"'27. Searcher Profile Data'!S15","v":0},{"$f":"'27. Searcher Profile Data'!T15","v":0},{"$f":"'27. Searcher Profile Data'!U15","v":0},{"$f":"'27. Searcher Profile Data'!V15","v":0},{"$f":"'27. Searcher Profile Data'!W15","v":0},{"$f":"'27. Searcher Profile Data'!X15","v":0},{"$f":"'27. Searcher Profile Data'!Y15","v":0},{"$f":"'27. Searcher Profile Data'!Z15","v":0},{"$f":"'27. Searcher Profile Data'!AA15","v":0},{"$f":"'27. Searcher Profile Data'!AB15","v":0},{"$f":"'27. Searcher Profile Data'!AC15","v":0},{"$f":"'27. Searcher Profile Data'!AD15","v":0},{"$f":"'27. Searcher Profile Data'!AE15","v":0},{"$f":"'27. Searcher Profile Data'!AF15","v":0},{"$f":"'27. Searcher Profile Data'!AG15","v":0},{"$f":"'27. Searcher Profile Data'!AH15","v":0},{"$f":"'27. Searcher Profile Data'!AI15","v":0},{"$f":"'27. Searcher Profile Data'!AJ15","v":0},{"$f":"'27. Searcher Profile Data'!AK15","v":0},{"$f":"'27. Searcher Profile Data'!AL15","v":0},{"$f":"'27. Searcher Profile Data'!AM15","v":0},{"$f":"'27. Searcher Profile Data'!AN15","v":0},{"$f":"'27. Searcher Profile Data'!AO15","v":0},{"$f":"'27. Searcher Profile Data'!AP15","v":0},{"$f":"'27. Searcher Profile Data'!AQ15","v":0},{"$f":"'27. Searcher Profile Data'!AR15","v":0},{"$f":"'27. Searcher Profile Data'!AS15","v":0},{"$f":"'27. Searcher Profile Data'!AT15","v":0},{"$f":"'27. Searcher Profile Data'!AU15","v":0},{"$f":"'27. Searcher Profile Data'!AV15","v":0},{"$f":"'27. Searcher Profile Data'!AW15","v":0},{"$f":"'27. Searcher Profile Data'!AX15","v":0},{"$f":"'27. Searcher Profile Data'!AY15","v":0},{"$f":"'27. Searcher Profile Data'!AZ15","v":0},{"$f":"'27. Searcher Profile Data'!BA15","v":0},{"$f":"'27. Searcher Profile Data'!BB15","v":0},{"$f":"'27. Searcher Profile Data'!BC15","v":0},{"$f":"'27. Searcher Profile Data'!BD15","v":0},{"$f":"'27. Searcher Profile Data'!BE15","v":0},{"$f":"'27. Searcher Profile Data'!BF15","v":0},{"$f":"'27. Searcher Profile Data'!BG15","v":0},{"$f":"'27. Searcher Profile Data'!BH15","v":0},{"$f":"'27. Searcher Profile Data'!BI15","v":0},{"$f":"'27. Searcher Profile Data'!BJ15","v":0},{"$f":"'27. Searcher Profile Data'!BK15","v":0},{"$f":"'27. Searcher Profile Data'!BL15","v":0},{"$f":"'27. Searcher Profile Data'!BM15","v":0},{"$f":"'27. Searcher Profile Data'!BN15","v":0},{"$f":"'27. Searcher Profile Data'!BO15","v":0},{"$f":"'27. Searcher Profile Data'!BP15","v":0},{"$f":"'27. Searcher Profile Data'!BQ15","v":0},{"$f":"'27. Searcher Profile Data'!BR15","v":0},{"$f":"'27. Searcher Profile Data'!BS15","v":0},{"$f":"'27. Searcher Profile Data'!BT15","v":0},{"$f":"'27. Searcher Profile Data'!BU15","v":0},{"$f":"'27. Searcher Profile Data'!BV15","v":0},{"$f":"'27. Searcher Profile Data'!BW15","v":0},{"$f":"'27. Searcher Profile Data'!BX15","v":0},{"$f":"'27. Searcher Profile Data'!BY15","v":0},{"$f":"'27. Searcher Profile Data'!BZ15","v":0}]
[{"$f":"'27. Searcher Profile Data'!A16","v":"Wear glasses"},null,{"$f":"'27. Searcher Profile Data'!B16","v":0},{"$f":"'27. Searcher Profile Data'!C16","v":0},{"$f":"'27. Searcher Profile Data'!D16","v":0},{"$f":"'27. Searcher Profile Data'!E16","v":0},{"$f":"'27. Searcher Profile Data'!F16","v":0},{"$f":"'27. Searcher Profile Data'!G16","v":0},{"$f":"'27. Searcher Profile Data'!H16","v":0},{"$f":"'27. Searcher Profile Data'!I16","v":0},{"$f":"'27. Searcher Profile Data'!J16","v":0},{"$f":"'27. Searcher Profile Data'!K16","v":0},{"$f":"'27. Searcher Profile Data'!L16","v":0},{"$f":"'27. Searcher Profile Data'!M16","v":0},{"$f":"'27. Searcher Profile Data'!N16","v":0},{"$f":"'27. Searcher Profile Data'!O16","v":0},{"$f":"'27. Searcher Profile Data'!P16","v":0},{"$f":"'27. Searcher Profile Data'!Q16","v":0},{"$f":"'27. Searcher Profile Data'!R16","v":0},{"$f":"'27. Searcher Profile Data'!S16","v":0},{"$f":"'27. Searcher Profile Data'!T16","v":0},{"$f":"'27. Searcher Profile Data'!U16","v":0},{"$f":"'27. Searcher Profile Data'!V16","v":0},{"$f":"'27. Searcher Profile Data'!W16","v":0},{"$f":"'27. Searcher Profile Data'!X16","v":0},{"$f":"'27. Searcher Profile Data'!Y16","v":0},{"$f":"'27. Searcher Profile Data'!Z16","v":0},{"$f":"'27. Searcher Profile Data'!AA16","v":0},{"$f":"'27. Searcher Profile Data'!AB16","v":0},{"$f":"'27. Searcher Profile Data'!AC16","v":0},{"$f":"'27. Searcher Profile Data'!AD16","v":0},{"$f":"'27. Searcher Profile Data'!AE16","v":0},{"$f":"'27. Searcher Profile Data'!AF16","v":0},{"$f":"'27. Searcher Profile Data'!AG16","v":0},{"$f":"'27. Searcher Profile Data'!AH16","v":0},{"$f":"'27. Searcher Profile Data'!AI16","v":0},{"$f":"'27. Searcher Profile Data'!AJ16","v":0},{"$f":"'27. Searcher Profile Data'!AK16","v":0},{"$f":"'27. Searcher Profile Data'!AL16","v":0},{"$f":"'27. Searcher Profile Data'!AM16","v":0},{"$f":"'27. Searcher Profile Data'!AN16","v":0},{"$f":"'27. Searcher Profile Data'!AO16","v":0},{"$f":"'27. Searcher Profile Data'!AP16","v":0},{"$f":"'27. Searcher Profile Data'!AQ16","v":0},{"$f":"'27. Searcher Profile Data'!AR16","v":0},{"$f":"'27. Searcher Profile Data'!AS16","v":0},{"$f":"'27. Searcher Profile Data'!AT16","v":0},{"$f":"'27. Searcher Profile Data'!AU16","v":0},{"$f":"'27. Searcher Profile Data'!AV16","v":0},{"$f":"'27. Searcher Profile Data'!AW16","v":0},{"$f":"'27. Searcher Profile Data'!AX16","v":0},{"$f":"'27. Searcher Profile Data'!AY16","v":0},{"$f":"'27. Searcher Profile Data'!AZ16","v":0},{"$f":"'27. Searcher Profile Data'!BA16","v":0},{"$f":"'27. Searcher Profile Data'!BB16","v":0},{"$f":"'27. Searcher Profile Data'!BC16","v":0},{"$f":"'27. Searcher Profile Data'!BD16","v":0},{"$f":"'27. Searcher Profile Data'!BE16","v":0},{"$f":"'27. Searcher Profile Data'!BF16","v":0},{"$f":"'27. Searcher Profile Data'!BG16","v":0},{"$f":"'27. Searcher Profile Data'!BH16","v":0},{"$f":"'27. Searcher Profile Data'!BI16","v":0},{"$f":"'27. Searcher Profile Data'!BJ16","v":0},{"$f":"'27. Searcher Profile Data'!BK16","v":0},{"$f":"'27. Searcher Profile Data'!BL16","v":0},{"$f":"'27. Searcher Profile Data'!BM16","v":0},{"$f":"'27. Searcher Profile Data'!BN16","v":0},{"$f":"'27. Searcher Profile Data'!BO16","v":0},{"$f":"'27. Searcher Profile Data'!BP16","v":0},{"$f":"'27. Searcher Profile Data'!BQ16","v":0},{"$f":"'27. Searcher Profile Data'!BR16","v":0},{"$f":"'27. Searcher Profile Data'!BS16","v":0},{"$f":"'27. Searcher Profile Data'!BT16","v":0},{"$f":"'27. Searcher Profile Data'!BU16","v":0},{"$f":"'27. Searcher Profile Data'!BV16","v":0},{"$f":"'27. Searcher Profile Data'!BW16","v":0},{"$f":"'27. Searcher Profile Data'!BX16","v":0},{"$f":"'27. Searcher Profile Data'!BY16","v":0},{"$f":"'27. Searcher Profile Data'!BZ16","v":0}]
[{"$f":"'27. Searcher Profile Data'!A17","v":"Eyewear in field"},null,{"$f":"'27. Searcher Profile Data'!B17","v":0},{"$f":"'27. Searcher Profile Data'!C17","v":0},{"$f":"'27. Searcher Profile Data'!D17","v":0},{"$f":"'27. Searcher Profile Data'!E17","v":0},{"$f":"'27. Searcher Profile Data'!F17","v":0},{"$f":"'27. Searcher Profile Data'!G17","v":0},{"$f":"'27. Searcher Profile Data'!H17","v":0},{"$f":"'27. Searcher Profile Data'!I17","v":0},{"$f":"'27. Searcher Profile Data'!J17","v":0},{"$f":"'27. Searcher Profile Data'!K17","v":0},{"$f":"'27. Searcher Profile Data'!L17","v":0},{"$f":"'27. Searcher Profile Data'!M17","v":0},{"$f":"'27. Searcher Profile Data'!N17","v":0},{"$f":"'27. Searcher Profile Data'!O17","v":0},{"$f":"'27. Searcher Profile Data'!P17","v":0},{"$f":"'27. Searcher Profile Data'!Q17","v":0},{"$f":"'27. Searcher Profile Data'!R17","v":0},{"$f":"'27. Searcher Profile Data'!S17","v":0},{"$f":"'27. Searcher Profile Data'!T17","v":0},{"$f":"'27. Searcher Profile Data'!U17","v":0},{"$f":"'27. Searcher Profile Data'!V17","v":0},{"$f":"'27. Searcher Profile Data'!W17","v":0},{"$f":"'27. Searcher Profile Data'!X17","v":0},{"$f":"'27. Searcher Profile Data'!Y17","v":0},{"$f":"'27. Searcher Profile Data'!Z17","v":0},{"$f":"'27. Searcher Profile Data'!AA17","v":0},{"$f":"'27. Searcher Profile Data'!AB17","v":0},{"$f":"'27. Searcher Profile Data'!AC17","v":0},{"$f":"'27. Searcher Profile Data'!AD17","v":0},{"$f":"'27. Searcher Profile Data'!AE17","v":0},{"$f":"'27. Searcher Profile Data'!AF17","v":0},{"$f":"'27. Searcher Profile Data'!AG17","v":0},{"$f":"'27. Searcher Profile Data'!AH17","v":0},{"$f":"'27. Searcher Profile Data'!AI17","v":0},{"$f":"'27. Searcher Profile Data'!AJ17","v":0},{"$f":"'27. Searcher Profile Data'!AK17","v":0},{"$f":"'27. Searcher Profile Data'!AL17","v":0},{"$f":"'27. Searcher Profile Data'!AM17","v":0},{"$f":"'27. Searcher Profile Data'!AN17","v":0},{"$f":"'27. Searcher Profile Data'!AO17","v":0},{"$f":"'27. Searcher Profile Data'!AP17","v":0},{"$f":"'27. Searcher Profile Data'!AQ17","v":0},{"$f":"'27. Searcher Profile Data'!AR17","v":0},{"$f":"'27. Searcher Profile Data'!AS17","v":0},{"$f":"'27. Searcher Profile Data'!AT17","v":0},{"$f":"'27. Searcher Profile Data'!AU17","v":0},{"$f":"'27. Searcher Profile Data'!AV17","v":0},{"$f":"'27. Searcher Profile Data'!AW17","v":0},{"$f":"'27. Searcher Profile Data'!AX17","v":0},{"$f":"'27. Searcher Profile Data'!AY17","v":0},{"$f":"'27. Searcher Profile Data'!AZ17","v":0},{"$f":"'27. Searcher Profile Data'!BA17","v":0},{"$f":"'27. Searcher Profile Data'!BB17","v":0},{"$f":"'27. Searcher Profile Data'!BC17","v":0},{"$f":"'27. Searcher Profile Data'!BD17","v":0},{"$f":"'27. Searcher Profile Data'!BE17","v":0},{"$f":"'27. Searcher Profile Data'!BF17","v":0},{"$f":"'27. Searcher Profile Data'!BG17","v":0},{"$f":"'27. Searcher Profile Data'!BH17","v":0},{"$f":"'27. Searcher Profile Data'!BI17","v":0},{"$f":"'27. Searcher Profile Data'!BJ17","v":0},{"$f":"'27. Searcher Profile Data'!BK17","v":0},{"$f":"'27. Searcher Profile Data'!BL17","v":0},{"$f":"'27. Searcher Profile Data'!BM17","v":0},{"$f":"'27. Searcher Profile Data'!BN17","v":0},{"$f":"'27. Searcher Profile Data'!BO17","v":0},{"$f":"'27. Searcher Profile Data'!BP17","v":0},{"$f":"'27. Searcher Profile Data'!BQ17","v":0},{"$f":"'27. Searcher Profile Data'!BR17","v":0},{"$f":"'27. Searcher Profile Data'!BS17","v":0},{"$f":"'27. Searcher Profile Data'!BT17","v":0},{"$f":"'27. Searcher Profile Data'!BU17","v":0},{"$f":"'27. Searcher Profile Data'!BV17","v":0},{"$f":"'27. Searcher Profile Data'!BW17","v":0},{"$f":"'27. Searcher Profile Data'!BX17","v":0},{"$f":"'27. Searcher Profile Data'!BY17","v":0},{"$f":"'27. Searcher Profile Data'!BZ17","v":0}]
[{"$f":"'27. Searcher Profile Data'!A18","v":"R eye visual acuity"},null,{"$f":"'27. Searcher Profile Data'!B18","v":0},{"$f":"'27. Searcher Profile Data'!C18","v":0},{"$f":"'27. Searcher Profile Data'!D18","v":0},{"$f":"'27. Searcher Profile Data'!E18","v":0},{"$f":"'27. Searcher Profile Data'!F18","v":0},{"$f":"'27. Searcher Profile Data'!G18","v":0},{"$f":"'27. Searcher Profile Data'!H18","v":0},{"$f":"'27. Searcher Profile Data'!I18","v":0},{"$f":"'27. Searcher Profile Data'!J18","v":0},{"$f":"'27. Searcher Profile Data'!K18","v":0},{"$f":"'27. Searcher Profile Data'!L18","v":0},{"$f":"'27. Searcher Profile Data'!M18","v":0},{"$f":"'27. Searcher Profile Data'!N18","v":0},{"$f":"'27. Searcher Profile Data'!O18","v":0},{"$f":"'27. Searcher Profile Data'!P18","v":0},{"$f":"'27. Searcher Profile Data'!Q18","v":0},{"$f":"'27. Searcher Profile Data'!R18","v":0},{"$f":"'27. Searcher Profile Data'!S18","v":0},{"$f":"'27. Searcher Profile Data'!T18","v":0},{"$f":"'27. Searcher Profile Data'!U18","v":0},{"$f":"'27. Searcher Profile Data'!V18","v":0},{"$f":"'27. Searcher Profile Data'!W18","v":0},{"$f":"'27. Searcher Profile Data'!X18","v":0},{"$f":"'27. Searcher Profile Data'!Y18","v":0},{"$f":"'27. Searcher Profile Data'!Z18","v":0},{"$f":"'27. Searcher Profile Data'!AA18","v":0},{"$f":"'27. Searcher Profile Data'!AB18","v":0},{"$f":"'27. Searcher Profile Data'!AC18","v":0},{"$f":"'27. Searcher Profile Data'!AD18","v":0},{"$f":"'27. Searcher Profile Data'!AE18","v":0},{"$f":"'27. Searcher Profile Data'!AF18","v":0},{"$f":"'27. Searcher Profile Data'!AG18","v":0},{"$f":"'27. Searcher Profile Data'!AH18","v":0},{"$f":"'27. Searcher Profile Data'!AI18","v":0},{"$f":"'27. Searcher Profile Data'!AJ18","v":0},{"$f":"'27. Searcher Profile Data'!AK18","v":0},{"$f":"'27. Searcher Profile Data'!AL18","v":0},{"$f":"'27. Searcher Profile Data'!AM18","v":0},{"$f":"'27. Searcher Profile Data'!AN18","v":0},{"$f":"'27. Searcher Profile Data'!AO18","v":0},{"$f":"'27. Searcher Profile Data'!AP18","v":0},{"$f":"'27. Searcher Profile Data'!AQ18","v":0},{"$f":"'27. Searcher Profile Data'!AR18","v":0},{"$f":"'27. Searcher Profile Data'!AS18","v":0},{"$f":"'27. Searcher Profile Data'!AT18","v":0},{"$f":"'27. Searcher Profile Data'!AU18","v":0},{"$f":"'27. Searcher Profile Data'!AV18","v":0},{"$f":"'27. Searcher Profile Data'!AW18","v":0},{"$f":"'27. Searcher Profile Data'!AX18","v":0},{"$f":"'27. Searcher Profile Data'!AY18","v":0},{"$f":"'27. Searcher Profile Data'!AZ18","v":0},{"$f":"'27. Searcher Profile Data'!BA18","v":0},{"$f":"'27. Searcher Profile Data'!BB18","v":0},{"$f":"'27. Searcher Profile Data'!BC18","v":0},{"$f":"'27. Searcher Profile Data'!BD18","v":0},{"$f":"'27. Searcher Profile Data'!BE18","v":0},{"$f":"'27. Searcher Profile Data'!BF18","v":0},{"$f":"'27. Searcher Profile Data'!BG18","v":0},{"$f":"'27. Searcher Profile Data'!BH18","v":0},{"$f":"'27. Searcher Profile Data'!BI18","v":0},{"$f":"'27. Searcher Profile Data'!BJ18","v":0},{"$f":"'27. Searcher Profile Data'!BK18","v":0},{"$f":"'27. Searcher Profile Data'!BL18","v":0},{"$f":"'27. Searcher Profile Data'!BM18","v":0},{"$f":"'27. Searcher Profile Data'!BN18","v":0},{"$f":"'27. Searcher Profile Data'!BO18","v":0},{"$f":"'27. Searcher Profile Data'!BP18","v":0},{"$f":"'27. Searcher Profile Data'!BQ18","v":0},{"$f":"'27. Searcher Profile Data'!BR18","v":0},{"$f":"'27. Searcher Profile Data'!BS18","v":0},{"$f":"'27. Searcher Profile Data'!BT18","v":0},{"$f":"'27. Searcher Profile Data'!BU18","v":0},{"$f":"'27. Searcher Profile Data'!BV18","v":0},{"$f":"'27. Searcher Profile Data'!BW18","v":0},{"$f":"'27. Searcher Profile Data'!BX18","v":0},{"$f":"'27. Searcher Profile Data'!BY18","v":0},{"$f":"'27. Searcher Profile Data'!BZ18","v":0}]
[{"$f":"'27. Searcher Profile Data'!A19","v":"L eye visual acuity"},null,{"$f":"'27. Searcher Profile Data'!B19","v":0},{"$f":"'27. Searcher Profile Data'!C19","v":0},{"$f":"'27. Searcher Profile Data'!D19","v":0},{"$f":"'27. Searcher Profile Data'!E19","v":0},{"$f":"'27. Searcher Profile Data'!F19","v":0},{"$f":"'27. Searcher Profile Data'!G19","v":0},{"$f":"'27. Searcher Profile Data'!H19","v":0},{"$f":"'27. Searcher Profile Data'!I19","v":0},{"$f":"'27. Searcher Profile Data'!J19","v":0},{"$f":"'27. Searcher Profile Data'!K19","v":0},{"$f":"'27. Searcher Profile Data'!L19","v":0},{"$f":"'27. Searcher Profile Data'!M19","v":0},{"$f":"'27. Searcher Profile Data'!N19","v":0},{"$f":"'27. Searcher Profile Data'!O19","v":0},{"$f":"'27. Searcher Profile Data'!P19","v":0},{"$f":"'27. Searcher Profile Data'!Q19","v":0},{"$f":"'27. Searcher Profile Data'!R19","v":0},{"$f":"'27. Searcher Profile Data'!S19","v":0},{"$f":"'27. Searcher Profile Data'!T19","v":0},{"$f":"'27. Searcher Profile Data'!U19","v":0},{"$f":"'27. Searcher Profile Data'!V19","v":0},{"$f":"'27. Searcher Profile Data'!W19","v":0},{"$f":"'27. Searcher Profile Data'!X19","v":0},{"$f":"'27. Searcher Profile Data'!Y19","v":0},{"$f":"'27. Searcher Profile Data'!Z19","v":0},{"$f":"'27. Searcher Profile Data'!AA19","v":0},{"$f":"'27. Searcher Profile Data'!AB19","v":0},{"$f":"'27. Searcher Profile Data'!AC19","v":0},{"$f":"'27. Searcher Profile Data'!AD19","v":0},{"$f":"'27. Searcher Profile Data'!AE19","v":0},{"$f":"'27. Searcher Profile Data'!AF19","v":0},{"$f":"'27. Searcher Profile Data'!AG19","v":0},{"$f":"'27. Searcher Profile Data'!AH19","v":0},{"$f":"'27. Searcher Profile Data'!AI19","v":0},{"$f":"'27. Searcher Profile Data'!AJ19","v":0},{"$f":"'27. Searcher Profile Data'!AK19","v":0},{"$f":"'27. Searcher Profile Data'!AL19","v":0},{"$f":"'27. Searcher Profile Data'!AM19","v":0},{"$f":"'27. Searcher Profile Data'!AN19","v":0},{"$f":"'27. Searcher Profile Data'!AO19","v":0},{"$f":"'27. Searcher Profile Data'!AP19","v":0},{"$f":"'27. Searcher Profile Data'!AQ19","v":0},{"$f":"'27. Searcher Profile Data'!AR19","v":0},{"$f":"'27. Searcher Profile Data'!AS19","v":0},{"$f":"'27. Searcher Profile Data'!AT19","v":0},{"$f":"'27. Searcher Profile Data'!AU19","v":0},{"$f":"'27. Searcher Profile Data'!AV19","v":0},{"$f":"'27. Searcher Profile Data'!AW19","v":0},{"$f":"'27. Searcher Profile Data'!AX19","v":0},{"$f":"'27. Searcher Profile Data'!AY19","v":0},{"$f":"'27. Searcher Profile Data'!AZ19","v":0},{"$f":"'27. Searcher Profile Data'!BA19","v":0},{"$f":"'27. Searcher Profile Data'!BB19","v":0},{"$f":"'27. Searcher Profile Data'!BC19","v":0},{"$f":"'27. Searcher Profile Data'!BD19","v":0},{"$f":"'27. Searcher Profile Data'!BE19","v":0},{"$f":"'27. Searcher Profile Data'!BF19","v":0},{"$f":"'27. Searcher Profile Data'!BG19","v":0},{"$f":"'27. Searcher Profile Data'!BH19","v":0},{"$f":"'27. Searcher Profile Data'!BI19","v":0},{"$f":"'27. Searcher Profile Data'!BJ19","v":0},{"$f":"'27. Searcher Profile Data'!BK19","v":0},{"$f":"'27. Searcher Profile Data'!BL19","v":0},{"$f":"'27. Searcher Profile Data'!BM19","v":0},{"$f":"'27. Searcher Profile Data'!BN19","v":0},{"$f":"'27. Searcher Profile Data'!BO19","v":0},{"$f":"'27. Searcher Profile Data'!BP19","v":0},{"$f":"'27. Searcher Profile Data'!BQ19","v":0},{"$f":"'27. Searcher Profile Data'!BR19","v":0},{"$f":"'27. Searcher Profile Data'!BS19","v":0},{"$f":"'27. Searcher Profile Data'!BT19","v":0},{"$f":"'27. Searcher Profile Data'!BU19","v":0},{"$f":"'27. Searcher Profile Data'!BV19","v":0},{"$f":"'27. Searcher Profile Data'!BW19","v":0},{"$f":"'27. Searcher Profile Data'!BX19","v":0},{"$f":"'27. Searcher Profile Data'!BY19","v":0},{"$f":"'27. Searcher Profile Data'!BZ19","v":0}]
[{"$f":"'27. Searcher Profile Data'!A20","v":"Colorblindness"},null,{"$f":"'27. Searcher Profile Data'!B20","v":0},{"$f":"'27. Searcher Profile Data'!C20","v":0},{"$f":"'27. Searcher Profile Data'!D20","v":0},{"$f":"'27. Searcher Profile Data'!E20","v":0},{"$f":"'27. Searcher Profile Data'!F20","v":0},{"$f":"'27. Searcher Profile Data'!G20","v":0},{"$f":"'27. Searcher Profile Data'!H20","v":0},{"$f":"'27. Searcher Profile Data'!I20","v":0},{"$f":"'27. Searcher Profile Data'!J20","v":0},{"$f":"'27. Searcher Profile Data'!K20","v":0},{"$f":"'27. Searcher Profile Data'!L20","v":0},{"$f":"'27. Searcher Profile Data'!M20","v":0},{"$f":"'27. Searcher Profile Data'!N20","v":0},{"$f":"'27. Searcher Profile Data'!O20","v":0},{"$f":"'27. Searcher Profile Data'!P20","v":0},{"$f":"'27. Searcher Profile Data'!Q20","v":0},{"$f":"'27. Searcher Profile Data'!R20","v":0},{"$f":"'27. Searcher Profile Data'!S20","v":0},{"$f":"'27. Searcher Profile Data'!T20","v":0},{"$f":"'27. Searcher Profile Data'!U20","v":0},{"$f":"'27. Searcher Profile Data'!V20","v":0},{"$f":"'27. Searcher Profile Data'!W20","v":0},{"$f":"'27. Searcher Profile Data'!X20","v":0},{"$f":"'27. Searcher Profile Data'!Y20","v":0},{"$f":"'27. Searcher Profile Data'!Z20","v":0},{"$f":"'27. Searcher Profile Data'!AA20","v":0},{"$f":"'27. Searcher Profile Data'!AB20","v":0},{"$f":"'27. Searcher Profile Data'!AC20","v":0},{"$f":"'27. Searcher Profile Data'!AD20","v":0},{"$f":"'27. Searcher Profile Data'!AE20","v":0},{"$f":"'27. Searcher Profile Data'!AF20","v":0},{"$f":"'27. Searcher Profile Data'!AG20","v":0},{"$f":"'27. Searcher Profile Data'!AH20","v":0},{"$f":"'27. Searcher Profile Data'!AI20","v":0},{"$f":"'27. Searcher Profile Data'!AJ20","v":0},{"$f":"'27. Searcher Profile Data'!AK20","v":0},{"$f":"'27. Searcher Profile Data'!AL20","v":0},{"$f":"'27. Searcher Profile Data'!AM20","v":0},{"$f":"'27. Searcher Profile Data'!AN20","v":0},{"$f":"'27. Searcher Profile Data'!AO20","v":0},{"$f":"'27. Searcher Profile Data'!AP20","v":0},{"$f":"'27. Searcher Profile Data'!AQ20","v":0},{"$f":"'27. Searcher Profile Data'!AR20","v":0},{"$f":"'27. Searcher Profile Data'!AS20","v":0},{"$f":"'27. Searcher Profile Data'!AT20","v":0},{"$f":"'27. Searcher Profile Data'!AU20","v":0},{"$f":"'27. Searcher Profile Data'!AV20","v":0},{"$f":"'27. Searcher Profile Data'!AW20","v":0},{"$f":"'27. Searcher Profile Data'!AX20","v":0},{"$f":"'27. Searcher Profile Data'!AY20","v":0},{"$f":"'27. Searcher Profile Data'!AZ20","v":0},{"$f":"'27. Searcher Profile Data'!BA20","v":0},{"$f":"'27. Searcher Profile Data'!BB20","v":0},{"$f":"'27. Searcher Profile Data'!BC20","v":0},{"$f":"'27. Searcher Profile Data'!BD20","v":0},{"$f":"'27. Searcher Profile Data'!BE20","v":0},{"$f":"'27. Searcher Profile Data'!BF20","v":0},{"$f":"'27. Searcher Profile Data'!BG20","v":0},{"$f":"'27. Searcher Profile Data'!BH20","v":0},{"$f":"'27. Searcher Profile Data'!BI20","v":0},{"$f":"'27. Searcher Profile Data'!BJ20","v":0},{"$f":"'27. Searcher Profile Data'!BK20","v":0},{"$f":"'27. Searcher Profile Data'!BL20","v":0},{"$f":"'27. Searcher Profile Data'!BM20","v":0},{"$f":"'27. Searcher Profile Data'!BN20","v":0},{"$f":"'27. Searcher Profile Data'!BO20","v":0},{"$f":"'27. Searcher Profile Data'!BP20","v":0},{"$f":"'27. Searcher Profile Data'!BQ20","v":0},{"$f":"'27. Searcher Profile Data'!BR20","v":0},{"$f":"'27. Searcher Profile Data'!BS20","v":0},{"$f":"'27. Searcher Profile Data'!BT20","v":0},{"$f":"'27. Searcher Profile Data'!BU20","v":0},{"$f":"'27. Searcher Profile Data'!BV20","v":0},{"$f":"'27. Searcher Profile Data'!BW20","v":0},{"$f":"'27. Searcher Profile Data'!BX20","v":0},{"$f":"'27. Searcher Profile Data'!BY20","v":0},{"$f":"'27. Searcher Profile Data'!BZ20","v":0}]
[{"$f":"'27. Searcher Profile Data'!A21","v":"Hours on Task"},null,{"$f":"'27. Searcher Profile Data'!B21","v":0},{"$f":"'27. Searcher Profile Data'!C21","v":0},{"$f":"'27. Searcher Profile Data'!D21","v":0},{"$f":"'27. Searcher Profile Data'!E21","v":0},{"$f":"'27. Searcher Profile Data'!F21","v":0},{"$f":"'27. Searcher Profile Data'!G21","v":0},{"$f":"'27. Searcher Profile Data'!H21","v":0},{"$f":"'27. Searcher Profile Data'!I21","v":0},{"$f":"'27. Searcher Profile Data'!J21","v":0},{"$f":"'27. Searcher Profile Data'!K21","v":0},{"$f":"'27. Searcher Profile Data'!L21","v":0},{"$f":"'27. Searcher Profile Data'!M21","v":0},{"$f":"'27. Searcher Profile Data'!N21","v":0},{"$f":"'27. Searcher Profile Data'!O21","v":0},{"$f":"'27. Searcher Profile Data'!P21","v":0},{"$f":"'27. Searcher Profile Data'!Q21","v":0},{"$f":"'27. Searcher Profile Data'!R21","v":0},{"$f":"'27. Searcher Profile Data'!S21","v":0},{"$f":"'27. Searcher Profile Data'!T21","v":0},{"$f":"'27. Searcher Profile Data'!U21","v":0},{"$f":"'27. Searcher Profile Data'!V21","v":0},{"$f":"'27. Searcher Profile Data'!W21","v":0},{"$f":"'27. Searcher Profile Data'!X21","v":0},{"$f":"'27. Searcher Profile Data'!Y21","v":0},{"$f":"'27. Searcher Profile Data'!Z21","v":0},{"$f":"'27. Searcher Profile Data'!AA21","v":0},{"$f":"'27. Searcher Profile Data'!AB21","v":0},{"$f":"'27. Searcher Profile Data'!AC21","v":0},{"$f":"'27. Searcher Profile Data'!AD21","v":0},{"$f":"'27. Searcher Profile Data'!AE21","v":0},{"$f":"'27. Searcher Profile Data'!AF21","v":0},{"$f":"'27. Searcher Profile Data'!AG21","v":0},{"$f":"'27. Searcher Profile Data'!AH21","v":0},{"$f":"'27. Searcher Profile Data'!AI21","v":0},{"$f":"'27. Searcher Profile Data'!AJ21","v":0},{"$f":"'27. Searcher Profile Data'!AK21","v":0},{"$f":"'27. Searcher Profile Data'!AL21","v":0},{"$f":"'27. Searcher Profile Data'!AM21","v":0},{"$f":"'27. Searcher Profile Data'!AN21","v":0},{"$f":"'27. Searcher Profile Data'!AO21","v":0},{"$f":"'27. Searcher Profile Data'!AP21","v":0},{"$f":"'27. Searcher Profile Data'!AQ21","v":0},{"$f":"'27. Searcher Profile Data'!AR21","v":0},{"$f":"'27. Searcher Profile Data'!AS21","v":0},{"$f":"'27. Searcher Profile Data'!AT21","v":0},{"$f":"'27. Searcher Profile Data'!AU21","v":0},{"$f":"'27. Searcher Profile Data'!AV21","v":0},{"$f":"'27. Searcher Profile Data'!AW21","v":0},{"$f":"'27. Searcher Profile Data'!AX21","v":0},{"$f":"'27. Searcher Profile Data'!AY21","v":0},{"$f":"'27. Searcher Profile Data'!AZ21","v":0},{"$f":"'27. Searcher Profile Data'!BA21","v":0},{"$f":"'27. Searcher Profile Data'!BB21","v":0},{"$f":"'27. Searcher Profile Data'!BC21","v":0},{"$f":"'27. Searcher Profile Data'!BD21","v":0},{"$f":"'27. Searcher Profile Data'!BE21","v":0},{"$f":"'27. Searcher Profile Data'!BF21","v":0},{"$f":"'27. Searcher Profile Data'!BG21","v":0},{"$f":"'27. Searcher Profile Data'!BH21","v":0},{"$f":"'27. Searcher Profile Data'!BI21","v":0},{"$f":"'27. Searcher Profile Data'!BJ21","v":0},{"$f":"'27. Searcher Profile Data'!BK21","v":0},{"$f":"'27. Searcher Profile Data'!BL21","v":0},{"$f":"'27. Searcher Profile Data'!BM21","v":0},{"$f":"'27. Searcher Profile Data'!BN21","v":0},{"$f":"'27. Searcher Profile Data'!BO21","v":0},{"$f":"'27. Searcher Profile Data'!BP21","v":0},{"$f":"'27. Searcher Profile Data'!BQ21","v":0},{"$f":"'27. Searcher Profile Data'!BR21","v":0},{"$f":"'27. Searcher Profile Data'!BS21","v":0},{"$f":"'27. Searcher Profile Data'!BT21","v":0},{"$f":"'27. Searcher Profile Data'!BU21","v":0},{"$f":"'27. Searcher Profile Data'!BV21","v":0},{"$f":"'27. Searcher Profile Data'!BW21","v":0},{"$f":"'27. Searcher Profile Data'!BX21","v":0},{"$f":"'27. Searcher Profile Data'!BY21","v":0},{"$f":"'27. Searcher Profile Data'!BZ21","v":0}]
[{"$f":"'27. Searcher Profile Data'!A22","v":"Speed compared to average"},null,{"$f":"'27. Searcher Profile Data'!B22","v":""},{"$f":"'27. Searcher Profile Data'!C22","v":""},{"$f":"'27. Searcher Profile Data'!D22","v":""},{"$f":"'27. Searcher Profile Data'!E22","v":""},{"$f":"'27. Searcher Profile Data'!F22","v":""},{"$f":"'27. Searcher Profile Data'!G22","v":""},{"$f":"'27. Searcher Profile Data'!H22","v":""},{"$f":"'27. Searcher Profile Data'!I22","v":""},{"$f":"'27. Searcher Profile Data'!J22","v":""},{"$f":"'27. Searcher Profile Data'!K22","v":""},{"$f":"'27. Searcher Profile Data'!L22","v":""},{"$f":"'27. Searcher Profile Data'!M22","v":""},{"$f":"'27. Searcher Profile Data'!N22","v":""},{"$f":"'27. Searcher Profile Data'!O22","v":""},{"$f":"'27. Searcher Profile Data'!P22","v":""},{"$f":"'27. Searcher Profile Data'!Q22","v":""},{"$f":"'27. Searcher Profile Data'!R22","v":""},{"$f":"'27. Searcher Profile Data'!S22","v":""},{"$f":"'27. Searcher Profile Data'!T22","v":""},{"$f":"'27. Searcher Profile Data'!U22","v":""},{"$f":"'27. Searcher Profile Data'!V22","v":""},{"$f":"'27. Searcher Profile Data'!W22","v":""},{"$f":"'27. Searcher Profile Data'!X22","v":""},{"$f":"'27. Searcher Profile Data'!Y22","v":""},{"$f":"'27. Searcher Profile Data'!Z22","v":""},{"$f":"'27. Searcher Profile Data'!AA22","v":""},{"$f":"'27. Searcher Profile Data'!AB22","v":""},{"$f":"'27. Searcher Profile Data'!AC22","v":""},{"$f":"'27. Searcher Profile Data'!AD22","v":""},{"$f":"'27. Searcher Profile Data'!AE22","v":""},{"$f":"'27. Searcher Profile Data'!AF22","v":""},{"$f":"'27. Searcher Profile Data'!AG22","v":""},{"$f":"'27. Searcher Profile Data'!AH22","v":""},{"$f":"'27. Searcher Profile Data'!AI22","v":""},{"$f":"'27. Searcher Profile Data'!AJ22","v":""},{"$f":"'27. Searcher Profile Data'!AK22","v":""},{"$f":"'27. Searcher Profile Data'!AL22","v":""},{"$f":"'27. Searcher Profile Data'!AM22","v":""},{"$f":"'27. Searcher Profile Data'!AN22","v":""},{"$f":"'27. Searcher Profile Data'!AO22","v":""},{"$f":"'27. Searcher Profile Data'!AP22","v":""},{"$f":"'27. Searcher Profile Data'!AQ22","v":""},{"$f":"'27. Searcher Profile Data'!AR22","v":""},{"$f":"'27. Searcher Profile Data'!AS22","v":""},{"$f":"'27. Searcher Profile Data'!AT22","v":""},{"$f":"'27. Searcher Profile Data'!AU22","v":""},{"$f":"'27. Searcher Profile Data'!AV22","v":""},{"$f":"'27. Searcher Profile Data'!AW22","v":""},{"$f":"'27. Searcher Profile Data'!AX22","v":""},{"$f":"'27. Searcher Profile Data'!AY22","v":""},{"$f":"'27. Searcher Profile Data'!AZ22","v":""},{"$f":"'27. Searcher Profile Data'!BA22","v":""},{"$f":"'27. Searcher Profile Data'!BB22","v":""},{"$f":"'27. Searcher Profile Data'!BC22","v":""},{"$f":"'27. Searcher Profile Data'!BD22","v":""},{"$f":"'27. Searcher Profile Data'!BE22","v":""},{"$f":"'27. Searcher Profile Data'!BF22","v":""},{"$f":"'27. Searcher Profile Data'!BG22","v":""},{"$f":"'27. Searcher Profile Data'!BH22","v":""},{"$f":"'27. Searcher Profile Data'!BI22","v":""},{"$f":"'27. Searcher Profile Data'!BJ22","v":""},{"$f":"'27. Searcher Profile Data'!BK22","v":""},{"$f":"'27. Searcher Profile Data'!BL22","v":""},{"$f":"'27. Searcher Profile Data'!BM22","v":""},{"$f":"'27. Searcher Profile Data'!BN22","v":""},{"$f":"'27. Searcher Profile Data'!BO22","v":""},{"$f":"'27. Searcher Profile Data'!BP22","v":""},{"$f":"'27. Searcher Profile Data'!BQ22","v":""},{"$f":"'27. Searcher Profile Data'!BR22","v":""},{"$f":"'27. Searcher Profile Data'!BS22","v":""},{"$f":"'27. Searcher Profile Data'!BT22","v":""},{"$f":"'27. Searcher Profile Data'!BU22","v":""},{"$f":"'27. Searcher Profile Data'!BV22","v":""},{"$f":"'27. Searcher Profile Data'!BW22","v":""},{"$f":"'27. Searcher Profile Data'!BX22","v":""},{"$f":"'27. Searcher Profile Data'!BY22","v":""},{"$f":"'27. Searcher Profile Data'!BZ22","v":""}]
[{"$f":"'27. Searcher Profile Data'!A23","v":"Morale self assessment"},null,{"$f":"'27. Searcher Profile Data'!B23","v":0},{"$f":"'27. Searcher Profile Data'!C23","v":0},{"$f":"'27. Searcher Profile Data'!D23","v":0},{"$f":"'27. Searcher Profile Data'!E23","v":0},{"$f":"'27. Searcher Profile Data'!F23","v":0},{"$f":"'27. Searcher Profile Data'!G23","v":0},{"$f":"'27. Searcher Profile Data'!H23","v":0},{"$f":"'27. Searcher Profile Data'!I23","v":0},{"$f":"'27. Searcher Profile Data'!J23","v":0},{"$f":"'27. Searcher Profile Data'!K23","v":0},{"$f":"'27. Searcher Profile Data'!L23","v":0},{"$f":"'27. Searcher Profile Data'!M23","v":0},{"$f":"'27. Searcher Profile Data'!N23","v":0},{"$f":"'27. Searcher Profile Data'!O23","v":0},{"$f":"'27. Searcher Profile Data'!P23","v":0},{"$f":"'27. Searcher Profile Data'!Q23","v":0},{"$f":"'27. Searcher Profile Data'!R23","v":0},{"$f":"'27. Searcher Profile Data'!S23","v":0},{"$f":"'27. Searcher Profile Data'!T23","v":0},{"$f":"'27. Searcher Profile Data'!U23","v":0},{"$f":"'27. Searcher Profile Data'!V23","v":0},{"$f":"'27. Searcher Profile Data'!W23","v":0},{"$f":"'27. Searcher Profile Data'!X23","v":0},{"$f":"'27. Searcher Profile Data'!Y23","v":0},{"$f":"'27. Searcher Profile Data'!Z23","v":0},{"$f":"'27. Searcher Profile Data'!AA23","v":0},{"$f":"'27. Searcher Profile Data'!AB23","v":0},{"$f":"'27. Searcher Profile Data'!AC23","v":0},{"$f":"'27. Searcher Profile Data'!AD23","v":0},{"$f":"'27. Searcher Profile Data'!AE23","v":0},{"$f":"'27. Searcher Profile Data'!AF23","v":0},{"$f":"'27. Searcher Profile Data'!AG23","v":0},{"$f":"'27. Searcher Profile Data'!AH23","v":0},{"$f":"'27. Searcher Profile Data'!AI23","v":0},{"$f":"'27. Searcher Profile Data'!AJ23","v":0},{"$f":"'27. Searcher Profile Data'!AK23","v":0},{"$f":"'27. Searcher Profile Data'!AL23","v":0},{"$f":"'27. Searcher Profile Data'!AM23","v":0},{"$f":"'27. Searcher Profile Data'!AN23","v":0},{"$f":"'27. Searcher Profile Data'!AO23","v":0},{"$f":"'27. Searcher Profile Data'!AP23","v":0},{"$f":"'27. Searcher Profile Data'!AQ23","v":0},{"$f":"'27. Searcher Profile Data'!AR23","v":0},{"$f":"'27. Searcher Profile Data'!AS23","v":0},{"$f":"'27. Searcher Profile Data'!AT23","v":0},{"$f":"'27. Searcher Profile Data'!AU23","v":0},{"$f":"'27. Searcher Profile Data'!AV23","v":0},{"$f":"'27. Searcher Profile Data'!AW23","v":0},{"$f":"'27. Searcher Profile Data'!AX23","v":0},{"$f":"'27. Searcher Profile Data'!AY23","v":0},{"$f":"'27. Searcher Profile Data'!AZ23","v":0},{"$f":"'27. Searcher Profile Data'!BA23","v":0},{"$f":"'27. Searcher Profile Data'!BB23","v":0},{"$f":"'27. Searcher Profile Data'!BC23","v":0},{"$f":"'27. Searcher Profile Data'!BD23","v":0},{"$f":"'27. Searcher Profile Data'!BE23","v":0},{"$f":"'27. Searcher Profile Data'!BF23","v":0},{"$f":"'27. Searcher Profile Data'!BG23","v":0},{"$f":"'27. Searcher Profile Data'!BH23","v":0},{"$f":"'27. Searcher Profile Data'!BI23","v":0},{"$f":"'27. Searcher Profile Data'!BJ23","v":0},{"$f":"'27. Searcher Profile Data'!BK23","v":0},{"$f":"'27. Searcher Profile Data'!BL23","v":0},{"$f":"'27. Searcher Profile Data'!BM23","v":0},{"$f":"'27. Searcher Profile Data'!BN23","v":0},{"$f":"'27. Searcher Profile Data'!BO23","v":0},{"$f":"'27. Searcher Profile Data'!BP23","v":0},{"$f":"'27. Searcher Profile Data'!BQ23","v":0},{"$f":"'27. Searcher Profile Data'!BR23","v":0},{"$f":"'27. Searcher Profile Data'!BS23","v":0},{"$f":"'27. Searcher Profile Data'!BT23","v":0},{"$f":"'27. Searcher Profile Data'!BU23","v":0},{"$f":"'27. Searcher Profile Data'!BV23","v":0},{"$f":"'27. Searcher Profile Data'!BW23","v":0},{"$f":"'27. Searcher Profile Data'!BX23","v":0},{"$f":"'27. Searcher Profile Data'!BY23","v":0},{"$f":"'27. Searcher Profile Data'!BZ23","v":0}]
[{"$f":"'27. Searcher Profile Data'!A24","v":"Fatigue self assessment"},null,{"$f":"'27. Searcher Profile Data'!B24","v":0},{"$f":"'27. Searcher Profile Data'!C24","v":0},{"$f":"'27. Searcher Profile Data'!D24","v":0},{"$f":"'27. Searcher Profile Data'!E24","v":0},{"$f":"'27. Searcher Profile Data'!F24","v":0},{"$f":"'27. Searcher Profile Data'!G24","v":0},{"$f":"'27. Searcher Profile Data'!H24","v":0},{"$f":"'27. Searcher Profile Data'!I24","v":0},{"$f":"'27. Searcher Profile Data'!J24","v":0},{"$f":"'27. Searcher Profile Data'!K24","v":0},{"$f":"'27. Searcher Profile Data'!L24","v":0},{"$f":"'27. Searcher Profile Data'!M24","v":0},{"$f":"'27. Searcher Profile Data'!N24","v":0},{"$f":"'27. Searcher Profile Data'!O24","v":0},{"$f":"'27. Searcher Profile Data'!P24","v":0},{"$f":"'27. Searcher Profile Data'!Q24","v":0},{"$f":"'27. Searcher Profile Data'!R24","v":0},{"$f":"'27. Searcher Profile Data'!S24","v":0},{"$f":"'27. Searcher Profile Data'!T24","v":0},{"$f":"'27. Searcher Profile Data'!U24","v":0},{"$f":"'27. Searcher Profile Data'!V24","v":0},{"$f":"'27. Searcher Profile Data'!W24","v":0},{"$f":"'27. Searcher Profile Data'!X24","v":0},{"$f":"'27. Searcher Profile Data'!Y24","v":0},{"$f":"'27. Searcher Profile Data'!Z24","v":0},{"$f":"'27. Searcher Profile Data'!AA24","v":0},{"$f":"'27. Searcher Profile Data'!AB24","v":0},{"$f":"'27. Searcher Profile Data'!AC24","v":0},{"$f":"'27. Searcher Profile Data'!AD24","v":0},{"$f":"'27. Searcher Profile Data'!AE24","v":0},{"$f":"'27. Searcher Profile Data'!AF24","v":0},{"$f":"'27. Searcher Profile Data'!AG24","v":0},{"$f":"'27. Searcher Profile Data'!AH24","v":0},{"$f":"'27. Searcher Profile Data'!AI24","v":0},{"$f":"'27. Searcher Profile Data'!AJ24","v":0},{"$f":"'27. Searcher Profile Data'!AK24","v":0},{"$f":"'27. Searcher Profile Data'!AL24","v":0},{"$f":"'27. Searcher Profile Data'!AM24","v":0},{"$f":"'27. Searcher Profile Data'!AN24","v":0},{"$f":"'27. Searcher Profile Data'!AO24","v":0},{"$f":"'27. Searcher Profile Data'!AP24","v":0},{"$f":"'27. Searcher Profile Data'!AQ24","v":0},{"$f":"'27. Searcher Profile Data'!AR24","v":0},{"$f":"'27. Searcher Profile Data'!AS24","v":0},{"$f":"'27. Searcher Profile Data'!AT24","v":0},{"$f":"'27. Searcher Profile Data'!AU24","v":0},{"$f":"'27. Searcher Profile Data'!AV24","v":0},{"$f":"'27. Searcher Profile Data'!AW24","v":0},{"$f":"'27. Searcher Profile Data'!AX24","v":0},{"$f":"'27. Searcher Profile Data'!AY24","v":0},{"$f":"'27. Searcher Profile Data'!AZ24","v":0},{"$f":"'27. Searcher Profile Data'!BA24","v":0},{"$f":"'27. Searcher Profile Data'!BB24","v":0},{"$f":"'27. Searcher Profile Data'!BC24","v":0},{"$f":"'27. Searcher Profile Data'!BD24","v":0},{"$f":"'27. Searcher Profile Data'!BE24","v":0},{"$f":"'27. Searcher Profile Data'!BF24","v":0},{"$f":"'27. Searcher Profile Data'!BG24","v":0},{"$f":"'27. Searcher Profile Data'!BH24","v":0},{"$f":"'27. Searcher Profile Data'!BI24","v":0},{"$f":"'27. Searcher Profile Data'!BJ24","v":0},{"$f":"'27. Searcher Profile Data'!BK24","v":0},{"$f":"'27. Searcher Profile Data'!BL24","v":0},{"$f":"'27. Searcher Profile Data'!BM24","v":0},{"$f":"'27. Searcher Profile Data'!BN24","v":0},{"$f":"'27. Searcher Profile Data'!BO24","v":0},{"$f":"'27. Searcher Profile Data'!BP24","v":0},{"$f":"'27. Searcher Profile Data'!BQ24","v":0},{"$f":"'27. Searcher Profile Data'!BR24","v":0},{"$f":"'27. Searcher Profile Data'!BS24","v":0},{"$f":"'27. Searcher Profile Data'!BT24","v":0},{"$f":"'27. Searcher Profile Data'!BU24","v":0},{"$f":"'27. Searcher Profile Data'!BV24","v":0},{"$f":"'27. Searcher Profile Data'!BW24","v":0},{"$f":"'27. Searcher Profile Data'!BX24","v":0},{"$f":"'27. Searcher Profile Data'!BY24","v":0},{"$f":"'27. Searcher Profile Data'!BZ24","v":0}]
[{"$f":"'27. Searcher Profile Data'!A25","v":"Self POD Object #1"},null,{"$f":"'27. Searcher Profile Data'!B25","v":0},{"$f":"'27. Searcher Profile Data'!C25","v":0},{"$f":"'27. Searcher Profile Data'!D25","v":0},{"$f":"'27. Searcher Profile Data'!E25","v":0},{"$f":"'27. Searcher Profile Data'!F25","v":0},{"$f":"'27. Searcher Profile Data'!G25","v":0},{"$f":"'27. Searcher Profile Data'!H25","v":0},{"$f":"'27. Searcher Profile Data'!I25","v":0},{"$f":"'27. Searcher Profile Data'!J25","v":0},{"$f":"'27. Searcher Profile Data'!K25","v":0},{"$f":"'27. Searcher Profile Data'!L25","v":0},{"$f":"'27. Searcher Profile Data'!M25","v":0},{"$f":"'27. Searcher Profile Data'!N25","v":0},{"$f":"'27. Searcher Profile Data'!O25","v":0},{"$f":"'27. Searcher Profile Data'!P25","v":0},{"$f":"'27. Searcher Profile Data'!Q25","v":0},{"$f":"'27. Searcher Profile Data'!R25","v":0},{"$f":"'27. Searcher Profile Data'!S25","v":0},{"$f":"'27. Searcher Profile Data'!T25","v":0},{"$f":"'27. Searcher Profile Data'!U25","v":0},{"$f":"'27. Searcher Profile Data'!V25","v":0},{"$f":"'27. Searcher Profile Data'!W25","v":0},{"$f":"'27. Searcher Profile Data'!X25","v":0},{"$f":"'27. Searcher Profile Data'!Y25","v":0},{"$f":"'27. Searcher Profile Data'!Z25","v":0},{"$f":"'27. Searcher Profile Data'!AA25","v":0},{"$f":"'27. Searcher Profile Data'!AB25","v":0},{"$f":"'27. Searcher Profile Data'!AC25","v":0},{"$f":"'27. Searcher Profile Data'!AD25","v":0},{"$f":"'27. Searcher Profile Data'!AE25","v":0},{"$f":"'27. Searcher Profile Data'!AF25","v":0},{"$f":"'27. Searcher Profile Data'!AG25","v":0},{"$f":"'27. Searcher Profile Data'!AH25","v":0},{"$f":"'27. Searcher Profile Data'!AI25","v":0},{"$f":"'27. Searcher Profile Data'!AJ25","v":0},{"$f":"'27. Searcher Profile Data'!AK25","v":0},{"$f":"'27. Searcher Profile Data'!AL25","v":0},{"$f":"'27. Searcher Profile Data'!AM25","v":0},{"$f":"'27. Searcher Profile Data'!AN25","v":0},{"$f":"'27. Searcher Profile Data'!AO25","v":0},{"$f":"'27. Searcher Profile Data'!AP25","v":0},{"$f":"'27. Searcher Profile Data'!AQ25","v":0},{"$f":"'27. Searcher Profile Data'!AR25","v":0},{"$f":"'27. Searcher Profile Data'!AS25","v":0},{"$f":"'27. Searcher Profile Data'!AT25","v":0},{"$f":"'27. Searcher Profile Data'!AU25","v":0},{"$f":"'27. Searcher Profile Data'!AV25","v":0},{"$f":"'27. Searcher Profile Data'!AW25","v":0},{"$f":"'27. Searcher Profile Data'!AX25","v":0},{"$f":"'27. Searcher Profile Data'!AY25","v":0},{"$f":"'27. Searcher Profile Data'!AZ25","v":0},{"$f":"'27. Searcher Profile Data'!BA25","v":0},{"$f":"'27. Searcher Profile Data'!BB25","v":0},{"$f":"'27. Searcher Profile Data'!BC25","v":0},{"$f":"'27. Searcher Profile Data'!BD25","v":0},{"$f":"'27. Searcher Profile Data'!BE25","v":0},{"$f":"'27. Searcher Profile Data'!BF25","v":0},{"$f":"'27. Searcher Profile Data'!BG25","v":0},{"$f":"'27. Searcher Profile Data'!BH25","v":0},{"$f":"'27. Searcher Profile Data'!BI25","v":0},{"$f":"'27. Searcher Profile Data'!BJ25","v":0},{"$f":"'27. Searcher Profile Data'!BK25","v":0},{"$f":"'27. Searcher Profile Data'!BL25","v":0},{"$f":"'27. Searcher Profile Data'!BM25","v":0},{"$f":"'27. Searcher Profile Data'!BN25","v":0},{"$f":"'27. Searcher Profile Data'!BO25","v":0},{"$f":"'27. Searcher Profile Data'!BP25","v":0},{"$f":"'27. Searcher Profile Data'!BQ25","v":0},{"$f":"'27. Searcher Profile Data'!BR25","v":0},{"$f":"'27. Searcher Profile Data'!BS25","v":0},{"$f":"'27. Searcher Profile Data'!BT25","v":0},{"$f":"'27. Searcher Profile Data'!BU25","v":0},{"$f":"'27. Searcher Profile Data'!BV25","v":0},{"$f":"'27. Searcher Profile Data'!BW25","v":0},{"$f":"'27. Searcher Profile Data'!BX25","v":0},{"$f":"'27. Searcher Profile Data'!BY25","v":0},{"$f":"'27. Searcher Profile Data'!BZ25","v":0}]
[{"$f":"'27. Searcher Profile Data'!A26","v":"Self POD Object #2"},null,{"$f":"'27. Searcher Profile Data'!B26","v":0},{"$f":"'27. Searcher Profile Data'!C26","v":0},{"$f":"'27. Searcher Profile Data'!D26","v":0},{"$f":"'27. Searcher Profile Data'!E26","v":0},{"$f":"'27. Searcher Profile Data'!F26","v":0},{"$f":"'27. Searcher Profile Data'!G26","v":0},{"$f":"'27. Searcher Profile Data'!H26","v":0},{"$f":"'27. Searcher Profile Data'!I26","v":0},{"$f":"'27. Searcher Profile Data'!J26","v":0},{"$f":"'27. Searcher Profile Data'!K26","v":0},{"$f":"'27. Searcher Profile Data'!L26","v":0},{"$f":"'27. Searcher Profile Data'!M26","v":0},{"$f":"'27. Searcher Profile Data'!N26","v":0},{"$f":"'27. Searcher Profile Data'!O26","v":0},{"$f":"'27. Searcher Profile Data'!P26","v":0},{"$f":"'27. Searcher Profile Data'!Q26","v":0},{"$f":"'27. Searcher Profile Data'!R26","v":0},{"$f":"'27. Searcher Profile Data'!S26","v":0},{"$f":"'27. Searcher Profile Data'!T26","v":0},{"$f":"'27. Searcher Profile Data'!U26","v":0},{"$f":"'27. Searcher Profile Data'!V26","v":0},{"$f":"'27. Searcher Profile Data'!W26","v":0},{"$f":"'27. Searcher Profile Data'!X26","v":0},{"$f":"'27. Searcher Profile Data'!Y26","v":0},{"$f":"'27. Searcher Profile Data'!Z26","v":0},{"$f":"'27. Searcher Profile Data'!AA26","v":0},{"$f":"'27. Searcher Profile Data'!AB26","v":0},{"$f":"'27. Searcher Profile Data'!AC26","v":0},{"$f":"'27. Searcher Profile Data'!AD26","v":0},{"$f":"'27. Searcher Profile Data'!AE26","v":0},{"$f":"'27. Searcher Profile Data'!AF26","v":0},{"$f":"'27. Searcher Profile Data'!AG26","v":0},{"$f":"'27. Searcher Profile Data'!AH26","v":0},{"$f":"'27. Searcher Profile Data'!AI26","v":0},{"$f":"'27. Searcher Profile Data'!AJ26","v":0},{"$f":"'27. Searcher Profile Data'!AK26","v":0},{"$f":"'27. Searcher Profile Data'!AL26","v":0},{"$f":"'27. Searcher Profile Data'!AM26","v":0},{"$f":"'27. Searcher Profile Data'!AN26","v":0},{"$f":"'27. Searcher Profile Data'!AO26","v":0},{"$f":"'27. Searcher Profile Data'!AP26","v":0},{"$f":"'27. Searcher Profile Data'!AQ26","v":0},{"$f":"'27. Searcher Profile Data'!AR26","v":0},{"$f":"'27. Searcher Profile Data'!AS26","v":0},{"$f":"'27. Searcher Profile Data'!AT26","v":0},{"$f":"'27. Searcher Profile Data'!AU26","v":0},{"$f":"'27. Searcher Profile Data'!AV26","v":0},{"$f":"'27. Searcher Profile Data'!AW26","v":0},{"$f":"'27. Searcher Profile Data'!AX26","v":0},{"$f":"'27. Searcher Profile Data'!AY26","v":0},{"$f":"'27. Searcher Profile Data'!AZ26","v":0},{"$f":"'27. Searcher Profile Data'!BA26","v":0},{"$f":"'27. Searcher Profile Data'!BB26","v":0},{"$f":"'27. Searcher Profile Data'!BC26","v":0},{"$f":"'27. Searcher Profile Data'!BD26","v":0},{"$f":"'27. Searcher Profile Data'!BE26","v":0},{"$f":"'27. Searcher Profile Data'!BF26","v":0},{"$f":"'27. Searcher Profile Data'!BG26","v":0},{"$f":"'27. Searcher Profile Data'!BH26","v":0},{"$f":"'27. Searcher Profile Data'!BI26","v":0},{"$f":"'27. Searcher Profile Data'!BJ26","v":0},{"$f":"'27. Searcher Profile Data'!BK26","v":0},{"$f":"'27. Searcher Profile Data'!BL26","v":0},{"$f":"'27. Searcher Profile Data'!BM26","v":0},{"$f":"'27. Searcher Profile Data'!BN26","v":0},{"$f":"'27. Searcher Profile Data'!BO26","v":0},{"$f":"'27. Searcher Profile Data'!BP26","v":0},{"$f":"'27. Searcher Profile Data'!BQ26","v":0},{"$f":"'27. Searcher Profile Data'!BR26","v":0},{"$f":"'27. Searcher Profile Data'!BS26","v":0},{"$f":"'27. Searcher Profile Data'!BT26","v":0},{"$f":"'27. Searcher Profile Data'!BU26","v":0},{"$f":"'27. Searcher Profile Data'!BV26","v":0},{"$f":"'27. Searcher Profile Data'!BW26","v":0},{"$f":"'27. Searcher Profile Data'!BX26","v":0},{"$f":"'27. Searcher Profile Data'!BY26","v":0},{"$f":"'27. Searcher Profile Data'!BZ26","v":0}]
[{"$f":"'27. Searcher Profile Data'!A27","v":"Self POD Object #3"},null,{"$f":"'27. Searcher Profile Data'!B27","v":0},{"$f":"'27. Searcher Profile Data'!C27","v":0},{"$f":"'27. Searcher Profile Data'!D27","v":0},{"$f":"'27. Searcher Profile Data'!E27","v":0},{"$f":"'27. Searcher Profile Data'!F27","v":0},{"$f":"'27. Searcher Profile Data'!G27","v":0},{"$f":"'27. Searcher Profile Data'!H27","v":0},{"$f":"'27. Searcher Profile Data'!I27","v":0},{"$f":"'27. Searcher Profile Data'!J27","v":0},{"$f":"'27. Searcher Profile Data'!K27","v":0},{"$f":"'27. Searcher Profile Data'!L27","v":0},{"$f":"'27. Searcher Profile Data'!M27","v":0},{"$f":"'27. Searcher Profile Data'!N27","v":0},{"$f":"'27. Searcher Profile Data'!O27","v":0},{"$f":"'27. Searcher Profile Data'!P27","v":0},{"$f":"'27. Searcher Profile Data'!Q27","v":0},{"$f":"'27. Searcher Profile Data'!R27","v":0},{"$f":"'27. Searcher Profile Data'!S27","v":0},{"$f":"'27. Searcher Profile Data'!T27","v":0},{"$f":"'27. Searcher Profile Data'!U27","v":0},{"$f":"'27. Searcher Profile Data'!V27","v":0},{"$f":"'27. Searcher Profile Data'!W27","v":0},{"$f":"'27. Searcher Profile Data'!X27","v":0},{"$f":"'27. Searcher Profile Data'!Y27","v":0},{"$f":"'27. Searcher Profile Data'!Z27","v":0},{"$f":"'27. Searcher Profile Data'!AA27","v":0},{"$f":"'27. Searcher Profile Data'!AB27","v":0},{"$f":"'27. Searcher Profile Data'!AC27","v":0},{"$f":"'27. Searcher Profile Data'!AD27","v":0},{"$f":"'27. Searcher Profile Data'!AE27","v":0},{"$f":"'27. Searcher Profile Data'!AF27","v":0},{"$f":"'27. Searcher Profile Data'!AG27","v":0},{"$f":"'27. Searcher Profile Data'!AH27","v":0},{"$f":"'27. Searcher Profile Data'!AI27","v":0},{"$f":"'27. Searcher Profile Data'!AJ27","v":0},{"$f":"'27. Searcher Profile Data'!AK27","v":0},{"$f":"'27. Searcher Profile Data'!AL27","v":0},{"$f":"'27. Searcher Profile Data'!AM27","v":0},{"$f":"'27. Searcher Profile Data'!AN27","v":0},{"$f":"'27. Searcher Profile Data'!AO27","v":0},{"$f":"'27. Searcher Profile Data'!AP27","v":0},{"$f":"'27. Searcher Profile Data'!AQ27","v":0},{"$f":"'27. Searcher Profile Data'!AR27","v":0},{"$f":"'27. Searcher Profile Data'!AS27","v":0},{"$f":"'27. Searcher Profile Data'!AT27","v":0},{"$f":"'27. Searcher Profile Data'!AU27","v":0},{"$f":"'27. Searcher Profile Data'!AV27","v":0},{"$f":"'27. Searcher Profile Data'!AW27","v":0},{"$f":"'27. Searcher Profile Data'!AX27","v":0},{"$f":"'27. Searcher Profile Data'!AY27","v":0},{"$f":"'27. Searcher Profile Data'!AZ27","v":0},{"$f":"'27. Searcher Profile Data'!BA27","v":0},{"$f":"'27. Searcher Profile Data'!BB27","v":0},{"$f":"'27. Searcher Profile Data'!BC27","v":0},{"$f":"'27. Searcher Profile Data'!BD27","v":0},{"$f":"'27. Searcher Profile Data'!BE27","v":0},{"$f":"'27. Searcher Profile Data'!BF27","v":0},{"$f":"'27. Searcher Profile Data'!BG27","v":0},{"$f":"'27. Searcher Profile Data'!BH27","v":0},{"$f":"'27. Searcher Profile Data'!BI27","v":0},{"$f":"'27. Searcher Profile Data'!BJ27","v":0},{"$f":"'27. Searcher Profile Data'!BK27","v":0},{"$f":"'27. Searcher Profile Data'!BL27","v":0},{"$f":"'27. Searcher Profile Data'!BM27","v":0},{"$f":"'27. Searcher Profile Data'!BN27","v":0},{"$f":"'27. Searcher Profile Data'!BO27","v":0},{"$f":"'27. Searcher Profile Data'!BP27","v":0},{"$f":"'27. Searcher Profile Data'!BQ27","v":0},{"$f":"'27. Searcher Profile Data'!BR27","v":0},{"$f":"'27. Searcher Profile Data'!BS27","v":0},{"$f":"'27. Searcher Profile Data'!BT27","v":0},{"$f":"'27. Searcher Profile Data'!BU27","v":0},{"$f":"'27. Searcher Profile Data'!BV27","v":0},{"$f":"'27. Searcher Profile Data'!BW27","v":0},{"$f":"'27. Searcher Profile Data'!BX27","v":0},{"$f":"'27. Searcher Profile Data'!BY27","v":0},{"$f":"'27. Searcher Profile Data'!BZ27","v":0}]
[{"$f":"'27. Searcher Profile Data'!A28","v":"Self POD Object #4"},null,{"$f":"'27. Searcher Profile Data'!B28","v":0},{"$f":"'27. Searcher Profile Data'!C28","v":0},{"$f":"'27. Searcher Profile Data'!D28","v":0},{"$f":"'27. Searcher Profile Data'!E28","v":0},{"$f":"'27. Searcher Profile Data'!F28","v":0},{"$f":"'27. Searcher Profile Data'!G28","v":0},{"$f":"'27. Searcher Profile Data'!H28","v":0},{"$f":"'27. Searcher Profile Data'!I28","v":0},{"$f":"'27. Searcher Profile Data'!J28","v":0},{"$f":"'27. Searcher Profile Data'!K28","v":0},{"$f":"'27. Searcher Profile Data'!L28","v":0},{"$f":"'27. Searcher Profile Data'!M28","v":0},{"$f":"'27. Searcher Profile Data'!N28","v":0},{"$f":"'27. Searcher Profile Data'!O28","v":0},{"$f":"'27. Searcher Profile Data'!P28","v":0},{"$f":"'27. Searcher Profile Data'!Q28","v":0},{"$f":"'27. Searcher Profile Data'!R28","v":0},{"$f":"'27. Searcher Profile Data'!S28","v":0},{"$f":"'27. Searcher Profile Data'!T28","v":0},{"$f":"'27. Searcher Profile Data'!U28","v":0},{"$f":"'27. Searcher Profile Data'!V28","v":0},{"$f":"'27. Searcher Profile Data'!W28","v":0},{"$f":"'27. Searcher Profile Data'!X28","v":0},{"$f":"'27. Searcher Profile Data'!Y28","v":0},{"$f":"'27. Searcher Profile Data'!Z28","v":0},{"$f":"'27. Searcher Profile Data'!AA28","v":0},{"$f":"'27. Searcher Profile Data'!AB28","v":0},{"$f":"'27. Searcher Profile Data'!AC28","v":0},{"$f":"'27. Searcher Profile Data'!AD28","v":0},{"$f":"'27. Searcher Profile Data'!AE28","v":0},{"$f":"'27. Searcher Profile Data'!AF28","v":0},{"$f":"'27. Searcher Profile Data'!AG28","v":0},{"$f":"'27. Searcher Profile Data'!AH28","v":0},{"$f":"'27. Searcher Profile Data'!AI28","v":0},{"$f":"'27. Searcher Profile Data'!AJ28","v":0},{"$f":"'27. Searcher Profile Data'!AK28","v":0},{"$f":"'27. Searcher Profile Data'!AL28","v":0},{"$f":"'27. Searcher Profile Data'!AM28","v":0},{"$f":"'27. Searcher Profile Data'!AN28","v":0},{"$f":"'27. Searcher Profile Data'!AO28","v":0},{"$f":"'27. Searcher Profile Data'!AP28","v":0},{"$f":"'27. Searcher Profile Data'!AQ28","v":0},{"$f":"'27. Searcher Profile Data'!AR28","v":0},{"$f":"'27. Searcher Profile Data'!AS28","v":0},{"$f":"'27. Searcher Profile Data'!AT28","v":0},{"$f":"'27. Searcher Profile Data'!AU28","v":0},{"$f":"'27. Searcher Profile Data'!AV28","v":0},{"$f":"'27. Searcher Profile Data'!AW28","v":0},{"$f":"'27. Searcher Profile Data'!AX28","v":0},{"$f":"'27. Searcher Profile Data'!AY28","v":0},{"$f":"'27. Searcher Profile Data'!AZ28","v":0},{"$f":"'27. Searcher Profile Data'!BA28","v":0},{"$f":"'27. Searcher Profile Data'!BB28","v":0},{"$f":"'27. Searcher Profile Data'!BC28","v":0},{"$f":"'27. Searcher Profile Data'!BD28","v":0},{"$f":"'27. Searcher Profile Data'!BE28","v":0},{"$f":"'27. Searcher Profile Data'!BF28","v":0},{"$f":"'27. Searcher Profile Data'!BG28","v":0},{"$f":"'27. Searcher Profile Data'!BH28","v":0},{"$f":"'27. Searcher Profile Data'!BI28","v":0},{"$f":"'27. Searcher Profile Data'!BJ28","v":0},{"$f":"'27. Searcher Profile Data'!BK28","v":0},{"$f":"'27. Searcher Profile Data'!BL28","v":0},{"$f":"'27. Searcher Profile Data'!BM28","v":0},{"$f":"'27. Searcher Profile Data'!BN28","v":0},{"$f":"'27. Searcher Profile Data'!BO28","v":0},{"$f":"'27. Searcher Profile Data'!BP28","v":0},{"$f":"'27. Searcher Profile Data'!BQ28","v":0},{"$f":"'27. Searcher Profile Data'!BR28","v":0},{"$f":"'27. Searcher Profile Data'!BS28","v":0},{"$f":"'27. Searcher Profile Data'!BT28","v":0},{"$f":"'27. Searcher Profile Data'!BU28","v":0},{"$f":"'27. Searcher Profile Data'!BV28","v":0},{"$f":"'27. Searcher Profile Data'!BW28","v":0},{"$f":"'27. Searcher Profile Data'!BX28","v":0},{"$f":"'27. Searcher Profile Data'!BY28","v":0},{"$f":"'27. Searcher Profile Data'!BZ28","v":0}]
[{"$f":"'27. Searcher Profile Data'!A29","v":"Actual POD Search Object Type #1"},null,{"$f":"'27. Searcher Profile Data'!B29","v":0.41176470588235292},{"$f":"'27. Searcher Profile Data'!C29","v":0.41176470588235292},{"$f":"'27. Searcher Profile Data'!D29","v":0.47058823529411764},{"$f":"'27. Searcher Profile Data'!E29","v":0.47058823529411764},{"$f":"'27. Searcher Profile Data'!F29","v":0.52941176470588236},{"$f":"'27. Searcher Profile Data'!G29","v":0.41176470588235292},{"$f":"'27. Searcher Profile Data'!H29","v":0.52941176470588236},{"$f":"'27. Searcher Profile Data'!I29","v":0.41176470588235292},{"$f":"'27. Searcher Profile Data'!J29","v":0.47058823529411764},{"$f":"'27. Searcher Profile Data'!K29","v":0.35294117647058826},{"$f":"'27. Searcher Profile Data'!L29","v":0.58823529411764708},{"$f":"'27. Searcher Profile Data'!M29","v":0.47058823529411764},{"$f":"'27. Searcher Profile Data'!N29","v":0.41176470588235292},{"$f":"'27. Searcher Profile Data'!O29","v":0.47058823529411764},{"$f":"'27. Searcher Profile Data'!P29","v":0.52941176470588236},{"$f":"'27. Searcher Profile Data'!Q29","v":0.47058823529411764},{"$f":"'27. Searcher Profile Data'!R29","v":0.41176470588235292},{"$f":"'27. Searcher Profile Data'!S29","v":0.58823529411764708},{"$f":"'27. Searcher Profile Data'!T29","v":0.52941176470588236},{"$f":"'27. Searcher Profile Data'!U29","v":0.47058823529411764},{"$f":"'27. Searcher Profile Data'!V29","v":0.35294117647058826},{"$f":"'27. Searcher Profile Data'!W29","v":0.52941176470588236},{"$f":"'27. Searcher Profile Data'!X29","v":0.35294117647058826},{"$f":"'27. Searcher Profile Data'!Y29","v":0.29411764705882354},{"$f":"'27. Searcher Profile Data'!Z29","v":0.41176470588235292},{"$f":"'27. Searcher Profile Data'!AA29","v":0.47058823529411764},{"$f":"'27. Searcher Profile Data'!AB29","v":0.47058823529411764},{"$f":"'27. Searcher Profile Data'!AC29","v":0.47058823529411764},{"$f":"'27. Searcher Profile Data'!AD29","v":0.29411764705882354},{"$f":"'27. Searcher Profile Data'!AE29","v":0.35294117647058826},{"$f":"'27. Searcher Profile Data'!AF29","v":0.52941176470588236},{"$f":"'27. Searcher Profile Data'!AG29","v":0.35294117647058826},{"$f":"'27. Searcher Profile Data'!AH29","v":0.23529411764705882},{"$f":"'27. Searcher Profile Data'!AI29","v":0.47058823529411764},{"$f":"'27. Searcher Profile Data'!AJ29","v":""},{"$f":"'27. Searcher Profile Data'!AK29","v":""},{"$f":"'27. Searcher Profile Data'!AL29","v":""},{"$f":"'27. Searcher Profile Data'!AM29","v":""},{"$f":"'27. Searcher Profile Data'!AN29","v":""},{"$f":"'27. Searcher Profile Data'!AO29","v":""},{"$f":"'27. Searcher Profile Data'!AP29","v":""},{"$f":"'27. Searcher Profile Data'!AQ29","v":""},{"$f":"'27. Searcher Profile Data'!AR29","v":""},{"$f":"'27. Searcher Profile Data'!AS29","v":""},{"$f":"'27. Searcher Profile Data'!AT29","v":""},{"$f":"'27. Searcher Profile Data'!AU29","v":""},{"$f":"'27. Searcher Profile Data'!AV29","v":""},{"$f":"'27. Searcher Profile Data'!AW29","v":""},{"$f":"'27. Searcher Profile Data'!AX29","v":""},{"$f":"'27. Searcher Profile Data'!AY29","v":""},{"$f":"'27. Searcher Profile Data'!AZ29","v":""},{"$f":"'27. Searcher Profile Data'!BA29","v":""},{"$f":"'27. Searcher Profile Data'!BB29","v":""},{"$f":"'27. Searcher Profile Data'!BC29","v":""},{"$f":"'27. Searcher Profile Data'!BD29","v":""},{"$f":"'27. Searcher Profile Data'!BE29","v":""},{"$f":"'27. Searcher Profile Data'!BF29","v":""},{"$f":"'27. Searcher Profile Data'!BG29","v":""},{"$f":"'27. Searcher Profile Data'!BH29","v":""},{"$f":"'27. Searcher Profile Data'!BI29","v":""},{"$f":"'27. Searcher Profile Data'!BJ29","v":""},{"$f":"'27. Searcher Profile Data'!BK29","v":""},{"$f":"'27. Searcher Profile Data'!BL29","v":""},{"$f":"'27. Searcher Profile Data'!BM29","v":""},{"$f":"'27. Searcher Profile Data'!BN29","v":""},{"$f":"'27. Searcher Profile Data'!BO29","v":""},{"$f":"'27. Searcher Profile Data'!BP29","v":""},{"$f":"'27. Searcher Profile Data'!BQ29","v":""},{"$f":"'27. Searcher Profile Data'!BR29","v":""},{"$f":"'27. Searcher Profile Data'!BS29","v":""},{"$f":"'27. Searcher Profile Data'!BT29","v":""},{"$f":"'27. Searcher Profile Data'!BU29","v":""},{"$f":"'27. Searcher Profile Data'!BV29","v":""},{"$f":"'27. Searcher Profile Data'!BW29","v":""},{"$f":"'27. Searcher Profile Data'!BX29","v":""},{"$f":"'27. Searcher Profile Data'!BY29","v":""},{"$f":"'27. Searcher Profile Data'!BZ29","v":""}]
[{"$f":"'27. Searcher Profile Data'!A30","v":"Actual POD Search Object Type #2"},null,{"$f":"'27. Searcher Profile Data'!B30","v":0.35714285714285715},{"$f":"'27. Searcher Profile Data'!C30","v":0.5714285714285714},{"$f":"'27. Searcher Profile Data'!D30","v":0.35714285714285715},{"$f":"'27. Searcher Profile Data'!E30","v":0.5},{"$f":"'27. Searcher Profile Data'!F30","v":0.5},{"$f":"'27. Searcher Profile Data'!G30","v":0.6428571428571429},{"$f":"'27. Searcher Profile Data'!H30","v":0.5714285714285714},{"$f":"'27. Searcher Profile Data'!I30","v":0.5714285714285714},{"$f":"'27. Searcher Profile Data'!J30","v":0.5},{"$f":"'27. Searcher Profile Data'!K30","v":0.6428571428571429},{"$f":"'27. Searcher Profile Data'!L30","v":0.5},{"$f":"'27. Searcher Profile Data'!M30","v":0.5},{"$f":"'27. Searcher Profile Data'!N30","v":0.5},{"$f":"'27. Searcher Profile Data'!O30","v":0.5714285714285714},{"$f":"'27. Searcher Profile Data'!P30","v":0.5714285714285714},{"$f":"'27. Searcher Profile Data'!Q30","v":0.5},{"$f":"'27. Searcher Profile Data'!R30","v":0.42857142857142855},{"$f":"'27. Searcher Profile Data'!S30","v":0.35714285714285715},{"$f":"'27. Searcher Profile Data'!T30","v":0.42857142857142855},{"$f":"'27. Searcher Profile Data'!U30","v":0.5},{"$f":"'27. Searcher Profile Data'!V30","v":0.5},{"$f":"'27. Searcher Profile Data'!W30","v":0.5714285714285714},{"$f":"'27. Searcher Profile Data'!X30","v":0.35714285714285715},{"$f":"'27. Searcher Profile Data'!Y30","v":0.5},{"$f":"'27. Searcher Profile Data'!Z30","v":0.42857142857142855},{"$f":"'27. Searcher Profile Data'!AA30","v":0.5},{"$f":"'27. Searcher Profile Data'!AB30","v":0.5},{"$f":"'27. Searcher Profile Data'!AC30","v":0.42857142857142855},{"$f":"'27. Searcher Profile Data'!AD30","v":0.21428571428571427},{"$f":"'27. Searcher Profile Data'!AE30","v":0.35714285714285715},{"$f":"'27. Searcher Profile Data'!AF30","v":0.5714285714285714},{"$f":"'27. Searcher Profile Data'!AG30","v":0.42857142857142855},{"$f":"'27. Searcher Profile Data'!AH30","v":0.21428571428571427},{"$f":"'27. Searcher Profile Data'!AI30","v":0.5},{"$f":"'27. Searcher Profile Data'!AJ30","v":""},{"$f":"'27. Searcher Profile Data'!AK30","v":""},{"$f":"'27. Searcher Profile Data'!AL30","v":""},{"$f":"'27. Searcher Profile Data'!AM30","v":""},{"$f":"'27. Searcher Profile Data'!AN30","v":""},{"$f":"'27. Searcher Profile Data'!AO30","v":""},{"$f":"'27. Searcher Profile Data'!AP30","v":""},{"$f":"'27. Searcher Profile Data'!AQ30","v":""},{"$f":"'27. Searcher Profile Data'!AR30","v":""},{"$f":"'27. Searcher Profile Data'!AS30","v":""},{"$f":"'27. Searcher Profile Data'!AT30","v":""},{"$f":"'27. Searcher Profile Data'!AU30","v":""},{"$f":"'27. Searcher Profile Data'!AV30","v":""},{"$f":"'27. Searcher Profile Data'!AW30","v":""},{"$f":"'27. Searcher Profile Data'!AX30","v":""},{"$f":"'27. Searcher Profile Data'!AY30","v":""},{"$f":"'27. Searcher Profile Data'!AZ30","v":""},{"$f":"'27. Searcher Profile Data'!BA30","v":""},{"$f":"'27. Searcher Profile Data'!BB30","v":""},{"$f":"'27. Searcher Profile Data'!BC30","v":""},{"$f":"'27. Searcher Profile Data'!BD30","v":""},{"$f":"'27. Searcher Profile Data'!BE30","v":""},{"$f":"'27. Searcher Profile Data'!BF30","v":""},{"$f":"'27. Searcher Profile Data'!BG30","v":""},{"$f":"'27. Searcher Profile Data'!BH30","v":""},{"$f":"'27. Searcher Profile Data'!BI30","v":""},{"$f":"'27. Searcher Profile Data'!BJ30","v":""},{"$f":"'27. Searcher Profile Data'!BK30","v":""},{"$f":"'27. Searcher Profile Data'!BL30","v":""},{"$f":"'27. Searcher Profile Data'!BM30","v":""},{"$f":"'27. Searcher Profile Data'!BN30","v":""},{"$f":"'27. Searcher Profile Data'!BO30","v":""},{"$f":"'27. Searcher Profile Data'!BP30","v":""},{"$f":"'27. Searcher Profile Data'!BQ30","v":""},{"$f":"'27. Searcher Profile Data'!BR30","v":""},{"$f":"'27. Searcher Profile Data'!BS30","v":""},{"$f":"'27. Searcher Profile Data'!BT30","v":""},{"$f":"'27. Searcher Profile Data'!BU30","v":""},{"$f":"'27. Searcher Profile Data'!BV30","v":""},{"$f":"'27. Searcher Profile Data'!BW30","v":""},{"$f":"'27. Searcher Profile Data'!BX30","v":""},{"$f":"'27. Searcher Profile Data'!BY30","v":""},{"$f":"'27. Searcher Profile Data'!BZ30","v":""}]
[{"$f":"'27. Searcher Profile Data'!A31","v":"Actual POD Search Object Type #3"},null,{"$f":"'27. Searcher Profile Data'!B31","v":0.46666666666666667},{"$f":"'27. Searcher Profile Data'!C31","v":0.4},{"$f":"'27. Searcher Profile Data'!D31","v":0.13333333333333333},{"$f":"'27. Searcher Profile Data'!E31","v":0.2},{"$f":"'27. Searcher Profile Data'!F31","v":0.26666666666666666},{"$f":"'27. Searcher Profile Data'!G31","v":0.46666666666666667},{"$f":"'27. Searcher Profile Data'!H31","v":0.73333333333333328},{"$f":"'27. Searcher Profile Data'!I31","v":0.33333333333333331},{"$f":"'27. Searcher Profile Data'!J31","v":0.26666666666666666},{"$f":"'27. Searcher Profile Data'!K31","v":0.4},{"$f":"'27. Searcher Profile Data'!L31","v":0.33333333333333331},{"$f":"'27. Searcher Profile Data'!M31","v":0.6},{"$f":"'27. Searcher Profile Data'!N31","v":0.46666666666666667},{"$f":"'27. Searcher Profile Data'!O31","v":0.4},{"$f":"'27. Searcher Profile Data'!P31","v":0.33333333333333331},{"$f":"'27. Searcher Profile Data'!Q31","v":0.6},{"$f":"'27. Searcher Profile Data'!R31","v":0.33333333333333331},{"$f":"'27. Searcher Profile Data'!S31","v":0.33333333333333331},{"$f":"'27. Searcher Profile Data'!T31","v":0.46666666666666667},{"$f":"'27. Searcher Profile Data'!U31","v":0.33333333333333331},{"$f":"'27. Searcher Profile Data'!V31","v":0.33333333333333331},{"$f":"'27. Searcher Profile Data'!W31","v":0.26666666666666666},{"$f":"'27. Searcher Profile Data'!X31","v":0.26666666666666666},{"$f":"'27. Searcher Profile Data'!Y31","v":0.4},{"$f":"'27. Searcher Profile Data'!Z31","v":0.4},{"$f":"'27. Searcher Profile Data'!AA31","v":0.33333333333333331},{"$f":"'27. Searcher Profile Data'!AB31","v":0.46666666666666667},{"$f":"'27. Searcher Profile Data'!AC31","v":0.46666666666666667},{"$f":"'27. Searcher Profile Data'!AD31","v":0.26666666666666666},{"$f":"'27. Searcher Profile Data'!AE31","v":0.26666666666666666},{"$f":"'27. Searcher Profile Data'!AF31","v":0.4},{"$f":"'27. Searcher Profile Data'!AG31","v":0.4},{"$f":"'27. Searcher Profile Data'!AH31","v":0.13333333333333333},{"$f":"'27. Searcher Profile Data'!AI31","v":0.26666666666666666},{"$f":"'27. Searcher Profile Data'!AJ31","v":""},{"$f":"'27. Searcher Profile Data'!AK31","v":""},{"$f":"'27. Searcher Profile Data'!AL31","v":""},{"$f":"'27. Searcher Profile Data'!AM31","v":""},{"$f":"'27. Searcher Profile Data'!AN31","v":""},{"$f":"'27. Searcher Profile Data'!AO31","v":""},{"$f":"'27. Searcher Profile Data'!AP31","v":""},{"$f":"'27. Searcher Profile Data'!AQ31","v":""},{"$f":"'27. Searcher Profile Data'!AR31","v":""},{"$f":"'27. Searcher Profile Data'!AS31","v":""},{"$f":"'27. Searcher Profile Data'!AT31","v":""},{"$f":"'27. Searcher Profile Data'!AU31","v":""},{"$f":"'27. Searcher Profile Data'!AV31","v":""},{"$f":"'27. Searcher Profile Data'!AW31","v":""},{"$f":"'27. Searcher Profile Data'!AX31","v":""},{"$f":"'27. Searcher Profile Data'!AY31","v":""},{"$f":"'27. Searcher Profile Data'!AZ31","v":""},{"$f":"'27. Searcher Profile Data'!BA31","v":""},{"$f":"'27. Searcher Profile Data'!BB31","v":""},{"$f":"'27. Searcher Profile Data'!BC31","v":""},{"$f":"'27. Searcher Profile Data'!BD31","v":""},{"$f":"'27. Searcher Profile Data'!BE31","v":""},{"$f":"'27. Searcher Profile Data'!BF31","v":""},{"$f":"'27. Searcher Profile Data'!BG31","v":""},{"$f":"'27. Searcher Profile Data'!BH31","v":""},{"$f":"'27. Searcher Profile Data'!BI31","v":""},{"$f":"'27. Searcher Profile Data'!BJ31","v":""},{"$f":"'27. Searcher Profile Data'!BK31","v":""},{"$f":"'27. Searcher Profile Data'!BL31","v":""},{"$f":"'27. Searcher Profile Data'!BM31","v":""},{"$f":"'27. Searcher Profile Data'!BN31","v":""},{"$f":"'27. Searcher Profile Data'!BO31","v":""},{"$f":"'27. Searcher Profile Data'!BP31","v":""},{"$f":"'27. Searcher Profile Data'!BQ31","v":""},{"$f":"'27. Searcher Profile Data'!BR31","v":""},{"$f":"'27. Searcher Profile Data'!BS31","v":""},{"$f":"'27. Searcher Profile Data'!BT31","v":""},{"$f":"'27. Searcher Profile Data'!BU31","v":""},{"$f":"'27. Searcher Profile Data'!BV31","v":""},{"$f":"'27. Searcher Profile Data'!BW31","v":""},{"$f":"'27. Searcher Profile Data'!BX31","v":""},{"$f":"'27. Searcher Profile Data'!BY31","v":""},{"$f":"'27. Searcher Profile Data'!BZ31","v":""}]
[{"$f":"'27. Searcher Profile Data'!A32","v":"Actual POD Search Object Type #4"},null,{"$f":"'27. Searcher Profile Data'!B32","v":""},{"$f":"'27. Searcher Profile Data'!C32","v":""},{"$f":"'27. Searcher Profile Data'!D32","v":""},{"$f":"'27. Searcher Profile Data'!E32","v":""},{"$f":"'27. Searcher Profile Data'!F32","v":""},{"$f":"'27. Searcher Profile Data'!G32","v":""},{"$f":"'27. Searcher Profile Data'!H32","v":""},{"$f":"'27. Searcher Profile Data'!I32","v":""},{"$f":"'27. Searcher Profile Data'!J32","v":""},{"$f":"'27. Searcher Profile Data'!K32","v":""},{"$f":"'27. Searcher Profile Data'!L32","v":""},{"$f":"'27. Searcher Profile Data'!M32","v":""},{"$f":"'27. Searcher Profile Data'!N32","v":""},{"$f":"'27. Searcher Profile Data'!O32","v":""},{"$f":"'27. Searcher Profile Data'!P32","v":""},{"$f":"'27. Searcher Profile Data'!Q32","v":""},{"$f":"'27. Searcher Profile Data'!R32","v":""},{"$f":"'27. Searcher Profile Data'!S32","v":""},{"$f":"'27. Searcher Profile Data'!T32","v":""},{"$f":"'27. Searcher Profile Data'!U32","v":""},{"$f":"'27. Searcher Profile Data'!V32","v":""},{"$f":"'27. Searcher Profile Data'!W32","v":""},{"$f":"'27. Searcher Profile Data'!X32","v":""},{"$f":"'27. Searcher Profile Data'!Y32","v":""},{"$f":"'27. Searcher Profile Data'!Z32","v":""},{"$f":"'27. Searcher Profile Data'!AA32","v":""},{"$f":"'27. Searcher Profile Data'!AB32","v":""},{"$f":"'27. Searcher Profile Data'!AC32","v":""},{"$f":"'27. Searcher Profile Data'!AD32","v":""},{"$f":"'27. Searcher Profile Data'!AE32","v":""},{"$f":"'27. Searcher Profile Data'!AF32","v":""},{"$f":"'27. Searcher Profile Data'!AG32","v":""},{"$f":"'27. Searcher Profile Data'!AH32","v":""},{"$f":"'27. Searcher Profile Data'!AI32","v":""},{"$f":"'27. Searcher Profile Data'!AJ32","v":""},{"$f":"'27. Searcher Profile Data'!AK32","v":""},{"$f":"'27. Searcher Profile Data'!AL32","v":""},{"$f":"'27. Searcher Profile Data'!AM32","v":""},{"$f":"'27. Searcher Profile Data'!AN32","v":""},{"$f":"'27. Searcher Profile Data'!AO32","v":""},{"$f":"'27. Searcher Profile Data'!AP32","v":""},{"$f":"'27. Searcher Profile Data'!AQ32","v":""},{"$f":"'27. Searcher Profile Data'!AR32","v":""},{"$f":"'27. Searcher Profile Data'!AS32","v":""},{"$f":"'27. Searcher Profile Data'!AT32","v":""},{"$f":"'27. Searcher Profile Data'!AU32","v":""},{"$f":"'27. Searcher Profile Data'!AV32","v":""},{"$f":"'27. Searcher Profile Data'!AW32","v":""},{"$f":"'27. Searcher Profile Data'!AX32","v":""},{"$f":"'27. Searcher Profile Data'!AY32","v":""},{"$f":"'27. Searcher Profile Data'!AZ32","v":""},{"$f":"'27. Searcher Profile Data'!BA32","v":""},{"$f":"'27. Searcher Profile Data'!BB32","v":""},{"$f":"'27. Searcher Profile Data'!BC32","v":""},{"$f":"'27. Searcher Profile Data'!BD32","v":""},{"$f":"'27. Searcher Profile Data'!BE32","v":""},{"$f":"'27. Searcher Profile Data'!BF32","v":""},{"$f":"'27. Searcher Profile Data'!BG32","v":""},{"$f":"'27. Searcher Profile Data'!BH32","v":""},{"$f":"'27. Searcher Profile Data'!BI32","v":""},{"$f":"'27. Searcher Profile Data'!BJ32","v":""},{"$f":"'27. Searcher Profile Data'!BK32","v":""},{"$f":"'27. Searcher Profile Data'!BL32","v":""},{"$f":"'27. Searcher Profile Data'!BM32","v":""},{"$f":"'27. Searcher Profile Data'!BN32","v":""},{"$f":"'27. Searcher Profile Data'!BO32","v":""},{"$f":"'27. Searcher Profile Data'!BP32","v":""},{"$f":"'27. Searcher Profile Data'!BQ32","v":""},{"$f":"'27. Searcher Profile Data'!BR32","v":""},{"$f":"'27. Searcher Profile Data'!BS32","v":""},{"$f":"'27. Searcher Profile Data'!BT32","v":""},{"$f":"'27. Searcher Profile Data'!BU32","v":""},{"$f":"'27. Searcher Profile Data'!BV32","v":""},{"$f":"'27. Searcher Profile Data'!BW32","v":""},{"$f":"'27. Searcher Profile Data'!BX32","v":""},{"$f":"'27. Searcher Profile Data'!BY32","v":""},{"$f":"'27. Searcher Profile Data'!BZ32","v":""}]
[{"$f":"'27. Searcher Profile Data'!A33","v":"Delta POD Search Object Type #1"},null,{"$f":"'27. Searcher Profile Data'!B33","v":""},{"$f":"'27. Searcher Profile Data'!C33","v":""},{"$f":"'27. Searcher Profile Data'!D33","v":""},{"$f":"'27. Searcher Profile Data'!E33","v":""},{"$f":"'27. Searcher Profile Data'!F33","v":""},{"$f":"'27. Searcher Profile Data'!G33","v":""},{"$f":"'27. Searcher Profile Data'!H33","v":""},{"$f":"'27. Searcher Profile Data'!I33","v":""},{"$f":"'27. Searcher Profile Data'!J33","v":""},{"$f":"'27. Searcher Profile Data'!K33","v":""},{"$f":"'27. Searcher Profile Data'!L33","v":""},{"$f":"'27. Searcher Profile Data'!M33","v":""},{"$f":"'27. Searcher Profile Data'!N33","v":""},{"$f":"'27. Searcher Profile Data'!O33","v":""},{"$f":"'27. Searcher Profile Data'!P33","v":""},{"$f":"'27. Searcher Profile Data'!Q33","v":""},{"$f":"'27. Searcher Profile Data'!R33","v":""},{"$f":"'27. Searcher Profile Data'!S33","v":""},{"$f":"'27. Searcher Profile Data'!T33","v":""},{"$f":"'27. Searcher Profile Data'!U33","v":""},{"$f":"'27. Searcher Profile Data'!V33","v":""},{"$f":"'27. Searcher Profile Data'!W33","v":""},{"$f":"'27. Searcher Profile Data'!X33","v":""},{"$f":"'27. Searcher Profile Data'!Y33","v":""},{"$f":"'27. Searcher Profile Data'!Z33","v":""},{"$f":"'27. Searcher Profile Data'!AA33","v":""},{"$f":"'27. Searcher Profile Data'!AB33","v":""},{"$f":"'27. Searcher Profile Data'!AC33","v":""},{"$f":"'27. Searcher Profile Data'!AD33","v":""},{"$f":"'27. Searcher Profile Data'!AE33","v":""},{"$f":"'27. Searcher Profile Data'!AF33","v":""},{"$f":"'27. Searcher Profile Data'!AG33","v":""},{"$f":"'27. Searcher Profile Data'!AH33","v":""},{"$f":"'27. Searcher Profile Data'!AI33","v":""},{"$f":"'27. Searcher Profile Data'!AJ33","v":""},{"$f":"'27. Searcher Profile Data'!AK33","v":""},{"$f":"'27. Searcher Profile Data'!AL33","v":""},{"$f":"'27. Searcher Profile Data'!AM33","v":""},{"$f":"'27. Searcher Profile Data'!AN33","v":""},{"$f":"'27. Searcher Profile Data'!AO33","v":""},{"$f":"'27. Searcher Profile Data'!AP33","v":""},{"$f":"'27. Searcher Profile Data'!AQ33","v":""},{"$f":"'27. Searcher Profile Data'!AR33","v":""},{"$f":"'27. Searcher Profile Data'!AS33","v":""},{"$f":"'27. Searcher Profile Data'!AT33","v":""},{"$f":"'27. Searcher Profile Data'!AU33","v":""},{"$f":"'27. Searcher Profile Data'!AV33","v":""},{"$f":"'27. Searcher Profile Data'!AW33","v":""},{"$f":"'27. Searcher Profile Data'!AX33","v":""},{"$f":"'27. Searcher Profile Data'!AY33","v":""},{"$f":"'27. Searcher Profile Data'!AZ33","v":""},{"$f":"'27. Searcher Profile Data'!BA33","v":""},{"$f":"'27. Searcher Profile Data'!BB33","v":""},{"$f":"'27. Searcher Profile Data'!BC33","v":""},{"$f":"'27. Searcher Profile Data'!BD33","v":""},{"$f":"'27. Searcher Profile Data'!BE33","v":""},{"$f":"'27. Searcher Profile Data'!BF33","v":""},{"$f":"'27. Searcher Profile Data'!BG33","v":""},{"$f":"'27. Searcher Profile Data'!BH33","v":""},{"$f":"'27. Searcher Profile Data'!BI33","v":""},{"$f":"'27. Searcher Profile Data'!BJ33","v":""},{"$f":"'27. Searcher Profile Data'!BK33","v":""},{"$f":"'27. Searcher Profile Data'!BL33","v":""},{"$f":"'27. Searcher Profile Data'!BM33","v":""},{"$f":"'27. Searcher Profile Data'!BN33","v":""},{"$f":"'27. Searcher Profile Data'!BO33","v":""},{"$f":"'27. Searcher Profile Data'!BP33","v":""},{"$f":"'27. Searcher Profile Data'!BQ33","v":""},{"$f":"'27. Searcher Profile Data'!BR33","v":""},{"$f":"'27. Searcher Profile Data'!BS33","v":""},{"$f":"'27. Searcher Profile Data'!BT33","v":""},{"$f":"'27. Searcher Profile Data'!BU33","v":""},{"$f":"'27. Searcher Profile Data'!BV33","v":""},{"$f":"'27. Searcher Profile Data'!BW33","v":""},{"$f":"'27. Searcher Profile Data'!BX33","v":""},{"$f":"'27. Searcher Profile Data'!BY33","v":""},{"$f":"'27. Searcher Profile Data'!BZ33","v":""}]
[{"$f":"'27. Searcher Profile Data'!A34","v":"Delta POD Search Object Type #2"},null,{"$f":"'27. Searcher Profile Data'!B34","v":""},{"$f":"'27. Searcher Profile Data'!C34","v":""},{"$f":"'27. Searcher Profile Data'!D34","v":""},{"$f":"'27. Searcher Profile Data'!E34","v":""},{"$f":"'27. Searcher Profile Data'!F34","v":""},{"$f":"'27. Searcher Profile Data'!G34","v":""},{"$f":"'27. Searcher Profile Data'!H34","v":""},{"$f":"'27. Searcher Profile Data'!I34","v":""},{"$f":"'27. Searcher Profile Data'!J34","v":""},{"$f":"'27. Searcher Profile Data'!K34","v":""},{"$f":"'27. Searcher Profile Data'!L34","v":""},{"$f":"'27. Searcher Profile Data'!M34","v":""},{"$f":"'27. Searcher Profile Data'!N34","v":""},{"$f":"'27. Searcher Profile Data'!O34","v":""},{"$f":"'27. Searcher Profile Data'!P34","v":""},{"$f":"'27. Searcher Profile Data'!Q34","v":""},{"$f":"'27. Searcher Profile Data'!R34","v":""},{"$f":"'27. Searcher Profile Data'!S34","v":""},{"$f":"'27. Searcher Profile Data'!T34","v":""},{"$f":"'27. Searcher Profile Data'!U34","v":""},{"$f":"'27. Searcher Profile Data'!V34","v":""},{"$f":"'27. Searcher Profile Data'!W34","v":""},{"$f":"'27. Searcher Profile Data'!X34","v":""},{"$f":"'27. Searcher Profile Data'!Y34","v":""},{"$f":"'27. Searcher Profile Data'!Z34","v":""},{"$f":"'27. Searcher Profile Data'!AA34","v":""},{"$f":"'27. Searcher Profile Data'!AB34","v":""},{"$f":"'27. Searcher Profile Data'!AC34","v":""},{"$f":"'27. Searcher Profile Data'!AD34","v":""},{"$f":"'27. Searcher Profile Data'!AE34","v":""},{"$f":"'27. Searcher Profile Data'!AF34","v":""},{"$f":"'27. Searcher Profile Data'!AG34","v":""},{"$f":"'27. Searcher Profile Data'!AH34","v":""},{"$f":"'27. Searcher Profile Data'!AI34","v":""},{"$f":"'27. Searcher Profile Data'!AJ34","v":""},{"$f":"'27. Searcher Profile Data'!AK34","v":""},{"$f":"'27. Searcher Profile Data'!AL34","v":""},{"$f":"'27. Searcher Profile Data'!AM34","v":""},{"$f":"'27. Searcher Profile Data'!AN34","v":""},{"$f":"'27. Searcher Profile Data'!AO34","v":""},{"$f":"'27. Searcher Profile Data'!AP34","v":""},{"$f":"'27. Searcher Profile Data'!AQ34","v":""},{"$f":"'27. Searcher Profile Data'!AR34","v":""},{"$f":"'27. Searcher Profile Data'!AS34","v":""},{"$f":"'27. Searcher Profile Data'!AT34","v":""},{"$f":"'27. Searcher Profile Data'!AU34","v":""},{"$f":"'27. Searcher Profile Data'!AV34","v":""},{"$f":"'27. Searcher Profile Data'!AW34","v":""},{"$f":"'27. Searcher Profile Data'!AX34","v":""},{"$f":"'27. Searcher Profile Data'!AY34","v":""},{"$f":"'27. Searcher Profile Data'!AZ34","v":""},{"$f":"'27. Searcher Profile Data'!BA34","v":""},{"$f":"'27. Searcher Profile Data'!BB34","v":""},{"$f":"'27. Searcher Profile Data'!BC34","v":""},{"$f":"'27. Searcher Profile Data'!BD34","v":""},{"$f":"'27. Searcher Profile Data'!BE34","v":""},{"$f":"'27. Searcher Profile Data'!BF34","v":""},{"$f":"'27. Searcher Profile Data'!BG34","v":""},{"$f":"'27. Searcher Profile Data'!BH34","v":""},{"$f":"'27. Searcher Profile Data'!BI34","v":""},{"$f":"'27. Searcher Profile Data'!BJ34","v":""},{"$f":"'27. Searcher Profile Data'!BK34","v":""},{"$f":"'27. Searcher Profile Data'!BL34","v":""},{"$f":"'27. Searcher Profile Data'!BM34","v":""},{"$f":"'27. Searcher Profile Data'!BN34","v":""},{"$f":"'27. Searcher Profile Data'!BO34","v":""},{"$f":"'27. Searcher Profile Data'!BP34","v":""},{"$f":"'27. Searcher Profile Data'!BQ34","v":""},{"$f":"'27. Searcher Profile Data'!BR34","v":""},{"$f":"'27. Searcher Profile Data'!BS34","v":""},{"$f":"'27. Searcher Profile Data'!BT34","v":""},{"$f":"'27. Searcher Profile Data'!BU34","v":""},{"$f":"'27. Searcher Profile Data'!BV34","v":""},{"$f":"'27. Searcher Profile Data'!BW34","v":""},{"$f":"'27. Searcher Profile Data'!BX34","v":""},{"$f":"'27. Searcher Profile Data'!BY34","v":""},{"$f":"'27. Searcher Profile Data'!BZ34","v":""}]
[{"$f":"'27. Searcher Profile Data'!A35","v":"Delta POD Search Object Type #3"},null,{"$f":"'27. Searcher Profile Data'!B35","v":""},{"$f":"'27. Searcher Profile Data'!C35","v":""},{"$f":"'27. Searcher Profile Data'!D35","v":""},{"$f":"'27. Searcher Profile Data'!E35","v":""},{"$f":"'27. Searcher Profile Data'!F35","v":""},{"$f":"'27. Searcher Profile Data'!G35","v":""},{"$f":"'27. Searcher Profile Data'!H35","v":""},{"$f":"'27. Searcher Profile Data'!I35","v":""},{"$f":"'27. Searcher Profile Data'!J35","v":""},{"$f":"'27. Searcher Profile Data'!K35","v":""},{"$f":"'27. Searcher Profile Data'!L35","v":""},{"$f":"'27. Searcher Profile Data'!M35","v":""},{"$f":"'27. Searcher Profile Data'!N35","v":""},{"$f":"'27. Searcher Profile Data'!O35","v":""},{"$f":"'27. Searcher Profile Data'!P35","v":""},{"$f":"'27. Searcher Profile Data'!Q35","v":""},{"$f":"'27. Searcher Profile Data'!R35","v":""},{"$f":"'27. Searcher Profile Data'!S35","v":""},{"$f":"'27. Searcher Profile Data'!T35","v":""},{"$f":"'27. Searcher Profile Data'!U35","v":""},{"$f":"'27. Searcher Profile Data'!V35","v":""},{"$f":"'27. Searcher Profile Data'!W35","v":""},{"$f":"'27. Searcher Profile Data'!X35","v":""},{"$f":"'27. Searcher Profile Data'!Y35","v":""},{"$f":"'27. Searcher Profile Data'!Z35","v":""},{"$f":"'27. Searcher Profile Data'!AA35","v":""},{"$f":"'27. Searcher Profile Data'!AB35","v":""},{"$f":"'27. Searcher Profile Data'!AC35","v":""},{"$f":"'27. Searcher Profile Data'!AD35","v":""},{"$f":"'27. Searcher Profile Data'!AE35","v":""},{"$f":"'27. Searcher Profile Data'!AF35","v":""},{"$f":"'27. Searcher Profile Data'!AG35","v":""},{"$f":"'27. Searcher Profile Data'!AH35","v":""},{"$f":"'27. Searcher Profile Data'!AI35","v":""},{"$f":"'27. Searcher Profile Data'!AJ35","v":""},{"$f":"'27. Searcher Profile Data'!AK35","v":""},{"$f":"'27. Searcher Profile Data'!AL35","v":""},{"$f":"'27. Searcher Profile Data'!AM35","v":""},{"$f":"'27. Searcher Profile Data'!AN35","v":""},{"$f":"'27. Searcher Profile Data'!AO35","v":""},{"$f":"'27. Searcher Profile Data'!AP35","v":""},{"$f":"'27. Searcher Profile Data'!AQ35","v":""},{"$f":"'27. Searcher Profile Data'!AR35","v":""},{"$f":"'27. Searcher Profile Data'!AS35","v":""},{"$f":"'27. Searcher Profile Data'!AT35","v":""},{"$f":"'27. Searcher Profile Data'!AU35","v":""},{"$f":"'27. Searcher Profile Data'!AV35","v":""},{"$f":"'27. Searcher Profile Data'!AW35","v":""},{"$f":"'27. Searcher Profile Data'!AX35","v":""},{"$f":"'27. Searcher Profile Data'!AY35","v":""},{"$f":"'27. Searcher Profile Data'!AZ35","v":""},{"$f":"'27. Searcher Profile Data'!BA35","v":""},{"$f":"'27. Searcher Profile Data'!BB35","v":""},{"$f":"'27. Searcher Profile Data'!BC35","v":""},{"$f":"'27. Searcher Profile Data'!BD35","v":""},{"$f":"'27. Searcher Profile Data'!BE35","v":""},{"$f":"'27. Searcher Profile Data'!BF35","v":""},{"$f":"'27. Searcher Profile Data'!BG35","v":""},{"$f":"'27. Searcher Profile Data'!BH35","v":""},{"$f":"'27. Searcher Profile Data'!BI35","v":""},{"$f":"'27. Searcher Profile Data'!BJ35","v":""},{"$f":"'27. Searcher Profile Data'!BK35","v":""},{"$f":"'27. Searcher Profile Data'!BL35","v":""},{"$f":"'27. Searcher Profile Data'!BM35","v":""},{"$f":"'27. Searcher Profile Data'!BN35","v":""},{"$f":"'27. Searcher Profile Data'!BO35","v":""},{"$f":"'27. Searcher Profile Data'!BP35","v":""},{"$f":"'27. Searcher Profile Data'!BQ35","v":""},{"$f":"'27. Searcher Profile Data'!BR35","v":""},{"$f":"'27. Searcher Profile Data'!BS35","v":""},{"$f":"'27. Searcher Profile Data'!BT35","v":""},{"$f":"'27. Searcher Profile Data'!BU35","v":""},{"$f":"'27. Searcher Profile Data'!BV35","v":""},{"$f":"'27. Searcher Profile Data'!BW35","v":""},{"$f":"'27. Searcher Profile Data'!BX35","v":""},{"$f":"'27. Searcher Profile Data'!BY35","v":""},{"$f":"'27. Searcher Profile Data'!BZ35","v":""}]
[{"$f":"'27. Searcher Profile Data'!A36","v":"Delta POD Search Object Type #4"},null,{"$f":"'27. Searcher Profile Data'!B36","v":""},{"$f":"'27. Searcher Profile Data'!C36","v":""},{"$f":"'27. Searcher Profile Data'!D36","v":""},{"$f":"'27. Searcher Profile Data'!E36","v":""},{"$f":"'27. Searcher Profile Data'!F36","v":""},{"$f":"'27. Searcher Profile Data'!G36","v":""},{"$f":"'27. Searcher Profile Data'!H36","v":""},{"$f":"'27. Searcher Profile Data'!I36","v":""},{"$f":"'27. Searcher Profile Data'!J36","v":""},{"$f":"'27. Searcher Profile Data'!K36","v":""},{"$f":"'27. Searcher Profile Data'!L36","v":""},{"$f":"'27. Searcher Profile Data'!M36","v":""},{"$f":"'27. Searcher Profile Data'!N36","v":""},{"$f":"'27. Searcher Profile Data'!O36","v":""},{"$f":"'27. Searcher Profile Data'!P36","v":""},{"$f":"'27. Searcher Profile Data'!Q36","v":""},{"$f":"'27. Searcher Profile Data'!R36","v":""},{"$f":"'27. Searcher Profile Data'!S36","v":""},{"$f":"'27. Searcher Profile Data'!T36","v":""},{"$f":"'27. Searcher Profile Data'!U36","v":""},{"$f":"'27. Searcher Profile Data'!V36","v":""},{"$f":"'27. Searcher Profile Data'!W36","v":""},{"$f":"'27. Searcher Profile Data'!X36","v":""},{"$f":"'27. Searcher Profile Data'!Y36","v":""},{"$f":"'27. Searcher Profile Data'!Z36","v":""},{"$f":"'27. Searcher Profile Data'!AA36","v":""},{"$f":"'27. Searcher Profile Data'!AB36","v":""},{"$f":"'27. Searcher Profile Data'!AC36","v":""},{"$f":"'27. Searcher Profile Data'!AD36","v":""},{"$f":"'27. Searcher Profile Data'!AE36","v":""},{"$f":"'27. Searcher Profile Data'!AF36","v":""},{"$f":"'27. Searcher Profile Data'!AG36","v":""},{"$f":"'27. Searcher Profile Data'!AH36","v":""},{"$f":"'27. Searcher Profile Data'!AI36","v":""},{"$f":"'27. Searcher Profile Data'!AJ36","v":""},{"$f":"'27. Searcher Profile Data'!AK36","v":""},{"$f":"'27. Searcher Profile Data'!AL36","v":""},{"$f":"'27. Searcher Profile Data'!AM36","v":""},{"$f":"'27. Searcher Profile Data'!AN36","v":""},{"$f":"'27. Searcher Profile Data'!AO36","v":""},{"$f":"'27. Searcher Profile Data'!AP36","v":""},{"$f":"'27. Searcher Profile Data'!AQ36","v":""},{"$f":"'27. Searcher Profile Data'!AR36","v":""},{"$f":"'27. Searcher Profile Data'!AS36","v":""},{"$f":"'27. Searcher Profile Data'!AT36","v":""},{"$f":"'27. Searcher Profile Data'!AU36","v":""},{"$f":"'27. Searcher Profile Data'!AV36","v":""},{"$f":"'27. Searcher Profile Data'!AW36","v":""},{"$f":"'27. Searcher Profile Data'!AX36","v":""},{"$f":"'27. Searcher Profile Data'!AY36","v":""},{"$f":"'27. Searcher Profile Data'!AZ36","v":""},{"$f":"'27. Searcher Profile Data'!BA36","v":""},{"$f":"'27. Searcher Profile Data'!BB36","v":""},{"$f":"'27. Searcher Profile Data'!BC36","v":""},{"$f":"'27. Searcher Profile Data'!BD36","v":""},{"$f":"'27. Searcher Profile Data'!BE36","v":""},{"$f":"'27. Searcher Profile Data'!BF36","v":""},{"$f":"'27. Searcher Profile Data'!BG36","v":""},{"$f":"'27. Searcher Profile Data'!BH36","v":""},{"$f":"'27. Searcher Profile Data'!BI36","v":""},{"$f":"'27. Searcher Profile Data'!BJ36","v":""},{"$f":"'27. Searcher Profile Data'!BK36","v":""},{"$f":"'27. Searcher Profile Data'!BL36","v":""},{"$f":"'27. Searcher Profile Data'!BM36","v":""},{"$f":"'27. Searcher Profile Data'!BN36","v":""},{"$f":"'27. Searcher Profile Data'!BO36","v":""},{"$f":"'27. Searcher Profile Data'!BP36","v":""},{"$f":"'27. Searcher Profile Data'!BQ36","v":""},{"$f":"'27. Searcher Profile Data'!BR36","v":""},{"$f":"'27. Searcher Profile Data'!BS36","v":""},{"$f":"'27. Searcher Profile Data'!BT36","v":""},{"$f":"'27. Searcher Profile Data'!BU36","v":""},{"$f":"'27. Searcher Profile Data'!BV36","v":""},{"$f":"'27. Searcher Profile Data'!BW36","v":""},{"$f":"'27. Searcher Profile Data'!BX36","v":""},{"$f":"'27. Searcher Profile Data'!BY36","v":""},{"$f":"'27. Searcher Profile Data'!BZ36","v":""}]
[{"$f":"'27. Searcher Profile Data'!A37","v":"Temperature (F)"},null,{"$f":"'27. Searcher Profile Data'!B37","v":0},{"$f":"'27. Searcher Profile Data'!C37","v":0},{"$f":"'27. Searcher Profile Data'!D37","v":0},{"$f":"'27. Searcher Profile Data'!E37","v":0},{"$f":"'27. Searcher Profile Data'!F37","v":0},{"$f":"'27. Searcher Profile Data'!G37","v":0},{"$f":"'27. Searcher Profile Data'!H37","v":0},{"$f":"'27. Searcher Profile Data'!I37","v":0},{"$f":"'27. Searcher Profile Data'!J37","v":0},{"$f":"'27. Searcher Profile Data'!K37","v":0},{"$f":"'27. Searcher Profile Data'!L37","v":0},{"$f":"'27. Searcher Profile Data'!M37","v":0},{"$f":"'27. Searcher Profile Data'!N37","v":0},{"$f":"'27. Searcher Profile Data'!O37","v":0},{"$f":"'27. Searcher Profile Data'!P37","v":0},{"$f":"'27. Searcher Profile Data'!Q37","v":0},{"$f":"'27. Searcher Profile Data'!R37","v":0},{"$f":"'27. Searcher Profile Data'!S37","v":0},{"$f":"'27. Searcher Profile Data'!T37","v":0},{"$f":"'27. Searcher Profile Data'!U37","v":0},{"$f":"'27. Searcher Profile Data'!V37","v":0},{"$f":"'27. Searcher Profile Data'!W37","v":0},{"$f":"'27. Searcher Profile Data'!X37","v":0},{"$f":"'27. Searcher Profile Data'!Y37","v":0},{"$f":"'27. Searcher Profile Data'!Z37","v":0},{"$f":"'27. Searcher Profile Data'!AA37","v":0},{"$f":"'27. Searcher Profile Data'!AB37","v":0},{"$f":"'27. Searcher Profile Data'!AC37","v":0},{"$f":"'27. Searcher Profile Data'!AD37","v":0},{"$f":"'27. Searcher Profile Data'!AE37","v":0},{"$f":"'27. Searcher Profile Data'!AF37","v":0},{"$f":"'27. Searcher Profile Data'!AG37","v":0},{"$f":"'27. Searcher Profile Data'!AH37","v":0},{"$f":"'27. Searcher Profile Data'!AI37","v":0},{"$f":"'27. Searcher Profile Data'!AJ37","v":0},{"$f":"'27. Searcher Profile Data'!AK37","v":0},{"$f":"'27. Searcher Profile Data'!AL37","v":0},{"$f":"'27. Searcher Profile Data'!AM37","v":0},{"$f":"'27. Searcher Profile Data'!AN37","v":0},{"$f":"'27. Searcher Profile Data'!AO37","v":0},{"$f":"'27. Searcher Profile Data'!AP37","v":0},{"$f":"'27. Searcher Profile Data'!AQ37","v":0},{"$f":"'27. Searcher Profile Data'!AR37","v":0},{"$f":"'27. Searcher Profile Data'!AS37","v":0},{"$f":"'27. Searcher Profile Data'!AT37","v":0},{"$f":"'27. Searcher Profile Data'!AU37","v":0},{"$f":"'27. Searcher Profile Data'!AV37","v":0},{"$f":"'27. Searcher Profile Data'!AW37","v":0},{"$f":"'27. Searcher Profile Data'!AX37","v":0},{"$f":"'27. Searcher Profile Data'!AY37","v":0},{"$f":"'27. Searcher Profile Data'!AZ37","v":0},{"$f":"'27. Searcher Profile Data'!BA37","v":0},{"$f":"'27. Searcher Profile Data'!BB37","v":0},{"$f":"'27. Searcher Profile Data'!BC37","v":0},{"$f":"'27. Searcher Profile Data'!BD37","v":0},{"$f":"'27. Searcher Profile Data'!BE37","v":0},{"$f":"'27. Searcher Profile Data'!BF37","v":0},{"$f":"'27. Searcher Profile Data'!BG37","v":0},{"$f":"'27. Searcher Profile Data'!BH37","v":0},{"$f":"'27. Searcher Profile Data'!BI37","v":0},{"$f":"'27. Searcher Profile Data'!BJ37","v":0},{"$f":"'27. Searcher Profile Data'!BK37","v":0},{"$f":"'27. Searcher Profile Data'!BL37","v":0},{"$f":"'27. Searcher Profile Data'!BM37","v":0},{"$f":"'27. Searcher Profile Data'!BN37","v":0},{"$f":"'27. Searcher Profile Data'!BO37","v":0},{"$f":"'27. Searcher Profile Data'!BP37","v":0},{"$f":"'27. Searcher Profile Data'!BQ37","v":0},{"$f":"'27. Searcher Profile Data'!BR37","v":0},{"$f":"'27. Searcher Profile Data'!BS37","v":0},{"$f":"'27. Searcher Profile Data'!BT37","v":0},{"$f":"'27. Searcher Profile Data'!BU37","v":0},{"$f":"'27. Searcher Profile Data'!BV37","v":0},{"$f":"'27. Searcher Profile Data'!BW37","v":0},{"$f":"'27. Searcher Profile Data'!BX37","v":0},{"$f":"'27. Searcher Profile Data'!BY37","v":0},{"$f":"'27. Searcher Profile Data'!BZ37","v":0}]
[{"$f":"'27. Searcher Profile Data'!A38","v":"Wind Speed (mph)"},null,{"$f":"'27. Searcher Profile Data'!B38","v":0},{"$f":"'27. Searcher Profile Data'!C38","v":0},{"$f":"'27. Searcher Profile Data'!D38","v":0},{"$f":"'27. Searcher Profile Data'!E38","v":0},{"$f":"'27. Searcher Profile Data'!F38","v":0},{"$f":"'27. Searcher Profile Data'!G38","v":0},{"$f":"'27. Searcher Profile Data'!H38","v":0},{"$f":"'27. Searcher Profile Data'!I38","v":0},{"$f":"'27. Searcher Profile Data'!J38","v":0},{"$f":"'27. Searcher Profile Data'!K38","v":0},{"$f":"'27. Searcher Profile Data'!L38","v":0},{"$f":"'27. Searcher Profile Data'!M38","v":0},{"$f":"'27. Searcher Profile Data'!N38","v":0},{"$f":"'27. Searcher Profile Data'!O38","v":0},{"$f":"'27. Searcher Profile Data'!P38","v":0},{"$f":"'27. Searcher Profile Data'!Q38","v":0},{"$f":"'27. Searcher Profile Data'!R38","v":0},{"$f":"'27. Searcher Profile Data'!S38","v":0},{"$f":"'27. Searcher Profile Data'!T38","v":0},{"$f":"'27. Searcher Profile Data'!U38","v":0},{"$f":"'27. Searcher Profile Data'!V38","v":0},{"$f":"'27. Searcher Profile Data'!W38","v":0},{"$f":"'27. Searcher Profile Data'!X38","v":0},{"$f":"'27. Searcher Profile Data'!Y38","v":0},{"$f":"'27. Searcher Profile Data'!Z38","v":0},{"$f":"'27. Searcher Profile Data'!AA38","v":0},{"$f":"'27. Searcher Profile Data'!AB38","v":0},{"$f":"'27. Searcher Profile Data'!AC38","v":0},{"$f":"'27. Searcher Profile Data'!AD38","v":0},{"$f":"'27. Searcher Profile Data'!AE38","v":0},{"$f":"'27. Searcher Profile Data'!AF38","v":0},{"$f":"'27. Searcher Profile Data'!AG38","v":0},{"$f":"'27. Searcher Profile Data'!AH38","v":0},{"$f":"'27. Searcher Profile Data'!AI38","v":0},{"$f":"'27. Searcher Profile Data'!AJ38","v":0},{"$f":"'27. Searcher Profile Data'!AK38","v":0},{"$f":"'27. Searcher Profile Data'!AL38","v":0},{"$f":"'27. Searcher Profile Data'!AM38","v":0},{"$f":"'27. Searcher Profile Data'!AN38","v":0},{"$f":"'27. Searcher Profile Data'!AO38","v":0},{"$f":"'27. Searcher Profile Data'!AP38","v":0},{"$f":"'27. Searcher Profile Data'!AQ38","v":0},{"$f":"'27. Searcher Profile Data'!AR38","v":0},{"$f":"'27. Searcher Profile Data'!AS38","v":0},{"$f":"'27. Searcher Profile Data'!AT38","v":0},{"$f":"'27. Searcher Profile Data'!AU38","v":0},{"$f":"'27. Searcher Profile Data'!AV38","v":0},{"$f":"'27. Searcher Profile Data'!AW38","v":0},{"$f":"'27. Searcher Profile Data'!AX38","v":0},{"$f":"'27. Searcher Profile Data'!AY38","v":0},{"$f":"'27. Searcher Profile Data'!AZ38","v":0},{"$f":"'27. Searcher Profile Data'!BA38","v":0},{"$f":"'27. Searcher Profile Data'!BB38","v":0},{"$f":"'27. Searcher Profile Data'!BC38","v":0},{"$f":"'27. Searcher Profile Data'!BD38","v":0},{"$f":"'27. Searcher Profile Data'!BE38","v":0},{"$f":"'27. Searcher Profile Data'!BF38","v":0},{"$f":"'27. Searcher Profile Data'!BG38","v":0},{"$f":"'27. Searcher Profile Data'!BH38","v":0},{"$f":"'27. Searcher Profile Data'!BI38","v":0},{"$f":"'27. Searcher Profile Data'!BJ38","v":0},{"$f":"'27. Searcher Profile Data'!BK38","v":0},{"$f":"'27. Searcher Profile Data'!BL38","v":0},{"$f":"'27. Searcher Profile Data'!BM38","v":0},{"$f":"'27. Searcher Profile Data'!BN38","v":0},{"$f":"'27. Searcher Profile Data'!BO38","v":0},{"$f":"'27. Searcher Profile Data'!BP38","v":0},{"$f":"'27. Searcher Profile Data'!BQ38","v":0},{"$f":"'27. Searcher Profile Data'!BR38","v":0},{"$f":"'27. Searcher Profile Data'!BS38","v":0},{"$f":"'27. Searcher Profile Data'!BT38","v":0},{"$f":"'27. Searcher Profile Data'!BU38","v":0},{"$f":"'27. Searcher Profile Data'!BV38","v":0},{"$f":"'27. Searcher Profile Data'!BW38","v":0},{"$f":"'27. Searcher Profile Data'!BX38","v":0},{"$f":"'27. Searcher Profile Data'!BY38","v":0},{"$f":"'27. Searcher Profile Data'!BZ38","v":0}]
[{"$f":"'27. Searcher Profile Data'!A39","v":"Cloud Cover (%)"},null,{"$f":"'27. Searcher Profile Data'!B39","v":0},{"$f":"'27. Searcher Profile Data'!C39","v":0},{"$f":"'27. Searcher Profile Data'!D39","v":0},{"$f":"'27. Searcher Profile Data'!E39","v":0},{"$f":"'27. Searcher Profile Data'!F39","v":0},{"$f":"'27. Searcher Profile Data'!G39","v":0},{"$f":"'27. Searcher Profile Data'!H39","v":0},{"$f":"'27. Searcher Profile Data'!I39","v":0},{"$f":"'27. Searcher Profile Data'!J39","v":0},{"$f":"'27. Searcher Profile Data'!K39","v":0},{"$f":"'27. Searcher Profile Data'!L39","v":0},{"$f":"'27. Searcher Profile Data'!M39","v":0},{"$f":"'27. Searcher Profile Data'!N39","v":0},{"$f":"'27. Searcher Profile Data'!O39","v":0},{"$f":"'27. Searcher Profile Data'!P39","v":0},{"$f":"'27. Searcher Profile Data'!Q39","v":0},{"$f":"'27. Searcher Profile Data'!R39","v":0},{"$f":"'27. Searcher Profile Data'!S39","v":0},{"$f":"'27. Searcher Profile Data'!T39","v":0},{"$f":"'27. Searcher Profile Data'!U39","v":0},{"$f":"'27. Searcher Profile Data'!V39","v":0},{"$f":"'27. Searcher Profile Data'!W39","v":0},{"$f":"'27. Searcher Profile Data'!X39","v":0},{"$f":"'27. Searcher Profile Data'!Y39","v":0},{"$f":"'27. Searcher Profile Data'!Z39","v":0},{"$f":"'27. Searcher Profile Data'!AA39","v":0},{"$f":"'27. Searcher Profile Data'!AB39","v":0},{"$f":"'27. Searcher Profile Data'!AC39","v":0},{"$f":"'27. Searcher Profile Data'!AD39","v":0},{"$f":"'27. Searcher Profile Data'!AE39","v":0},{"$f":"'27. Searcher Profile Data'!AF39","v":0},{"$f":"'27. Searcher Profile Data'!AG39","v":0},{"$f":"'27. Searcher Profile Data'!AH39","v":0},{"$f":"'27. Searcher Profile Data'!AI39","v":0},{"$f":"'27. Searcher Profile Data'!AJ39","v":0},{"$f":"'27. Searcher Profile Data'!AK39","v":0},{"$f":"'27. Searcher Profile Data'!AL39","v":0},{"$f":"'27. Searcher Profile Data'!AM39","v":0},{"$f":"'27. Searcher Profile Data'!AN39","v":0},{"$f":"'27. Searcher Profile Data'!AO39","v":0},{"$f":"'27. Searcher Profile Data'!AP39","v":0},{"$f":"'27. Searcher Profile Data'!AQ39","v":0},{"$f":"'27. Searcher Profile Data'!AR39","v":0},{"$f":"'27. Searcher Profile Data'!AS39","v":0},{"$f":"'27. Searcher Profile Data'!AT39","v":0},{"$f":"'27. Searcher Profile Data'!AU39","v":0},{"$f":"'27. Searcher Profile Data'!AV39","v":0},{"$f":"'27. Searcher Profile Data'!AW39","v":0},{"$f":"'27. Searcher Profile Data'!AX39","v":0},{"$f":"'27. Searcher Profile Data'!AY39","v":0},{"$f":"'27. Searcher Profile Data'!AZ39","v":0},{"$f":"'27. Searcher Profile Data'!BA39","v":0},{"$f":"'27. Searcher Profile Data'!BB39","v":0},{"$f":"'27. Searcher Profile Data'!BC39","v":0},{"$f":"'27. Searcher Profile Data'!BD39","v":0},{"$f":"'27. Searcher Profile Data'!BE39","v":0},{"$f":"'27. Searcher Profile Data'!BF39","v":0},{"$f":"'27. Searcher Profile Data'!BG39","v":0},{"$f":"'27. Searcher Profile Data'!BH39","v":0},{"$f":"'27. Searcher Profile Data'!BI39","v":0},{"$f":"'27. Searcher Profile Data'!BJ39","v":0},{"$f":"'27. Searcher Profile Data'!BK39","v":0},{"$f":"'27. Searcher Profile Data'!BL39","v":0},{"$f":"'27. Searcher Profile Data'!BM39","v":0},{"$f":"'27. Searcher Profile Data'!BN39","v":0},{"$f":"'27. Searcher Profile Data'!BO39","v":0},{"$f":"'27. Searcher Profile Data'!BP39","v":0},{"$f":"'27. Searcher Profile Data'!BQ39","v":0},{"$f":"'27. Searcher Profile Data'!BR39","v":0},{"$f":"'27. Searcher Profile Data'!BS39","v":0},{"$f":"'27. Searcher Profile Data'!BT39","v":0},{"$f":"'27. Searcher Profile Data'!BU39","v":0},{"$f":"'27. Searcher Profile Data'!BV39","v":0},{"$f":"'27. Searcher Profile Data'!BW39","v":0},{"$f":"'27. Searcher Profile Data'!BX39","v":0},{"$f":"'27. Searcher Profile Data'!BY39","v":0},{"$f":"'27. Searcher Profile Data'!BZ39","v":0}]
[{"$f":"'27. Searcher Profile Data'!A40","v":"Lux"},null,{"$f":"'27. Searcher Profile Data'!B40","v":0},{"$f":"'27. Searcher Profile Data'!C40","v":0},{"$f":"'27. Searcher Profile Data'!D40","v":0},{"$f":"'27. Searcher Profile Data'!E40","v":0},{"$f":"'27. Searcher Profile Data'!F40","v":0},{"$f":"'27. Searcher Profile Data'!G40","v":0},{"$f":"'27. Searcher Profile Data'!H40","v":0},{"$f":"'27. Searcher Profile Data'!I40","v":0},{"$f":"'27. Searcher Profile Data'!J40","v":0},{"$f":"'27. Searcher Profile Data'!K40","v":0},{"$f":"'27. Searcher Profile Data'!L40","v":0},{"$f":"'27. Searcher Profile Data'!M40","v":0},{"$f":"'27. Searcher Profile Data'!N40","v":0},{"$f":"'27. Searcher Profile Data'!O40","v":0},{"$f":"'27. Searcher Profile Data'!P40","v":0},{"$f":"'27. Searcher Profile Data'!Q40","v":0},{"$f":"'27. Searcher Profile Data'!R40","v":0},{"$f":"'27. Searcher Profile Data'!S40","v":0},{"$f":"'27. Searcher Profile Data'!T40","v":0},{"$f":"'27. Searcher Profile Data'!U40","v":0},{"$f":"'27. Searcher Profile Data'!V40","v":0},{"$f":"'27. Searcher Profile Data'!W40","v":0},{"$f":"'27. Searcher Profile Data'!X40","v":0},{"$f":"'27. Searcher Profile Data'!Y40","v":0},{"$f":"'27. Searcher Profile Data'!Z40","v":0},{"$f":"'27. Searcher Profile Data'!AA40","v":0},{"$f":"'27. Searcher Profile Data'!AB40","v":0},{"$f":"'27. Searcher Profile Data'!AC40","v":0},{"$f":"'27. Searcher Profile Data'!AD40","v":0},{"$f":"'27. Searcher Profile Data'!AE40","v":0},{"$f":"'27. Searcher Profile Data'!AF40","v":0},{"$f":"'27. Searcher Profile Data'!AG40","v":0},{"$f":"'27. Searcher Profile Data'!AH40","v":0},{"$f":"'27. Searcher Profile Data'!AI40","v":0},{"$f":"'27. Searcher Profile Data'!AJ40","v":0},{"$f":"'27. Searcher Profile Data'!AK40","v":0},{"$f":"'27. Searcher Profile Data'!AL40","v":0},{"$f":"'27. Searcher Profile Data'!AM40","v":0},{"$f":"'27. Searcher Profile Data'!AN40","v":0},{"$f":"'27. Searcher Profile Data'!AO40","v":0},{"$f":"'27. Searcher Profile Data'!AP40","v":0},{"$f":"'27. Searcher Profile Data'!AQ40","v":0},{"$f":"'27. Searcher Profile Data'!AR40","v":0},{"$f":"'27. Searcher Profile Data'!AS40","v":0},{"$f":"'27. Searcher Profile Data'!AT40","v":0},{"$f":"'27. Searcher Profile Data'!AU40","v":0},{"$f":"'27. Searcher Profile Data'!AV40","v":0},{"$f":"'27. Searcher Profile Data'!AW40","v":0},{"$f":"'27. Searcher Profile Data'!AX40","v":0},{"$f":"'27. Searcher Profile Data'!AY40","v":0},{"$f":"'27. Searcher Profile Data'!AZ40","v":0},{"$f":"'27. Searcher Profile Data'!BA40","v":0},{"$f":"'27. Searcher Profile Data'!BB40","v":0},{"$f":"'27. Searcher Profile Data'!BC40","v":0},{"$f":"'27. Searcher Profile Data'!BD40","v":0},{"$f":"'27. Searcher Profile Data'!BE40","v":0},{"$f":"'27. Searcher Profile Data'!BF40","v":0},{"$f":"'27. Searcher Profile Data'!BG40","v":0},{"$f":"'27. Searcher Profile Data'!BH40","v":0},{"$f":"'27. Searcher Profile Data'!BI40","v":0},{"$f":"'27. Searcher Profile Data'!BJ40","v":0},{"$f":"'27. Searcher Profile Data'!BK40","v":0},{"$f":"'27. Searcher Profile Data'!BL40","v":0},{"$f":"'27. Searcher Profile Data'!BM40","v":0},{"$f":"'27. Searcher Profile Data'!BN40","v":0},{"$f":"'27. Searcher Profile Data'!BO40","v":0},{"$f":"'27. Searcher Profile Data'!BP40","v":0},{"$f":"'27. Searcher Profile Data'!BQ40","v":0},{"$f":"'27. Searcher Profile Data'!BR40","v":0},{"$f":"'27. Searcher Profile Data'!BS40","v":0},{"$f":"'27. Searcher Profile Data'!BT40","v":0},{"$f":"'27. Searcher Profile Data'!BU40","v":0},{"$f":"'27. Searcher Profile Data'!BV40","v":0},{"$f":"'27. Searcher Profile Data'!BW40","v":0},{"$f":"'27. Searcher Profile Data'!BX40","v":0},{"$f":"'27. Searcher Profile Data'!BY40","v":0},{"$f":"'27. Searcher Profile Data'!BZ40","v":0}]
[{"$f":"'27. Searcher Profile Data'!A41","v":"Light"},null,{"$f":"'27. Searcher Profile Data'!B41","v":0},{"$f":"'27. Searcher Profile Data'!C41","v":0},{"$f":"'27. Searcher Profile Data'!D41","v":0},{"$f":"'27. Searcher Profile Data'!E41","v":0},{"$f":"'27. Searcher Profile Data'!F41","v":0},{"$f":"'27. Searcher Profile Data'!G41","v":0},{"$f":"'27. Searcher Profile Data'!H41","v":0},{"$f":"'27. Searcher Profile Data'!I41","v":0},{"$f":"'27. Searcher Profile Data'!J41","v":0},{"$f":"'27. Searcher Profile Data'!K41","v":0},{"$f":"'27. Searcher Profile Data'!L41","v":0},{"$f":"'27. Searcher Profile Data'!M41","v":0},{"$f":"'27. Searcher Profile Data'!N41","v":0},{"$f":"'27. Searcher Profile Data'!O41","v":0},{"$f":"'27. Searcher Profile Data'!P41","v":0},{"$f":"'27. Searcher Profile Data'!Q41","v":0},{"$f":"'27. Searcher Profile Data'!R41","v":0},{"$f":"'27. Searcher Profile Data'!S41","v":0},{"$f":"'27. Searcher Profile Data'!T41","v":0},{"$f":"'27. Searcher Profile Data'!U41","v":0},{"$f":"'27. Searcher Profile Data'!V41","v":0},{"$f":"'27. Searcher Profile Data'!W41","v":0},{"$f":"'27. Searcher Profile Data'!X41","v":0},{"$f":"'27. Searcher Profile Data'!Y41","v":0},{"$f":"'27. Searcher Profile Data'!Z41","v":0},{"$f":"'27. Searcher Profile Data'!AA41","v":0},{"$f":"'27. Searcher Profile Data'!AB41","v":0},{"$f":"'27. Searcher Profile Data'!AC41","v":0},{"$f":"'27. Searcher Profile Data'!AD41","v":0},{"$f":"'27. Searcher Profile Data'!AE41","v":0},{"$f":"'27. Searcher Profile Data'!AF41","v":0},{"$f":"'27. Searcher Profile Data'!AG41","v":0},{"$f":"'27. Searcher Profile Data'!AH41","v":0},{"$f":"'27. Searcher Profile Data'!AI41","v":0},{"$f":"'27. Searcher Profile Data'!AJ41","v":0},{"$f":"'27. Searcher Profile Data'!AK41","v":0},{"$f":"'27. Searcher Profile Data'!AL41","v":0},{"$f":"'27. Searcher Profile Data'!AM41","v":0},{"$f":"'27. Searcher Profile Data'!AN41","v":0},{"$f":"'27. Searcher Profile Data'!AO41","v":0},{"$f":"'27. Searcher Profile Data'!AP41","v":0},{"$f":"'27. Searcher Profile Data'!AQ41","v":0},{"$f":"'27. Searcher Profile Data'!AR41","v":0},{"$f":"'27. Searcher Profile Data'!AS41","v":0},{"$f":"'27. Searcher Profile Data'!AT41","v":0},{"$f":"'27. Searcher Profile Data'!AU41","v":0},{"$f":"'27. Searcher Profile Data'!AV41","v":0},{"$f":"'27. Searcher Profile Data'!AW41","v":0},{"$f":"'27. Searcher Profile Data'!AX41","v":0},{"$f":"'27. Searcher Profile Data'!AY41","v":0},{"$f":"'27. Searcher Profile Data'!AZ41","v":0},{"$f":"'27. Searcher Profile Data'!BA41","v":0},{"$f":"'27. Searcher Profile Data'!BB41","v":0},{"$f":"'27. Searcher Profile Data'!BC41","v":0},{"$f":"'27. Searcher Profile Data'!BD41","v":0},{"$f":"'27. Searcher Profile Data'!BE41","v":0},{"$f":"'27. Searcher Profile Data'!BF41","v":0},{"$f":"'27. Searcher Profile Data'!BG41","v":0},{"$f":"'27. Searcher Profile Data'!BH41","v":0},{"$f":"'27. Searcher Profile Data'!BI41","v":0},{"$f":"'27. Searcher Profile Data'!BJ41","v":0},{"$f":"'27. Searcher Profile Data'!BK41","v":0},{"$f":"'27. Searcher Profile Data'!BL41","v":0},{"$f":"'27. Searcher Profile Data'!BM41","v":0},{"$f":"'27. Searcher Profile Data'!BN41","v":0},{"$f":"'27. Searcher Profile Data'!BO41","v":0},{"$f":"'27. Searcher Profile Data'!BP41","v":0},{"$f":"'27. Searcher Profile Data'!BQ41","v":0},{"$f":"'27. Searcher Profile Data'!BR41","v":0},{"$f":"'27. Searcher Profile Data'!BS41","v":0},{"$f":"'27. Searcher Profile Data'!BT41","v":0},{"$f":"'27. Searcher Profile Data'!BU41","v":0},{"$f":"'27. Searcher Profile Data'!BV41","v":0},{"$f":"'27. Searcher Profile Data'!BW41","v":0},{"$f":"'27. Searcher Profile Data'!BX41","v":0},{"$f":"'27. Searcher Profile Data'!BY41","v":0},{"$f":"'27. Searcher Profile Data'!BZ41","v":0}]
[{"$f":"'27. Searcher Profile Data'!A42","v":"Precipitation (type and intensity)"},null,{"$f":"'27. Searcher Profile Data'!B42","v":0},{"$f":"'27. Searcher Profile Data'!C42","v":0},{"$f":"'27. Searcher Profile Data'!D42","v":0},{"$f":"'27. Searcher Profile Data'!E42","v":0},{"$f":"'27. Searcher Profile Data'!F42","v":0},{"$f":"'27. Searcher Profile Data'!G42","v":0},{"$f":"'27. Searcher Profile Data'!H42","v":0},{"$f":"'27. Searcher Profile Data'!I42","v":0},{"$f":"'27. Searcher Profile Data'!J42","v":0},{"$f":"'27. Searcher Profile Data'!K42","v":0},{"$f":"'27. Searcher Profile Data'!L42","v":0},{"$f":"'27. Searcher Profile Data'!M42","v":0},{"$f":"'27. Searcher Profile Data'!N42","v":0},{"$f":"'27. Searcher Profile Data'!O42","v":0},{"$f":"'27. Searcher Profile Data'!P42","v":0},{"$f":"'27. Searcher Profile Data'!Q42","v":0},{"$f":"'27. Searcher Profile Data'!R42","v":0},{"$f":"'27. Searcher Profile Data'!S42","v":0},{"$f":"'27. Searcher Profile Data'!T42","v":0},{"$f":"'27. Searcher Profile Data'!U42","v":0},{"$f":"'27. Searcher Profile Data'!V42","v":0},{"$f":"'27. Searcher Profile Data'!W42","v":0},{"$f":"'27. Searcher Profile Data'!X42","v":0},{"$f":"'27. Searcher Profile Data'!Y42","v":0},{"$f":"'27. Searcher Profile Data'!Z42","v":0},{"$f":"'27. Searcher Profile Data'!AA42","v":0},{"$f":"'27. Searcher Profile Data'!AB42","v":0},{"$f":"'27. Searcher Profile Data'!AC42","v":0},{"$f":"'27. Searcher Profile Data'!AD42","v":0},{"$f":"'27. Searcher Profile Data'!AE42","v":0},{"$f":"'27. Searcher Profile Data'!AF42","v":0},{"$f":"'27. Searcher Profile Data'!AG42","v":0},{"$f":"'27. Searcher Profile Data'!AH42","v":0},{"$f":"'27. Searcher Profile Data'!AI42","v":0},{"$f":"'27. Searcher Profile Data'!AJ42","v":0},{"$f":"'27. Searcher Profile Data'!AK42","v":0},{"$f":"'27. Searcher Profile Data'!AL42","v":0},{"$f":"'27. Searcher Profile Data'!AM42","v":0},{"$f":"'27. Searcher Profile Data'!AN42","v":0},{"$f":"'27. Searcher Profile Data'!AO42","v":0},{"$f":"'27. Searcher Profile Data'!AP42","v":0},{"$f":"'27. Searcher Profile Data'!AQ42","v":0},{"$f":"'27. Searcher Profile Data'!AR42","v":0},{"$f":"'27. Searcher Profile Data'!AS42","v":0},{"$f":"'27. Searcher Profile Data'!AT42","v":0},{"$f":"'27. Searcher Profile Data'!AU42","v":0},{"$f":"'27. Searcher Profile Data'!AV42","v":0},{"$f":"'27. Searcher Profile Data'!AW42","v":0},{"$f":"'27. Searcher Profile Data'!AX42","v":0},{"$f":"'27. Searcher Profile Data'!AY42","v":0},{"$f":"'27. Searcher Profile Data'!AZ42","v":0},{"$f":"'27. Searcher Profile Data'!BA42","v":0},{"$f":"'27. Searcher Profile Data'!BB42","v":0},{"$f":"'27. Searcher Profile Data'!BC42","v":0},{"$f":"'27. Searcher Profile Data'!BD42","v":0},{"$f":"'27. Searcher Profile Data'!BE42","v":0},{"$f":"'27. Searcher Profile Data'!BF42","v":0},{"$f":"'27. Searcher Profile Data'!BG42","v":0},{"$f":"'27. Searcher Profile Data'!BH42","v":0},{"$f":"'27. Searcher Profile Data'!BI42","v":0},{"$f":"'27. Searcher Profile Data'!BJ42","v":0},{"$f":"'27. Searcher Profile Data'!BK42","v":0},{"$f":"'27. Searcher Profile Data'!BL42","v":0},{"$f":"'27. Searcher Profile Data'!BM42","v":0},{"$f":"'27. Searcher Profile Data'!BN42","v":0},{"$f":"'27. Searcher Profile Data'!BO42","v":0},{"$f":"'27. Searcher Profile Data'!BP42","v":0},{"$f":"'27. Searcher Profile Data'!BQ42","v":0},{"$f":"'27. Searcher Profile Data'!BR42","v":0},{"$f":"'27. Searcher Profile Data'!BS42","v":0},{"$f":"'27. Searcher Profile Data'!BT42","v":0},{"$f":"'27. Searcher Profile Data'!BU42","v":0},{"$f":"'27. Searcher Profile Data'!BV42","v":0},{"$f":"'27. Searcher Profile Data'!BW42","v":0},{"$f":"'27. Searcher Profile Data'!BX42","v":0},{"$f":"'27. Searcher Profile Data'!BY42","v":0},{"$f":"'27. Searcher Profile Data'!BZ42","v":0}]
[{"$f":"'27. Searcher Profile Data'!A43","v":"Meteorological Visibility"},null,{"$f":"'27. Searcher Profile Data'!B43","v":0},{"$f":"'27. Searcher Profile Data'!C43","v":0},{"$f":"'27. Searcher Profile Data'!D43","v":0},{"$f":"'27. Searcher Profile Data'!E43","v":0},{"$f":"'27. Searcher Profile Data'!F43","v":0},{"$f":"'27. Searcher Profile Data'!G43","v":0},{"$f":"'27. Searcher Profile Data'!H43","v":0},{"$f":"'27. Searcher Profile Data'!I43","v":0},{"$f":"'27. Searcher Profile Data'!J43","v":0},{"$f":"'27. Searcher Profile Data'!K43","v":0},{"$f":"'27. Searcher Profile Data'!L43","v":0},{"$f":"'27. Searcher Profile Data'!M43","v":0},{"$f":"'27. Searcher Profile Data'!N43","v":0},{"$f":"'27. Searcher Profile Data'!O43","v":0},{"$f":"'27. Searcher Profile Data'!P43","v":0},{"$f":"'27. Searcher Profile Data'!Q43","v":0},{"$f":"'27. Searcher Profile Data'!R43","v":0},{"$f":"'27. Searcher Profile Data'!S43","v":0},{"$f":"'27. Searcher Profile Data'!T43","v":0},{"$f":"'27. Searcher Profile Data'!U43","v":0},{"$f":"'27. Searcher Profile Data'!V43","v":0},{"$f":"'27. Searcher Profile Data'!W43","v":0},{"$f":"'27. Searcher Profile Data'!X43","v":0},{"$f":"'27. Searcher Profile Data'!Y43","v":0},{"$f":"'27. Searcher Profile Data'!Z43","v":0},{"$f":"'27. Searcher Profile Data'!AA43","v":0},{"$f":"'27. Searcher Profile Data'!AB43","v":0},{"$f":"'27. Searcher Profile Data'!AC43","v":0},{"$f":"'27. Searcher Profile Data'!AD43","v":0},{"$f":"'27. Searcher Profile Data'!AE43","v":0},{"$f":"'27. Searcher Profile Data'!AF43","v":0},{"$f":"'27. Searcher Profile Data'!AG43","v":0},{"$f":"'27. Searcher Profile Data'!AH43","v":0},{"$f":"'27. Searcher Profile Data'!AI43","v":0},{"$f":"'27. Searcher Profile Data'!AJ43","v":0},{"$f":"'27. Searcher Profile Data'!AK43","v":0},{"$f":"'27. Searcher Profile Data'!AL43","v":0},{"$f":"'27. Searcher Profile Data'!AM43","v":0},{"$f":"'27. Searcher Profile Data'!AN43","v":0},{"$f":"'27. Searcher Profile Data'!AO43","v":0},{"$f":"'27. Searcher Profile Data'!AP43","v":0},{"$f":"'27. Searcher Profile Data'!AQ43","v":0},{"$f":"'27. Searcher Profile Data'!AR43","v":0},{"$f":"'27. Searcher Profile Data'!AS43","v":0},{"$f":"'27. Searcher Profile Data'!AT43","v":0},{"$f":"'27. Searcher Profile Data'!AU43","v":0},{"$f":"'27. Searcher Profile Data'!AV43","v":0},{"$f":"'27. Searcher Profile Data'!AW43","v":0},{"$f":"'27. Searcher Profile Data'!AX43","v":0},{"$f":"'27. Searcher Profile Data'!AY43","v":0},{"$f":"'27. Searcher Profile Data'!AZ43","v":0},{"$f":"'27. Searcher Profile Data'!BA43","v":0},{"$f":"'27. Searcher Profile Data'!BB43","v":0},{"$f":"'27. Searcher Profile Data'!BC43","v":0},{"$f":"'27. Searcher Profile Data'!BD43","v":0},{"$f":"'27. Searcher Profile Data'!BE43","v":0},{"$f":"'27. Searcher Profile Data'!BF43","v":0},{"$f":"'27. Searcher Profile Data'!BG43","v":0},{"$f":"'27. Searcher Profile Data'!BH43","v":0},{"$f":"'27. Searcher Profile Data'!BI43","v":0},{"$f":"'27. Searcher Profile Data'!BJ43","v":0},{"$f":"'27. Searcher Profile Data'!BK43","v":0},{"$f":"'27. Searcher Profile Data'!BL43","v":0},{"$f":"'27. Searcher Profile Data'!BM43","v":0},{"$f":"'27. Searcher Profile Data'!BN43","v":0},{"$f":"'27. Searcher Profile Data'!BO43","v":0},{"$f":"'27. Searcher Profile Data'!BP43","v":0},{"$f":"'27. Searcher Profile Data'!BQ43","v":0},{"$f":"'27. Searcher Profile Data'!BR43","v":0},{"$f":"'27. Searcher Profile Data'!BS43","v":0},{"$f":"'27. Searcher Profile Data'!BT43","v":0},{"$f":"'27. Searcher Profile Data'!BU43","v":0},{"$f":"'27. Searcher Profile Data'!BV43","v":0},{"$f":"'27. Searcher Profile Data'!BW43","v":0},{"$f":"'27. Searcher Profile Data'!BX43","v":0},{"$f":"'27. Searcher Profile Data'!BY43","v":0},{"$f":"'27. Searcher Profile Data'!BZ43","v":0}]
[{"$f":"'27. Searcher Profile Data'!A44","v":"Problems"},null,{"$f":"'27. Searcher Profile Data'!B44","v":0},{"$f":"'27. Searcher Profile Data'!C44","v":0},{"$f":"'27. Searcher Profile Data'!D44","v":0},{"$f":"'27. Searcher Profile Data'!E44","v":0},{"$f":"'27. Searcher Profile Data'!F44","v":0},{"$f":"'27. Searcher Profile Data'!G44","v":0},{"$f":"'27. Searcher Profile Data'!H44","v":0},{"$f":"'27. Searcher Profile Data'!I44","v":0},{"$f":"'27. Searcher Profile Data'!J44","v":0},{"$f":"'27. Searcher Profile Data'!K44","v":0},{"$f":"'27. Searcher Profile Data'!L44","v":0},{"$f":"'27. Searcher Profile Data'!M44","v":0},{"$f":"'27. Searcher Profile Data'!N44","v":0},{"$f":"'27. Searcher Profile Data'!O44","v":0},{"$f":"'27. Searcher Profile Data'!P44","v":0},{"$f":"'27. Searcher Profile Data'!Q44","v":0},{"$f":"'27. Searcher Profile Data'!R44","v":0},{"$f":"'27. Searcher Profile Data'!S44","v":0},{"$f":"'27. Searcher Profile Data'!T44","v":0},{"$f":"'27. Searcher Profile Data'!U44","v":0},{"$f":"'27. Searcher Profile Data'!V44","v":0},{"$f":"'27. Searcher Profile Data'!W44","v":0},{"$f":"'27. Searcher Profile Data'!X44","v":0},{"$f":"'27. Searcher Profile Data'!Y44","v":0},{"$f":"'27. Searcher Profile Data'!Z44","v":0},{"$f":"'27. Searcher Profile Data'!AA44","v":0},{"$f":"'27. Searcher Profile Data'!AB44","v":0},{"$f":"'27. Searcher Profile Data'!AC44","v":0},{"$f":"'27. Searcher Profile Data'!AD44","v":0},{"$f":"'27. Searcher Profile Data'!AE44","v":0},{"$f":"'27. Searcher Profile Data'!AF44","v":0},{"$f":"'27. Searcher Profile Data'!AG44","v":0},{"$f":"'27. Searcher Profile Data'!AH44","v":0},{"$f":"'27. Searcher Profile Data'!AI44","v":0},{"$f":"'27. Searcher Profile Data'!AJ44","v":0},{"$f":"'27. Searcher Profile Data'!AK44","v":0},{"$f":"'27. Searcher Profile Data'!AL44","v":0},{"$f":"'27. Searcher Profile Data'!AM44","v":0},{"$f":"'27. Searcher Profile Data'!AN44","v":0},{"$f":"'27. Searcher Profile Data'!AO44","v":0},{"$f":"'27. Searcher Profile Data'!AP44","v":0},{"$f":"'27. Searcher Profile Data'!AQ44","v":0},{"$f":"'27. Searcher Profile Data'!AR44","v":0},{"$f":"'27. Searcher Profile Data'!AS44","v":0},{"$f":"'27. Searcher Profile Data'!AT44","v":0},{"$f":"'27. Searcher Profile Data'!AU44","v":0},{"$f":"'27. Searcher Profile Data'!AV44","v":0},{"$f":"'27. Searcher Profile Data'!AW44","v":0},{"$f":"'27. Searcher Profile Data'!AX44","v":0},{"$f":"'27. Searcher Profile Data'!AY44","v":0},{"$f":"'27. Searcher Profile Data'!AZ44","v":0},{"$f":"'27. Searcher Profile Data'!BA44","v":0},{"$f":"'27. Searcher Profile Data'!BB44","v":0},{"$f":"'27. Searcher Profile Data'!BC44","v":0},{"$f":"'27. Searcher Profile Data'!BD44","v":0},{"$f":"'27. Searcher Profile Data'!BE44","v":0},{"$f":"'27. Searcher Profile Data'!BF44","v":0},{"$f":"'27. Searcher Profile Data'!BG44","v":0},{"$f":"'27. Searcher Profile Data'!BH44","v":0},{"$f":"'27. Searcher Profile Data'!BI44","v":0},{"$f":"'27. Searcher Profile Data'!BJ44","v":0},{"$f":"'27. Searcher Profile Data'!BK44","v":0},{"$f":"'27. Searcher Profile Data'!BL44","v":0},{"$f":"'27. Searcher Profile Data'!BM44","v":0},{"$f":"'27. Searcher Profile Data'!BN44","v":0},{"$f":"'27. Searcher Profile Data'!BO44","v":0},{"$f":"'27. Searcher Profile Data'!BP44","v":0},{"$f":"'27. Searcher Profile Data'!BQ44","v":0},{"$f":"'27. Searcher Profile Data'!BR44","v":0},{"$f":"'27. Searcher Profile Data'!BS44","v":0},{"$f":"'27. Searcher Profile Data'!BT44","v":0},{"$f":"'27. Searcher Profile Data'!BU44","v":0},{"$f":"'27. Searcher Profile Data'!BV44","v":0},{"$f":"'27. Searcher Profile Data'!BW44","v":0},{"$f":"'27. Searcher Profile Data'!BX44","v":0},{"$f":"'27. Searcher Profile Data'!BY44","v":0},{"$f":"'27. Searcher Profile Data'!BZ44","v":0}]
[{"$f":"'27. Searcher Profile Data'!A45","v":"Optional question"},null,{"$f":"'27. Searcher Profile Data'!B45","v":0},{"$f":"'27. Searcher Profile Data'!C45","v":0},{"$f":"'27. Searcher Profile Data'!D45","v":0},{"$f":"'27. Searcher Profile Data'!E45","v":0},{"$f":"'27. Searcher Profile Data'!F45","v":0},{"$f":"'27. Searcher Profile Data'!G45","v":0},{"$f":"'27. Searcher Profile Data'!H45","v":0},{"$f":"'27. Searcher Profile Data'!I45","v":0},{"$f":"'27. Searcher Profile Data'!J45","v":0},{"$f":"'27. Searcher Profile Data'!K45","v":0},{"$f":"'27. Searcher Profile Data'!L45","v":0},{"$f":"'27. Searcher Profile Data'!M45","v":0},{"$f":"'27. Searcher Profile Data'!N45","v":0},{"$f":"'27. Searcher Profile Data'!O45","v":0},{"$f":"'27. Searcher Profile Data'!P45","v":0},{"$f":"'27. Searcher Profile Data'!Q45","v":0},{"$f":"'27. Searcher Profile Data'!R45","v":0},{"$f":"'27. Searcher Profile Data'!S45","v":0},{"$f":"'27. Searcher Profile Data'!T45","v":0},{"$f":"'27. Searcher Profile Data'!U45","v":0},{"$f":"'27. Searcher Profile Data'!V45","v":0},{"$f":"'27. Searcher Profile Data'!W45","v":0},{"$f":"'27. Searcher Profile Data'!X45","v":0},{"$f":"'27. Searcher Profile Data'!Y45","v":0},{"$f":"'27. Searcher Profile Data'!Z45","v":0},{"$f":"'27. Searcher Profile Data'!AA45","v":0},{"$f":"'27. Searcher Profile Data'!AB45","v":0},{"$f":"'27. Searcher Profile Data'!AC45","v":0},{"$f":"'27. Searcher Profile Data'!AD45","v":0},{"$f":"'27. Searcher Profile Data'!AE45","v":0},{"$f":"'27. Searcher Profile Data'!AF45","v":0},{"$f":"'27. Searcher Profile Data'!AG45","v":0},{"$f":"'27. Searcher Profile Data'!AH45","v":0},{"$f":"'27. Searcher Profile Data'!AI45","v":0},{"$f":"'27. Searcher Profile Data'!AJ45","v":0},{"$f":"'27. Searcher Profile Data'!AK45","v":0},{"$f":"'27. Searcher Profile Data'!AL45","v":0},{"$f":"'27. Searcher Profile Data'!AM45","v":0},{"$f":"'27. Searcher Profile Data'!AN45","v":0},{"$f":"'27. Searcher Profile Data'!AO45","v":0},{"$f":"'27. Searcher Profile Data'!AP45","v":0},{"$f":"'27. Searcher Profile Data'!AQ45","v":0},{"$f":"'27. Searcher Profile Data'!AR45","v":0},{"$f":"'27. Searcher Profile Data'!AS45","v":0},{"$f":"'27. Searcher Profile Data'!AT45","v":0},{"$f":"'27. Searcher Profile Data'!AU45","v":0},{"$f":"'27. Searcher Profile Data'!AV45","v":0},{"$f":"'27. Searcher Profile Data'!AW45","v":0},{"$f":"'27. Searcher Profile Data'!AX45","v":0},{"$f":"'27. Searcher Profile Data'!AY45","v":0},{"$f":"'27. Searcher Profile Data'!AZ45","v":0},{"$f":"'27. Searcher Profile Data'!BA45","v":0},{"$f":"'27. Searcher Profile Data'!BB45","v":0},{"$f":"'27. Searcher Profile Data'!BC45","v":0},{"$f":"'27. Searcher Profile Data'!BD45","v":0},{"$f":"'27. Searcher Profile Data'!BE45","v":0},{"$f":"'27. Searcher Profile Data'!BF45","v":0},{"$f":"'27. Searcher Profile Data'!BG45","v":0},{"$f":"'27. Searcher Profile Data'!BH45","v":0},{"$f":"'27. Searcher Profile Data'!BI45","v":0},{"$f":"'27. Searcher Profile Data'!BJ45","v":0},{"$f":"'27. Searcher Profile Data'!BK45","v":0},{"$f":"'27. Searcher Profile Data'!BL45","v":0},{"$f":"'27. Searcher Profile Data'!BM45","v":0},{"$f":"'27. Searcher Profile Data'!BN45","v":0},{"$f":"'27. Searcher Profile Data'!BO45","v":0},{"$f":"'27. Searcher Profile Data'!BP45","v":0},{"$f":"'27. Searcher Profile Data'!BQ45","v":0},{"$f":"'27. Searcher Profile Data'!BR45","v":0},{"$f":"'27. Searcher Profile Data'!BS45","v":0},{"$f":"'27. Searcher Profile Data'!BT45","v":0},{"$f":"'27. Searcher Profile Data'!BU45","v":0},{"$f":"'27. Searcher Profile Data'!BV45","v":0},{"$f":"'27. Searcher Profile Data'!BW45","v":0},{"$f":"'27. Searcher Profile Data'!BX45","v":0},{"$f":"'27. Searcher Profile Data'!BY45","v":0},{"$f":"'27. Searcher Profile Data'!BZ45","v":0}]
[{"$f":"'27. Searcher Profile Data'!A46","v":"Optional question 2"},null,{"$f":"'27. Searcher Profile Data'!B46","v":0},{"$f":"'27. Searcher Profile Data'!C46","v":0},{"$f":"'27. Searcher Profile Data'!D46","v":0},{"$f":"'27. Searcher Profile Data'!E46","v":0},{"$f":"'27. Searcher Profile Data'!F46","v":0},{"$f":"'27. Searcher Profile Data'!G46","v":0},{"$f":"'27. Searcher Profile Data'!H46","v":0},{"$f":"'27. Searcher Profile Data'!I46","v":0},{"$f":"'27. Searcher Profile Data'!J46","v":0},{"$f":"'27. Searcher Profile Data'!K46","v":0},{"$f":"'27. Searcher Profile Data'!L46","v":0},{"$f":"'27. Searcher Profile Data'!M46","v":0},{"$f":"'27. Searcher Profile Data'!N46","v":0},{"$f":"'27. Searcher Profile Data'!O46","v":0},{"$f":"'27. Searcher Profile Data'!P46","v":0},{"$f":"'27. Searcher Profile Data'!Q46","v":0},{"$f":"'27. Searcher Profile Data'!R46","v":0},{"$f":"'27. Searcher Profile Data'!S46","v":0},{"$f":"'27. Searcher Profile Data'!T46","v":0},{"$f":"'27. Searcher Profile Data'!U46","v":0},{"$f":"'27. Searcher Profile Data'!V46","v":0},{"$f":"'27. Searcher Profile Data'!W46","v":0},{"$f":"'27. Searcher Profile Data'!X46","v":0},{"$f":"'27. Searcher Profile Data'!Y46","v":0},{"$f":"'27. Searcher Profile Data'!Z46","v":0},{"$f":"'27. Searcher Profile Data'!AA46","v":0},{"$f":"'27. Searcher Profile Data'!AB46","v":0},{"$f":"'27. Searcher Profile Data'!AC46","v":0},{"$f":"'27. Searcher Profile Data'!AD46","v":0},{"$f":"'27. Searcher Profile Data'!AE46","v":0},{"$f":"'27. Searcher Profile Data'!AF46","v":0},{"$f":"'27. Searcher Profile Data'!AG46","v":0},{"$f":"'27. Searcher Profile Data'!AH46","v":0},{"$f":"'27. Searcher Profile Data'!AI46","v":0},{"$f":"'27. Searcher Profile Data'!AJ46","v":0},{"$f":"'27. Searcher Profile Data'!AK46","v":0},{"$f":"'27. Searcher Profile Data'!AL46","v":0},{"$f":"'27. Searcher Profile Data'!AM46","v":0},{"$f":"'27. Searcher Profile Data'!AN46","v":0},{"$f":"'27. Searcher Profile Data'!AO46","v":0},{"$f":"'27. Searcher Profile Data'!AP46","v":0},{"$f":"'27. Searcher Profile Data'!AQ46","v":0},{"$f":"'27. Searcher Profile Data'!AR46","v":0},{"$f":"'27. Searcher Profile Data'!AS46","v":0},{"$f":"'27. Searcher Profile Data'!AT46","v":0},{"$f":"'27. Searcher Profile Data'!AU46","v":0},{"$f":"'27. Searcher Profile Data'!AV46","v":0},{"$f":"'27. Searcher Profile Data'!AW46","v":0},{"$f":"'27. Searcher Profile Data'!AX46","v":0},{"$f":"'27. Searcher Profile Data'!AY46","v":0},{"$f":"'27. Searcher Profile Data'!AZ46","v":0},{"$f":"'27. Searcher Profile Data'!BA46","v":0},{"$f":"'27. Searcher Profile Data'!BB46","v":0},{"$f":"'27. Searcher Profile Data'!BC46","v":0},{"$f":"'27. Searcher Profile Data'!BD46","v":0},{"$f":"'27. Searcher Profile Data'!BE46","v":0},{"$f":"'27. Searcher Profile Data'!BF46","v":0},{"$f":"'27. Searcher Profile Data'!BG46","v":0},{"$f":"'27. Searcher Profile Data'!BH46","v":0},{"$f":"'27. Searcher Profile Data'!BI46","v":0},{"$f":"'27. Searcher Profile Data'!BJ46","v":0},{"$f":"'27. Searcher Profile Data'!BK46","v":0},{"$f":"'27. Searcher Profile Data'!BL46","v":0},{"$f":"'27. Searcher Profile Data'!BM46","v":0},{"$f":"'27. Searcher Profile Data'!BN46","v":0},{"$f":"'27. Searcher Profile Data'!BO46","v":0},{"$f":"'27. Searcher Profile Data'!BP46","v":0},{"$f":"'27. Searcher Profile Data'!BQ46","v":0},{"$f":"'27. Searcher Profile Data'!BR46","v":0},{"$f":"'27. Searcher Profile Data'!BS46","v":0},{"$f":"'27. Searcher Profile Data'!BT46","v":0},{"$f":"'27. Searcher Profile Data'!BU46","v":0},{"$f":"'27. Searcher Profile Data'!BV46","v":0},{"$f":"'27. Searcher Profile Data'!BW46","v":0},{"$f":"'27. Searcher Profile Data'!BX46","v":0},{"$f":"'27. Searcher Profile Data'!BY46","v":0},{"$f":"'27. Searcher Profile Data'!BZ46","v":0}]
[{"$f":"'27. Searcher Profile Data'!A47","v":"Willing to be data logger?"},null,{"$f":"'27. Searcher Profile Data'!B47","v":0},{"$f":"'27. Searcher Profile Data'!C47","v":0},{"$f":"'27. Searcher Profile Data'!D47","v":0},{"$f":"'27. Searcher Profile Data'!E47","v":0},{"$f":"'27. Searcher Profile Data'!F47","v":0},{"$f":"'27. Searcher Profile Data'!G47","v":0},{"$f":"'27. Searcher Profile Data'!H47","v":0},{"$f":"'27. Searcher Profile Data'!I47","v":0},{"$f":"'27. Searcher Profile Data'!J47","v":0},{"$f":"'27. Searcher Profile Data'!K47","v":0},{"$f":"'27. Searcher Profile Data'!L47","v":0},{"$f":"'27. Searcher Profile Data'!M47","v":0},{"$f":"'27. Searcher Profile Data'!N47","v":0},{"$f":"'27. Searcher Profile Data'!O47","v":0},{"$f":"'27. Searcher Profile Data'!P47","v":0},{"$f":"'27. Searcher Profile Data'!Q47","v":0},{"$f":"'27. Searcher Profile Data'!R47","v":0},{"$f":"'27. Searcher Profile Data'!S47","v":0},{"$f":"'27. Searcher Profile Data'!T47","v":0},{"$f":"'27. Searcher Profile Data'!U47","v":0},{"$f":"'27. Searcher Profile Data'!V47","v":0},{"$f":"'27. Searcher Profile Data'!W47","v":0},{"$f":"'27. Searcher Profile Data'!X47","v":0},{"$f":"'27. Searcher Profile Data'!Y47","v":0},{"$f":"'27. Searcher Profile Data'!Z47","v":0},{"$f":"'27. Searcher Profile Data'!AA47","v":0},{"$f":"'27. Searcher Profile Data'!AB47","v":0},{"$f":"'27. Searcher Profile Data'!AC47","v":0},{"$f":"'27. Searcher Profile Data'!AD47","v":0},{"$f":"'27. Searcher Profile Data'!AE47","v":0},{"$f":"'27. Searcher Profile Data'!AF47","v":0},{"$f":"'27. Searcher Profile Data'!AG47","v":0},{"$f":"'27. Searcher Profile Data'!AH47","v":0},{"$f":"'27. Searcher Profile Data'!AI47","v":0},{"$f":"'27. Searcher Profile Data'!AJ47","v":0},{"$f":"'27. Searcher Profile Data'!AK47","v":0},{"$f":"'27. Searcher Profile Data'!AL47","v":0},{"$f":"'27. Searcher Profile Data'!AM47","v":0},{"$f":"'27. Searcher Profile Data'!AN47","v":0},{"$f":"'27. Searcher Profile Data'!AO47","v":0},{"$f":"'27. Searcher Profile Data'!AP47","v":0},{"$f":"'27. Searcher Profile Data'!AQ47","v":0},{"$f":"'27. Searcher Profile Data'!AR47","v":0},{"$f":"'27. Searcher Profile Data'!AS47","v":0},{"$f":"'27. Searcher Profile Data'!AT47","v":0},{"$f":"'27. Searcher Profile Data'!AU47","v":0},{"$f":"'27. Searcher Profile Data'!AV47","v":0},{"$f":"'27. Searcher Profile Data'!AW47","v":0},{"$f":"'27. Searcher Profile Data'!AX47","v":0},{"$f":"'27. Searcher Profile Data'!AY47","v":0},{"$f":"'27. Searcher Profile Data'!AZ47","v":0},{"$f":"'27. Searcher Profile Data'!BA47","v":0},{"$f":"'27. Searcher Profile Data'!BB47","v":0},{"$f":"'27. Searcher Profile Data'!BC47","v":0},{"$f":"'27. Searcher Profile Data'!BD47","v":0},{"$f":"'27. Searcher Profile Data'!BE47","v":0},{"$f":"'27. Searcher Profile Data'!BF47","v":0},{"$f":"'27. Searcher Profile Data'!BG47","v":0},{"$f":"'27. Searcher Profile Data'!BH47","v":0},{"$f":"'27. Searcher Profile Data'!BI47","v":0},{"$f":"'27. Searcher Profile Data'!BJ47","v":0},{"$f":"'27. Searcher Profile Data'!BK47","v":0},{"$f":"'27. Searcher Profile Data'!BL47","v":0},{"$f":"'27. Searcher Profile Data'!BM47","v":0},{"$f":"'27. Searcher Profile Data'!BN47","v":0},{"$f":"'27. Searcher Profile Data'!BO47","v":0},{"$f":"'27. Searcher Profile Data'!BP47","v":0},{"$f":"'27. Searcher Profile Data'!BQ47","v":0},{"$f":"'27. Searcher Profile Data'!BR47","v":0},{"$f":"'27. Searcher Profile Data'!BS47","v":0},{"$f":"'27. Searcher Profile Data'!BT47","v":0},{"$f":"'27. Searcher Profile Data'!BU47","v":0},{"$f":"'27. Searcher Profile Data'!BV47","v":0},{"$f":"'27. Searcher Profile Data'!BW47","v":0},{"$f":"'27. Searcher Profile Data'!BX47","v":0},{"$f":"'27. Searcher Profile Data'!BY47","v":0},{"$f":"'27. Searcher Profile Data'!BZ47","v":0}]
[{"$f":"'27. Searcher Profile Data'!A48","v":"email address"},null,{"$f":"'27. Searcher Profile Data'!B48","v":0},{"$f":"'27. Searcher Profile Data'!C48","v":0},{"$f":"'27. Searcher Profile Data'!D48","v":0},{"$f":"'27. Searcher Profile Data'!E48","v":0},{"$f":"'27. Searcher Profile Data'!F48","v":0},{"$f":"'27. Searcher Profile Data'!G48","v":0},{"$f":"'27. Searcher Profile Data'!H48","v":0},{"$f":"'27. Searcher Profile Data'!I48","v":0},{"$f":"'27. Searcher Profile Data'!J48","v":0},{"$f":"'27. Searcher Profile Data'!K48","v":0},{"$f":"'27. Searcher Profile Data'!L48","v":0},{"$f":"'27. Searcher Profile Data'!M48","v":0},{"$f":"'27. Searcher Profile Data'!N48","v":0},{"$f":"'27. Searcher Profile Data'!O48","v":0},{"$f":"'27. Searcher Profile Data'!P48","v":0},{"$f":"'27. Searcher Profile Data'!Q48","v":0},{"$f":"'27. Searcher Profile Data'!R48","v":0},{"$f":"'27. Searcher Profile Data'!S48","v":0},{"$f":"'27. Searcher Profile Data'!T48","v":0},{"$f":"'27. Searcher Profile Data'!U48","v":0},{"$f":"'27. Searcher Profile Data'!V48","v":0},{"$f":"'27. Searcher Profile Data'!W48","v":0},{"$f":"'27. Searcher Profile Data'!X48","v":0},{"$f":"'27. Searcher Profile Data'!Y48","v":0},{"$f":"'27. Searcher Profile Data'!Z48","v":0},{"$f":"'27. Searcher Profile Data'!AA48","v":0},{"$f":"'27. Searcher Profile Data'!AB48","v":0},{"$f":"'27. Searcher Profile Data'!AC48","v":0},{"$f":"'27. Searcher Profile Data'!AD48","v":0},{"$f":"'27. Searcher Profile Data'!AE48","v":0},{"$f":"'27. Searcher Profile Data'!AF48","v":0},{"$f":"'27. Searcher Profile Data'!AG48","v":0},{"$f":"'27. Searcher Profile Data'!AH48","v":0},{"$f":"'27. Searcher Profile Data'!AI48","v":0},{"$f":"'27. Searcher Profile Data'!AJ48","v":0},{"$f":"'27. Searcher Profile Data'!AK48","v":0},{"$f":"'27. Searcher Profile Data'!AL48","v":0},{"$f":"'27. Searcher Profile Data'!AM48","v":0},{"$f":"'27. Searcher Profile Data'!AN48","v":0},{"$f":"'27. Searcher Profile Data'!AO48","v":0},{"$f":"'27. Searcher Profile Data'!AP48","v":0},{"$f":"'27. Searcher Profile Data'!AQ48","v":0},{"$f":"'27. Searcher Profile Data'!AR48","v":0},{"$f":"'27. Searcher Profile Data'!AS48","v":0},{"$f":"'27. Searcher Profile Data'!AT48","v":0},{"$f":"'27. Searcher Profile Data'!AU48","v":0},{"$f":"'27. Searcher Profile Data'!AV48","v":0},{"$f":"'27. Searcher Profile Data'!AW48","v":0},{"$f":"'27. Searcher Profile Data'!AX48","v":0},{"$f":"'27. Searcher Profile Data'!AY48","v":0},{"$f":"'27. Searcher Profile Data'!AZ48","v":0},{"$f":"'27. Searcher Profile Data'!BA48","v":0},{"$f":"'27. Searcher Profile Data'!BB48","v":0},{"$f":"'27. Searcher Profile Data'!BC48","v":0},{"$f":"'27. Searcher Profile Data'!BD48","v":0},{"$f":"'27. Searcher Profile Data'!BE48","v":0},{"$f":"'27. Searcher Profile Data'!BF48","v":0},{"$f":"'27. Searcher Profile Data'!BG48","v":0},{"$f":"'27. Searcher Profile Data'!BH48","v":0},{"$f":"'27. Searcher Profile Data'!BI48","v":0},{"$f":"'27. Searcher Profile Data'!BJ48","v":0},{"$f":"'27. Searcher Profile Data'!BK48","v":0},{"$f":"'27. Searcher Profile Data'!BL48","v":0},{"$f":"'27. Searcher Profile Data'!BM48","v":0},{"$f":"'27. Searcher Profile Data'!BN48","v":0},{"$f":"'27. Searcher Profile Data'!BO48","v":0},{"$f":"'27. Searcher Profile Data'!BP48","v":0},{"$f":"'27. Searcher Profile Data'!BQ48","v":0},{"$f":"'27. Searcher Profile Data'!BR48","v":0},{"$f":"'27. Searcher Profile Data'!BS48","v":0},{"$f":"'27. Searcher Profile Data'!BT48","v":0},{"$f":"'27. Searcher Profile Data'!BU48","v":0},{"$f":"'27. Searcher Profile Data'!BV48","v":0},{"$f":"'27. Searcher Profile Data'!BW48","v":0},{"$f":"'27. Searcher Profile Data'!BX48","v":0},{"$f":"'27. Searcher Profile Data'!BY48","v":0},{"$f":"'27. Searcher Profile Data'!BZ48","v":0}]
[{"$f":"'27. Searcher Profile Data'!A49","v":"Data logger: Looked backwards"},null,{"$f":"'27. Searcher Profile Data'!B49","v":0},{"$f":"'27. Searcher Profile Data'!C49","v":0},{"$f":"'27. Searcher Profile Data'!D49","v":0},{"$f":"'27. Searcher Profile Data'!E49","v":0},{"$f":"'27. Searcher Profile Data'!F49","v":0},{"$f":"'27. Searcher Profile Data'!G49","v":0},{"$f":"'27. Searcher Profile Data'!H49","v":0},{"$f":"'27. Searcher Profile Data'!I49","v":0},{"$f":"'27. Searcher Profile Data'!J49","v":0},{"$f":"'27. Searcher Profile Data'!K49","v":0},{"$f":"'27. Searcher Profile Data'!L49","v":0},{"$f":"'27. Searcher Profile Data'!M49","v":0},{"$f":"'27. Searcher Profile Data'!N49","v":0},{"$f":"'27. Searcher Profile Data'!O49","v":0},{"$f":"'27. Searcher Profile Data'!P49","v":0},{"$f":"'27. Searcher Profile Data'!Q49","v":0},{"$f":"'27. Searcher Profile Data'!R49","v":0},{"$f":"'27. Searcher Profile Data'!S49","v":0},{"$f":"'27. Searcher Profile Data'!T49","v":0},{"$f":"'27. Searcher Profile Data'!U49","v":0},{"$f":"'27. Searcher Profile Data'!V49","v":0},{"$f":"'27. Searcher Profile Data'!W49","v":0},{"$f":"'27. Searcher Profile Data'!X49","v":0},{"$f":"'27. Searcher Profile Data'!Y49","v":0},{"$f":"'27. Searcher Profile Data'!Z49","v":0},{"$f":"'27. Searcher Profile Data'!AA49","v":0},{"$f":"'27. Searcher Profile Data'!AB49","v":0},{"$f":"'27. Searcher Profile Data'!AC49","v":0},{"$f":"'27. Searcher Profile Data'!AD49","v":0},{"$f":"'27. Searcher Profile Data'!AE49","v":0},{"$f":"'27. Searcher Profile Data'!AF49","v":0},{"$f":"'27. Searcher Profile Data'!AG49","v":0},{"$f":"'27. Searcher Profile Data'!AH49","v":0},{"$f":"'27. Searcher Profile Data'!AI49","v":0},{"$f":"'27. Searcher Profile Data'!AJ49","v":0},{"$f":"'27. Searcher Profile Data'!AK49","v":0},{"$f":"'27. Searcher Profile Data'!AL49","v":0},{"$f":"'27. Searcher Profile Data'!AM49","v":0},{"$f":"'27. Searcher Profile Data'!AN49","v":0},{"$f":"'27. Searcher Profile Data'!AO49","v":0},{"$f":"'27. Searcher Profile Data'!AP49","v":0},{"$f":"'27. Searcher Profile Data'!AQ49","v":0},{"$f":"'27. Searcher Profile Data'!AR49","v":0},{"$f":"'27. Searcher Profile Data'!AS49","v":0},{"$f":"'27. Searcher Profile Data'!AT49","v":0},{"$f":"'27. Searcher Profile Data'!AU49","v":0},{"$f":"'27. Searcher Profile Data'!AV49","v":0},{"$f":"'27. Searcher Profile Data'!AW49","v":0},{"$f":"'27. Searcher Profile Data'!AX49","v":0},{"$f":"'27. Searcher Profile Data'!AY49","v":0},{"$f":"'27. Searcher Profile Data'!AZ49","v":0},{"$f":"'27. Searcher Profile Data'!BA49","v":0},{"$f":"'27. Searcher Profile Data'!BB49","v":0},{"$f":"'27. Searcher Profile Data'!BC49","v":0},{"$f":"'27. Searcher Profile Data'!BD49","v":0},{"$f":"'27. Searcher Profile Data'!BE49","v":0},{"$f":"'27. Searcher Profile Data'!BF49","v":0},{"$f":"'27. Searcher Profile Data'!BG49","v":0},{"$f":"'27. Searcher Profile Data'!BH49","v":0},{"$f":"'27. Searcher Profile Data'!BI49","v":0},{"$f":"'27. Searcher Profile Data'!BJ49","v":0},{"$f":"'27. Searcher Profile Data'!BK49","v":0},{"$f":"'27. Searcher Profile Data'!BL49","v":0},{"$f":"'27. Searcher Profile Data'!BM49","v":0},{"$f":"'27. Searcher Profile Data'!BN49","v":0},{"$f":"'27. Searcher Profile Data'!BO49","v":0},{"$f":"'27. Searcher Profile Data'!BP49","v":0},{"$f":"'27. Searcher Profile Data'!BQ49","v":0},{"$f":"'27. Searcher Profile Data'!BR49","v":0},{"$f":"'27. Searcher Profile Data'!BS49","v":0},{"$f":"'27. Searcher Profile Data'!BT49","v":0},{"$f":"'27. Searcher Profile Data'!BU49","v":0},{"$f":"'27. Searcher Profile Data'!BV49","v":0},{"$f":"'27. Searcher Profile Data'!BW49","v":0},{"$f":"'27. Searcher Profile Data'!BX49","v":0},{"$f":"'27. Searcher Profile Data'!BY49","v":0},{"$f":"'27. Searcher Profile Data'!BZ49","v":0}]
[{"$f":"'27. Searcher Profile Data'!A50","v":"Data logger: looked sideways"},null,{"$f":"'27. Searcher Profile Data'!B50","v":0},{"$f":"'27. Searcher Profile Data'!C50","v":0},{"$f":"'27. Searcher Profile Data'!D50","v":0},{"$f":"'27. Searcher Profile Data'!E50","v":0},{"$f":"'27. Searcher Profile Data'!F50","v":0},{"$f":"'27. Searcher Profile Data'!G50","v":0},{"$f":"'27. Searcher Profile Data'!H50","v":0},{"$f":"'27. Searcher Profile Data'!I50","v":0},{"$f":"'27. Searcher Profile Data'!J50","v":0},{"$f":"'27. Searcher Profile Data'!K50","v":0},{"$f":"'27. Searcher Profile Data'!L50","v":0},{"$f":"'27. Searcher Profile Data'!M50","v":0},{"$f":"'27. Searcher Profile Data'!N50","v":0},{"$f":"'27. Searcher Profile Data'!O50","v":0},{"$f":"'27. Searcher Profile Data'!P50","v":0},{"$f":"'27. Searcher Profile Data'!Q50","v":0},{"$f":"'27. Searcher Profile Data'!R50","v":0},{"$f":"'27. Searcher Profile Data'!S50","v":0},{"$f":"'27. Searcher Profile Data'!T50","v":0},{"$f":"'27. Searcher Profile Data'!U50","v":0},{"$f":"'27. Searcher Profile Data'!V50","v":0},{"$f":"'27. Searcher Profile Data'!W50","v":0},{"$f":"'27. Searcher Profile Data'!X50","v":0},{"$f":"'27. Searcher Profile Data'!Y50","v":0},{"$f":"'27. Searcher Profile Data'!Z50","v":0},{"$f":"'27. Searcher Profile Data'!AA50","v":0},{"$f":"'27. Searcher Profile Data'!AB50","v":0},{"$f":"'27. Searcher Profile Data'!AC50","v":0},{"$f":"'27. Searcher Profile Data'!AD50","v":0},{"$f":"'27. Searcher Profile Data'!AE50","v":0},{"$f":"'27. Searcher Profile Data'!AF50","v":0},{"$f":"'27. Searcher Profile Data'!AG50","v":0},{"$f":"'27. Searcher Profile Data'!AH50","v":0},{"$f":"'27. Searcher Profile Data'!AI50","v":0},{"$f":"'27. Searcher Profile Data'!AJ50","v":0},{"$f":"'27. Searcher Profile Data'!AK50","v":0},{"$f":"'27. Searcher Profile Data'!AL50","v":0},{"$f":"'27. Searcher Profile Data'!AM50","v":0},{"$f":"'27. Searcher Profile Data'!AN50","v":0},{"$f":"'27. Searcher Profile Data'!AO50","v":0},{"$f":"'27. Searcher Profile Data'!AP50","v":0},{"$f":"'27. Searcher Profile Data'!AQ50","v":0},{"$f":"'27. Searcher Profile Data'!AR50","v":0},{"$f":"'27. Searcher Profile Data'!AS50","v":0},{"$f":"'27. Searcher Profile Data'!AT50","v":0},{"$f":"'27. Searcher Profile Data'!AU50","v":0},{"$f":"'27. Searcher Profile Data'!AV50","v":0},{"$f":"'27. Searcher Profile Data'!AW50","v":0},{"$f":"'27. Searcher Profile Data'!AX50","v":0},{"$f":"'27. Searcher Profile Data'!AY50","v":0},{"$f":"'27. Searcher Profile Data'!AZ50","v":0},{"$f":"'27. Searcher Profile Data'!BA50","v":0},{"$f":"'27. Searcher Profile Data'!BB50","v":0},{"$f":"'27. Searcher Profile Data'!BC50","v":0},{"$f":"'27. Searcher Profile Data'!BD50","v":0},{"$f":"'27. Searcher Profile Data'!BE50","v":0},{"$f":"'27. Searcher Profile Data'!BF50","v":0},{"$f":"'27. Searcher Profile Data'!BG50","v":0},{"$f":"'27. Searcher Profile Data'!BH50","v":0},{"$f":"'27. Searcher Profile Data'!BI50","v":0},{"$f":"'27. Searcher Profile Data'!BJ50","v":0},{"$f":"'27. Searcher Profile Data'!BK50","v":0},{"$f":"'27. Searcher Profile Data'!BL50","v":0},{"$f":"'27. Searcher Profile Data'!BM50","v":0},{"$f":"'27. Searcher Profile Data'!BN50","v":0},{"$f":"'27. Searcher Profile Data'!BO50","v":0},{"$f":"'27. Searcher Profile Data'!BP50","v":0},{"$f":"'27. Searcher Profile Data'!BQ50","v":0},{"$f":"'27. Searcher Profile Data'!BR50","v":0},{"$f":"'27. Searcher Profile Data'!BS50","v":0},{"$f":"'27. Searcher Profile Data'!BT50","v":0},{"$f":"'27. Searcher Profile Data'!BU50","v":0},{"$f":"'27. Searcher Profile Data'!BV50","v":0},{"$f":"'27. Searcher Profile Data'!BW50","v":0},{"$f":"'27. Searcher Profile Data'!BX50","v":0},{"$f":"'27. Searcher Profile Data'!BY50","v":0},{"$f":"'27. Searcher Profile Data'!BZ50","v":0}]
[{"$f":"'27. Searcher Profile Data'!A51","v":"Data logger: stopped and searched"},null,{"$f":"'27. Searcher Profile Data'!B51","v":0},{"$f":"'27. Searcher Profile Data'!C51","v":0},{"$f":"'27. Searcher Profile Data'!D51","v":0},{"$f":"'27. Searcher Profile Data'!E51","v":0},{"$f":"'27. Searcher Profile Data'!F51","v":0},{"$f":"'27. Searcher Profile Data'!G51","v":0},{"$f":"'27. Searcher Profile Data'!H51","v":0},{"$f":"'27. Searcher Profile Data'!I51","v":0},{"$f":"'27. Searcher Profile Data'!J51","v":0},{"$f":"'27. Searcher Profile Data'!K51","v":0},{"$f":"'27. Searcher Profile Data'!L51","v":0},{"$f":"'27. Searcher Profile Data'!M51","v":0},{"$f":"'27. Searcher Profile Data'!N51","v":0},{"$f":"'27. Searcher Profile Data'!O51","v":0},{"$f":"'27. Searcher Profile Data'!P51","v":0},{"$f":"'27. Searcher Profile Data'!Q51","v":0},{"$f":"'27. Searcher Profile Data'!R51","v":0},{"$f":"'27. Searcher Profile Data'!S51","v":0},{"$f":"'27. Searcher Profile Data'!T51","v":0},{"$f":"'27. Searcher Profile Data'!U51","v":0},{"$f":"'27. Searcher Profile Data'!V51","v":0},{"$f":"'27. Searcher Profile Data'!W51","v":0},{"$f":"'27. Searcher Profile Data'!X51","v":0},{"$f":"'27. Searcher Profile Data'!Y51","v":0},{"$f":"'27. Searcher Profile Data'!Z51","v":0},{"$f":"'27. Searcher Profile Data'!AA51","v":0},{"$f":"'27. Searcher Profile Data'!AB51","v":0},{"$f":"'27. Searcher Profile Data'!AC51","v":0},{"$f":"'27. Searcher Profile Data'!AD51","v":0},{"$f":"'27. Searcher Profile Data'!AE51","v":0},{"$f":"'27. Searcher Profile Data'!AF51","v":0},{"$f":"'27. Searcher Profile Data'!AG51","v":0},{"$f":"'27. Searcher Profile Data'!AH51","v":0},{"$f":"'27. Searcher Profile Data'!AI51","v":0},{"$f":"'27. Searcher Profile Data'!AJ51","v":0},{"$f":"'27. Searcher Profile Data'!AK51","v":0},{"$f":"'27. Searcher Profile Data'!AL51","v":0},{"$f":"'27. Searcher Profile Data'!AM51","v":0},{"$f":"'27. Searcher Profile Data'!AN51","v":0},{"$f":"'27. Searcher Profile Data'!AO51","v":0},{"$f":"'27. Searcher Profile Data'!AP51","v":0},{"$f":"'27. Searcher Profile Data'!AQ51","v":0},{"$f":"'27. Searcher Profile Data'!AR51","v":0},{"$f":"'27. Searcher Profile Data'!AS51","v":0},{"$f":"'27. Searcher Profile Data'!AT51","v":0},{"$f":"'27. Searcher Profile Data'!AU51","v":0},{"$f":"'27. Searcher Profile Data'!AV51","v":0},{"$f":"'27. Searcher Profile Data'!AW51","v":0},{"$f":"'27. Searcher Profile Data'!AX51","v":0},{"$f":"'27. Searcher Profile Data'!AY51","v":0},{"$f":"'27. Searcher Profile Data'!AZ51","v":0},{"$f":"'27. Searcher Profile Data'!BA51","v":0},{"$f":"'27. Searcher Profile Data'!BB51","v":0},{"$f":"'27. Searcher Profile Data'!BC51","v":0},{"$f":"'27. Searcher Profile Data'!BD51","v":0},{"$f":"'27. Searcher Profile Data'!BE51","v":0},{"$f":"'27. Searcher Profile Data'!BF51","v":0},{"$f":"'27. Searcher Profile Data'!BG51","v":0},{"$f":"'27. Searcher Profile Data'!BH51","v":0},{"$f":"'27. Searcher Profile Data'!BI51","v":0},{"$f":"'27. Searcher Profile Data'!BJ51","v":0},{"$f":"'27. Searcher Profile Data'!BK51","v":0},{"$f":"'27. Searcher Profile Data'!BL51","v":0},{"$f":"'27. Searcher Profile Data'!BM51","v":0},{"$f":"'27. Searcher Profile Data'!BN51","v":0},{"$f":"'27. Searcher Profile Data'!BO51","v":0},{"$f":"'27. Searcher Profile Data'!BP51","v":0},{"$f":"'27. Searcher Profile Data'!BQ51","v":0},{"$f":"'27. Searcher Profile Data'!BR51","v":0},{"$f":"'27. Searcher Profile Data'!BS51","v":0},{"$f":"'27. Searcher Profile Data'!BT51","v":0},{"$f":"'27. Searcher Profile Data'!BU51","v":0},{"$f":"'27. Searcher Profile Data'!BV51","v":0},{"$f":"'27. Searcher Profile Data'!BW51","v":0},{"$f":"'27. Searcher Profile Data'!BX51","v":0},{"$f":"'27. Searcher Profile Data'!BY51","v":0},{"$f":"'27. Searcher Profile Data'!BZ51","v":0}]
[{"$f":"'27. Searcher Profile Data'!A52","v":"Data logger: scanned systematically"},null,{"$f":"'27. Searcher Profile Data'!B52","v":0},{"$f":"'27. Searcher Profile Data'!C52","v":0},{"$f":"'27. Searcher Profile Data'!D52","v":0},{"$f":"'27. Searcher Profile Data'!E52","v":0},{"$f":"'27. Searcher Profile Data'!F52","v":0},{"$f":"'27. Searcher Profile Data'!G52","v":0},{"$f":"'27. Searcher Profile Data'!H52","v":0},{"$f":"'27. Searcher Profile Data'!I52","v":0},{"$f":"'27. Searcher Profile Data'!J52","v":0},{"$f":"'27. Searcher Profile Data'!K52","v":0},{"$f":"'27. Searcher Profile Data'!L52","v":0},{"$f":"'27. Searcher Profile Data'!M52","v":0},{"$f":"'27. Searcher Profile Data'!N52","v":0},{"$f":"'27. Searcher Profile Data'!O52","v":0},{"$f":"'27. Searcher Profile Data'!P52","v":0},{"$f":"'27. Searcher Profile Data'!Q52","v":0},{"$f":"'27. Searcher Profile Data'!R52","v":0},{"$f":"'27. Searcher Profile Data'!S52","v":0},{"$f":"'27. Searcher Profile Data'!T52","v":0},{"$f":"'27. Searcher Profile Data'!U52","v":0},{"$f":"'27. Searcher Profile Data'!V52","v":0},{"$f":"'27. Searcher Profile Data'!W52","v":0},{"$f":"'27. Searcher Profile Data'!X52","v":0},{"$f":"'27. Searcher Profile Data'!Y52","v":0},{"$f":"'27. Searcher Profile Data'!Z52","v":0},{"$f":"'27. Searcher Profile Data'!AA52","v":0},{"$f":"'27. Searcher Profile Data'!AB52","v":0},{"$f":"'27. Searcher Profile Data'!AC52","v":0},{"$f":"'27. Searcher Profile Data'!AD52","v":0},{"$f":"'27. Searcher Profile Data'!AE52","v":0},{"$f":"'27. Searcher Profile Data'!AF52","v":0},{"$f":"'27. Searcher Profile Data'!AG52","v":0},{"$f":"'27. Searcher Profile Data'!AH52","v":0},{"$f":"'27. Searcher Profile Data'!AI52","v":0},{"$f":"'27. Searcher Profile Data'!AJ52","v":0},{"$f":"'27. Searcher Profile Data'!AK52","v":0},{"$f":"'27. Searcher Profile Data'!AL52","v":0},{"$f":"'27. Searcher Profile Data'!AM52","v":0},{"$f":"'27. Searcher Profile Data'!AN52","v":0},{"$f":"'27. Searcher Profile Data'!AO52","v":0},{"$f":"'27. Searcher Profile Data'!AP52","v":0},{"$f":"'27. Searcher Profile Data'!AQ52","v":0},{"$f":"'27. Searcher Profile Data'!AR52","v":0},{"$f":"'27. Searcher Profile Data'!AS52","v":0},{"$f":"'27. Searcher Profile Data'!AT52","v":0},{"$f":"'27. Searcher Profile Data'!AU52","v":0},{"$f":"'27. Searcher Profile Data'!AV52","v":0},{"$f":"'27. Searcher Profile Data'!AW52","v":0},{"$f":"'27. Searcher Profile Data'!AX52","v":0},{"$f":"'27. Searcher Profile Data'!AY52","v":0},{"$f":"'27. Searcher Profile Data'!AZ52","v":0},{"$f":"'27. Searcher Profile Data'!BA52","v":0},{"$f":"'27. Searcher Profile Data'!BB52","v":0},{"$f":"'27. Searcher Profile Data'!BC52","v":0},{"$f":"'27. Searcher Profile Data'!BD52","v":0},{"$f":"'27. Searcher Profile Data'!BE52","v":0},{"$f":"'27. Searcher Profile Data'!BF52","v":0},{"$f":"'27. Searcher Profile Data'!BG52","v":0},{"$f":"'27. Searcher Profile Data'!BH52","v":0},{"$f":"'27. Searcher Profile Data'!BI52","v":0},{"$f":"'27. Searcher Profile Data'!BJ52","v":0},{"$f":"'27. Searcher Profile Data'!BK52","v":0},{"$f":"'27. Searcher Profile Data'!BL52","v":0},{"$f":"'27. Searcher Profile Data'!BM52","v":0},{"$f":"'27. Searcher Profile Data'!BN52","v":0},{"$f":"'27. Searcher Profile Data'!BO52","v":0},{"$f":"'27. Searcher Profile Data'!BP52","v":0},{"$f":"'27. Searcher Profile Data'!BQ52","v":0},{"$f":"'27. Searcher Profile Data'!BR52","v":0},{"$f":"'27. Searcher Profile Data'!BS52","v":0},{"$f":"'27. Searcher Profile Data'!BT52","v":0},{"$f":"'27. Searcher Profile Data'!BU52","v":0},{"$f":"'27. Searcher Profile Data'!BV52","v":0},{"$f":"'27. Searcher Profile Data'!BW52","v":0},{"$f":"'27. Searcher Profile Data'!BX52","v":0},{"$f":"'27. Searcher Profile Data'!BY52","v":0},{"$f":"'27. Searcher Profile Data'!BZ52","v":0}]
[{"$f":"'27. Searcher Profile Data'!A53","v":"Data logger: Talked"},null,{"$f":"'27. Searcher Profile Data'!B53","v":0},{"$f":"'27. Searcher Profile Data'!C53","v":0},{"$f":"'27. Searcher Profile Data'!D53","v":0},{"$f":"'27. Searcher Profile Data'!E53","v":0},{"$f":"'27. Searcher Profile Data'!F53","v":0},{"$f":"'27. Searcher Profile Data'!G53","v":0},{"$f":"'27. Searcher Profile Data'!H53","v":0},{"$f":"'27. Searcher Profile Data'!I53","v":0},{"$f":"'27. Searcher Profile Data'!J53","v":0},{"$f":"'27. Searcher Profile Data'!K53","v":0},{"$f":"'27. Searcher Profile Data'!L53","v":0},{"$f":"'27. Searcher Profile Data'!M53","v":0},{"$f":"'27. Searcher Profile Data'!N53","v":0},{"$f":"'27. Searcher Profile Data'!O53","v":0},{"$f":"'27. Searcher Profile Data'!P53","v":0},{"$f":"'27. Searcher Profile Data'!Q53","v":0},{"$f":"'27. Searcher Profile Data'!R53","v":0},{"$f":"'27. Searcher Profile Data'!S53","v":0},{"$f":"'27. Searcher Profile Data'!T53","v":0},{"$f":"'27. Searcher Profile Data'!U53","v":0},{"$f":"'27. Searcher Profile Data'!V53","v":0},{"$f":"'27. Searcher Profile Data'!W53","v":0},{"$f":"'27. Searcher Profile Data'!X53","v":0},{"$f":"'27. Searcher Profile Data'!Y53","v":0},{"$f":"'27. Searcher Profile Data'!Z53","v":0},{"$f":"'27. Searcher Profile Data'!AA53","v":0},{"$f":"'27. Searcher Profile Data'!AB53","v":0},{"$f":"'27. Searcher Profile Data'!AC53","v":0},{"$f":"'27. Searcher Profile Data'!AD53","v":0},{"$f":"'27. Searcher Profile Data'!AE53","v":0},{"$f":"'27. Searcher Profile Data'!AF53","v":0},{"$f":"'27. Searcher Profile Data'!AG53","v":0},{"$f":"'27. Searcher Profile Data'!AH53","v":0},{"$f":"'27. Searcher Profile Data'!AI53","v":0},{"$f":"'27. Searcher Profile Data'!AJ53","v":0},{"$f":"'27. Searcher Profile Data'!AK53","v":0},{"$f":"'27. Searcher Profile Data'!AL53","v":0},{"$f":"'27. Searcher Profile Data'!AM53","v":0},{"$f":"'27. Searcher Profile Data'!AN53","v":0},{"$f":"'27. Searcher Profile Data'!AO53","v":0},{"$f":"'27. Searcher Profile Data'!AP53","v":0},{"$f":"'27. Searcher Profile Data'!AQ53","v":0},{"$f":"'27. Searcher Profile Data'!AR53","v":0},{"$f":"'27. Searcher Profile Data'!AS53","v":0},{"$f":"'27. Searcher Profile Data'!AT53","v":0},{"$f":"'27. Searcher Profile Data'!AU53","v":0},{"$f":"'27. Searcher Profile Data'!AV53","v":0},{"$f":"'27. Searcher Profile Data'!AW53","v":0},{"$f":"'27. Searcher Profile Data'!AX53","v":0},{"$f":"'27. Searcher Profile Data'!AY53","v":0},{"$f":"'27. Searcher Profile Data'!AZ53","v":0},{"$f":"'27. Searcher Profile Data'!BA53","v":0},{"$f":"'27. Searcher Profile Data'!BB53","v":0},{"$f":"'27. Searcher Profile Data'!BC53","v":0},{"$f":"'27. Searcher Profile Data'!BD53","v":0},{"$f":"'27. Searcher Profile Data'!BE53","v":0},{"$f":"'27. Searcher Profile Data'!BF53","v":0},{"$f":"'27. Searcher Profile Data'!BG53","v":0},{"$f":"'27. Searcher Profile Data'!BH53","v":0},{"$f":"'27. Searcher Profile Data'!BI53","v":0},{"$f":"'27. Searcher Profile Data'!BJ53","v":0},{"$f":"'27. Searcher Profile Data'!BK53","v":0},{"$f":"'27. Searcher Profile Data'!BL53","v":0},{"$f":"'27. Searcher Profile Data'!BM53","v":0},{"$f":"'27. Searcher Profile Data'!BN53","v":0},{"$f":"'27. Searcher Profile Data'!BO53","v":0},{"$f":"'27. Searcher Profile Data'!BP53","v":0},{"$f":"'27. Searcher Profile Data'!BQ53","v":0},{"$f":"'27. Searcher Profile Data'!BR53","v":0},{"$f":"'27. Searcher Profile Data'!BS53","v":0},{"$f":"'27. Searcher Profile Data'!BT53","v":0},{"$f":"'27. Searcher Profile Data'!BU53","v":0},{"$f":"'27. Searcher Profile Data'!BV53","v":0},{"$f":"'27. Searcher Profile Data'!BW53","v":0},{"$f":"'27. Searcher Profile Data'!BX53","v":0},{"$f":"'27. Searcher Profile Data'!BY53","v":0},{"$f":"'27. Searcher Profile Data'!BZ53","v":0}]
[{"$f":"'27. Searcher Profile Data'!A54","v":"Data logger: Wore hat/hood"},null,{"$f":"'27. Searcher Profile Data'!B54","v":0},{"$f":"'27. Searcher Profile Data'!C54","v":0},{"$f":"'27. Searcher Profile Data'!D54","v":0},{"$f":"'27. Searcher Profile Data'!E54","v":0},{"$f":"'27. Searcher Profile Data'!F54","v":0},{"$f":"'27. Searcher Profile Data'!G54","v":0},{"$f":"'27. Searcher Profile Data'!H54","v":0},{"$f":"'27. Searcher Profile Data'!I54","v":0},{"$f":"'27. Searcher Profile Data'!J54","v":0},{"$f":"'27. Searcher Profile Data'!K54","v":0},{"$f":"'27. Searcher Profile Data'!L54","v":0},{"$f":"'27. Searcher Profile Data'!M54","v":0},{"$f":"'27. Searcher Profile Data'!N54","v":0},{"$f":"'27. Searcher Profile Data'!O54","v":0},{"$f":"'27. Searcher Profile Data'!P54","v":0},{"$f":"'27. Searcher Profile Data'!Q54","v":0},{"$f":"'27. Searcher Profile Data'!R54","v":0},{"$f":"'27. Searcher Profile Data'!S54","v":0},{"$f":"'27. Searcher Profile Data'!T54","v":0},{"$f":"'27. Searcher Profile Data'!U54","v":0},{"$f":"'27. Searcher Profile Data'!V54","v":0},{"$f":"'27. Searcher Profile Data'!W54","v":0},{"$f":"'27. Searcher Profile Data'!X54","v":0},{"$f":"'27. Searcher Profile Data'!Y54","v":0},{"$f":"'27. Searcher Profile Data'!Z54","v":0},{"$f":"'27. Searcher Profile Data'!AA54","v":0},{"$f":"'27. Searcher Profile Data'!AB54","v":0},{"$f":"'27. Searcher Profile Data'!AC54","v":0},{"$f":"'27. Searcher Profile Data'!AD54","v":0},{"$f":"'27. Searcher Profile Data'!AE54","v":0},{"$f":"'27. Searcher Profile Data'!AF54","v":0},{"$f":"'27. Searcher Profile Data'!AG54","v":0},{"$f":"'27. Searcher Profile Data'!AH54","v":0},{"$f":"'27. Searcher Profile Data'!AI54","v":0},{"$f":"'27. Searcher Profile Data'!AJ54","v":0},{"$f":"'27. Searcher Profile Data'!AK54","v":0},{"$f":"'27. Searcher Profile Data'!AL54","v":0},{"$f":"'27. Searcher Profile Data'!AM54","v":0},{"$f":"'27. Searcher Profile Data'!AN54","v":0},{"$f":"'27. Searcher Profile Data'!AO54","v":0},{"$f":"'27. Searcher Profile Data'!AP54","v":0},{"$f":"'27. Searcher Profile Data'!AQ54","v":0},{"$f":"'27. Searcher Profile Data'!AR54","v":0},{"$f":"'27. Searcher Profile Data'!AS54","v":0},{"$f":"'27. Searcher Profile Data'!AT54","v":0},{"$f":"'27. Searcher Profile Data'!AU54","v":0},{"$f":"'27. Searcher Profile Data'!AV54","v":0},{"$f":"'27. Searcher Profile Data'!AW54","v":0},{"$f":"'27. Searcher Profile Data'!AX54","v":0},{"$f":"'27. Searcher Profile Data'!AY54","v":0},{"$f":"'27. Searcher Profile Data'!AZ54","v":0},{"$f":"'27. Searcher Profile Data'!BA54","v":0},{"$f":"'27. Searcher Profile Data'!BB54","v":0},{"$f":"'27. Searcher Profile Data'!BC54","v":0},{"$f":"'27. Searcher Profile Data'!BD54","v":0},{"$f":"'27. Searcher Profile Data'!BE54","v":0},{"$f":"'27. Searcher Profile Data'!BF54","v":0},{"$f":"'27. Searcher Profile Data'!BG54","v":0},{"$f":"'27. Searcher Profile Data'!BH54","v":0},{"$f":"'27. Searcher Profile Data'!BI54","v":0},{"$f":"'27. Searcher Profile Data'!BJ54","v":0},{"$f":"'27. Searcher Profile Data'!BK54","v":0},{"$f":"'27. Searcher Profile Data'!BL54","v":0},{"$f":"'27. Searcher Profile Data'!BM54","v":0},{"$f":"'27. Searcher Profile Data'!BN54","v":0},{"$f":"'27. Searcher Profile Data'!BO54","v":0},{"$f":"'27. Searcher Profile Data'!BP54","v":0},{"$f":"'27. Searcher Profile Data'!BQ54","v":0},{"$f":"'27. Searcher Profile Data'!BR54","v":0},{"$f":"'27. Searcher Profile Data'!BS54","v":0},{"$f":"'27. Searcher Profile Data'!BT54","v":0},{"$f":"'27. Searcher Profile Data'!BU54","v":0},{"$f":"'27. Searcher Profile Data'!BV54","v":0},{"$f":"'27. Searcher Profile Data'!BW54","v":0},{"$f":"'27. Searcher Profile Data'!BX54","v":0},{"$f":"'27. Searcher Profile Data'!BY54","v":0},{"$f":"'27. Searcher Profile Data'!BZ54","v":0}]
[]
["Search Object Type # 1",{"$f":"'23. Data Input Object # 1'!K1","v":"Adult High-Visibility"}]
[{"$f":"'23. Data Input Object # 1'!A4","v":"Location #"},{"$f":"'23. Data Input Object # 1'!B4","v":"LR"},{"$f":"'23. Data Input Object # 1'!C4","v":1},{"$f":"'23. Data Input Object # 1'!D4","v":2},{"$f":"'23. Data Input Object # 1'!E4","v":3},{"$f":"'23. Data Input Object # 1'!F4","v":4},{"$f":"'23. Data Input Object # 1'!G4","v":5},{"$f":"'23. Data Input Object # 1'!H4","v":6},{"$f":"'23. Data Input Object # 1'!I4","v":7},{"$f":"'23. Data Input Object # 1'!J4","v":8},{"$f":"'23. Data Input Object # 1'!K4","v":9},{"$f":"'23. Data Input Object # 1'!L4","v":10},{"$f":"'23. Data Input Object # 1'!M4","v":11},{"$f":"'23. Data Input Object # 1'!N4","v":12},{"$f":"'23. Data Input Object # 1'!O4","v":13},{"$f":"'23. Data Input Object # 1'!P4","v":14},{"$f":"'23. Data Input Object # 1'!Q4","v":15},{"$f":"'23. Data Input Object # 1'!R4","v":16},{"$f":"'23. Data Input Object # 1'!S4","v":17},{"$f":"'23. Data Input Object # 1'!T4","v":18},{"$f":"'23. Data Input Object # 1'!U4","v":19},{"$f":"'23. Data Input Object # 1'!V4","v":20},{"$f":"'23. Data Input Object # 1'!W4","v":21},{"$f":"'23. Data Input Object # 1'!X4","v":22},{"$f":"'23. Data Input Object # 1'!Y4","v":23},{"$f":"'23. Data Input Object # 1'!Z4","v":24},{"$f":"'23. Data Input Object # 1'!AA4","v":25},{"$f":"'23. Data Input Object # 1'!AB4","v":26},{"$f":"'23. Data Input Object # 1'!AC4","v":27},{"$f":"'23. Data Input Object # 1'!AD4","v":28},{"$f":"'23. Data Input Object # 1'!AE4","v":29},{"$f":"'23. Data Input Object # 1'!AF4","v":30},{"$f":"'23. Data Input Object # 1'!AG4","v":31},{"$f":"'23. Data Input Object # 1'!AH4","v":32},{"$f":"'23. Data Input Object # 1'!AI4","v":33},{"$f":"'23. Data Input Object # 1'!AJ4","v":34},{"$f":"'23. Data Input Object # 1'!AK4","v":35},{"$f":"'23. Data Input Object # 1'!AL4","v":36},{"$f":"'23. Data Input Object # 1'!AM4","v":37},{"$f":"'23. Data Input Object # 1'!AN4","v":38},{"$f":"'23. Data Input Object # 1'!AO4","v":39},{"$f":"'23. Data Input Object # 1'!AP4","v":40},{"$f":"'23. Data Input Object # 1'!AQ4","v":41},{"$f":"'23. Data Input Object # 1'!AR4","v":42},{"$f":"'23. Data Input Object # 1'!AS4","v":43},{"$f":"'23. Data Input Object # 1'!AT4","v":44},{"$f":"'23. Data Input Object # 1'!AU4","v":45},{"$f":"'23. Data Input Object # 1'!AV4","v":46},{"$f":"'23. Data Input Object # 1'!AW4","v":47},{"$f":"'23. Data Input Object # 1'!AX4","v":48},{"$f":"'23. Data Input Object # 1'!AY4","v":49},{"$f":"'23. Data Input Object # 1'!AZ4","v":50},{"$f":"'23. Data Input Object # 1'!BA4","v":51},{"$f":"'23. Data Input Object # 1'!BB4","v":52},{"$f":"'23. Data Input Object # 1'!BC4","v":53},{"$f":"'23. Data Input Object # 1'!BD4","v":54},{"$f":"'23. Data Input Object # 1'!BE4","v":55},{"$f":"'23. Data Input Object # 1'!BF4","v":56},{"$f":"'23. Data Input Object # 1'!BG4","v":57},{"$f":"'23. Data Input Object # 1'!BH4","v":58},{"$f":"'23. Data Input Object # 1'!BI4","v":59},{"$f":"'23. Data Input Object # 1'!BJ4","v":60},{"$f":"'23. Data Input Object # 1'!BK4","v":61},{"$f":"'23. Data Input Object # 1'!BL4","v":62},{"$f":"'23. Data Input Object # 1'!BM4","v":63},{"$f":"'23. Data Input Object # 1'!BN4","v":64},{"$f":"'23. Data Input Object # 1'!BO4","v":65},{"$f":"'23. Data Input Object # 1'!BP4","v":66},{"$f":"'23. Data Input Object # 1'!BQ4","v":67},{"$f":"'23. Data Input Object # 1'!BR4","v":68},{"$f":"'23. Data Input Object # 1'!BS4","v":69},{"$f":"'23. Data Input Object # 1'!BT4","v":70},{"$f":"'23. Data Input Object # 1'!BU4","v":71},{"$f":"'23. Data Input Object # 1'!BV4","v":72},{"$f":"'23. Data Input Object # 1'!BW4","v":73},{"$f":"'23. Data Input Object # 1'!BX4","v":74},{"$f":"'23. Data Input Object # 1'!BY4","v":75},{"$f":"'23. Data Input Object # 1'!BZ4","v":76},{"$f":"'23. Data Input Object # 1'!CA4","v":77}]
[{"$f":"'23. Data Input Object # 1'!A5","v":1},{"$f":"'23. Data Input Object # 1'!B5","v":19},{"$f":"'23. Data Input Object # 1'!C5","v":1},{"$f":"'23. Data Input Object # 1'!D5","v":0},{"$f":"'23. Data Input Object # 1'!E5","v":1},{"$f":"'23. Data Input Object # 1'!F5","v":0},{"$f":"'23. Data Input Object # 1'!G5","v":1},{"$f":"'23. Data Input Object # 1'!H5","v":1},{"$f":"'23. Data Input Object # 1'!I5","v":1},{"$f":"'23. Data Input Object # 1'!J5","v":1},{"$f":"'23. Data Input Object # 1'!K5","v":0},{"$f":"'23. Data Input Object # 1'!L5","v":0},{"$f":"'23. Data Input Object # 1'!M5","v":1},{"$f":"'23. Data Input Object # 1'!N5","v":1},{"$f":"'23. Data Input Object # 1'!O5","v":0},{"$f":"'23. Data Input Object # 1'!P5","v":0},{"$f":"'23. Data Input Object # 1'!Q5","v":1},{"$f":"'23. Data Input Object # 1'!R5","v":0},{"$f":"'23. Data Input Object # 1'!S5","v":0},{"$f":"'23. Data Input Object # 1'!T5","v":1},{"$f":"'23. Data Input Object # 1'!U5","v":1},{"$f":"'23. Data Input Object # 1'!V5","v":1},{"$f":"'23. Data Input Object # 1'!W5","v":0},{"$f":"'23. Data Input Object # 1'!X5","v":1},{"$f":"'23. Data Input Object # 1'!Y5","v":0},{"$f":"'23. Data Input Object # 1'!Z5","v":1},{"$f":"'23. Data Input Object # 1'!AA5","v":0},{"$f":"'23. Data Input Object # 1'!AB5","v":0},{"$f":"'23. Data Input Object # 1'!AC5","v":1},{"$f":"'23. Data Input Object # 1'!AD5","v":0},{"$f":"'23. Data Input Object # 1'!AE5","v":0},{"$f":"'23. Data Input Object # 1'!AF5","v":0},{"$f":"'23. Data Input Object # 1'!AG5","v":1},{"$f":"'23. Data Input Object # 1'!AH5","v":0},{"$f":"'23. Data Input Object # 1'!AI5","v":0},{"$f":"'23. Data Input Object # 1'!AJ5","v":0},{"$f":"'23. Data Input Object # 1'!AK5","v":0},{"$f":"'23. Data Input Object # 1'!AL5","v":0},{"$f":"'23. Data Input Object # 1'!AM5","v":0},{"$f":"'23. Data Input Object # 1'!AN5","v":0},{"$f":"'23. Data Input Object # 1'!AO5","v":0},{"$f":"'23. Data Input Object # 1'!AP5","v":0},{"$f":"'23. Data Input Object # 1'!AQ5","v":0},{"$f":"'23. Data Input Object # 1'!AR5","v":0},{"$f":"'23. Data Input Object # 1'!AS5","v":0},{"$f":"'23. Data Input Object # 1'!AT5","v":0},{"$f":"'23. Data Input Object # 1'!AU5","v":0},{"$f":"'23. Data Input Object # 1'!AV5","v":0},{"$f":"'23. Data Input Object # 1'!AW5","v":0},{"$f":"'23. Data Input Object # 1'!AX5","v":0},{"$f":"'23. Data Input Object # 1'!AY5","v":0},{"$f":"'23. Data Input Object # 1'!AZ5","v":0},{"$f":"'23. Data Input Object # 1'!BA5","v":0},{"$f":"'23. Data Input Object # 1'!BB5","v":0},{"$f":"'23. Data Input Object # 1'!BC5","v":0},{"$f":"'23. Data Input Object # 1'!BD5","v":0},{"$f":"'23. Data Input Object # 1'!BE5","v":0},{"$f":"'23. Data Input Object # 1'!BF5","v":0},{"$f":"'23. Data Input Object # 1'!BG5","v":0},{"$f":"'23. Data Input Object # 1'!BH5","v":0},{"$f":"'23. Data Input Object # 1'!BI5","v":0},{"$f":"'23. Data Input Object # 1'!BJ5","v":0},{"$f":"'23. Data Input Object # 1'!BK5","v":0},{"$f":"'23. Data Input Object # 1'!BL5","v":0},{"$f":"'23. Data Input Object # 1'!BM5","v":0},{"$f":"'23. Data Input Object # 1'!BN5","v":0},{"$f":"'23. Data Input Object # 1'!BO5","v":0},{"$f":"'23. Data Input Object # 1'!BP5","v":0},{"$f":"'23. Data Input Object # 1'!BQ5","v":0},{"$f":"'23. Data Input Object # 1'!BR5","v":0},{"$f":"'23. Data Input Object # 1'!BS5","v":0},{"$f":"'23. Data Input Object # 1'!BT5","v":0},{"$f":"'23. Data Input Object # 1'!BU5","v":0},{"$f":"'23. Data Input Object # 1'!BV5","v":0},{"$f":"'23. Data Input Object # 1'!BW5","v":0},{"$f":"'23. Data Input Object # 1'!BX5","v":0},{"$f":"'23. Data Input Object # 1'!BY5","v":0},{"$f":"'23. Data Input Object # 1'!BZ5","v":0},{"$f":"'23. Data Input Object # 1'!CA5","v":0}]
[{"$f":"'23. Data Input Object # 1'!A6","v":5},{"$f":"'23. Data Input Object # 1'!B6","v":36},{"$f":"'23. Data Input Object # 1'!C6","v":1},{"$f":"'23. Data Input Object # 1'!D6","v":1},{"$f":"'23. Data Input Object # 1'!E6","v":1},{"$f":"'23. Data Input Object # 1'!F6","v":1},{"$f":"'23. Data Input Object # 1'!G6","v":1},{"$f":"'23. Data Input Object # 1'!H6","v":0},{"$f":"'23. Data Input Object # 1'!I6","v":1},{"$f":"'23. Data Input Object # 1'!J6","v":1},{"$f":"'23. Data Input Object # 1'!K6","v":1},{"$f":"'23. Data Input Object # 1'!L6","v":1},{"$f":"'23. Data Input Object # 1'!M6","v":1},{"$f":"'23. Data Input Object # 1'!N6","v":1},{"$f":"'23. Data Input Object # 1'!O6","v":0},{"$f":"'23. Data Input Object # 1'!P6","v":1},{"$f":"'23. Data Input Object # 1'!Q6","v":1},{"$f":"'23. Data Input Object # 1'!R6","v":1},{"$f":"'23. Data Input Object # 1'!S6","v":1},{"$f":"'23. Data Input Object # 1'!T6","v":1},{"$f":"'23. Data Input Object # 1'!U6","v":1},{"$f":"'23. Data Input Object # 1'!V6","v":1},{"$f":"'23. Data Input Object # 1'!W6","v":1},{"$f":"'23. Data Input Object # 1'!X6","v":1},{"$f":"'23. Data Input Object # 1'!Y6","v":0},{"$f":"'23. Data Input Object # 1'!Z6","v":0},{"$f":"'23. Data Input Object # 1'!AA6","v":1},{"$f":"'23. Data Input Object # 1'!AB6","v":1},{"$f":"'23. Data Input Object # 1'!AC6","v":1},{"$f":"'23. Data Input Object # 1'!AD6","v":1},{"$f":"'23. Data Input Object # 1'!AE6","v":0},{"$f":"'23. Data Input Object # 1'!AF6","v":1},{"$f":"'23. Data Input Object # 1'!AG6","v":1},{"$f":"'23. Data Input Object # 1'!AH6","v":1},{"$f":"'23. Data Input Object # 1'!AI6","v":0},{"$f":"'23. Data Input Object # 1'!AJ6","v":1},{"$f":"'23. Data Input Object # 1'!AK6","v":0},{"$f":"'23. Data Input Object # 1'!AL6","v":0},{"$f":"'23. Data Input Object # 1'!AM6","v":0},{"$f":"'23. Data Input Object # 1'!AN6","v":0},{"$f":"'23. Data Input Object # 1'!AO6","v":0},{"$f":"'23. Data Input Object # 1'!AP6","v":0},{"$f":"'23. Data Input Object # 1'!AQ6","v":0},{"$f":"'23. Data Input Object # 1'!AR6","v":0},{"$f":"'23. Data Input Object # 1'!AS6","v":0},{"$f":"'23. Data Input Object # 1'!AT6","v":0},{"$f":"'23. Data Input Object # 1'!AU6","v":0},{"$f":"'23. Data Input Object # 1'!AV6","v":0},{"$f":"'23. Data Input Object # 1'!AW6","v":0},{"$f":"'23. Data Input Object # 1'!AX6","v":0},{"$f":"'23. Data Input Object # 1'!AY6","v":0},{"$f":"'23. Data Input Object # 1'!AZ6","v":0},{"$f":"'23. Data Input Object # 1'!BA6","v":0},{"$f":"'23. Data Input Object # 1'!BB6","v":0},{"$f":"'23. Data Input Object # 1'!BC6","v":0},{"$f":"'23. Data Input Object # 1'!BD6","v":0},{"$f":"'23. Data Input Object # 1'!BE6","v":0},{"$f":"'23. Data Input Object # 1'!BF6","v":0},{"$f":"'23. Data Input Object # 1'!BG6","v":0},{"$f":"'23. Data Input Object # 1'!BH6","v":0},{"$f":"'23. Data Input Object # 1'!BI6","v":0},{"$f":"'23. Data Input Object # 1'!BJ6","v":0},{"$f":"'23. Data Input Object # 1'!BK6","v":0},{"$f":"'23. Data Input Object # 1'!BL6","v":0},{"$f":"'23. Data Input Object # 1'!BM6","v":0},{"$f":"'23. Data Input Object # 1'!BN6","v":0},{"$f":"'23. Data Input Object # 1'!BO6","v":0},{"$f":"'23. Data Input Object # 1'!BP6","v":0},{"$f":"'23. Data Input Object # 1'!BQ6","v":0},{"$f":"'23. Data Input Object # 1'!BR6","v":0},{"$f":"'23. Data Input Object # 1'!BS6","v":0},{"$f":"'23. Data Input Object # 1'!BT6","v":0},{"$f":"'23. Data Input Object # 1'!BU6","v":0},{"$f":"'23. Data Input Object # 1'!BV6","v":0},{"$f":"'23. Data Input Object # 1'!BW6","v":0},{"$f":"'23. Data Input Object # 1'!BX6","v":0},{"$f":"'23. Data Input Object # 1'!BY6","v":0},{"$f":"'23. Data Input Object # 1'!BZ6","v":0},{"$f":"'23. Data Input Object # 1'!CA6","v":0}]
[{"$f":"'23. Data Input Object # 1'!A7","v":8},{"$f":"'23. Data Input Object # 1'!B7","v":4},{"$f":"'23. Data Input Object # 1'!C7","v":1},{"$f":"'23. Data Input Object # 1'!D7","v":1},{"$f":"'23. Data Input Object # 1'!E7","v":1},{"$f":"'23. Data Input Object # 1'!F7","v":1},{"$f":"'23. Data Input Object # 1'!G7","v":1},{"$f":"'23. Data Input Object # 1'!H7","v":1},{"$f":"'23. Data Input Object # 1'!I7","v":1},{"$f":"'23. Data Input Object # 1'!J7","v":1},{"$f":"'23. Data Input Object # 1'!K7","v":1},{"$f":"'23. Data Input Object # 1'!L7","v":1},{"$f":"'23. Data Input Object # 1'!M7","v":1},{"$f":"'23. Data Input Object # 1'!N7","v":1},{"$f":"'23. Data Input Object # 1'!O7","v":1},{"$f":"'23. Data Input Object # 1'!P7","v":1},{"$f":"'23. Data Input Object # 1'!Q7","v":1},{"$f":"'23. Data Input Object # 1'!R7","v":1},{"$f":"'23. Data Input Object # 1'!S7","v":1},{"$f":"'23. Data Input Object # 1'!T7","v":1},{"$f":"'23. Data Input Object # 1'!U7","v":1},{"$f":"'23. Data Input Object # 1'!V7","v":1},{"$f":"'23. Data Input Object # 1'!W7","v":1},{"$f":"'23. Data Input Object # 1'!X7","v":1},{"$f":"'23. Data Input Object # 1'!Y7","v":1},{"$f":"'23. Data Input Object # 1'!Z7","v":1},{"$f":"'23. Data Input Object # 1'!AA7","v":1},{"$f":"'23. Data Input Object # 1'!AB7","v":1},{"$f":"'23. Data Input Object # 1'!AC7","v":1},{"$f":"'23. Data Input Object # 1'!AD7","v":1},{"$f":"'23. Data Input Object # 1'!AE7","v":1},{"$f":"'23. Data Input Object # 1'!AF7","v":1},{"$f":"'23. Data Input Object # 1'!AG7","v":1},{"$f":"'23. Data Input Object # 1'!AH7","v":1},{"$f":"'23. Data Input Object # 1'!AI7","v":1},{"$f":"'23. Data Input Object # 1'!AJ7","v":1},{"$f":"'23. Data Input Object # 1'!AK7","v":0},{"$f":"'23. Data Input Object # 1'!AL7","v":0},{"$f":"'23. Data Input Object # 1'!AM7","v":0},{"$f":"'23. Data Input Object # 1'!AN7","v":0},{"$f":"'23. Data Input Object # 1'!AO7","v":0},{"$f":"'23. Data Input Object # 1'!AP7","v":0},{"$f":"'23. Data Input Object # 1'!AQ7","v":0},{"$f":"'23. Data Input Object # 1'!AR7","v":0},{"$f":"'23. Data Input Object # 1'!AS7","v":0},{"$f":"'23. Data Input Object # 1'!AT7","v":0},{"$f":"'23. Data Input Object # 1'!AU7","v":0},{"$f":"'23. Data Input Object # 1'!AV7","v":0},{"$f":"'23. Data Input Object # 1'!AW7","v":0},{"$f":"'23. Data Input Object # 1'!AX7","v":0},{"$f":"'23. Data Input Object # 1'!AY7","v":0},{"$f":"'23. Data Input Object # 1'!AZ7","v":0},{"$f":"'23. Data Input Object # 1'!BA7","v":0},{"$f":"'23. Data Input Object # 1'!BB7","v":0},{"$f":"'23. Data Input Object # 1'!BC7","v":0},{"$f":"'23. Data Input Object # 1'!BD7","v":0},{"$f":"'23. Data Input Object # 1'!BE7","v":0},{"$f":"'23. Data Input Object # 1'!BF7","v":0},{"$f":"'23. Data Input Object # 1'!BG7","v":0},{"$f":"'23. Data Input Object # 1'!BH7","v":0},{"$f":"'23. Data Input Object # 1'!BI7","v":0},{"$f":"'23. Data Input Object # 1'!BJ7","v":0},{"$f":"'23. Data Input Object # 1'!BK7","v":0},{"$f":"'23. Data Input Object # 1'!BL7","v":0},{"$f":"'23. Data Input Object # 1'!BM7","v":0},{"$f":"'23. Data Input Object # 1'!BN7","v":0},{"$f":"'23. Data Input Object # 1'!BO7","v":0},{"$f":"'23. Data Input Object # 1'!BP7","v":0},{"$f":"'23. Data Input Object # 1'!BQ7","v":0},{"$f":"'23. Data Input Object # 1'!BR7","v":0},{"$f":"'23. Data Input Object # 1'!BS7","v":0},{"$f":"'23. Data Input Object # 1'!BT7","v":0},{"$f":"'23. Data Input Object # 1'!BU7","v":0},{"$f":"'23. Data Input Object # 1'!BV7","v":0},{"$f":"'23. Data Input Object # 1'!BW7","v":0},{"$f":"'23. Data Input Object # 1'!BX7","v":0},{"$f":"'23. Data Input Object # 1'!BY7","v":0},{"$f":"'23. Data Input Object # 1'!BZ7","v":0},{"$f":"'23. Data Input Object # 1'!CA7","v":0}]
[{"$f":"'23. Data Input Object # 1'!A8","v":10},{"$f":"'23. Data Input Object # 1'!B8","v":15},{"$f":"'23. Data Input Object # 1'!C8","v":0},{"$f":"'23. Data Input Object # 1'!D8","v":1},{"$f":"'23. Data Input Object # 1'!E8","v":1},{"$f":"'23. Data Input Object # 1'!F8","v":1},{"$f":"'23. Data Input Object # 1'!G8","v":1},{"$f":"'23. Data Input Object # 1'!H8","v":1},{"$f":"'23. Data Input Object # 1'!I8","v":1},{"$f":"'23. Data Input Object # 1'!J8","v":0},{"$f":"'23. Data Input Object # 1'!K8","v":1},{"$f":"'23. Data Input Object # 1'!L8","v":1},{"$f":"'23. Data Input Object # 1'!M8","v":1},{"$f":"'23. Data Input Object # 1'!N8","v":1},{"$f":"'23. Data Input Object # 1'!O8","v":1},{"$f":"'23. Data Input Object # 1'!P8","v":1},{"$f":"'23. Data Input Object # 1'!Q8","v":1},{"$f":"'23. Data Input Object # 1'!R8","v":1},{"$f":"'23. Data Input Object # 1'!S8","v":1},{"$f":"'23. Data Input Object # 1'!T8","v":1},{"$f":"'23. Data Input Object # 1'!U8","v":1},{"$f":"'23. Data Input Object # 1'!V8","v":0},{"$f":"'23. Data Input Object # 1'!W8","v":0},{"$f":"'23. Data Input Object # 1'!X8","v":1},{"$f":"'23. Data Input Object # 1'!Y8","v":1},{"$f":"'23. Data Input Object # 1'!Z8","v":0},{"$f":"'23. Data Input Object # 1'!AA8","v":1},{"$f":"'23. Data Input Object # 1'!AB8","v":1},{"$f":"'23. Data Input Object # 1'!AC8","v":1},{"$f":"'23. Data Input Object # 1'!AD8","v":1},{"$f":"'23. Data Input Object # 1'!AE8","v":0},{"$f":"'23. Data Input Object # 1'!AF8","v":1},{"$f":"'23. Data Input Object # 1'!AG8","v":1},{"$f":"'23. Data Input Object # 1'!AH8","v":1},{"$f":"'23. Data Input Object # 1'!AI8","v":0},{"$f":"'23. Data Input Object # 1'!AJ8","v":1},{"$f":"'23. Data Input Object # 1'!AK8","v":0},{"$f":"'23. Data Input Object # 1'!AL8","v":0},{"$f":"'23. Data Input Object # 1'!AM8","v":0},{"$f":"'23. Data Input Object # 1'!AN8","v":0},{"$f":"'23. Data Input Object # 1'!AO8","v":0},{"$f":"'23. Data Input Object # 1'!AP8","v":0},{"$f":"'23. Data Input Object # 1'!AQ8","v":0},{"$f":"'23. Data Input Object # 1'!AR8","v":0},{"$f":"'23. Data Input Object # 1'!AS8","v":0},{"$f":"'23. Data Input Object # 1'!AT8","v":0},{"$f":"'23. Data Input Object # 1'!AU8","v":0},{"$f":"'23. Data Input Object # 1'!AV8","v":0},{"$f":"'23. Data Input Object # 1'!AW8","v":0},{"$f":"'23. Data Input Object # 1'!AX8","v":0},{"$f":"'23. Data Input Object # 1'!AY8","v":0},{"$f":"'23. Data Input Object # 1'!AZ8","v":0},{"$f":"'23. Data Input Object # 1'!BA8","v":0},{"$f":"'23. Data Input Object # 1'!BB8","v":0},{"$f":"'23. Data Input Object # 1'!BC8","v":0},{"$f":"'23. Data Input Object # 1'!BD8","v":0},{"$f":"'23. Data Input Object # 1'!BE8","v":0},{"$f":"'23. Data Input Object # 1'!BF8","v":0},{"$f":"'23. Data Input Object # 1'!BG8","v":0},{"$f":"'23. Data Input Object # 1'!BH8","v":0},{"$f":"'23. Data Input Object # 1'!BI8","v":0},{"$f":"'23. Data Input Object # 1'!BJ8","v":0},{"$f":"'23. Data Input Object # 1'!BK8","v":0},{"$f":"'23. Data Input Object # 1'!BL8","v":0},{"$f":"'23. Data Input Object # 1'!BM8","v":0},{"$f":"'23. Data Input Object # 1'!BN8","v":0},{"$f":"'23. Data Input Object # 1'!BO8","v":0},{"$f":"'23. Data Input Object # 1'!BP8","v":0},{"$f":"'23. Data Input Object # 1'!BQ8","v":0},{"$f":"'23. Data Input Object # 1'!BR8","v":0},{"$f":"'23. Data Input Object # 1'!BS8","v":0},{"$f":"'23. Data Input Object # 1'!BT8","v":0},{"$f":"'23. Data Input Object # 1'!BU8","v":0},{"$f":"'23. Data Input Object # 1'!BV8","v":0},{"$f":"'23. Data Input Object # 1'!BW8","v":0},{"$f":"'23. Data Input Object # 1'!BX8","v":0},{"$f":"'23. Data Input Object # 1'!BY8","v":0},{"$f":"'23. Data Input Object # 1'!BZ8","v":0},{"$f":"'23. Data Input Object # 1'!CA8","v":0}]
[{"$f":"'23. Data Input Object # 1'!A9","v":11},{"$f":"'23. Data Input Object # 1'!B9","v":15},{"$f":"'23. Data Input Object # 1'!C9","v":1},{"$f":"'23. Data Input Object # 1'!D9","v":1},{"$f":"'23. Data Input Object # 1'!E9","v":1},{"$f":"'23. Data Input Object # 1'!F9","v":1},{"$f":"'23. Data Input Object # 1'!G9","v":1},{"$f":"'23. Data Input Object # 1'!H9","v":1},{"$f":"'23. Data Input Object # 1'!I9","v":1},{"$f":"'23. Data Input Object # 1'!J9","v":1},{"$f":"'23. Data Input Object # 1'!K9","v":1},{"$f":"'23. Data Input Object # 1'!L9","v":0},{"$f":"'23. Data Input Object # 1'!M9","v":1},{"$f":"'23. Data Input Object # 1'!N9","v":1},{"$f":"'23. Data Input Object # 1'!O9","v":1},{"$f":"'23. Data Input Object # 1'!P9","v":1},{"$f":"'23. Data Input Object # 1'!Q9","v":1},{"$f":"'23. Data Input Object # 1'!R9","v":1},{"$f":"'23. Data Input Object # 1'!S9","v":1},{"$f":"'23. Data Input Object # 1'!T9","v":1},{"$f":"'23. Data Input Object # 1'!U9","v":1},{"$f":"'23. Data Input Object # 1'!V9","v":1},{"$f":"'23. Data Input Object # 1'!W9","v":1},{"$f":"'23. Data Input Object # 1'!X9","v":1},{"$f":"'23. Data Input Object # 1'!Y9","v":0},{"$f":"'23. Data Input Object # 1'!Z9","v":0},{"$f":"'23. Data Input Object # 1'!AA9","v":1},{"$f":"'23. Data Input Object # 1'!AB9","v":1},{"$f":"'23. Data Input Object # 1'!AC9","v":1},{"$f":"'23. Data Input Object # 1'!AD9","v":1},{"$f":"'23. Data Input Object # 1'!AE9","v":1},{"$f":"'23. Data Input Object # 1'!AF9","v":0},{"$f":"'23. Data Input Object # 1'!AG9","v":1},{"$f":"'23. Data Input Object # 1'!AH9","v":0},{"$f":"'23. Data Input Object # 1'!AI9","v":0},{"$f":"'23. Data Input Object # 1'!AJ9","v":1},{"$f":"'23. Data Input Object # 1'!AK9","v":0},{"$f":"'23. Data Input Object # 1'!AL9","v":0},{"$f":"'23. Data Input Object # 1'!AM9","v":0},{"$f":"'23. Data Input Object # 1'!AN9","v":0},{"$f":"'23. Data Input Object # 1'!AO9","v":0},{"$f":"'23. Data Input Object # 1'!AP9","v":0},{"$f":"'23. Data Input Object # 1'!AQ9","v":0},{"$f":"'23. Data Input Object # 1'!AR9","v":0},{"$f":"'23. Data Input Object # 1'!AS9","v":0},{"$f":"'23. Data Input Object # 1'!AT9","v":0},{"$f":"'23. Data Input Object # 1'!AU9","v":0},{"$f":"'23. Data Input Object # 1'!AV9","v":0},{"$f":"'23. Data Input Object # 1'!AW9","v":0},{"$f":"'23. Data Input Object # 1'!AX9","v":0},{"$f":"'23. Data Input Object # 1'!AY9","v":0},{"$f":"'23. Data Input Object # 1'!AZ9","v":0},{"$f":"'23. Data Input Object # 1'!BA9","v":0},{"$f":"'23. Data Input Object # 1'!BB9","v":0},{"$f":"'23. Data Input Object # 1'!BC9","v":0},{"$f":"'23. Data Input Object # 1'!BD9","v":0},{"$f":"'23. Data Input Object # 1'!BE9","v":0},{"$f":"'23. Data Input Object # 1'!BF9","v":0},{"$f":"'23. Data Input Object # 1'!BG9","v":0},{"$f":"'23. Data Input Object # 1'!BH9","v":0},{"$f":"'23. Data Input Object # 1'!BI9","v":0},{"$f":"'23. Data Input Object # 1'!BJ9","v":0},{"$f":"'23. Data Input Object # 1'!BK9","v":0},{"$f":"'23. Data Input Object # 1'!BL9","v":0},{"$f":"'23. Data Input Object # 1'!BM9","v":0},{"$f":"'23. Data Input Object # 1'!BN9","v":0},{"$f":"'23. Data Input Object # 1'!BO9","v":0},{"$f":"'23. Data Input Object # 1'!BP9","v":0},{"$f":"'23. Data Input Object # 1'!BQ9","v":0},{"$f":"'23. Data Input Object # 1'!BR9","v":0},{"$f":"'23. Data Input Object # 1'!BS9","v":0},{"$f":"'23. Data Input Object # 1'!BT9","v":0},{"$f":"'23. Data Input Object # 1'!BU9","v":0},{"$f":"'23. Data Input Object # 1'!BV9","v":0},{"$f":"'23. Data Input Object # 1'!BW9","v":0},{"$f":"'23. Data Input Object # 1'!BX9","v":0},{"$f":"'23. Data Input Object # 1'!BY9","v":0},{"$f":"'23. Data Input Object # 1'!BZ9","v":0},{"$f":"'23. Data Input Object # 1'!CA9","v":0}]
[{"$f":"'23. Data Input Object # 1'!A10","v":15},{"$f":"'23. Data Input Object # 1'!B10","v":67},{"$f":"'23. Data Input Object # 1'!C10","v":0},{"$f":"'23. Data Input Object # 1'!D10","v":0},{"$f":"'23. Data Input Object # 1'!E10","v":0},{"$f":"'23. Data Input Object # 1'!F10","v":0},{"$f":"'23. Data Input Object # 1'!G10","v":0},{"$f":"'23. Data Input Object # 1'!H10","v":0},{"$f":"'23. Data Input Object # 1'!I10","v":0},{"$f":"'23. Data Input Object # 1'!J10","v":0},{"$f":"'23. Data Input Object # 1'!K10","v":0},{"$f":"'23. Data Input Object # 1'!L10","v":0},{"$f":"'23. Data Input Object # 1'!M10","v":0},{"$f":"'23. Data Input Object # 1'!N10","v":0},{"$f":"'23. Data Input Object # 1'!O10","v":0},{"$f":"'23. Data Input Object # 1'!P10","v":0},{"$f":"'23. Data Input Object # 1'!Q10","v":0},{"$f":"'23. Data Input Object # 1'!R10","v":0},{"$f":"'23. Data Input Object # 1'!S10","v":0},{"$f":"'23. Data Input Object # 1'!T10","v":0},{"$f":"'23. Data Input Object # 1'!U10","v":0},{"$f":"'23. Data Input Object # 1'!V10","v":0},{"$f":"'23. Data Input Object # 1'!W10","v":0},{"$f":"'23. Data Input Object # 1'!X10","v":0},{"$f":"'23. Data Input Object # 1'!Y10","v":0},{"$f":"'23. Data Input Object # 1'!Z10","v":0},{"$f":"'23. Data Input Object # 1'!AA10","v":0},{"$f":"'23. Data Input Object # 1'!AB10","v":0},{"$f":"'23. Data Input Object # 1'!AC10","v":0},{"$f":"'23. Data Input Object # 1'!AD10","v":0},{"$f":"'23. Data Input Object # 1'!AE10","v":0},{"$f":"'23. Data Input Object # 1'!AF10","v":0},{"$f":"'23. Data Input Object # 1'!AG10","v":0},{"$f":"'23. Data Input Object # 1'!AH10","v":0},{"$f":"'23. Data Input Object # 1'!AI10","v":0},{"$f":"'23. Data Input Object # 1'!AJ10","v":0},{"$f":"'23. Data Input Object # 1'!AK10","v":0},{"$f":"'23. Data Input Object # 1'!AL10","v":0},{"$f":"'23. Data Input Object # 1'!AM10","v":0},{"$f":"'23. Data Input Object # 1'!AN10","v":0},{"$f":"'23. Data Input Object # 1'!AO10","v":0},{"$f":"'23. Data Input Object # 1'!AP10","v":0},{"$f":"'23. Data Input Object # 1'!AQ10","v":0},{"$f":"'23. Data Input Object # 1'!AR10","v":0},{"$f":"'23. Data Input Object # 1'!AS10","v":0},{"$f":"'23. Data Input Object # 1'!AT10","v":0},{"$f":"'23. Data Input Object # 1'!AU10","v":0},{"$f":"'23. Data Input Object # 1'!AV10","v":0},{"$f":"'23. Data Input Object # 1'!AW10","v":0},{"$f":"'23. Data Input Object # 1'!AX10","v":0},{"$f":"'23. Data Input Object # 1'!AY10","v":0},{"$f":"'23. Data Input Object # 1'!AZ10","v":0},{"$f":"'23. Data Input Object # 1'!BA10","v":0},{"$f":"'23. Data Input Object # 1'!BB10","v":0},{"$f":"'23. Data Input Object # 1'!BC10","v":0},{"$f":"'23. Data Input Object # 1'!BD10","v":0},{"$f":"'23. Data Input Object # 1'!BE10","v":0},{"$f":"'23. Data Input Object # 1'!BF10","v":0},{"$f":"'23. Data Input Object # 1'!BG10","v":0},{"$f":"'23. Data Input Object # 1'!BH10","v":0},{"$f":"'23. Data Input Object # 1'!BI10","v":0},{"$f":"'23. Data Input Object # 1'!BJ10","v":0},{"$f":"'23. Data Input Object # 1'!BK10","v":0},{"$f":"'23. Data Input Object # 1'!BL10","v":0},{"$f":"'23. Data Input Object # 1'!BM10","v":0},{"$f":"'23. Data Input Object # 1'!BN10","v":0},{"$f":"'23. Data Input Object # 1'!BO10","v":0},{"$f":"'23. Data Input Object # 1'!BP10","v":0},{"$f":"'23. Data Input Object # 1'!BQ10","v":0},{"$f":"'23. Data Input Object # 1'!BR10","v":0},{"$f":"'23. Data Input Object # 1'!BS10","v":0},{"$f":"'23. Data Input Object # 1'!BT10","v":0},{"$f":"'23. Data Input Object # 1'!BU10","v":0},{"$f":"'23. Data Input Object # 1'!BV10","v":0},{"$f":"'23. Data Input Object # 1'!BW10","v":0},{"$f":"'23. Data Input Object # 1'!BX10","v":0},{"$f":"'23. Data Input Object # 1'!BY10","v":0},{"$f":"'23. Data Input Object # 1'!BZ10","v":0},{"$f":"'23. Data Input Object # 1'!CA10","v":0}]
[{"$f":"'23. Data Input Object # 1'!A11","v":19},{"$f":"'23. Data Input Object # 1'!B11","v":37},{"$f":"'23. Data Input Object # 1'!C11","v":0},{"$f":"'23. Data Input Object # 1'!D11","v":0},{"$f":"'23. Data Input Object # 1'!E11","v":0},{"$f":"'23. Data Input Object # 1'!F11","v":0},{"$f":"'23. Data Input Object # 1'!G11","v":0},{"$f":"'23. Data Input Object # 1'!H11","v":0},{"$f":"'23. Data Input Object # 1'!I11","v":0},{"$f":"'23. Data Input Object # 1'!J11","v":0},{"$f":"'23. Data Input Object # 1'!K11","v":0},{"$f":"'23. Data Input Object # 1'!L11","v":0},{"$f":"'23. Data Input Object # 1'!M11","v":0},{"$f":"'23. Data Input Object # 1'!N11","v":0},{"$f":"'23. Data Input Object # 1'!O11","v":0},{"$f":"'23. Data Input Object # 1'!P11","v":0},{"$f":"'23. Data Input Object # 1'!Q11","v":0},{"$f":"'23. Data Input Object # 1'!R11","v":0},{"$f":"'23. Data Input Object # 1'!S11","v":0},{"$f":"'23. Data Input Object # 1'!T11","v":0},{"$f":"'23. Data Input Object # 1'!U11","v":0},{"$f":"'23. Data Input Object # 1'!V11","v":0},{"$f":"'23. Data Input Object # 1'!W11","v":0},{"$f":"'23. Data Input Object # 1'!X11","v":0},{"$f":"'23. Data Input Object # 1'!Y11","v":0},{"$f":"'23. Data Input Object # 1'!Z11","v":0},{"$f":"'23. Data Input Object # 1'!AA11","v":0},{"$f":"'23. Data Input Object # 1'!AB11","v":0},{"$f":"'23. Data Input Object # 1'!AC11","v":0},{"$f":"'23. Data Input Object # 1'!AD11","v":0},{"$f":"'23. Data Input Object # 1'!AE11","v":0},{"$f":"'23. Data Input Object # 1'!AF11","v":0},{"$f":"'23. Data Input Object # 1'!AG11","v":0},{"$f":"'23. Data Input Object # 1'!AH11","v":0},{"$f":"'23. Data Input Object # 1'!AI11","v":0},{"$f":"'23. Data Input Object # 1'!AJ11","v":0},{"$f":"'23. Data Input Object # 1'!AK11","v":0},{"$f":"'23. Data Input Object # 1'!AL11","v":0},{"$f":"'23. Data Input Object # 1'!AM11","v":0},{"$f":"'23. Data Input Object # 1'!AN11","v":0},{"$f":"'23. Data Input Object # 1'!AO11","v":0},{"$f":"'23. Data Input Object # 1'!AP11","v":0},{"$f":"'23. Data Input Object # 1'!AQ11","v":0},{"$f":"'23. Data Input Object # 1'!AR11","v":0},{"$f":"'23. Data Input Object # 1'!AS11","v":0},{"$f":"'23. Data Input Object # 1'!AT11","v":0},{"$f":"'23. Data Input Object # 1'!AU11","v":0},{"$f":"'23. Data Input Object # 1'!AV11","v":0},{"$f":"'23. Data Input Object # 1'!AW11","v":0},{"$f":"'23. Data Input Object # 1'!AX11","v":0},{"$f":"'23. Data Input Object # 1'!AY11","v":0},{"$f":"'23. Data Input Object # 1'!AZ11","v":0},{"$f":"'23. Data Input Object # 1'!BA11","v":0},{"$f":"'23. Data Input Object # 1'!BB11","v":0},{"$f":"'23. Data Input Object # 1'!BC11","v":0},{"$f":"'23. Data Input Object # 1'!BD11","v":0},{"$f":"'23. Data Input Object # 1'!BE11","v":0},{"$f":"'23. Data Input Object # 1'!BF11","v":0},{"$f":"'23. Data Input Object # 1'!BG11","v":0},{"$f":"'23. Data Input Object # 1'!BH11","v":0},{"$f":"'23. Data Input Object # 1'!BI11","v":0},{"$f":"'23. Data Input Object # 1'!BJ11","v":0},{"$f":"'23. Data Input Object # 1'!BK11","v":0},{"$f":"'23. Data Input Object # 1'!BL11","v":0},{"$f":"'23. Data Input Object # 1'!BM11","v":0},{"$f":"'23. Data Input Object # 1'!BN11","v":0},{"$f":"'23. Data Input Object # 1'!BO11","v":0},{"$f":"'23. Data Input Object # 1'!BP11","v":0},{"$f":"'23. Data Input Object # 1'!BQ11","v":0},{"$f":"'23. Data Input Object # 1'!BR11","v":0},{"$f":"'23. Data Input Object # 1'!BS11","v":0},{"$f":"'23. Data Input Object # 1'!BT11","v":0},{"$f":"'23. Data Input Object # 1'!BU11","v":0},{"$f":"'23. Data Input Object # 1'!BV11","v":0},{"$f":"'23. Data Input Object # 1'!BW11","v":0},{"$f":"'23. Data Input Object # 1'!BX11","v":0},{"$f":"'23. Data Input Object # 1'!BY11","v":0},{"$f":"'23. Data Input Object # 1'!BZ11","v":0},{"$f":"'23. Data Input Object # 1'!CA11","v":0}]
[{"$f":"'23. Data Input Object # 1'!A12","v":20},{"$f":"'23. Data Input Object # 1'!B12","v":5},{"$f":"'23. Data Input Object # 1'!C12","v":1},{"$f":"'23. Data Input Object # 1'!D12","v":1},{"$f":"'23. Data Input Object # 1'!E12","v":1},{"$f":"'23. Data Input Object # 1'!F12","v":1},{"$f":"'23. Data Input Object # 1'!G12","v":1},{"$f":"'23. Data Input Object # 1'!H12","v":1},{"$f":"'23. Data Input Object # 1'!I12","v":1},{"$f":"'23. Data Input Object # 1'!J12","v":0},{"$f":"'23. Data Input Object # 1'!K12","v":1},{"$f":"'23. Data Input Object # 1'!L12","v":1},{"$f":"'23. Data Input Object # 1'!M12","v":1},{"$f":"'23. Data Input Object # 1'!N12","v":1},{"$f":"'23. Data Input Object # 1'!O12","v":1},{"$f":"'23. Data Input Object # 1'!P12","v":1},{"$f":"'23. Data Input Object # 1'!Q12","v":1},{"$f":"'23. Data Input Object # 1'!R12","v":1},{"$f":"'23. Data Input Object # 1'!S12","v":1},{"$f":"'23. Data Input Object # 1'!T12","v":1},{"$f":"'23. Data Input Object # 1'!U12","v":1},{"$f":"'23. Data Input Object # 1'!V12","v":1},{"$f":"'23. Data Input Object # 1'!W12","v":1},{"$f":"'23. Data Input Object # 1'!X12","v":1},{"$f":"'23. Data Input Object # 1'!Y12","v":1},{"$f":"'23. Data Input Object # 1'!Z12","v":1},{"$f":"'23. Data Input Object # 1'!AA12","v":1},{"$f":"'23. Data Input Object # 1'!AB12","v":1},{"$f":"'23. Data Input Object # 1'!AC12","v":1},{"$f":"'23. Data Input Object # 1'!AD12","v":1},{"$f":"'23. Data Input Object # 1'!AE12","v":1},{"$f":"'23. Data Input Object # 1'!AF12","v":1},{"$f":"'23. Data Input Object # 1'!AG12","v":1},{"$f":"'23. Data Input Object # 1'!AH12","v":1},{"$f":"'23. Data Input Object # 1'!AI12","v":0},{"$f":"'23. Data Input Object # 1'!AJ12","v":1},{"$f":"'23. Data Input Object # 1'!AK12","v":0},{"$f":"'23. Data Input Object # 1'!AL12","v":0},{"$f":"'23. Data Input Object # 1'!AM12","v":0},{"$f":"'23. Data Input Object # 1'!AN12","v":0},{"$f":"'23. Data Input Object # 1'!AO12","v":0},{"$f":"'23. Data Input Object # 1'!AP12","v":0},{"$f":"'23. Data Input Object # 1'!AQ12","v":0},{"$f":"'23. Data Input Object # 1'!AR12","v":0},{"$f":"'23. Data Input Object # 1'!AS12","v":0},{"$f":"'23. Data Input Object # 1'!AT12","v":0},{"$f":"'23. Data Input Object # 1'!AU12","v":0},{"$f":"'23. Data Input Object # 1'!AV12","v":0},{"$f":"'23. Data Input Object # 1'!AW12","v":0},{"$f":"'23. Data Input Object # 1'!AX12","v":0},{"$f":"'23. Data Input Object # 1'!AY12","v":0},{"$f":"'23. Data Input Object # 1'!AZ12","v":0},{"$f":"'23. Data Input Object # 1'!BA12","v":0},{"$f":"'23. Data Input Object # 1'!BB12","v":0},{"$f":"'23. Data Input Object # 1'!BC12","v":0},{"$f":"'23. Data Input Object # 1'!BD12","v":0},{"$f":"'23. Data Input Object # 1'!BE12","v":0},{"$f":"'23. Data Input Object # 1'!BF12","v":0},{"$f":"'23. Data Input Object # 1'!BG12","v":0},{"$f":"'23. Data Input Object # 1'!BH12","v":0},{"$f":"'23. Data Input Object # 1'!BI12","v":0},{"$f":"'23. Data Input Object # 1'!BJ12","v":0},{"$f":"'23. Data Input Object # 1'!BK12","v":0},{"$f":"'23. Data Input Object # 1'!BL12","v":0},{"$f":"'23. Data Input Object # 1'!BM12","v":0},{"$f":"'23. Data Input Object # 1'!BN12","v":0},{"$f":"'23. Data Input Object # 1'!BO12","v":0},{"$f":"'23. Data Input Object # 1'!BP12","v":0},{"$f":"'23. Data Input Object # 1'!BQ12","v":0},{"$f":"'23. Data Input Object # 1'!BR12","v":0},{"$f":"'23. Data Input Object # 1'!BS12","v":0},{"$f":"'23. Data Input Object # 1'!BT12","v":0},{"$f":"'23. Data Input Object # 1'!BU12","v":0},{"$f":"'23. Data Input Object # 1'!BV12","v":0},{"$f":"'23. Data Input Object # 1'!BW12","v":0},{"$f":"'23. Data Input Object # 1'!BX12","v":0},{"$f":"'23. Data Input Object # 1'!BY12","v":0},{"$f":"'23. Data Input Object # 1'!BZ12","v":0},{"$f":"'23. Data Input Object # 1'!CA12","v":0}]
[{"$f":"'23. Data Input Object # 1'!A13","v":21},{"$f":"'23. Data Input Object # 1'!B13","v":40},{"$f":"'23. Data Input Object # 1'!C13","v":0},{"$f":"'23. Data Input Object # 1'!D13","v":0},{"$f":"'23. Data Input Object # 1'!E13","v":0},{"$f":"'23. Data Input Object # 1'!F13","v":1},{"$f":"'23. Data Input Object # 1'!G13","v":1},{"$f":"'23. Data Input Object # 1'!H13","v":0},{"$f":"'23. Data Input Object # 1'!I13","v":1},{"$f":"'23. Data Input Object # 1'!J13","v":1},{"$f":"'23. Data Input Object # 1'!K13","v":1},{"$f":"'23. Data Input Object # 1'!L13","v":0},{"$f":"'23. Data Input Object # 1'!M13","v":1},{"$f":"'23. Data Input Object # 1'!N13","v":0},{"$f":"'23. Data Input Object # 1'!O13","v":1},{"$f":"'23. Data Input Object # 1'!P13","v":1},{"$f":"'23. Data Input Object # 1'!Q13","v":1},{"$f":"'23. Data Input Object # 1'!R13","v":1},{"$f":"'23. Data Input Object # 1'!S13","v":0},{"$f":"'23. Data Input Object # 1'!T13","v":1},{"$f":"'23. Data Input Object # 1'!U13","v":1},{"$f":"'23. Data Input Object # 1'!V13","v":1},{"$f":"'23. Data Input Object # 1'!W13","v":0},{"$f":"'23. Data Input Object # 1'!X13","v":1},{"$f":"'23. Data Input Object # 1'!Y13","v":1},{"$f":"'23. Data Input Object # 1'!Z13","v":0},{"$f":"'23. Data Input Object # 1'!AA13","v":0},{"$f":"'23. Data Input Object # 1'!AB13","v":1},{"$f":"'23. Data Input Object # 1'!AC13","v":1},{"$f":"'23. Data Input Object # 1'!AD13","v":1},{"$f":"'23. Data Input Object # 1'!AE13","v":0},{"$f":"'23. Data Input Object # 1'!AF13","v":0},{"$f":"'23. Data Input Object # 1'!AG13","v":1},{"$f":"'23. Data Input Object # 1'!AH13","v":0},{"$f":"'23. Data Input Object # 1'!AI13","v":1},{"$f":"'23. Data Input Object # 1'!AJ13","v":1},{"$f":"'23. Data Input Object # 1'!AK13","v":0},{"$f":"'23. Data Input Object # 1'!AL13","v":0},{"$f":"'23. Data Input Object # 1'!AM13","v":0},{"$f":"'23. Data Input Object # 1'!AN13","v":0},{"$f":"'23. Data Input Object # 1'!AO13","v":0},{"$f":"'23. Data Input Object # 1'!AP13","v":0},{"$f":"'23. Data Input Object # 1'!AQ13","v":0},{"$f":"'23. Data Input Object # 1'!AR13","v":0},{"$f":"'23. Data Input Object # 1'!AS13","v":0},{"$f":"'23. Data Input Object # 1'!AT13","v":0},{"$f":"'23. Data Input Object # 1'!AU13","v":0},{"$f":"'23. Data Input Object # 1'!AV13","v":0},{"$f":"'23. Data Input Object # 1'!AW13","v":0},{"$f":"'23. Data Input Object # 1'!AX13","v":0},{"$f":"'23. Data Input Object # 1'!AY13","v":0},{"$f":"'23. Data Input Object # 1'!AZ13","v":0},{"$f":"'23. Data Input Object # 1'!BA13","v":0},{"$f":"'23. Data Input Object # 1'!BB13","v":0},{"$f":"'23. Data Input Object # 1'!BC13","v":0},{"$f":"'23. Data Input Object # 1'!BD13","v":0},{"$f":"'23. Data Input Object # 1'!BE13","v":0},{"$f":"'23. Data Input Object # 1'!BF13","v":0},{"$f":"'23. Data Input Object # 1'!BG13","v":0},{"$f":"'23. Data Input Object # 1'!BH13","v":0},{"$f":"'23. Data Input Object # 1'!BI13","v":0},{"$f":"'23. Data Input Object # 1'!BJ13","v":0},{"$f":"'23. Data Input Object # 1'!BK13","v":0},{"$f":"'23. Data Input Object # 1'!BL13","v":0},{"$f":"'23. Data Input Object # 1'!BM13","v":0},{"$f":"'23. Data Input Object # 1'!BN13","v":0},{"$f":"'23. Data Input Object # 1'!BO13","v":0},{"$f":"'23. Data Input Object # 1'!BP13","v":0},{"$f":"'23. Data Input Object # 1'!BQ13","v":0},{"$f":"'23. Data Input Object # 1'!BR13","v":0},{"$f":"'23. Data Input Object # 1'!BS13","v":0},{"$f":"'23. Data Input Object # 1'!BT13","v":0},{"$f":"'23. Data Input Object # 1'!BU13","v":0},{"$f":"'23. Data Input Object # 1'!BV13","v":0},{"$f":"'23. Data Input Object # 1'!BW13","v":0},{"$f":"'23. Data Input Object # 1'!BX13","v":0},{"$f":"'23. Data Input Object # 1'!BY13","v":0},{"$f":"'23. Data Input Object # 1'!BZ13","v":0},{"$f":"'23. Data Input Object # 1'!CA13","v":0}]
[{"$f":"'23. Data Input Object # 1'!A14","v":22},{"$f":"'23. Data Input Object # 1'!B14","v":36},{"$f":"'23. Data Input Object # 1'!C14","v":0},{"$f":"'23. Data Input Object # 1'!D14","v":0},{"$f":"'23. Data Input Object # 1'!E14","v":0},{"$f":"'23. Data Input Object # 1'!F14","v":0},{"$f":"'23. Data Input Object # 1'!G14","v":0},{"$f":"'23. Data Input Object # 1'!H14","v":0},{"$f":"'23. Data Input Object # 1'!I14","v":0},{"$f":"'23. Data Input Object # 1'!J14","v":0},{"$f":"'23. Data Input Object # 1'!K14","v":0},{"$f":"'23. Data Input Object # 1'!L14","v":0},{"$f":"'23. Data Input Object # 1'!M14","v":0},{"$f":"'23. Data Input Object # 1'!N14","v":0},{"$f":"'23. Data Input Object # 1'!O14","v":0},{"$f":"'23. Data Input Object # 1'!P14","v":0},{"$f":"'23. Data Input Object # 1'!Q14","v":0},{"$f":"'23. Data Input Object # 1'!R14","v":0},{"$f":"'23. Data Input Object # 1'!S14","v":0},{"$f":"'23. Data Input Object # 1'!T14","v":0},{"$f":"'23. Data Input Object # 1'!U14","v":0},{"$f":"'23. Data Input Object # 1'!V14","v":0},{"$f":"'23. Data Input Object # 1'!W14","v":0},{"$f":"'23. Data Input Object # 1'!X14","v":0},{"$f":"'23. Data Input Object # 1'!Y14","v":0},{"$f":"'23. Data Input Object # 1'!Z14","v":0},{"$f":"'23. Data Input Object # 1'!AA14","v":0},{"$f":"'23. Data Input Object # 1'!AB14","v":0},{"$f":"'23. Data Input Object # 1'!AC14","v":0},{"$f":"'23. Data Input Object # 1'!AD14","v":0},{"$f":"'23. Data Input Object # 1'!AE14","v":0},{"$f":"'23. Data Input Object # 1'!AF14","v":0},{"$f":"'23. Data Input Object # 1'!AG14","v":0},{"$f":"'23. Data Input Object # 1'!AH14","v":0},{"$f":"'23. Data Input Object # 1'!AI14","v":0},{"$f":"'23. Data Input Object # 1'!AJ14","v":0},{"$f":"'23. Data Input Object # 1'!AK14","v":0},{"$f":"'23. Data Input Object # 1'!AL14","v":0},{"$f":"'23. Data Input Object # 1'!AM14","v":0},{"$f":"'23. Data Input Object # 1'!AN14","v":0},{"$f":"'23. Data Input Object # 1'!AO14","v":0},{"$f":"'23. Data Input Object # 1'!AP14","v":0},{"$f":"'23. Data Input Object # 1'!AQ14","v":0},{"$f":"'23. Data Input Object # 1'!AR14","v":0},{"$f":"'23. Data Input Object # 1'!AS14","v":0},{"$f":"'23. Data Input Object # 1'!AT14","v":0},{"$f":"'23. Data Input Object # 1'!AU14","v":0},{"$f":"'23. Data Input Object # 1'!AV14","v":0},{"$f":"'23. Data Input Object # 1'!AW14","v":0},{"$f":"'23. Data Input Object # 1'!AX14","v":0},{"$f":"'23. Data Input Object # 1'!AY14","v":0},{"$f":"'23. Data Input Object # 1'!AZ14","v":0},{"$f":"'23. Data Input Object # 1'!BA14","v":0},{"$f":"'23. Data Input Object # 1'!BB14","v":0},{"$f":"'23. Data Input Object # 1'!BC14","v":0},{"$f":"'23. Data Input Object # 1'!BD14","v":0},{"$f":"'23. Data Input Object # 1'!BE14","v":0},{"$f":"'23. Data Input Object # 1'!BF14","v":0},{"$f":"'23. Data Input Object # 1'!BG14","v":0},{"$f":"'23. Data Input Object # 1'!BH14","v":0},{"$f":"'23. Data Input Object # 1'!BI14","v":0},{"$f":"'23. Data Input Object # 1'!BJ14","v":0},{"$f":"'23. Data Input Object # 1'!BK14","v":0},{"$f":"'23. Data Input Object # 1'!BL14","v":0},{"$f":"'23. Data Input Object # 1'!BM14","v":0},{"$f":"'23. Data Input Object # 1'!BN14","v":0},{"$f":"'23. Data Input Object # 1'!BO14","v":0},{"$f":"'23. Data Input Object # 1'!BP14","v":0},{"$f":"'23. Data Input Object # 1'!BQ14","v":0},{"$f":"'23. Data Input Object # 1'!BR14","v":0},{"$f":"'23. Data Input Object # 1'!BS14","v":0},{"$f":"'23. Data Input Object # 1'!BT14","v":0},{"$f":"'23. Data Input Object # 1'!BU14","v":0},{"$f":"'23. Data Input Object # 1'!BV14","v":0},{"$f":"'23. Data Input Object # 1'!BW14","v":0},{"$f":"'23. Data Input Object # 1'!BX14","v":0},{"$f":"'23. Data Input Object # 1'!BY14","v":0},{"$f":"'23. Data Input Object # 1'!BZ14","v":0},{"$f":"'23. Data Input Object # 1'!CA14","v":0}]
[{"$f":"'23. Data Input Object # 1'!A15","v":30},{"$f":"'23. Data Input Object # 1'!B15","v":23},{"$f":"'23. Data Input Object # 1'!C15","v":0},{"$f":"'23. Data Input Object # 1'!D15","v":0},{"$f":"'23. Data Input Object # 1'!E15","v":0},{"$f":"'23. Data Input Object # 1'!F15","v":0},{"$f":"'23. Data Input Object # 1'!G15","v":0},{"$f":"'23. Data Input Object # 1'!H15","v":0},{"$f":"'23. Data Input Object # 1'!I15","v":0},{"$f":"'23. Data Input Object # 1'!J15","v":0},{"$f":"'23. Data Input Object # 1'!K15","v":0},{"$f":"'23. Data Input Object # 1'!L15","v":0},{"$f":"'23. Data Input Object # 1'!M15","v":1},{"$f":"'23. Data Input Object # 1'!N15","v":0},{"$f":"'23. Data Input Object # 1'!O15","v":0},{"$f":"'23. Data Input Object # 1'!P15","v":0},{"$f":"'23. Data Input Object # 1'!Q15","v":0},{"$f":"'23. Data Input Object # 1'!R15","v":0},{"$f":"'23. Data Input Object # 1'!S15","v":0},{"$f":"'23. Data Input Object # 1'!T15","v":1},{"$f":"'23. Data Input Object # 1'!U15","v":0},{"$f":"'23. Data Input Object # 1'!V15","v":0},{"$f":"'23. Data Input Object # 1'!W15","v":0},{"$f":"'23. Data Input Object # 1'!X15","v":0},{"$f":"'23. Data Input Object # 1'!Y15","v":0},{"$f":"'23. Data Input Object # 1'!Z15","v":0},{"$f":"'23. Data Input Object # 1'!AA15","v":0},{"$f":"'23. Data Input Object # 1'!AB15","v":0},{"$f":"'23. Data Input Object # 1'!AC15","v":0},{"$f":"'23. Data Input Object # 1'!AD15","v":0},{"$f":"'23. Data Input Object # 1'!AE15","v":0},{"$f":"'23. Data Input Object # 1'!AF15","v":0},{"$f":"'23. Data Input Object # 1'!AG15","v":0},{"$f":"'23. Data Input Object # 1'!AH15","v":0},{"$f":"'23. Data Input Object # 1'!AI15","v":0},{"$f":"'23. Data Input Object # 1'!AJ15","v":0},{"$f":"'23. Data Input Object # 1'!AK15","v":0},{"$f":"'23. Data Input Object # 1'!AL15","v":0},{"$f":"'23. Data Input Object # 1'!AM15","v":0},{"$f":"'23. Data Input Object # 1'!AN15","v":0},{"$f":"'23. Data Input Object # 1'!AO15","v":0},{"$f":"'23. Data Input Object # 1'!AP15","v":0},{"$f":"'23. Data Input Object # 1'!AQ15","v":0},{"$f":"'23. Data Input Object # 1'!AR15","v":0},{"$f":"'23. Data Input Object # 1'!AS15","v":0},{"$f":"'23. Data Input Object # 1'!AT15","v":0},{"$f":"'23. Data Input Object # 1'!AU15","v":0},{"$f":"'23. Data Input Object # 1'!AV15","v":0},{"$f":"'23. Data Input Object # 1'!AW15","v":0},{"$f":"'23. Data Input Object # 1'!AX15","v":0},{"$f":"'23. Data Input Object # 1'!AY15","v":0},{"$f":"'23. Data Input Object # 1'!AZ15","v":0},{"$f":"'23. Data Input Object # 1'!BA15","v":0},{"$f":"'23. Data Input Object # 1'!BB15","v":0},{"$f":"'23. Data Input Object # 1'!BC15","v":0},{"$f":"'23. Data Input Object # 1'!BD15","v":0},{"$f":"'23. Data Input Object # 1'!BE15","v":0},{"$f":"'23. Data Input Object # 1'!BF15","v":0},{"$f":"'23. Data Input Object # 1'!BG15","v":0},{"$f":"'23. Data Input Object # 1'!BH15","v":0},{"$f":"'23. Data Input Object # 1'!BI15","v":0},{"$f":"'23. Data Input Object # 1'!BJ15","v":0},{"$f":"'23. Data Input Object # 1'!BK15","v":0},{"$f":"'23. Data Input Object # 1'!BL15","v":0},{"$f":"'23. Data Input Object # 1'!BM15","v":0},{"$f":"'23. Data Input Object # 1'!BN15","v":0},{"$f":"'23. Data Input Object # 1'!BO15","v":0},{"$f":"'23. Data Input Object # 1'!BP15","v":0},{"$f":"'23. Data Input Object # 1'!BQ15","v":0},{"$f":"'23. Data Input Object # 1'!BR15","v":0},{"$f":"'23. Data Input Object # 1'!BS15","v":0},{"$f":"'23. Data Input Object # 1'!BT15","v":0},{"$f":"'23. Data Input Object # 1'!BU15","v":0},{"$f":"'23. Data Input Object # 1'!BV15","v":0},{"$f":"'23. Data Input Object # 1'!BW15","v":0},{"$f":"'23. Data Input Object # 1'!BX15","v":0},{"$f":"'23. Data Input Object # 1'!BY15","v":0},{"$f":"'23. Data Input Object # 1'!BZ15","v":0},{"$f":"'23. Data Input Object # 1'!CA15","v":0}]
[{"$f":"'23. Data Input Object # 1'!A16","v":32},{"$f":"'23. Data Input Object # 1'!B16","v":29},{"$f":"'23. Data Input Object # 1'!C16","v":0},{"$f":"'23. Data Input Object # 1'!D16","v":0},{"$f":"'23. Data Input Object # 1'!E16","v":0},{"$f":"'23. Data Input Object # 1'!F16","v":0},{"$f":"'23. Data Input Object # 1'!G16","v":0},{"$f":"'23. Data Input Object # 1'!H16","v":0},{"$f":"'23. Data Input Object # 1'!I16","v":0},{"$f":"'23. Data Input Object # 1'!J16","v":0},{"$f":"'23. Data Input Object # 1'!K16","v":0},{"$f":"'23. Data Input Object # 1'!L16","v":0},{"$f":"'23. Data Input Object # 1'!M16","v":0},{"$f":"'23. Data Input Object # 1'!N16","v":0},{"$f":"'23. Data Input Object # 1'!O16","v":1},{"$f":"'23. Data Input Object # 1'!P16","v":0},{"$f":"'23. Data Input Object # 1'!Q16","v":0},{"$f":"'23. Data Input Object # 1'!R16","v":0},{"$f":"'23. Data Input Object # 1'!S16","v":0},{"$f":"'23. Data Input Object # 1'!T16","v":0},{"$f":"'23. Data Input Object # 1'!U16","v":0},{"$f":"'23. Data Input Object # 1'!V16","v":0},{"$f":"'23. Data Input Object # 1'!W16","v":0},{"$f":"'23. Data Input Object # 1'!X16","v":0},{"$f":"'23. Data Input Object # 1'!Y16","v":0},{"$f":"'23. Data Input Object # 1'!Z16","v":0},{"$f":"'23. Data Input Object # 1'!AA16","v":0},{"$f":"'23. Data Input Object # 1'!AB16","v":0},{"$f":"'23. Data Input Object # 1'!AC16","v":0},{"$f":"'23. Data Input Object # 1'!AD16","v":0},{"$f":"'23. Data Input Object # 1'!AE16","v":0},{"$f":"'23. Data Input Object # 1'!AF16","v":0},{"$f":"'23. Data Input Object # 1'!AG16","v":0},{"$f":"'23. Data Input Object # 1'!AH16","v":0},{"$f":"'23. Data Input Object # 1'!AI16","v":0},{"$f":"'23. Data Input Object # 1'!AJ16","v":0},{"$f":"'23. Data Input Object # 1'!AK16","v":0},{"$f":"'23. Data Input Object # 1'!AL16","v":0},{"$f":"'23. Data Input Object # 1'!AM16","v":0},{"$f":"'23. Data Input Object # 1'!AN16","v":0},{"$f":"'23. Data Input Object # 1'!AO16","v":0},{"$f":"'23. Data Input Object # 1'!AP16","v":0},{"$f":"'23. Data Input Object # 1'!AQ16","v":0},{"$f":"'23. Data Input Object # 1'!AR16","v":0},{"$f":"'23. Data Input Object # 1'!AS16","v":0},{"$f":"'23. Data Input Object # 1'!AT16","v":0},{"$f":"'23. Data Input Object # 1'!AU16","v":0},{"$f":"'23. Data Input Object # 1'!AV16","v":0},{"$f":"'23. Data Input Object # 1'!AW16","v":0},{"$f":"'23. Data Input Object # 1'!AX16","v":0},{"$f":"'23. Data Input Object # 1'!AY16","v":0},{"$f":"'23. Data Input Object # 1'!AZ16","v":0},{"$f":"'23. Data Input Object # 1'!BA16","v":0},{"$f":"'23. Data Input Object # 1'!BB16","v":0},{"$f":"'23. Data Input Object # 1'!BC16","v":0},{"$f":"'23. Data Input Object # 1'!BD16","v":0},{"$f":"'23. Data Input Object # 1'!BE16","v":0},{"$f":"'23. Data Input Object # 1'!BF16","v":0},{"$f":"'23. Data Input Object # 1'!BG16","v":0},{"$f":"'23. Data Input Object # 1'!BH16","v":0},{"$f":"'23. Data Input Object # 1'!BI16","v":0},{"$f":"'23. Data Input Object # 1'!BJ16","v":0},{"$f":"'23. Data Input Object # 1'!BK16","v":0},{"$f":"'23. Data Input Object # 1'!BL16","v":0},{"$f":"'23. Data Input Object # 1'!BM16","v":0},{"$f":"'23. Data Input Object # 1'!BN16","v":0},{"$f":"'23. Data Input Object # 1'!BO16","v":0},{"$f":"'23. Data Input Object # 1'!BP16","v":0},{"$f":"'23. Data Input Object # 1'!BQ16","v":0},{"$f":"'23. Data Input Object # 1'!BR16","v":0},{"$f":"'23. Data Input Object # 1'!BS16","v":0},{"$f":"'23. Data Input Object # 1'!BT16","v":0},{"$f":"'23. Data Input Object # 1'!BU16","v":0},{"$f":"'23. Data Input Object # 1'!BV16","v":0},{"$f":"'23. Data Input Object # 1'!BW16","v":0},{"$f":"'23. Data Input Object # 1'!BX16","v":0},{"$f":"'23. Data Input Object # 1'!BY16","v":0},{"$f":"'23. Data Input Object # 1'!BZ16","v":0},{"$f":"'23. Data Input Object # 1'!CA16","v":0}]
[{"$f":"'23. Data Input Object # 1'!A17","v":36},{"$f":"'23. Data Input Object # 1'!B17","v":7},{"$f":"'23. Data Input Object # 1'!C17","v":1},{"$f":"'23. Data Input Object # 1'!D17","v":1},{"$f":"'23. Data Input Object # 1'!E17","v":1},{"$f":"'23. Data Input Object # 1'!F17","v":1},{"$f":"'23. Data Input Object # 1'!G17","v":1},{"$f":"'23. Data Input Object # 1'!H17","v":1},{"$f":"'23. Data Input Object # 1'!I17","v":1},{"$f":"'23. Data Input Object # 1'!J17","v":1},{"$f":"'23. Data Input Object # 1'!K17","v":1},{"$f":"'23. Data Input Object # 1'!L17","v":1},{"$f":"'23. Data Input Object # 1'!M17","v":1},{"$f":"'23. Data Input Object # 1'!N17","v":1},{"$f":"'23. Data Input Object # 1'!O17","v":0},{"$f":"'23. Data Input Object # 1'!P17","v":1},{"$f":"'23. Data Input Object # 1'!Q17","v":1},{"$f":"'23. Data Input Object # 1'!R17","v":1},{"$f":"'23. Data Input Object # 1'!S17","v":1},{"$f":"'23. Data Input Object # 1'!T17","v":1},{"$f":"'23. Data Input Object # 1'!U17","v":1},{"$f":"'23. Data Input Object # 1'!V17","v":1},{"$f":"'23. Data Input Object # 1'!W17","v":1},{"$f":"'23. Data Input Object # 1'!X17","v":1},{"$f":"'23. Data Input Object # 1'!Y17","v":1},{"$f":"'23. Data Input Object # 1'!Z17","v":1},{"$f":"'23. Data Input Object # 1'!AA17","v":1},{"$f":"'23. Data Input Object # 1'!AB17","v":1},{"$f":"'23. Data Input Object # 1'!AC17","v":0},{"$f":"'23. Data Input Object # 1'!AD17","v":1},{"$f":"'23. Data Input Object # 1'!AE17","v":1},{"$f":"'23. Data Input Object # 1'!AF17","v":1},{"$f":"'23. Data Input Object # 1'!AG17","v":1},{"$f":"'23. Data Input Object # 1'!AH17","v":1},{"$f":"'23. Data Input Object # 1'!AI17","v":1},{"$f":"'23. Data Input Object # 1'!AJ17","v":1},{"$f":"'23. Data Input Object # 1'!AK17","v":0},{"$f":"'23. Data Input Object # 1'!AL17","v":0},{"$f":"'23. Data Input Object # 1'!AM17","v":0},{"$f":"'23. Data Input Object # 1'!AN17","v":0},{"$f":"'23. Data Input Object # 1'!AO17","v":0},{"$f":"'23. Data Input Object # 1'!AP17","v":0},{"$f":"'23. Data Input Object # 1'!AQ17","v":0},{"$f":"'23. Data Input Object # 1'!AR17","v":0},{"$f":"'23. Data Input Object # 1'!AS17","v":0},{"$f":"'23. Data Input Object # 1'!AT17","v":0},{"$f":"'23. Data Input Object # 1'!AU17","v":0},{"$f":"'23. Data Input Object # 1'!AV17","v":0},{"$f":"'23. Data Input Object # 1'!AW17","v":0},{"$f":"'23. Data Input Object # 1'!AX17","v":0},{"$f":"'23. Data Input Object # 1'!AY17","v":0},{"$f":"'23. Data Input Object # 1'!AZ17","v":0},{"$f":"'23. Data Input Object # 1'!BA17","v":0},{"$f":"'23. Data Input Object # 1'!BB17","v":0},{"$f":"'23. Data Input Object # 1'!BC17","v":0},{"$f":"'23. Data Input Object # 1'!BD17","v":0},{"$f":"'23. Data Input Object # 1'!BE17","v":0},{"$f":"'23. Data Input Object # 1'!BF17","v":0},{"$f":"'23. Data Input Object # 1'!BG17","v":0},{"$f":"'23. Data Input Object # 1'!BH17","v":0},{"$f":"'23. Data Input Object # 1'!BI17","v":0},{"$f":"'23. Data Input Object # 1'!BJ17","v":0},{"$f":"'23. Data Input Object # 1'!BK17","v":0},{"$f":"'23. Data Input Object # 1'!BL17","v":0},{"$f":"'23. Data Input Object # 1'!BM17","v":0},{"$f":"'23. Data Input Object # 1'!BN17","v":0},{"$f":"'23. Data Input Object # 1'!BO17","v":0},{"$f":"'23. Data Input Object # 1'!BP17","v":0},{"$f":"'23. Data Input Object # 1'!BQ17","v":0},{"$f":"'23. Data Input Object # 1'!BR17","v":0},{"$f":"'23. Data Input Object # 1'!BS17","v":0},{"$f":"'23. Data Input Object # 1'!BT17","v":0},{"$f":"'23. Data Input Object # 1'!BU17","v":0},{"$f":"'23. Data Input Object # 1'!BV17","v":0},{"$f":"'23. Data Input Object # 1'!BW17","v":0},{"$f":"'23. Data Input Object # 1'!BX17","v":0},{"$f":"'23. Data Input Object # 1'!BY17","v":0},{"$f":"'23. Data Input Object # 1'!BZ17","v":0},{"$f":"'23. Data Input Object # 1'!CA17","v":0}]
[{"$f":"'23. Data Input Object # 1'!A18","v":41},{"$f":"'23. Data Input Object # 1'!B18","v":11},{"$f":"'23. Data Input Object # 1'!C18","v":1},{"$f":"'23. Data Input Object # 1'!D18","v":1},{"$f":"'23. Data Input Object # 1'!E18","v":1},{"$f":"'23. Data Input Object # 1'!F18","v":1},{"$f":"'23. Data Input Object # 1'!G18","v":1},{"$f":"'23. Data Input Object # 1'!H18","v":1},{"$f":"'23. Data Input Object # 1'!I18","v":1},{"$f":"'23. Data Input Object # 1'!J18","v":1},{"$f":"'23. Data Input Object # 1'!K18","v":1},{"$f":"'23. Data Input Object # 1'!L18","v":1},{"$f":"'23. Data Input Object # 1'!M18","v":1},{"$f":"'23. Data Input Object # 1'!N18","v":1},{"$f":"'23. Data Input Object # 1'!O18","v":1},{"$f":"'23. Data Input Object # 1'!P18","v":1},{"$f":"'23. Data Input Object # 1'!Q18","v":1},{"$f":"'23. Data Input Object # 1'!R18","v":1},{"$f":"'23. Data Input Object # 1'!S18","v":1},{"$f":"'23. Data Input Object # 1'!T18","v":1},{"$f":"'23. Data Input Object # 1'!U18","v":1},{"$f":"'23. Data Input Object # 1'!V18","v":1},{"$f":"'23. Data Input Object # 1'!W18","v":1},{"$f":"'23. Data Input Object # 1'!X18","v":1},{"$f":"'23. Data Input Object # 1'!Y18","v":1},{"$f":"'23. Data Input Object # 1'!Z18","v":1},{"$f":"'23. Data Input Object # 1'!AA18","v":1},{"$f":"'23. Data Input Object # 1'!AB18","v":1},{"$f":"'23. Data Input Object # 1'!AC18","v":1},{"$f":"'23. Data Input Object # 1'!AD18","v":1},{"$f":"'23. Data Input Object # 1'!AE18","v":1},{"$f":"'23. Data Input Object # 1'!AF18","v":1},{"$f":"'23. Data Input Object # 1'!AG18","v":1},{"$f":"'23. Data Input Object # 1'!AH18","v":1},{"$f":"'23. Data Input Object # 1'!AI18","v":1},{"$f":"'23. Data Input Object # 1'!AJ18","v":1},{"$f":"'23. Data Input Object # 1'!AK18","v":0},{"$f":"'23. Data Input Object # 1'!AL18","v":0},{"$f":"'23. Data Input Object # 1'!AM18","v":0},{"$f":"'23. Data Input Object # 1'!AN18","v":0},{"$f":"'23. Data Input Object # 1'!AO18","v":0},{"$f":"'23. Data Input Object # 1'!AP18","v":0},{"$f":"'23. Data Input Object # 1'!AQ18","v":0},{"$f":"'23. Data Input Object # 1'!AR18","v":0},{"$f":"'23. Data Input Object # 1'!AS18","v":0},{"$f":"'23. Data Input Object # 1'!AT18","v":0},{"$f":"'23. Data Input Object # 1'!AU18","v":0},{"$f":"'23. Data Input Object # 1'!AV18","v":0},{"$f":"'23. Data Input Object # 1'!AW18","v":0},{"$f":"'23. Data Input Object # 1'!AX18","v":0},{"$f":"'23. Data Input Object # 1'!AY18","v":0},{"$f":"'23. Data Input Object # 1'!AZ18","v":0},{"$f":"'23. Data Input Object # 1'!BA18","v":0},{"$f":"'23. Data Input Object # 1'!BB18","v":0},{"$f":"'23. Data Input Object # 1'!BC18","v":0},{"$f":"'23. Data Input Object # 1'!BD18","v":0},{"$f":"'23. Data Input Object # 1'!BE18","v":0},{"$f":"'23. Data Input Object # 1'!BF18","v":0},{"$f":"'23. Data Input Object # 1'!BG18","v":0},{"$f":"'23. Data Input Object # 1'!BH18","v":0},{"$f":"'23. Data Input Object # 1'!BI18","v":0},{"$f":"'23. Data Input Object # 1'!BJ18","v":0},{"$f":"'23. Data Input Object # 1'!BK18","v":0},{"$f":"'23. Data Input Object # 1'!BL18","v":0},{"$f":"'23. Data Input Object # 1'!BM18","v":0},{"$f":"'23. Data Input Object # 1'!BN18","v":0},{"$f":"'23. Data Input Object # 1'!BO18","v":0},{"$f":"'23. Data Input Object # 1'!BP18","v":0},{"$f":"'23. Data Input Object # 1'!BQ18","v":0},{"$f":"'23. Data Input Object # 1'!BR18","v":0},{"$f":"'23. Data Input Object # 1'!BS18","v":0},{"$f":"'23. Data Input Object # 1'!BT18","v":0},{"$f":"'23. Data Input Object # 1'!BU18","v":0},{"$f":"'23. Data Input Object # 1'!BV18","v":0},{"$f":"'23. Data Input Object # 1'!BW18","v":0},{"$f":"'23. Data Input Object # 1'!BX18","v":0},{"$f":"'23. Data Input Object # 1'!BY18","v":0},{"$f":"'23. Data Input Object # 1'!BZ18","v":0},{"$f":"'23. Data Input Object # 1'!CA18","v":0}]
[{"$f":"'23. Data Input Object # 1'!A19","v":"44v"},{"$f":"'23. Data Input Object # 1'!B19","v":67},{"$f":"'23. Data Input Object # 1'!C19","v":0},{"$f":"'23. Data Input Object # 1'!D19","v":0},{"$f":"'23. Data Input Object # 1'!E19","v":0},{"$f":"'23. Data Input Object # 1'!F19","v":0},{"$f":"'23. Data Input Object # 1'!G19","v":0},{"$f":"'23. Data Input Object # 1'!H19","v":0},{"$f":"'23. Data Input Object # 1'!I19","v":0},{"$f":"'23. Data Input Object # 1'!J19","v":0},{"$f":"'23. Data Input Object # 1'!K19","v":0},{"$f":"'23. Data Input Object # 1'!L19","v":0},{"$f":"'23. Data Input Object # 1'!M19","v":0},{"$f":"'23. Data Input Object # 1'!N19","v":0},{"$f":"'23. Data Input Object # 1'!O19","v":0},{"$f":"'23. Data Input Object # 1'!P19","v":0},{"$f":"'23. Data Input Object # 1'!Q19","v":0},{"$f":"'23. Data Input Object # 1'!R19","v":0},{"$f":"'23. Data Input Object # 1'!S19","v":0},{"$f":"'23. Data Input Object # 1'!T19","v":0},{"$f":"'23. Data Input Object # 1'!U19","v":0},{"$f":"'23. Data Input Object # 1'!V19","v":0},{"$f":"'23. Data Input Object # 1'!W19","v":0},{"$f":"'23. Data Input Object # 1'!X19","v":0},{"$f":"'23. Data Input Object # 1'!Y19","v":0},{"$f":"'23. Data Input Object # 1'!Z19","v":0},{"$f":"'23. Data Input Object # 1'!AA19","v":0},{"$f":"'23. Data Input Object # 1'!AB19","v":0},{"$f":"'23. Data Input Object # 1'!AC19","v":0},{"$f":"'23. Data Input Object # 1'!AD19","v":0},{"$f":"'23. Data Input Object # 1'!AE19","v":0},{"$f":"'23. Data Input Object # 1'!AF19","v":0},{"$f":"'23. Data Input Object # 1'!AG19","v":0},{"$f":"'23. Data Input Object # 1'!AH19","v":0},{"$f":"'23. Data Input Object # 1'!AI19","v":0},{"$f":"'23. Data Input Object # 1'!AJ19","v":0},{"$f":"'23. Data Input Object # 1'!AK19","v":0},{"$f":"'23. Data Input Object # 1'!AL19","v":0},{"$f":"'23. Data Input Object # 1'!AM19","v":0},{"$f":"'23. Data Input Object # 1'!AN19","v":0},{"$f":"'23. Data Input Object # 1'!AO19","v":0},{"$f":"'23. Data Input Object # 1'!AP19","v":0},{"$f":"'23. Data Input Object # 1'!AQ19","v":0},{"$f":"'23. Data Input Object # 1'!AR19","v":0},{"$f":"'23. Data Input Object # 1'!AS19","v":0},{"$f":"'23. Data Input Object # 1'!AT19","v":0},{"$f":"'23. Data Input Object # 1'!AU19","v":0},{"$f":"'23. Data Input Object # 1'!AV19","v":0},{"$f":"'23. Data Input Object # 1'!AW19","v":0},{"$f":"'23. Data Input Object # 1'!AX19","v":0},{"$f":"'23. Data Input Object # 1'!AY19","v":0},{"$f":"'23. Data Input Object # 1'!AZ19","v":0},{"$f":"'23. Data Input Object # 1'!BA19","v":0},{"$f":"'23. Data Input Object # 1'!BB19","v":0},{"$f":"'23. Data Input Object # 1'!BC19","v":0},{"$f":"'23. Data Input Object # 1'!BD19","v":0},{"$f":"'23. Data Input Object # 1'!BE19","v":0},{"$f":"'23. Data Input Object # 1'!BF19","v":0},{"$f":"'23. Data Input Object # 1'!BG19","v":0},{"$f":"'23. Data Input Object # 1'!BH19","v":0},{"$f":"'23. Data Input Object # 1'!BI19","v":0},{"$f":"'23. Data Input Object # 1'!BJ19","v":0},{"$f":"'23. Data Input Object # 1'!BK19","v":0},{"$f":"'23. Data Input Object # 1'!BL19","v":0},{"$f":"'23. Data Input Object # 1'!BM19","v":0},{"$f":"'23. Data Input Object # 1'!BN19","v":0},{"$f":"'23. Data Input Object # 1'!BO19","v":0},{"$f":"'23. Data Input Object # 1'!BP19","v":0},{"$f":"'23. Data Input Object # 1'!BQ19","v":0},{"$f":"'23. Data Input Object # 1'!BR19","v":0},{"$f":"'23. Data Input Object # 1'!BS19","v":0},{"$f":"'23. Data Input Object # 1'!BT19","v":0},{"$f":"'23. Data Input Object # 1'!BU19","v":0},{"$f":"'23. Data Input Object # 1'!BV19","v":0},{"$f":"'23. Data Input Object # 1'!BW19","v":0},{"$f":"'23. Data Input Object # 1'!BX19","v":0},{"$f":"'23. Data Input Object # 1'!BY19","v":0},{"$f":"'23. Data Input Object # 1'!BZ19","v":0},{"$f":"'23. Data Input Object # 1'!CA19","v":0}]
[{"$f":"'23. Data Input Object # 1'!A20","v":"46v"},{"$f":"'23. Data Input Object # 1'!B20","v":62},{"$f":"'23. Data Input Object # 1'!C20","v":0},{"$f":"'23. Data Input Object # 1'!D20","v":0},{"$f":"'23. Data Input Object # 1'!E20","v":0},{"$f":"'23. Data Input Object # 1'!F20","v":0},{"$f":"'23. Data Input Object # 1'!G20","v":0},{"$f":"'23. Data Input Object # 1'!H20","v":0},{"$f":"'23. Data Input Object # 1'!I20","v":0},{"$f":"'23. Data Input Object # 1'!J20","v":0},{"$f":"'23. Data Input Object # 1'!K20","v":0},{"$f":"'23. Data Input Object # 1'!L20","v":0},{"$f":"'23. Data Input Object # 1'!M20","v":0},{"$f":"'23. Data Input Object # 1'!N20","v":0},{"$f":"'23. Data Input Object # 1'!O20","v":0},{"$f":"'23. Data Input Object # 1'!P20","v":0},{"$f":"'23. Data Input Object # 1'!Q20","v":0},{"$f":"'23. Data Input Object # 1'!R20","v":0},{"$f":"'23. Data Input Object # 1'!S20","v":0},{"$f":"'23. Data Input Object # 1'!T20","v":0},{"$f":"'23. Data Input Object # 1'!U20","v":0},{"$f":"'23. Data Input Object # 1'!V20","v":0},{"$f":"'23. Data Input Object # 1'!W20","v":0},{"$f":"'23. Data Input Object # 1'!X20","v":0},{"$f":"'23. Data Input Object # 1'!Y20","v":0},{"$f":"'23. Data Input Object # 1'!Z20","v":0},{"$f":"'23. Data Input Object # 1'!AA20","v":0},{"$f":"'23. Data Input Object # 1'!AB20","v":0},{"$f":"'23. Data Input Object # 1'!AC20","v":0},{"$f":"'23. Data Input Object # 1'!AD20","v":0},{"$f":"'23. Data Input Object # 1'!AE20","v":0},{"$f":"'23. Data Input Object # 1'!AF20","v":0},{"$f":"'23. Data Input Object # 1'!AG20","v":0},{"$f":"'23. Data Input Object # 1'!AH20","v":0},{"$f":"'23. Data Input Object # 1'!AI20","v":0},{"$f":"'23. Data Input Object # 1'!AJ20","v":0},{"$f":"'23. Data Input Object # 1'!AK20","v":0},{"$f":"'23. Data Input Object # 1'!AL20","v":0},{"$f":"'23. Data Input Object # 1'!AM20","v":0},{"$f":"'23. Data Input Object # 1'!AN20","v":0},{"$f":"'23. Data Input Object # 1'!AO20","v":0},{"$f":"'23. Data Input Object # 1'!AP20","v":0},{"$f":"'23. Data Input Object # 1'!AQ20","v":0},{"$f":"'23. Data Input Object # 1'!AR20","v":0},{"$f":"'23. Data Input Object # 1'!AS20","v":0},{"$f":"'23. Data Input Object # 1'!AT20","v":0},{"$f":"'23. Data Input Object # 1'!AU20","v":0},{"$f":"'23. Data Input Object # 1'!AV20","v":0},{"$f":"'23. Data Input Object # 1'!AW20","v":0},{"$f":"'23. Data Input Object # 1'!AX20","v":0},{"$f":"'23. Data Input Object # 1'!AY20","v":0},{"$f":"'23. Data Input Object # 1'!AZ20","v":0},{"$f":"'23. Data Input Object # 1'!BA20","v":0},{"$f":"'23. Data Input Object # 1'!BB20","v":0},{"$f":"'23. Data Input Object # 1'!BC20","v":0},{"$f":"'23. Data Input Object # 1'!BD20","v":0},{"$f":"'23. Data Input Object # 1'!BE20","v":0},{"$f":"'23. Data Input Object # 1'!BF20","v":0},{"$f":"'23. Data Input Object # 1'!BG20","v":0},{"$f":"'23. Data Input Object # 1'!BH20","v":0},{"$f":"'23. Data Input Object # 1'!BI20","v":0},{"$f":"'23. Data Input Object # 1'!BJ20","v":0},{"$f":"'23. Data Input Object # 1'!BK20","v":0},{"$f":"'23. Data Input Object # 1'!BL20","v":0},{"$f":"'23. Data Input Object # 1'!BM20","v":0},{"$f":"'23. Data Input Object # 1'!BN20","v":0},{"$f":"'23. Data Input Object # 1'!BO20","v":0},{"$f":"'23. Data Input Object # 1'!BP20","v":0},{"$f":"'23. Data Input Object # 1'!BQ20","v":0},{"$f":"'23. Data Input Object # 1'!BR20","v":0},{"$f":"'23. Data Input Object # 1'!BS20","v":0},{"$f":"'23. Data Input Object # 1'!BT20","v":0},{"$f":"'23. Data Input Object # 1'!BU20","v":0},{"$f":"'23. Data Input Object # 1'!BV20","v":0},{"$f":"'23. Data Input Object # 1'!BW20","v":0},{"$f":"'23. Data Input Object # 1'!BX20","v":0},{"$f":"'23. Data Input Object # 1'!BY20","v":0},{"$f":"'23. Data Input Object # 1'!BZ20","v":0},{"$f":"'23. Data Input Object # 1'!CA20","v":0}]
[{"$f":"'23. Data Input Object # 1'!A21","v":"47v"},{"$f":"'23. Data Input Object # 1'!B21","v":52},{"$f":"'23. Data Input Object # 1'!C21","v":0},{"$f":"'23. Data Input Object # 1'!D21","v":0},{"$f":"'23. Data Input Object # 1'!E21","v":0},{"$f":"'23. Data Input Object # 1'!F21","v":0},{"$f":"'23. Data Input Object # 1'!G21","v":0},{"$f":"'23. Data Input Object # 1'!H21","v":0},{"$f":"'23. Data Input Object # 1'!I21","v":0},{"$f":"'23. Data Input Object # 1'!J21","v":0},{"$f":"'23. Data Input Object # 1'!K21","v":0},{"$f":"'23. Data Input Object # 1'!L21","v":0},{"$f":"'23. Data Input Object # 1'!M21","v":0},{"$f":"'23. Data Input Object # 1'!N21","v":0},{"$f":"'23. Data Input Object # 1'!O21","v":0},{"$f":"'23. Data Input Object # 1'!P21","v":0},{"$f":"'23. Data Input Object # 1'!Q21","v":0},{"$f":"'23. Data Input Object # 1'!R21","v":0},{"$f":"'23. Data Input Object # 1'!S21","v":0},{"$f":"'23. Data Input Object # 1'!T21","v":0},{"$f":"'23. Data Input Object # 1'!U21","v":0},{"$f":"'23. Data Input Object # 1'!V21","v":0},{"$f":"'23. Data Input Object # 1'!W21","v":0},{"$f":"'23. Data Input Object # 1'!X21","v":0},{"$f":"'23. Data Input Object # 1'!Y21","v":0},{"$f":"'23. Data Input Object # 1'!Z21","v":0},{"$f":"'23. Data Input Object # 1'!AA21","v":0},{"$f":"'23. Data Input Object # 1'!AB21","v":0},{"$f":"'23. Data Input Object # 1'!AC21","v":0},{"$f":"'23. Data Input Object # 1'!AD21","v":0},{"$f":"'23. Data Input Object # 1'!AE21","v":0},{"$f":"'23. Data Input Object # 1'!AF21","v":0},{"$f":"'23. Data Input Object # 1'!AG21","v":0},{"$f":"'23. Data Input Object # 1'!AH21","v":0},{"$f":"'23. Data Input Object # 1'!AI21","v":0},{"$f":"'23. Data Input Object # 1'!AJ21","v":0},{"$f":"'23. Data Input Object # 1'!AK21","v":0},{"$f":"'23. Data Input Object # 1'!AL21","v":0},{"$f":"'23. Data Input Object # 1'!AM21","v":0},{"$f":"'23. Data Input Object # 1'!AN21","v":0},{"$f":"'23. Data Input Object # 1'!AO21","v":0},{"$f":"'23. Data Input Object # 1'!AP21","v":0},{"$f":"'23. Data Input Object # 1'!AQ21","v":0},{"$f":"'23. Data Input Object # 1'!AR21","v":0},{"$f":"'23. Data Input Object # 1'!AS21","v":0},{"$f":"'23. Data Input Object # 1'!AT21","v":0},{"$f":"'23. Data Input Object # 1'!AU21","v":0},{"$f":"'23. Data Input Object # 1'!AV21","v":0},{"$f":"'23. Data Input Object # 1'!AW21","v":0},{"$f":"'23. Data Input Object # 1'!AX21","v":0},{"$f":"'23. Data Input Object # 1'!AY21","v":0},{"$f":"'23. Data Input Object # 1'!AZ21","v":0},{"$f":"'23. Data Input Object # 1'!BA21","v":0},{"$f":"'23. Data Input Object # 1'!BB21","v":0},{"$f":"'23. Data Input Object # 1'!BC21","v":0},{"$f":"'23. Data Input Object # 1'!BD21","v":0},{"$f":"'23. Data Input Object # 1'!BE21","v":0},{"$f":"'23. Data Input Object # 1'!BF21","v":0},{"$f":"'23. Data Input Object # 1'!BG21","v":0},{"$f":"'23. Data Input Object # 1'!BH21","v":0},{"$f":"'23. Data Input Object # 1'!BI21","v":0},{"$f":"'23. Data Input Object # 1'!BJ21","v":0},{"$f":"'23. Data Input Object # 1'!BK21","v":0},{"$f":"'23. Data Input Object # 1'!BL21","v":0},{"$f":"'23. Data Input Object # 1'!BM21","v":0},{"$f":"'23. Data Input Object # 1'!BN21","v":0},{"$f":"'23. Data Input Object # 1'!BO21","v":0},{"$f":"'23. Data Input Object # 1'!BP21","v":0},{"$f":"'23. Data Input Object # 1'!BQ21","v":0},{"$f":"'23. Data Input Object # 1'!BR21","v":0},{"$f":"'23. Data Input Object # 1'!BS21","v":0},{"$f":"'23. Data Input Object # 1'!BT21","v":0},{"$f":"'23. Data Input Object # 1'!BU21","v":0},{"$f":"'23. Data Input Object # 1'!BV21","v":0},{"$f":"'23. Data Input Object # 1'!BW21","v":0},{"$f":"'23. Data Input Object # 1'!BX21","v":0},{"$f":"'23. Data Input Object # 1'!BY21","v":0},{"$f":"'23. Data Input Object # 1'!BZ21","v":0},{"$f":"'23. Data Input Object # 1'!CA21","v":0}]
[{"$f":"'23. Data Input Object # 1'!A22","v":0},{"$f":"'23. Data Input Object # 1'!B22","v":0},{"$f":"'23. Data Input Object # 1'!C22","v":0},{"$f":"'23. Data Input Object # 1'!D22","v":0},{"$f":"'23. Data Input Object # 1'!E22","v":0},{"$f":"'23. Data Input Object # 1'!F22","v":0},{"$f":"'23. Data Input Object # 1'!G22","v":0},{"$f":"'23. Data Input Object # 1'!H22","v":0},{"$f":"'23. Data Input Object # 1'!I22","v":0},{"$f":"'23. Data Input Object # 1'!J22","v":0},{"$f":"'23. Data Input Object # 1'!K22","v":0},{"$f":"'23. Data Input Object # 1'!L22","v":0},{"$f":"'23. Data Input Object # 1'!M22","v":0},{"$f":"'23. Data Input Object # 1'!N22","v":0},{"$f":"'23. Data Input Object # 1'!O22","v":0},{"$f":"'23. Data Input Object # 1'!P22","v":0},{"$f":"'23. Data Input Object # 1'!Q22","v":0},{"$f":"'23. Data Input Object # 1'!R22","v":0},{"$f":"'23. Data Input Object # 1'!S22","v":0},{"$f":"'23. Data Input Object # 1'!T22","v":0},{"$f":"'23. Data Input Object # 1'!U22","v":0},{"$f":"'23. Data Input Object # 1'!V22","v":0},{"$f":"'23. Data Input Object # 1'!W22","v":0},{"$f":"'23. Data Input Object # 1'!X22","v":0},{"$f":"'23. Data Input Object # 1'!Y22","v":0},{"$f":"'23. Data Input Object # 1'!Z22","v":0},{"$f":"'23. Data Input Object # 1'!AA22","v":0},{"$f":"'23. Data Input Object # 1'!AB22","v":0},{"$f":"'23. Data Input Object # 1'!AC22","v":0},{"$f":"'23. Data Input Object # 1'!AD22","v":0},{"$f":"'23. Data Input Object # 1'!AE22","v":0},{"$f":"'23. Data Input Object # 1'!AF22","v":0},{"$f":"'23. Data Input Object # 1'!AG22","v":0},{"$f":"'23. Data Input Object # 1'!AH22","v":0},{"$f":"'23. Data Input Object # 1'!AI22","v":0},{"$f":"'23. Data Input Object # 1'!AJ22","v":0},{"$f":"'23. Data Input Object # 1'!AK22","v":0},{"$f":"'23. Data Input Object # 1'!AL22","v":0},{"$f":"'23. Data Input Object # 1'!AM22","v":0},{"$f":"'23. Data Input Object # 1'!AN22","v":0},{"$f":"'23. Data Input Object # 1'!AO22","v":0},{"$f":"'23. Data Input Object # 1'!AP22","v":0},{"$f":"'23. Data Input Object # 1'!AQ22","v":0},{"$f":"'23. Data Input Object # 1'!AR22","v":0},{"$f":"'23. Data Input Object # 1'!AS22","v":0},{"$f":"'23. Data Input Object # 1'!AT22","v":0},{"$f":"'23. Data Input Object # 1'!AU22","v":0},{"$f":"'23. Data Input Object # 1'!AV22","v":0},{"$f":"'23. Data Input Object # 1'!AW22","v":0},{"$f":"'23. Data Input Object # 1'!AX22","v":0},{"$f":"'23. Data Input Object # 1'!AY22","v":0},{"$f":"'23. Data Input Object # 1'!AZ22","v":0},{"$f":"'23. Data Input Object # 1'!BA22","v":0},{"$f":"'23. Data Input Object # 1'!BB22","v":0},{"$f":"'23. Data Input Object # 1'!BC22","v":0},{"$f":"'23. Data Input Object # 1'!BD22","v":0},{"$f":"'23. Data Input Object # 1'!BE22","v":0},{"$f":"'23. Data Input Object # 1'!BF22","v":0},{"$f":"'23. Data Input Object # 1'!BG22","v":0},{"$f":"'23. Data Input Object # 1'!BH22","v":0},{"$f":"'23. Data Input Object # 1'!BI22","v":0},{"$f":"'23. Data Input Object # 1'!BJ22","v":0},{"$f":"'23. Data Input Object # 1'!BK22","v":0},{"$f":"'23. Data Input Object # 1'!BL22","v":0},{"$f":"'23. Data Input Object # 1'!BM22","v":0},{"$f":"'23. Data Input Object # 1'!BN22","v":0},{"$f":"'23. Data Input Object # 1'!BO22","v":0},{"$f":"'23. Data Input Object # 1'!BP22","v":0},{"$f":"'23. Data Input Object # 1'!BQ22","v":0},{"$f":"'23. Data Input Object # 1'!BR22","v":0},{"$f":"'23. Data Input Object # 1'!BS22","v":0},{"$f":"'23. Data Input Object # 1'!BT22","v":0},{"$f":"'23. Data Input Object # 1'!BU22","v":0},{"$f":"'23. Data Input Object # 1'!BV22","v":0},{"$f":"'23. Data Input Object # 1'!BW22","v":0},{"$f":"'23. Data Input Object # 1'!BX22","v":0},{"$f":"'23. Data Input Object # 1'!BY22","v":0},{"$f":"'23. Data Input Object # 1'!BZ22","v":0},{"$f":"'23. Data Input Object # 1'!CA22","v":0}]
[{"$f":"'23. Data Input Object # 1'!A23","v":0},{"$f":"'23. Data Input Object # 1'!B23","v":0},{"$f":"'23. Data Input Object # 1'!C23","v":0},{"$f":"'23. Data Input Object # 1'!D23","v":0},{"$f":"'23. Data Input Object # 1'!E23","v":0},{"$f":"'23. Data Input Object # 1'!F23","v":0},{"$f":"'23. Data Input Object # 1'!G23","v":0},{"$f":"'23. Data Input Object # 1'!H23","v":0},{"$f":"'23. Data Input Object # 1'!I23","v":0},{"$f":"'23. Data Input Object # 1'!J23","v":0},{"$f":"'23. Data Input Object # 1'!K23","v":0},{"$f":"'23. Data Input Object # 1'!L23","v":0},{"$f":"'23. Data Input Object # 1'!M23","v":0},{"$f":"'23. Data Input Object # 1'!N23","v":0},{"$f":"'23. Data Input Object # 1'!O23","v":0},{"$f":"'23. Data Input Object # 1'!P23","v":0},{"$f":"'23. Data Input Object # 1'!Q23","v":0},{"$f":"'23. Data Input Object # 1'!R23","v":0},{"$f":"'23. Data Input Object # 1'!S23","v":0},{"$f":"'23. Data Input Object # 1'!T23","v":0},{"$f":"'23. Data Input Object # 1'!U23","v":0},{"$f":"'23. Data Input Object # 1'!V23","v":0},{"$f":"'23. Data Input Object # 1'!W23","v":0},{"$f":"'23. Data Input Object # 1'!X23","v":0},{"$f":"'23. Data Input Object # 1'!Y23","v":0},{"$f":"'23. Data Input Object # 1'!Z23","v":0},{"$f":"'23. Data Input Object # 1'!AA23","v":0},{"$f":"'23. Data Input Object # 1'!AB23","v":0},{"$f":"'23. Data Input Object # 1'!AC23","v":0},{"$f":"'23. Data Input Object # 1'!AD23","v":0},{"$f":"'23. Data Input Object # 1'!AE23","v":0},{"$f":"'23. Data Input Object # 1'!AF23","v":0},{"$f":"'23. Data Input Object # 1'!AG23","v":0},{"$f":"'23. Data Input Object # 1'!AH23","v":0},{"$f":"'23. Data Input Object # 1'!AI23","v":0},{"$f":"'23. Data Input Object # 1'!AJ23","v":0},{"$f":"'23. Data Input Object # 1'!AK23","v":0},{"$f":"'23. Data Input Object # 1'!AL23","v":0},{"$f":"'23. Data Input Object # 1'!AM23","v":0},{"$f":"'23. Data Input Object # 1'!AN23","v":0},{"$f":"'23. Data Input Object # 1'!AO23","v":0},{"$f":"'23. Data Input Object # 1'!AP23","v":0},{"$f":"'23. Data Input Object # 1'!AQ23","v":0},{"$f":"'23. Data Input Object # 1'!AR23","v":0},{"$f":"'23. Data Input Object # 1'!AS23","v":0},{"$f":"'23. Data Input Object # 1'!AT23","v":0},{"$f":"'23. Data Input Object # 1'!AU23","v":0},{"$f":"'23. Data Input Object # 1'!AV23","v":0},{"$f":"'23. Data Input Object # 1'!AW23","v":0},{"$f":"'23. Data Input Object # 1'!AX23","v":0},{"$f":"'23. Data Input Object # 1'!AY23","v":0},{"$f":"'23. Data Input Object # 1'!AZ23","v":0},{"$f":"'23. Data Input Object # 1'!BA23","v":0},{"$f":"'23. Data Input Object # 1'!BB23","v":0},{"$f":"'23. Data Input Object # 1'!BC23","v":0},{"$f":"'23. Data Input Object # 1'!BD23","v":0},{"$f":"'23. Data Input Object # 1'!BE23","v":0},{"$f":"'23. Data Input Object # 1'!BF23","v":0},{"$f":"'23. Data Input Object # 1'!BG23","v":0},{"$f":"'23. Data Input Object # 1'!BH23","v":0},{"$f":"'23. Data Input Object # 1'!BI23","v":0},{"$f":"'23. Data Input Object # 1'!BJ23","v":0},{"$f":"'23. Data Input Object # 1'!BK23","v":0},{"$f":"'23. Data Input Object # 1'!BL23","v":0},{"$f":"'23. Data Input Object # 1'!BM23","v":0},{"$f":"'23. Data Input Object # 1'!BN23","v":0},{"$f":"'23. Data Input Object # 1'!BO23","v":0},{"$f":"'23. Data Input Object # 1'!BP23","v":0},{"$f":"'23. Data Input Object # 1'!BQ23","v":0},{"$f":"'23. Data Input Object # 1'!BR23","v":0},{"$f":"'23. Data Input Object # 1'!BS23","v":0},{"$f":"'23. Data Input Object # 1'!BT23","v":0},{"$f":"'23. Data Input Object # 1'!BU23","v":0},{"$f":"'23. Data Input Object # 1'!BV23","v":0},{"$f":"'23. Data Input Object # 1'!BW23","v":0},{"$f":"'23. Data Input Object # 1'!BX23","v":0},{"$f":"'23. Data Input Object # 1'!BY23","v":0},{"$f":"'23. Data Input Object # 1'!BZ23","v":0},{"$f":"'23. Data Input Object # 1'!CA23","v":0}]
[{"$f":"'23. Data Input Object # 1'!A24","v":0},{"$f":"'23. Data Input Object # 1'!B24","v":0},{"$f":"'23. Data Input Object # 1'!C24","v":0},{"$f":"'23. Data Input Object # 1'!D24","v":0},{"$f":"'23. Data Input Object # 1'!E24","v":0},{"$f":"'23. Data Input Object # 1'!F24","v":0},{"$f":"'23. Data Input Object # 1'!G24","v":0},{"$f":"'23. Data Input Object # 1'!H24","v":0},{"$f":"'23. Data Input Object # 1'!I24","v":0},{"$f":"'23. Data Input Object # 1'!J24","v":0},{"$f":"'23. Data Input Object # 1'!K24","v":0},{"$f":"'23. Data Input Object # 1'!L24","v":0},{"$f":"'23. Data Input Object # 1'!M24","v":0},{"$f":"'23. Data Input Object # 1'!N24","v":0},{"$f":"'23. Data Input Object # 1'!O24","v":0},{"$f":"'23. Data Input Object # 1'!P24","v":0},{"$f":"'23. Data Input Object # 1'!Q24","v":0},{"$f":"'23. Data Input Object # 1'!R24","v":0},{"$f":"'23. Data Input Object # 1'!S24","v":0},{"$f":"'23. Data Input Object # 1'!T24","v":0},{"$f":"'23. Data Input Object # 1'!U24","v":0},{"$f":"'23. Data Input Object # 1'!V24","v":0},{"$f":"'23. Data Input Object # 1'!W24","v":0},{"$f":"'23. Data Input Object # 1'!X24","v":0},{"$f":"'23. Data Input Object # 1'!Y24","v":0},{"$f":"'23. Data Input Object # 1'!Z24","v":0},{"$f":"'23. Data Input Object # 1'!AA24","v":0},{"$f":"'23. Data Input Object # 1'!AB24","v":0},{"$f":"'23. Data Input Object # 1'!AC24","v":0},{"$f":"'23. Data Input Object # 1'!AD24","v":0},{"$f":"'23. Data Input Object # 1'!AE24","v":0},{"$f":"'23. Data Input Object # 1'!AF24","v":0},{"$f":"'23. Data Input Object # 1'!AG24","v":0},{"$f":"'23. Data Input Object # 1'!AH24","v":0},{"$f":"'23. Data Input Object # 1'!AI24","v":0},{"$f":"'23. Data Input Object # 1'!AJ24","v":0},{"$f":"'23. Data Input Object # 1'!AK24","v":0},{"$f":"'23. Data Input Object # 1'!AL24","v":0},{"$f":"'23. Data Input Object # 1'!AM24","v":0},{"$f":"'23. Data Input Object # 1'!AN24","v":0},{"$f":"'23. Data Input Object # 1'!AO24","v":0},{"$f":"'23. Data Input Object # 1'!AP24","v":0},{"$f":"'23. Data Input Object # 1'!AQ24","v":0},{"$f":"'23. Data Input Object # 1'!AR24","v":0},{"$f":"'23. Data Input Object # 1'!AS24","v":0},{"$f":"'23. Data Input Object # 1'!AT24","v":0},{"$f":"'23. Data Input Object # 1'!AU24","v":0},{"$f":"'23. Data Input Object # 1'!AV24","v":0},{"$f":"'23. Data Input Object # 1'!AW24","v":0},{"$f":"'23. Data Input Object # 1'!AX24","v":0},{"$f":"'23. Data Input Object # 1'!AY24","v":0},{"$f":"'23. Data Input Object # 1'!AZ24","v":0},{"$f":"'23. Data Input Object # 1'!BA24","v":0},{"$f":"'23. Data Input Object # 1'!BB24","v":0},{"$f":"'23. Data Input Object # 1'!BC24","v":0},{"$f":"'23. Data Input Object # 1'!BD24","v":0},{"$f":"'23. Data Input Object # 1'!BE24","v":0},{"$f":"'23. Data Input Object # 1'!BF24","v":0},{"$f":"'23. Data Input Object # 1'!BG24","v":0},{"$f":"'23. Data Input Object # 1'!BH24","v":0},{"$f":"'23. Data Input Object # 1'!BI24","v":0},{"$f":"'23. Data Input Object # 1'!BJ24","v":0},{"$f":"'23. Data Input Object # 1'!BK24","v":0},{"$f":"'23. Data Input Object # 1'!BL24","v":0},{"$f":"'23. Data Input Object # 1'!BM24","v":0},{"$f":"'23. Data Input Object # 1'!BN24","v":0},{"$f":"'23. Data Input Object # 1'!BO24","v":0},{"$f":"'23. Data Input Object # 1'!BP24","v":0},{"$f":"'23. Data Input Object # 1'!BQ24","v":0},{"$f":"'23. Data Input Object # 1'!BR24","v":0},{"$f":"'23. Data Input Object # 1'!BS24","v":0},{"$f":"'23. Data Input Object # 1'!BT24","v":0},{"$f":"'23. Data Input Object # 1'!BU24","v":0},{"$f":"'23. Data Input Object # 1'!BV24","v":0},{"$f":"'23. Data Input Object # 1'!BW24","v":0},{"$f":"'23. Data Input Object # 1'!BX24","v":0},{"$f":"'23. Data Input Object # 1'!BY24","v":0},{"$f":"'23. Data Input Object # 1'!BZ24","v":0},{"$f":"'23. Data Input Object # 1'!CA24","v":0}]
[{"$f":"'23. Data Input Object # 1'!A25","v":0},{"$f":"'23. Data Input Object # 1'!B25","v":0},{"$f":"'23. Data Input Object # 1'!C25","v":0},{"$f":"'23. Data Input Object # 1'!D25","v":0},{"$f":"'23. Data Input Object # 1'!E25","v":0},{"$f":"'23. Data Input Object # 1'!F25","v":0},{"$f":"'23. Data Input Object # 1'!G25","v":0},{"$f":"'23. Data Input Object # 1'!H25","v":0},{"$f":"'23. Data Input Object # 1'!I25","v":0},{"$f":"'23. Data Input Object # 1'!J25","v":0},{"$f":"'23. Data Input Object # 1'!K25","v":0},{"$f":"'23. Data Input Object # 1'!L25","v":0},{"$f":"'23. Data Input Object # 1'!M25","v":0},{"$f":"'23. Data Input Object # 1'!N25","v":0},{"$f":"'23. Data Input Object # 1'!O25","v":0},{"$f":"'23. Data Input Object # 1'!P25","v":0},{"$f":"'23. Data Input Object # 1'!Q25","v":0},{"$f":"'23. Data Input Object # 1'!R25","v":0},{"$f":"'23. Data Input Object # 1'!S25","v":0},{"$f":"'23. Data Input Object # 1'!T25","v":0},{"$f":"'23. Data Input Object # 1'!U25","v":0},{"$f":"'23. Data Input Object # 1'!V25","v":0},{"$f":"'23. Data Input Object # 1'!W25","v":0},{"$f":"'23. Data Input Object # 1'!X25","v":0},{"$f":"'23. Data Input Object # 1'!Y25","v":0},{"$f":"'23. Data Input Object # 1'!Z25","v":0},{"$f":"'23. Data Input Object # 1'!AA25","v":0},{"$f":"'23. Data Input Object # 1'!AB25","v":0},{"$f":"'23. Data Input Object # 1'!AC25","v":0},{"$f":"'23. Data Input Object # 1'!AD25","v":0},{"$f":"'23. Data Input Object # 1'!AE25","v":0},{"$f":"'23. Data Input Object # 1'!AF25","v":0},{"$f":"'23. Data Input Object # 1'!AG25","v":0},{"$f":"'23. Data Input Object # 1'!AH25","v":0},{"$f":"'23. Data Input Object # 1'!AI25","v":0},{"$f":"'23. Data Input Object # 1'!AJ25","v":0},{"$f":"'23. Data Input Object # 1'!AK25","v":0},{"$f":"'23. Data Input Object # 1'!AL25","v":0},{"$f":"'23. Data Input Object # 1'!AM25","v":0},{"$f":"'23. Data Input Object # 1'!AN25","v":0},{"$f":"'23. Data Input Object # 1'!AO25","v":0},{"$f":"'23. Data Input Object # 1'!AP25","v":0},{"$f":"'23. Data Input Object # 1'!AQ25","v":0},{"$f":"'23. Data Input Object # 1'!AR25","v":0},{"$f":"'23. Data Input Object # 1'!AS25","v":0},{"$f":"'23. Data Input Object # 1'!AT25","v":0},{"$f":"'23. Data Input Object # 1'!AU25","v":0},{"$f":"'23. Data Input Object # 1'!AV25","v":0},{"$f":"'23. Data Input Object # 1'!AW25","v":0},{"$f":"'23. Data Input Object # 1'!AX25","v":0},{"$f":"'23. Data Input Object # 1'!AY25","v":0},{"$f":"'23. Data Input Object # 1'!AZ25","v":0},{"$f":"'23. Data Input Object # 1'!BA25","v":0},{"$f":"'23. Data Input Object # 1'!BB25","v":0},{"$f":"'23. Data Input Object # 1'!BC25","v":0},{"$f":"'23. Data Input Object # 1'!BD25","v":0},{"$f":"'23. Data Input Object # 1'!BE25","v":0},{"$f":"'23. Data Input Object # 1'!BF25","v":0},{"$f":"'23. Data Input Object # 1'!BG25","v":0},{"$f":"'23. Data Input Object # 1'!BH25","v":0},{"$f":"'23. Data Input Object # 1'!BI25","v":0},{"$f":"'23. Data Input Object # 1'!BJ25","v":0},{"$f":"'23. Data Input Object # 1'!BK25","v":0},{"$f":"'23. Data Input Object # 1'!BL25","v":0},{"$f":"'23. Data Input Object # 1'!BM25","v":0},{"$f":"'23. Data Input Object # 1'!BN25","v":0},{"$f":"'23. Data Input Object # 1'!BO25","v":0},{"$f":"'23. Data Input Object # 1'!BP25","v":0},{"$f":"'23. Data Input Object # 1'!BQ25","v":0},{"$f":"'23. Data Input Object # 1'!BR25","v":0},{"$f":"'23. Data Input Object # 1'!BS25","v":0},{"$f":"'23. Data Input Object # 1'!BT25","v":0},{"$f":"'23. Data Input Object # 1'!BU25","v":0},{"$f":"'23. Data Input Object # 1'!BV25","v":0},{"$f":"'23. Data Input Object # 1'!BW25","v":0},{"$f":"'23. Data Input Object # 1'!BX25","v":0},{"$f":"'23. Data Input Object # 1'!BY25","v":0},{"$f":"'23. Data Input Object # 1'!BZ25","v":0},{"$f":"'23. Data Input Object # 1'!CA25","v":0}]
[{"$f":"'23. Data Input Object # 1'!A26","v":0},{"$f":"'23. Data Input Object # 1'!B26","v":0},{"$f":"'23. Data Input Object # 1'!C26","v":0},{"$f":"'23. Data Input Object # 1'!D26","v":0},{"$f":"'23. Data Input Object # 1'!E26","v":0},{"$f":"'23. Data Input Object # 1'!F26","v":0},{"$f":"'23. Data Input Object # 1'!G26","v":0},{"$f":"'23. Data Input Object # 1'!H26","v":0},{"$f":"'23. Data Input Object # 1'!I26","v":0},{"$f":"'23. Data Input Object # 1'!J26","v":0},{"$f":"'23. Data Input Object # 1'!K26","v":0},{"$f":"'23. Data Input Object # 1'!L26","v":0},{"$f":"'23. Data Input Object # 1'!M26","v":0},{"$f":"'23. Data Input Object # 1'!N26","v":0},{"$f":"'23. Data Input Object # 1'!O26","v":0},{"$f":"'23. Data Input Object # 1'!P26","v":0},{"$f":"'23. Data Input Object # 1'!Q26","v":0},{"$f":"'23. Data Input Object # 1'!R26","v":0},{"$f":"'23. Data Input Object # 1'!S26","v":0},{"$f":"'23. Data Input Object # 1'!T26","v":0},{"$f":"'23. Data Input Object # 1'!U26","v":0},{"$f":"'23. Data Input Object # 1'!V26","v":0},{"$f":"'23. Data Input Object # 1'!W26","v":0},{"$f":"'23. Data Input Object # 1'!X26","v":0},{"$f":"'23. Data Input Object # 1'!Y26","v":0},{"$f":"'23. Data Input Object # 1'!Z26","v":0},{"$f":"'23. Data Input Object # 1'!AA26","v":0},{"$f":"'23. Data Input Object # 1'!AB26","v":0},{"$f":"'23. Data Input Object # 1'!AC26","v":0},{"$f":"'23. Data Input Object # 1'!AD26","v":0},{"$f":"'23. Data Input Object # 1'!AE26","v":0},{"$f":"'23. Data Input Object # 1'!AF26","v":0},{"$f":"'23. Data Input Object # 1'!AG26","v":0},{"$f":"'23. Data Input Object # 1'!AH26","v":0},{"$f":"'23. Data Input Object # 1'!AI26","v":0},{"$f":"'23. Data Input Object # 1'!AJ26","v":0},{"$f":"'23. Data Input Object # 1'!AK26","v":0},{"$f":"'23. Data Input Object # 1'!AL26","v":0},{"$f":"'23. Data Input Object # 1'!AM26","v":0},{"$f":"'23. Data Input Object # 1'!AN26","v":0},{"$f":"'23. Data Input Object # 1'!AO26","v":0},{"$f":"'23. Data Input Object # 1'!AP26","v":0},{"$f":"'23. Data Input Object # 1'!AQ26","v":0},{"$f":"'23. Data Input Object # 1'!AR26","v":0},{"$f":"'23. Data Input Object # 1'!AS26","v":0},{"$f":"'23. Data Input Object # 1'!AT26","v":0},{"$f":"'23. Data Input Object # 1'!AU26","v":0},{"$f":"'23. Data Input Object # 1'!AV26","v":0},{"$f":"'23. Data Input Object # 1'!AW26","v":0},{"$f":"'23. Data Input Object # 1'!AX26","v":0},{"$f":"'23. Data Input Object # 1'!AY26","v":0},{"$f":"'23. Data Input Object # 1'!AZ26","v":0},{"$f":"'23. Data Input Object # 1'!BA26","v":0},{"$f":"'23. Data Input Object # 1'!BB26","v":0},{"$f":"'23. Data Input Object # 1'!BC26","v":0},{"$f":"'23. Data Input Object # 1'!BD26","v":0},{"$f":"'23. Data Input Object # 1'!BE26","v":0},{"$f":"'23. Data Input Object # 1'!BF26","v":0},{"$f":"'23. Data Input Object # 1'!BG26","v":0},{"$f":"'23. Data Input Object # 1'!BH26","v":0},{"$f":"'23. Data Input Object # 1'!BI26","v":0},{"$f":"'23. Data Input Object # 1'!BJ26","v":0},{"$f":"'23. Data Input Object # 1'!BK26","v":0},{"$f":"'23. Data Input Object # 1'!BL26","v":0},{"$f":"'23. Data Input Object # 1'!BM26","v":0},{"$f":"'23. Data Input Object # 1'!BN26","v":0},{"$f":"'23. Data Input Object # 1'!BO26","v":0},{"$f":"'23. Data Input Object # 1'!BP26","v":0},{"$f":"'23. Data Input Object # 1'!BQ26","v":0},{"$f":"'23. Data Input Object # 1'!BR26","v":0},{"$f":"'23. Data Input Object # 1'!BS26","v":0},{"$f":"'23. Data Input Object # 1'!BT26","v":0},{"$f":"'23. Data Input Object # 1'!BU26","v":0},{"$f":"'23. Data Input Object # 1'!BV26","v":0},{"$f":"'23. Data Input Object # 1'!BW26","v":0},{"$f":"'23. Data Input Object # 1'!BX26","v":0},{"$f":"'23. Data Input Object # 1'!BY26","v":0},{"$f":"'23. Data Input Object # 1'!BZ26","v":0},{"$f":"'23. Data Input Object # 1'!CA26","v":0}]
[{"$f":"'23. Data Input Object # 1'!A27","v":0},{"$f":"'23. Data Input Object # 1'!B27","v":0},{"$f":"'23. Data Input Object # 1'!C27","v":0},{"$f":"'23. Data Input Object # 1'!D27","v":0},{"$f":"'23. Data Input Object # 1'!E27","v":0},{"$f":"'23. Data Input Object # 1'!F27","v":0},{"$f":"'23. Data Input Object # 1'!G27","v":0},{"$f":"'23. Data Input Object # 1'!H27","v":0},{"$f":"'23. Data Input Object # 1'!I27","v":0},{"$f":"'23. Data Input Object # 1'!J27","v":0},{"$f":"'23. Data Input Object # 1'!K27","v":0},{"$f":"'23. Data Input Object # 1'!L27","v":0},{"$f":"'23. Data Input Object # 1'!M27","v":0},{"$f":"'23. Data Input Object # 1'!N27","v":0},{"$f":"'23. Data Input Object # 1'!O27","v":0},{"$f":"'23. Data Input Object # 1'!P27","v":0},{"$f":"'23. Data Input Object # 1'!Q27","v":0},{"$f":"'23. Data Input Object # 1'!R27","v":0},{"$f":"'23. Data Input Object # 1'!S27","v":0},{"$f":"'23. Data Input Object # 1'!T27","v":0},{"$f":"'23. Data Input Object # 1'!U27","v":0},{"$f":"'23. Data Input Object # 1'!V27","v":0},{"$f":"'23. Data Input Object # 1'!W27","v":0},{"$f":"'23. Data Input Object # 1'!X27","v":0},{"$f":"'23. Data Input Object # 1'!Y27","v":0},{"$f":"'23. Data Input Object # 1'!Z27","v":0},{"$f":"'23. Data Input Object # 1'!AA27","v":0},{"$f":"'23. Data Input Object # 1'!AB27","v":0},{"$f":"'23. Data Input Object # 1'!AC27","v":0},{"$f":"'23. Data Input Object # 1'!AD27","v":0},{"$f":"'23. Data Input Object # 1'!AE27","v":0},{"$f":"'23. Data Input Object # 1'!AF27","v":0},{"$f":"'23. Data Input Object # 1'!AG27","v":0},{"$f":"'23. Data Input Object # 1'!AH27","v":0},{"$f":"'23. Data Input Object # 1'!AI27","v":0},{"$f":"'23. Data Input Object # 1'!AJ27","v":0},{"$f":"'23. Data Input Object # 1'!AK27","v":0},{"$f":"'23. Data Input Object # 1'!AL27","v":0},{"$f":"'23. Data Input Object # 1'!AM27","v":0},{"$f":"'23. Data Input Object # 1'!AN27","v":0},{"$f":"'23. Data Input Object # 1'!AO27","v":0},{"$f":"'23. Data Input Object # 1'!AP27","v":0},{"$f":"'23. Data Input Object # 1'!AQ27","v":0},{"$f":"'23. Data Input Object # 1'!AR27","v":0},{"$f":"'23. Data Input Object # 1'!AS27","v":0},{"$f":"'23. Data Input Object # 1'!AT27","v":0},{"$f":"'23. Data Input Object # 1'!AU27","v":0},{"$f":"'23. Data Input Object # 1'!AV27","v":0},{"$f":"'23. Data Input Object # 1'!AW27","v":0},{"$f":"'23. Data Input Object # 1'!AX27","v":0},{"$f":"'23. Data Input Object # 1'!AY27","v":0},{"$f":"'23. Data Input Object # 1'!AZ27","v":0},{"$f":"'23. Data Input Object # 1'!BA27","v":0},{"$f":"'23. Data Input Object # 1'!BB27","v":0},{"$f":"'23. Data Input Object # 1'!BC27","v":0},{"$f":"'23. Data Input Object # 1'!BD27","v":0},{"$f":"'23. Data Input Object # 1'!BE27","v":0},{"$f":"'23. Data Input Object # 1'!BF27","v":0},{"$f":"'23. Data Input Object # 1'!BG27","v":0},{"$f":"'23. Data Input Object # 1'!BH27","v":0},{"$f":"'23. Data Input Object # 1'!BI27","v":0},{"$f":"'23. Data Input Object # 1'!BJ27","v":0},{"$f":"'23. Data Input Object # 1'!BK27","v":0},{"$f":"'23. Data Input Object # 1'!BL27","v":0},{"$f":"'23. Data Input Object # 1'!BM27","v":0},{"$f":"'23. Data Input Object # 1'!BN27","v":0},{"$f":"'23. Data Input Object # 1'!BO27","v":0},{"$f":"'23. Data Input Object # 1'!BP27","v":0},{"$f":"'23. Data Input Object # 1'!BQ27","v":0},{"$f":"'23. Data Input Object # 1'!BR27","v":0},{"$f":"'23. Data Input Object # 1'!BS27","v":0},{"$f":"'23. Data Input Object # 1'!BT27","v":0},{"$f":"'23. Data Input Object # 1'!BU27","v":0},{"$f":"'23. Data Input Object # 1'!BV27","v":0},{"$f":"'23. Data Input Object # 1'!BW27","v":0},{"$f":"'23. Data Input Object # 1'!BX27","v":0},{"$f":"'23. Data Input Object # 1'!BY27","v":0},{"$f":"'23. Data Input Object # 1'!BZ27","v":0},{"$f":"'23. Data Input Object # 1'!CA27","v":0}]
[{"$f":"'23. Data Input Object # 1'!A28","v":0},{"$f":"'23. Data Input Object # 1'!B28","v":0},{"$f":"'23. Data Input Object # 1'!C28","v":0},{"$f":"'23. Data Input Object # 1'!D28","v":0},{"$f":"'23. Data Input Object # 1'!E28","v":0},{"$f":"'23. Data Input Object # 1'!F28","v":0},{"$f":"'23. Data Input Object # 1'!G28","v":0},{"$f":"'23. Data Input Object # 1'!H28","v":0},{"$f":"'23. Data Input Object # 1'!I28","v":0},{"$f":"'23. Data Input Object # 1'!J28","v":0},{"$f":"'23. Data Input Object # 1'!K28","v":0},{"$f":"'23. Data Input Object # 1'!L28","v":0},{"$f":"'23. Data Input Object # 1'!M28","v":0},{"$f":"'23. Data Input Object # 1'!N28","v":0},{"$f":"'23. Data Input Object # 1'!O28","v":0},{"$f":"'23. Data Input Object # 1'!P28","v":0},{"$f":"'23. Data Input Object # 1'!Q28","v":0},{"$f":"'23. Data Input Object # 1'!R28","v":0},{"$f":"'23. Data Input Object # 1'!S28","v":0},{"$f":"'23. Data Input Object # 1'!T28","v":0},{"$f":"'23. Data Input Object # 1'!U28","v":0},{"$f":"'23. Data Input Object # 1'!V28","v":0},{"$f":"'23. Data Input Object # 1'!W28","v":0},{"$f":"'23. Data Input Object # 1'!X28","v":0},{"$f":"'23. Data Input Object # 1'!Y28","v":0},{"$f":"'23. Data Input Object # 1'!Z28","v":0},{"$f":"'23. Data Input Object # 1'!AA28","v":0},{"$f":"'23. Data Input Object # 1'!AB28","v":0},{"$f":"'23. Data Input Object # 1'!AC28","v":0},{"$f":"'23. Data Input Object # 1'!AD28","v":0},{"$f":"'23. Data Input Object # 1'!AE28","v":0},{"$f":"'23. Data Input Object # 1'!AF28","v":0},{"$f":"'23. Data Input Object # 1'!AG28","v":0},{"$f":"'23. Data Input Object # 1'!AH28","v":0},{"$f":"'23. Data Input Object # 1'!AI28","v":0},{"$f":"'23. Data Input Object # 1'!AJ28","v":0},{"$f":"'23. Data Input Object # 1'!AK28","v":0},{"$f":"'23. Data Input Object # 1'!AL28","v":0},{"$f":"'23. Data Input Object # 1'!AM28","v":0},{"$f":"'23. Data Input Object # 1'!AN28","v":0},{"$f":"'23. Data Input Object # 1'!AO28","v":0},{"$f":"'23. Data Input Object # 1'!AP28","v":0},{"$f":"'23. Data Input Object # 1'!AQ28","v":0},{"$f":"'23. Data Input Object # 1'!AR28","v":0},{"$f":"'23. Data Input Object # 1'!AS28","v":0},{"$f":"'23. Data Input Object # 1'!AT28","v":0},{"$f":"'23. Data Input Object # 1'!AU28","v":0},{"$f":"'23. Data Input Object # 1'!AV28","v":0},{"$f":"'23. Data Input Object # 1'!AW28","v":0},{"$f":"'23. Data Input Object # 1'!AX28","v":0},{"$f":"'23. Data Input Object # 1'!AY28","v":0},{"$f":"'23. Data Input Object # 1'!AZ28","v":0},{"$f":"'23. Data Input Object # 1'!BA28","v":0},{"$f":"'23. Data Input Object # 1'!BB28","v":0},{"$f":"'23. Data Input Object # 1'!BC28","v":0},{"$f":"'23. Data Input Object # 1'!BD28","v":0},{"$f":"'23. Data Input Object # 1'!BE28","v":0},{"$f":"'23. Data Input Object # 1'!BF28","v":0},{"$f":"'23. Data Input Object # 1'!BG28","v":0},{"$f":"'23. Data Input Object # 1'!BH28","v":0},{"$f":"'23. Data Input Object # 1'!BI28","v":0},{"$f":"'23. Data Input Object # 1'!BJ28","v":0},{"$f":"'23. Data Input Object # 1'!BK28","v":0},{"$f":"'23. Data Input Object # 1'!BL28","v":0},{"$f":"'23. Data Input Object # 1'!BM28","v":0},{"$f":"'23. Data Input Object # 1'!BN28","v":0},{"$f":"'23. Data Input Object # 1'!BO28","v":0},{"$f":"'23. Data Input Object # 1'!BP28","v":0},{"$f":"'23. Data Input Object # 1'!BQ28","v":0},{"$f":"'23. Data Input Object # 1'!BR28","v":0},{"$f":"'23. Data Input Object # 1'!BS28","v":0},{"$f":"'23. Data Input Object # 1'!BT28","v":0},{"$f":"'23. Data Input Object # 1'!BU28","v":0},{"$f":"'23. Data Input Object # 1'!BV28","v":0},{"$f":"'23. Data Input Object # 1'!BW28","v":0},{"$f":"'23. Data Input Object # 1'!BX28","v":0},{"$f":"'23. Data Input Object # 1'!BY28","v":0},{"$f":"'23. Data Input Object # 1'!BZ28","v":0},{"$f":"'23. Data Input Object # 1'!CA28","v":0}]
[{"$f":"'23. Data Input Object # 1'!A29","v":0},{"$f":"'23. Data Input Object # 1'!B29","v":0},{"$f":"'23. Data Input Object # 1'!C29","v":0},{"$f":"'23. Data Input Object # 1'!D29","v":0},{"$f":"'23. Data Input Object # 1'!E29","v":0},{"$f":"'23. Data Input Object # 1'!F29","v":0},{"$f":"'23. Data Input Object # 1'!G29","v":0},{"$f":"'23. Data Input Object # 1'!H29","v":0},{"$f":"'23. Data Input Object # 1'!I29","v":0},{"$f":"'23. Data Input Object # 1'!J29","v":0},{"$f":"'23. Data Input Object # 1'!K29","v":0},{"$f":"'23. Data Input Object # 1'!L29","v":0},{"$f":"'23. Data Input Object # 1'!M29","v":0},{"$f":"'23. Data Input Object # 1'!N29","v":0},{"$f":"'23. Data Input Object # 1'!O29","v":0},{"$f":"'23. Data Input Object # 1'!P29","v":0},{"$f":"'23. Data Input Object # 1'!Q29","v":0},{"$f":"'23. Data Input Object # 1'!R29","v":0},{"$f":"'23. Data Input Object # 1'!S29","v":0},{"$f":"'23. Data Input Object # 1'!T29","v":0},{"$f":"'23. Data Input Object # 1'!U29","v":0},{"$f":"'23. Data Input Object # 1'!V29","v":0},{"$f":"'23. Data Input Object # 1'!W29","v":0},{"$f":"'23. Data Input Object # 1'!X29","v":0},{"$f":"'23. Data Input Object # 1'!Y29","v":0},{"$f":"'23. Data Input Object # 1'!Z29","v":0},{"$f":"'23. Data Input Object # 1'!AA29","v":0},{"$f":"'23. Data Input Object # 1'!AB29","v":0},{"$f":"'23. Data Input Object # 1'!AC29","v":0},{"$f":"'23. Data Input Object # 1'!AD29","v":0},{"$f":"'23. Data Input Object # 1'!AE29","v":0},{"$f":"'23. Data Input Object # 1'!AF29","v":0},{"$f":"'23. Data Input Object # 1'!AG29","v":0},{"$f":"'23. Data Input Object # 1'!AH29","v":0},{"$f":"'23. Data Input Object # 1'!AI29","v":0},{"$f":"'23. Data Input Object # 1'!AJ29","v":0},{"$f":"'23. Data Input Object # 1'!AK29","v":0},{"$f":"'23. Data Input Object # 1'!AL29","v":0},{"$f":"'23. Data Input Object # 1'!AM29","v":0},{"$f":"'23. Data Input Object # 1'!AN29","v":0},{"$f":"'23. Data Input Object # 1'!AO29","v":0},{"$f":"'23. Data Input Object # 1'!AP29","v":0},{"$f":"'23. Data Input Object # 1'!AQ29","v":0},{"$f":"'23. Data Input Object # 1'!AR29","v":0},{"$f":"'23. Data Input Object # 1'!AS29","v":0},{"$f":"'23. Data Input Object # 1'!AT29","v":0},{"$f":"'23. Data Input Object # 1'!AU29","v":0},{"$f":"'23. Data Input Object # 1'!AV29","v":0},{"$f":"'23. Data Input Object # 1'!AW29","v":0},{"$f":"'23. Data Input Object # 1'!AX29","v":0},{"$f":"'23. Data Input Object # 1'!AY29","v":0},{"$f":"'23. Data Input Object # 1'!AZ29","v":0},{"$f":"'23. Data Input Object # 1'!BA29","v":0},{"$f":"'23. Data Input Object # 1'!BB29","v":0},{"$f":"'23. Data Input Object # 1'!BC29","v":0},{"$f":"'23. Data Input Object # 1'!BD29","v":0},{"$f":"'23. Data Input Object # 1'!BE29","v":0},{"$f":"'23. Data Input Object # 1'!BF29","v":0},{"$f":"'23. Data Input Object # 1'!BG29","v":0},{"$f":"'23. Data Input Object # 1'!BH29","v":0},{"$f":"'23. Data Input Object # 1'!BI29","v":0},{"$f":"'23. Data Input Object # 1'!BJ29","v":0},{"$f":"'23. Data Input Object # 1'!BK29","v":0},{"$f":"'23. Data Input Object # 1'!BL29","v":0},{"$f":"'23. Data Input Object # 1'!BM29","v":0},{"$f":"'23. Data Input Object # 1'!BN29","v":0},{"$f":"'23. Data Input Object # 1'!BO29","v":0},{"$f":"'23. Data Input Object # 1'!BP29","v":0},{"$f":"'23. Data Input Object # 1'!BQ29","v":0},{"$f":"'23. Data Input Object # 1'!BR29","v":0},{"$f":"'23. Data Input Object # 1'!BS29","v":0},{"$f":"'23. Data Input Object # 1'!BT29","v":0},{"$f":"'23. Data Input Object # 1'!BU29","v":0},{"$f":"'23. Data Input Object # 1'!BV29","v":0},{"$f":"'23. Data Input Object # 1'!BW29","v":0},{"$f":"'23. Data Input Object # 1'!BX29","v":0},{"$f":"'23. Data Input Object # 1'!BY29","v":0},{"$f":"'23. Data Input Object # 1'!BZ29","v":0},{"$f":"'23. Data Input Object # 1'!CA29","v":0}]
[{"$f":"'23. Data Input Object # 1'!A30","v":0},{"$f":"'23. Data Input Object # 1'!B30","v":0},{"$f":"'23. Data Input Object # 1'!C30","v":0},{"$f":"'23. Data Input Object # 1'!D30","v":0},{"$f":"'23. Data Input Object # 1'!E30","v":0},{"$f":"'23. Data Input Object # 1'!F30","v":0},{"$f":"'23. Data Input Object # 1'!G30","v":0},{"$f":"'23. Data Input Object # 1'!H30","v":0},{"$f":"'23. Data Input Object # 1'!I30","v":0},{"$f":"'23. Data Input Object # 1'!J30","v":0},{"$f":"'23. Data Input Object # 1'!K30","v":0},{"$f":"'23. Data Input Object # 1'!L30","v":0},{"$f":"'23. Data Input Object # 1'!M30","v":0},{"$f":"'23. Data Input Object # 1'!N30","v":0},{"$f":"'23. Data Input Object # 1'!O30","v":0},{"$f":"'23. Data Input Object # 1'!P30","v":0},{"$f":"'23. Data Input Object # 1'!Q30","v":0},{"$f":"'23. Data Input Object # 1'!R30","v":0},{"$f":"'23. Data Input Object # 1'!S30","v":0},{"$f":"'23. Data Input Object # 1'!T30","v":0},{"$f":"'23. Data Input Object # 1'!U30","v":0},{"$f":"'23. Data Input Object # 1'!V30","v":0},{"$f":"'23. Data Input Object # 1'!W30","v":0},{"$f":"'23. Data Input Object # 1'!X30","v":0},{"$f":"'23. Data Input Object # 1'!Y30","v":0},{"$f":"'23. Data Input Object # 1'!Z30","v":0},{"$f":"'23. Data Input Object # 1'!AA30","v":0},{"$f":"'23. Data Input Object # 1'!AB30","v":0},{"$f":"'23. Data Input Object # 1'!AC30","v":0},{"$f":"'23. Data Input Object # 1'!AD30","v":0},{"$f":"'23. Data Input Object # 1'!AE30","v":0},{"$f":"'23. Data Input Object # 1'!AF30","v":0},{"$f":"'23. Data Input Object # 1'!AG30","v":0},{"$f":"'23. Data Input Object # 1'!AH30","v":0},{"$f":"'23. Data Input Object # 1'!AI30","v":0},{"$f":"'23. Data Input Object # 1'!AJ30","v":0},{"$f":"'23. Data Input Object # 1'!AK30","v":0},{"$f":"'23. Data Input Object # 1'!AL30","v":0},{"$f":"'23. Data Input Object # 1'!AM30","v":0},{"$f":"'23. Data Input Object # 1'!AN30","v":0},{"$f":"'23. Data Input Object # 1'!AO30","v":0},{"$f":"'23. Data Input Object # 1'!AP30","v":0},{"$f":"'23. Data Input Object # 1'!AQ30","v":0},{"$f":"'23. Data Input Object # 1'!AR30","v":0},{"$f":"'23. Data Input Object # 1'!AS30","v":0},{"$f":"'23. Data Input Object # 1'!AT30","v":0},{"$f":"'23. Data Input Object # 1'!AU30","v":0},{"$f":"'23. Data Input Object # 1'!AV30","v":0},{"$f":"'23. Data Input Object # 1'!AW30","v":0},{"$f":"'23. Data Input Object # 1'!AX30","v":0},{"$f":"'23. Data Input Object # 1'!AY30","v":0},{"$f":"'23. Data Input Object # 1'!AZ30","v":0},{"$f":"'23. Data Input Object # 1'!BA30","v":0},{"$f":"'23. Data Input Object # 1'!BB30","v":0},{"$f":"'23. Data Input Object # 1'!BC30","v":0},{"$f":"'23. Data Input Object # 1'!BD30","v":0},{"$f":"'23. Data Input Object # 1'!BE30","v":0},{"$f":"'23. Data Input Object # 1'!BF30","v":0},{"$f":"'23. Data Input Object # 1'!BG30","v":0},{"$f":"'23. Data Input Object # 1'!BH30","v":0},{"$f":"'23. Data Input Object # 1'!BI30","v":0},{"$f":"'23. Data Input Object # 1'!BJ30","v":0},{"$f":"'23. Data Input Object # 1'!BK30","v":0},{"$f":"'23. Data Input Object # 1'!BL30","v":0},{"$f":"'23. Data Input Object # 1'!BM30","v":0},{"$f":"'23. Data Input Object # 1'!BN30","v":0},{"$f":"'23. Data Input Object # 1'!BO30","v":0},{"$f":"'23. Data Input Object # 1'!BP30","v":0},{"$f":"'23. Data Input Object # 1'!BQ30","v":0},{"$f":"'23. Data Input Object # 1'!BR30","v":0},{"$f":"'23. Data Input Object # 1'!BS30","v":0},{"$f":"'23. Data Input Object # 1'!BT30","v":0},{"$f":"'23. Data Input Object # 1'!BU30","v":0},{"$f":"'23. Data Input Object # 1'!BV30","v":0},{"$f":"'23. Data Input Object # 1'!BW30","v":0},{"$f":"'23. Data Input Object # 1'!BX30","v":0},{"$f":"'23. Data Input Object # 1'!BY30","v":0},{"$f":"'23. Data Input Object # 1'!BZ30","v":0},{"$f":"'23. Data Input Object # 1'!CA30","v":0}]
[{"$f":"'23. Data Input Object # 1'!A31","v":0},{"$f":"'23. Data Input Object # 1'!B31","v":0},{"$f":"'23. Data Input Object # 1'!C31","v":0},{"$f":"'23. Data Input Object # 1'!D31","v":0},{"$f":"'23. Data Input Object # 1'!E31","v":0},{"$f":"'23. Data Input Object # 1'!F31","v":0},{"$f":"'23. Data Input Object # 1'!G31","v":0},{"$f":"'23. Data Input Object # 1'!H31","v":0},{"$f":"'23. Data Input Object # 1'!I31","v":0},{"$f":"'23. Data Input Object # 1'!J31","v":0},{"$f":"'23. Data Input Object # 1'!K31","v":0},{"$f":"'23. Data Input Object # 1'!L31","v":0},{"$f":"'23. Data Input Object # 1'!M31","v":0},{"$f":"'23. Data Input Object # 1'!N31","v":0},{"$f":"'23. Data Input Object # 1'!O31","v":0},{"$f":"'23. Data Input Object # 1'!P31","v":0},{"$f":"'23. Data Input Object # 1'!Q31","v":0},{"$f":"'23. Data Input Object # 1'!R31","v":0},{"$f":"'23. Data Input Object # 1'!S31","v":0},{"$f":"'23. Data Input Object # 1'!T31","v":0},{"$f":"'23. Data Input Object # 1'!U31","v":0},{"$f":"'23. Data Input Object # 1'!V31","v":0},{"$f":"'23. Data Input Object # 1'!W31","v":0},{"$f":"'23. Data Input Object # 1'!X31","v":0},{"$f":"'23. Data Input Object # 1'!Y31","v":0},{"$f":"'23. Data Input Object # 1'!Z31","v":0},{"$f":"'23. Data Input Object # 1'!AA31","v":0},{"$f":"'23. Data Input Object # 1'!AB31","v":0},{"$f":"'23. Data Input Object # 1'!AC31","v":0},{"$f":"'23. Data Input Object # 1'!AD31","v":0},{"$f":"'23. Data Input Object # 1'!AE31","v":0},{"$f":"'23. Data Input Object # 1'!AF31","v":0},{"$f":"'23. Data Input Object # 1'!AG31","v":0},{"$f":"'23. Data Input Object # 1'!AH31","v":0},{"$f":"'23. Data Input Object # 1'!AI31","v":0},{"$f":"'23. Data Input Object # 1'!AJ31","v":0},{"$f":"'23. Data Input Object # 1'!AK31","v":0},{"$f":"'23. Data Input Object # 1'!AL31","v":0},{"$f":"'23. Data Input Object # 1'!AM31","v":0},{"$f":"'23. Data Input Object # 1'!AN31","v":0},{"$f":"'23. Data Input Object # 1'!AO31","v":0},{"$f":"'23. Data Input Object # 1'!AP31","v":0},{"$f":"'23. Data Input Object # 1'!AQ31","v":0},{"$f":"'23. Data Input Object # 1'!AR31","v":0},{"$f":"'23. Data Input Object # 1'!AS31","v":0},{"$f":"'23. Data Input Object # 1'!AT31","v":0},{"$f":"'23. Data Input Object # 1'!AU31","v":0},{"$f":"'23. Data Input Object # 1'!AV31","v":0},{"$f":"'23. Data Input Object # 1'!AW31","v":0},{"$f":"'23. Data Input Object # 1'!AX31","v":0},{"$f":"'23. Data Input Object # 1'!AY31","v":0},{"$f":"'23. Data Input Object # 1'!AZ31","v":0},{"$f":"'23. Data Input Object # 1'!BA31","v":0},{"$f":"'23. Data Input Object # 1'!BB31","v":0},{"$f":"'23. Data Input Object # 1'!BC31","v":0},{"$f":"'23. Data Input Object # 1'!BD31","v":0},{"$f":"'23. Data Input Object # 1'!BE31","v":0},{"$f":"'23. Data Input Object # 1'!BF31","v":0},{"$f":"'23. Data Input Object # 1'!BG31","v":0},{"$f":"'23. Data Input Object # 1'!BH31","v":0},{"$f":"'23. Data Input Object # 1'!BI31","v":0},{"$f":"'23. Data Input Object # 1'!BJ31","v":0},{"$f":"'23. Data Input Object # 1'!BK31","v":0},{"$f":"'23. Data Input Object # 1'!BL31","v":0},{"$f":"'23. Data Input Object # 1'!BM31","v":0},{"$f":"'23. Data Input Object # 1'!BN31","v":0},{"$f":"'23. Data Input Object # 1'!BO31","v":0},{"$f":"'23. Data Input Object # 1'!BP31","v":0},{"$f":"'23. Data Input Object # 1'!BQ31","v":0},{"$f":"'23. Data Input Object # 1'!BR31","v":0},{"$f":"'23. Data Input Object # 1'!BS31","v":0},{"$f":"'23. Data Input Object # 1'!BT31","v":0},{"$f":"'23. Data Input Object # 1'!BU31","v":0},{"$f":"'23. Data Input Object # 1'!BV31","v":0},{"$f":"'23. Data Input Object # 1'!BW31","v":0},{"$f":"'23. Data Input Object # 1'!BX31","v":0},{"$f":"'23. Data Input Object # 1'!BY31","v":0},{"$f":"'23. Data Input Object # 1'!BZ31","v":0},{"$f":"'23. Data Input Object # 1'!CA31","v":0}]
[{"$f":"'23. Data Input Object # 1'!A32","v":0},{"$f":"'23. Data Input Object # 1'!B32","v":0},{"$f":"'23. Data Input Object # 1'!C32","v":0},{"$f":"'23. Data Input Object # 1'!D32","v":0},{"$f":"'23. Data Input Object # 1'!E32","v":0},{"$f":"'23. Data Input Object # 1'!F32","v":0},{"$f":"'23. Data Input Object # 1'!G32","v":0},{"$f":"'23. Data Input Object # 1'!H32","v":0},{"$f":"'23. Data Input Object # 1'!I32","v":0},{"$f":"'23. Data Input Object # 1'!J32","v":0},{"$f":"'23. Data Input Object # 1'!K32","v":0},{"$f":"'23. Data Input Object # 1'!L32","v":0},{"$f":"'23. Data Input Object # 1'!M32","v":0},{"$f":"'23. Data Input Object # 1'!N32","v":0},{"$f":"'23. Data Input Object # 1'!O32","v":0},{"$f":"'23. Data Input Object # 1'!P32","v":0},{"$f":"'23. Data Input Object # 1'!Q32","v":0},{"$f":"'23. Data Input Object # 1'!R32","v":0},{"$f":"'23. Data Input Object # 1'!S32","v":0},{"$f":"'23. Data Input Object # 1'!T32","v":0},{"$f":"'23. Data Input Object # 1'!U32","v":0},{"$f":"'23. Data Input Object # 1'!V32","v":0},{"$f":"'23. Data Input Object # 1'!W32","v":0},{"$f":"'23. Data Input Object # 1'!X32","v":0},{"$f":"'23. Data Input Object # 1'!Y32","v":0},{"$f":"'23. Data Input Object # 1'!Z32","v":0},{"$f":"'23. Data Input Object # 1'!AA32","v":0},{"$f":"'23. Data Input Object # 1'!AB32","v":0},{"$f":"'23. Data Input Object # 1'!AC32","v":0},{"$f":"'23. Data Input Object # 1'!AD32","v":0},{"$f":"'23. Data Input Object # 1'!AE32","v":0},{"$f":"'23. Data Input Object # 1'!AF32","v":0},{"$f":"'23. Data Input Object # 1'!AG32","v":0},{"$f":"'23. Data Input Object # 1'!AH32","v":0},{"$f":"'23. Data Input Object # 1'!AI32","v":0},{"$f":"'23. Data Input Object # 1'!AJ32","v":0},{"$f":"'23. Data Input Object # 1'!AK32","v":0},{"$f":"'23. Data Input Object # 1'!AL32","v":0},{"$f":"'23. Data Input Object # 1'!AM32","v":0},{"$f":"'23. Data Input Object # 1'!AN32","v":0},{"$f":"'23. Data Input Object # 1'!AO32","v":0},{"$f":"'23. Data Input Object # 1'!AP32","v":0},{"$f":"'23. Data Input Object # 1'!AQ32","v":0},{"$f":"'23. Data Input Object # 1'!AR32","v":0},{"$f":"'23. Data Input Object # 1'!AS32","v":0},{"$f":"'23. Data Input Object # 1'!AT32","v":0},{"$f":"'23. Data Input Object # 1'!AU32","v":0},{"$f":"'23. Data Input Object # 1'!AV32","v":0},{"$f":"'23. Data Input Object # 1'!AW32","v":0},{"$f":"'23. Data Input Object # 1'!AX32","v":0},{"$f":"'23. Data Input Object # 1'!AY32","v":0},{"$f":"'23. Data Input Object # 1'!AZ32","v":0},{"$f":"'23. Data Input Object # 1'!BA32","v":0},{"$f":"'23. Data Input Object # 1'!BB32","v":0},{"$f":"'23. Data Input Object # 1'!BC32","v":0},{"$f":"'23. Data Input Object # 1'!BD32","v":0},{"$f":"'23. Data Input Object # 1'!BE32","v":0},{"$f":"'23. Data Input Object # 1'!BF32","v":0},{"$f":"'23. Data Input Object # 1'!BG32","v":0},{"$f":"'23. Data Input Object # 1'!BH32","v":0},{"$f":"'23. Data Input Object # 1'!BI32","v":0},{"$f":"'23. Data Input Object # 1'!BJ32","v":0},{"$f":"'23. Data Input Object # 1'!BK32","v":0},{"$f":"'23. Data Input Object # 1'!BL32","v":0},{"$f":"'23. Data Input Object # 1'!BM32","v":0},{"$f":"'23. Data Input Object # 1'!BN32","v":0},{"$f":"'23. Data Input Object # 1'!BO32","v":0},{"$f":"'23. Data Input Object # 1'!BP32","v":0},{"$f":"'23. Data Input Object # 1'!BQ32","v":0},{"$f":"'23. Data Input Object # 1'!BR32","v":0},{"$f":"'23. Data Input Object # 1'!BS32","v":0},{"$f":"'23. Data Input Object # 1'!BT32","v":0},{"$f":"'23. Data Input Object # 1'!BU32","v":0},{"$f":"'23. Data Input Object # 1'!BV32","v":0},{"$f":"'23. Data Input Object # 1'!BW32","v":0},{"$f":"'23. Data Input Object # 1'!BX32","v":0},{"$f":"'23. Data Input Object # 1'!BY32","v":0},{"$f":"'23. Data Input Object # 1'!BZ32","v":0},{"$f":"'23. Data Input Object # 1'!CA32","v":0}]
[{"$f":"'23. Data Input Object # 1'!A33","v":0},{"$f":"'23. Data Input Object # 1'!B33","v":0},{"$f":"'23. Data Input Object # 1'!C33","v":0},{"$f":"'23. Data Input Object # 1'!D33","v":0},{"$f":"'23. Data Input Object # 1'!E33","v":0},{"$f":"'23. Data Input Object # 1'!F33","v":0},{"$f":"'23. Data Input Object # 1'!G33","v":0},{"$f":"'23. Data Input Object # 1'!H33","v":0},{"$f":"'23. Data Input Object # 1'!I33","v":0},{"$f":"'23. Data Input Object # 1'!J33","v":0},{"$f":"'23. Data Input Object # 1'!K33","v":0},{"$f":"'23. Data Input Object # 1'!L33","v":0},{"$f":"'23. Data Input Object # 1'!M33","v":0},{"$f":"'23. Data Input Object # 1'!N33","v":0},{"$f":"'23. Data Input Object # 1'!O33","v":0},{"$f":"'23. Data Input Object # 1'!P33","v":0},{"$f":"'23. Data Input Object # 1'!Q33","v":0},{"$f":"'23. Data Input Object # 1'!R33","v":0},{"$f":"'23. Data Input Object # 1'!S33","v":0},{"$f":"'23. Data Input Object # 1'!T33","v":0},{"$f":"'23. Data Input Object # 1'!U33","v":0},{"$f":"'23. Data Input Object # 1'!V33","v":0},{"$f":"'23. Data Input Object # 1'!W33","v":0},{"$f":"'23. Data Input Object # 1'!X33","v":0},{"$f":"'23. Data Input Object # 1'!Y33","v":0},{"$f":"'23. Data Input Object # 1'!Z33","v":0},{"$f":"'23. Data Input Object # 1'!AA33","v":0},{"$f":"'23. Data Input Object # 1'!AB33","v":0},{"$f":"'23. Data Input Object # 1'!AC33","v":0},{"$f":"'23. Data Input Object # 1'!AD33","v":0},{"$f":"'23. Data Input Object # 1'!AE33","v":0},{"$f":"'23. Data Input Object # 1'!AF33","v":0},{"$f":"'23. Data Input Object # 1'!AG33","v":0},{"$f":"'23. Data Input Object # 1'!AH33","v":0},{"$f":"'23. Data Input Object # 1'!AI33","v":0},{"$f":"'23. Data Input Object # 1'!AJ33","v":0},{"$f":"'23. Data Input Object # 1'!AK33","v":0},{"$f":"'23. Data Input Object # 1'!AL33","v":0},{"$f":"'23. Data Input Object # 1'!AM33","v":0},{"$f":"'23. Data Input Object # 1'!AN33","v":0},{"$f":"'23. Data Input Object # 1'!AO33","v":0},{"$f":"'23. Data Input Object # 1'!AP33","v":0},{"$f":"'23. Data Input Object # 1'!AQ33","v":0},{"$f":"'23. Data Input Object # 1'!AR33","v":0},{"$f":"'23. Data Input Object # 1'!AS33","v":0},{"$f":"'23. Data Input Object # 1'!AT33","v":0},{"$f":"'23. Data Input Object # 1'!AU33","v":0},{"$f":"'23. Data Input Object # 1'!AV33","v":0},{"$f":"'23. Data Input Object # 1'!AW33","v":0},{"$f":"'23. Data Input Object # 1'!AX33","v":0},{"$f":"'23. Data Input Object # 1'!AY33","v":0},{"$f":"'23. Data Input Object # 1'!AZ33","v":0},{"$f":"'23. Data Input Object # 1'!BA33","v":0},{"$f":"'23. Data Input Object # 1'!BB33","v":0},{"$f":"'23. Data Input Object # 1'!BC33","v":0},{"$f":"'23. Data Input Object # 1'!BD33","v":0},{"$f":"'23. Data Input Object # 1'!BE33","v":0},{"$f":"'23. Data Input Object # 1'!BF33","v":0},{"$f":"'23. Data Input Object # 1'!BG33","v":0},{"$f":"'23. Data Input Object # 1'!BH33","v":0},{"$f":"'23. Data Input Object # 1'!BI33","v":0},{"$f":"'23. Data Input Object # 1'!BJ33","v":0},{"$f":"'23. Data Input Object # 1'!BK33","v":0},{"$f":"'23. Data Input Object # 1'!BL33","v":0},{"$f":"'23. Data Input Object # 1'!BM33","v":0},{"$f":"'23. Data Input Object # 1'!BN33","v":0},{"$f":"'23. Data Input Object # 1'!BO33","v":0},{"$f":"'23. Data Input Object # 1'!BP33","v":0},{"$f":"'23. Data Input Object # 1'!BQ33","v":0},{"$f":"'23. Data Input Object # 1'!BR33","v":0},{"$f":"'23. Data Input Object # 1'!BS33","v":0},{"$f":"'23. Data Input Object # 1'!BT33","v":0},{"$f":"'23. Data Input Object # 1'!BU33","v":0},{"$f":"'23. Data Input Object # 1'!BV33","v":0},{"$f":"'23. Data Input Object # 1'!BW33","v":0},{"$f":"'23. Data Input Object # 1'!BX33","v":0},{"$f":"'23. Data Input Object # 1'!BY33","v":0},{"$f":"'23. Data Input Object # 1'!BZ33","v":0},{"$f":"'23. Data Input Object # 1'!CA33","v":0}]
[{"$f":"'23. Data Input Object # 1'!A34","v":0},{"$f":"'23. Data Input Object # 1'!B34","v":0},{"$f":"'23. Data Input Object # 1'!C34","v":0},{"$f":"'23. Data Input Object # 1'!D34","v":0},{"$f":"'23. Data Input Object # 1'!E34","v":0},{"$f":"'23. Data Input Object # 1'!F34","v":0},{"$f":"'23. Data Input Object # 1'!G34","v":0},{"$f":"'23. Data Input Object # 1'!H34","v":0},{"$f":"'23. Data Input Object # 1'!I34","v":0},{"$f":"'23. Data Input Object # 1'!J34","v":0},{"$f":"'23. Data Input Object # 1'!K34","v":0},{"$f":"'23. Data Input Object # 1'!L34","v":0},{"$f":"'23. Data Input Object # 1'!M34","v":0},{"$f":"'23. Data Input Object # 1'!N34","v":0},{"$f":"'23. Data Input Object # 1'!O34","v":0},{"$f":"'23. Data Input Object # 1'!P34","v":0},{"$f":"'23. Data Input Object # 1'!Q34","v":0},{"$f":"'23. Data Input Object # 1'!R34","v":0},{"$f":"'23. Data Input Object # 1'!S34","v":0},{"$f":"'23. Data Input Object # 1'!T34","v":0},{"$f":"'23. Data Input Object # 1'!U34","v":0},{"$f":"'23. Data Input Object # 1'!V34","v":0},{"$f":"'23. Data Input Object # 1'!W34","v":0},{"$f":"'23. Data Input Object # 1'!X34","v":0},{"$f":"'23. Data Input Object # 1'!Y34","v":0},{"$f":"'23. Data Input Object # 1'!Z34","v":0},{"$f":"'23. Data Input Object # 1'!AA34","v":0},{"$f":"'23. Data Input Object # 1'!AB34","v":0},{"$f":"'23. Data Input Object # 1'!AC34","v":0},{"$f":"'23. Data Input Object # 1'!AD34","v":0},{"$f":"'23. Data Input Object # 1'!AE34","v":0},{"$f":"'23. Data Input Object # 1'!AF34","v":0},{"$f":"'23. Data Input Object # 1'!AG34","v":0},{"$f":"'23. Data Input Object # 1'!AH34","v":0},{"$f":"'23. Data Input Object # 1'!AI34","v":0},{"$f":"'23. Data Input Object # 1'!AJ34","v":0},{"$f":"'23. Data Input Object # 1'!AK34","v":0},{"$f":"'23. Data Input Object # 1'!AL34","v":0},{"$f":"'23. Data Input Object # 1'!AM34","v":0},{"$f":"'23. Data Input Object # 1'!AN34","v":0},{"$f":"'23. Data Input Object # 1'!AO34","v":0},{"$f":"'23. Data Input Object # 1'!AP34","v":0},{"$f":"'23. Data Input Object # 1'!AQ34","v":0},{"$f":"'23. Data Input Object # 1'!AR34","v":0},{"$f":"'23. Data Input Object # 1'!AS34","v":0},{"$f":"'23. Data Input Object # 1'!AT34","v":0},{"$f":"'23. Data Input Object # 1'!AU34","v":0},{"$f":"'23. Data Input Object # 1'!AV34","v":0},{"$f":"'23. Data Input Object # 1'!AW34","v":0},{"$f":"'23. Data Input Object # 1'!AX34","v":0},{"$f":"'23. Data Input Object # 1'!AY34","v":0},{"$f":"'23. Data Input Object # 1'!AZ34","v":0},{"$f":"'23. Data Input Object # 1'!BA34","v":0},{"$f":"'23. Data Input Object # 1'!BB34","v":0},{"$f":"'23. Data Input Object # 1'!BC34","v":0},{"$f":"'23. Data Input Object # 1'!BD34","v":0},{"$f":"'23. Data Input Object # 1'!BE34","v":0},{"$f":"'23. Data Input Object # 1'!BF34","v":0},{"$f":"'23. Data Input Object # 1'!BG34","v":0},{"$f":"'23. Data Input Object # 1'!BH34","v":0},{"$f":"'23. Data Input Object # 1'!BI34","v":0},{"$f":"'23. Data Input Object # 1'!BJ34","v":0},{"$f":"'23. Data Input Object # 1'!BK34","v":0},{"$f":"'23. Data Input Object # 1'!BL34","v":0},{"$f":"'23. Data Input Object # 1'!BM34","v":0},{"$f":"'23. Data Input Object # 1'!BN34","v":0},{"$f":"'23. Data Input Object # 1'!BO34","v":0},{"$f":"'23. Data Input Object # 1'!BP34","v":0},{"$f":"'23. Data Input Object # 1'!BQ34","v":0},{"$f":"'23. Data Input Object # 1'!BR34","v":0},{"$f":"'23. Data Input Object # 1'!BS34","v":0},{"$f":"'23. Data Input Object # 1'!BT34","v":0},{"$f":"'23. Data Input Object # 1'!BU34","v":0},{"$f":"'23. Data Input Object # 1'!BV34","v":0},{"$f":"'23. Data Input Object # 1'!BW34","v":0},{"$f":"'23. Data Input Object # 1'!BX34","v":0},{"$f":"'23. Data Input Object # 1'!BY34","v":0},{"$f":"'23. Data Input Object # 1'!BZ34","v":0},{"$f":"'23. Data Input Object # 1'!CA34","v":0}]
[]
["Search Object Type # 2",{"$f":"'31. Data Summary Object # 2'!F1","v":"Clue High-Visibility"}]
[{"$f":"'24. Data Input Object # 2'!A4","v":"Location #"},{"$f":"'24. Data Input Object # 2'!B4","v":"LR"},{"$f":"'24. Data Input Object # 2'!C4","v":1},{"$f":"'24. Data Input Object # 2'!D4","v":2},{"$f":"'24. Data Input Object # 2'!E4","v":3},{"$f":"'24. Data Input Object # 2'!F4","v":4},{"$f":"'24. Data Input Object # 2'!G4","v":5},{"$f":"'24. Data Input Object # 2'!H4","v":6},{"$f":"'24. Data Input Object # 2'!I4","v":7},{"$f":"'24. Data Input Object # 2'!J4","v":8},{"$f":"'24. Data Input Object # 2'!K4","v":9},{"$f":"'24. Data Input Object # 2'!L4","v":10},{"$f":"'24. Data Input Object # 2'!M4","v":11},{"$f":"'24. Data Input Object # 2'!N4","v":12},{"$f":"'24. Data Input Object # 2'!O4","v":13},{"$f":"'24. Data Input Object # 2'!P4","v":14},{"$f":"'24. Data Input Object # 2'!Q4","v":15},{"$f":"'24. Data Input Object # 2'!R4","v":16},{"$f":"'24. Data Input Object # 2'!S4","v":17},{"$f":"'24. Data Input Object # 2'!T4","v":18},{"$f":"'24. Data Input Object # 2'!U4","v":19},{"$f":"'24. Data Input Object # 2'!V4","v":20},{"$f":"'24. Data Input Object # 2'!W4","v":21},{"$f":"'24. Data Input Object # 2'!X4","v":22},{"$f":"'24. Data Input Object # 2'!Y4","v":23},{"$f":"'24. Data Input Object # 2'!Z4","v":24},{"$f":"'24. Data Input Object # 2'!AA4","v":25},{"$f":"'24. Data Input Object # 2'!AB4","v":26},{"$f":"'24. Data Input Object # 2'!AC4","v":27},{"$f":"'24. Data Input Object # 2'!AD4","v":28},{"$f":"'24. Data Input Object # 2'!AE4","v":29},{"$f":"'24. Data Input Object # 2'!AF4","v":30},{"$f":"'24. Data Input Object # 2'!AG4","v":31},{"$f":"'24. Data Input Object # 2'!AH4","v":32},{"$f":"'24. Data Input Object # 2'!AI4","v":33},{"$f":"'24. Data Input Object # 2'!AJ4","v":34},{"$f":"'24. Data Input Object # 2'!AK4","v":35},{"$f":"'24. Data Input Object # 2'!AL4","v":36},{"$f":"'24. Data Input Object # 2'!AM4","v":37},{"$f":"'24. Data Input Object # 2'!AN4","v":38},{"$f":"'24. Data Input Object # 2'!AO4","v":39},{"$f":"'24. Data Input Object # 2'!AP4","v":40},{"$f":"'24. Data Input Object # 2'!AQ4","v":41},{"$f":"'24. Data Input Object # 2'!AR4","v":42},{"$f":"'24. Data Input Object # 2'!AS4","v":43},{"$f":"'24. Data Input Object # 2'!AT4","v":44},{"$f":"'24. Data Input Object # 2'!AU4","v":45},{"$f":"'24. Data Input Object # 2'!AV4","v":46},{"$f":"'24. Data Input Object # 2'!AW4","v":47},{"$f":"'24. Data Input Object # 2'!AX4","v":48},{"$f":"'24. Data Input Object # 2'!AY4","v":49},{"$f":"'24. Data Input Object # 2'!AZ4","v":50},{"$f":"'24. Data Input Object # 2'!BA4","v":51},{"$f":"'24. Data Input Object # 2'!BB4","v":52},{"$f":"'24. Data Input Object # 2'!BC4","v":53},{"$f":"'24. Data Input Object # 2'!BD4","v":54},{"$f":"'24. Data Input Object # 2'!BE4","v":55},{"$f":"'24. Data Input Object # 2'!BF4","v":56},{"$f":"'24. Data Input Object # 2'!BG4","v":57},{"$f":"'24. Data Input Object # 2'!BH4","v":58},{"$f":"'24. Data Input Object # 2'!BI4","v":59},{"$f":"'24. Data Input Object # 2'!BJ4","v":60},{"$f":"'24. Data Input Object # 2'!BK4","v":61},{"$f":"'24. Data Input Object # 2'!BL4","v":62},{"$f":"'24. Data Input Object # 2'!BM4","v":63},{"$f":"'24. Data Input Object # 2'!BN4","v":64},{"$f":"'24. Data Input Object # 2'!BO4","v":65},{"$f":"'24. Data Input Object # 2'!BP4","v":66},{"$f":"'24. Data Input Object # 2'!BQ4","v":67},{"$f":"'24. Data Input Object # 2'!BR4","v":68},{"$f":"'24. Data Input Object # 2'!BS4","v":69},{"$f":"'24. Data Input Object # 2'!BT4","v":70},{"$f":"'24. Data Input Object # 2'!BU4","v":71},{"$f":"'24. Data Input Object # 2'!BV4","v":72},{"$f":"'24. Data Input Object # 2'!BW4","v":73},{"$f":"'24. Data Input Object # 2'!BX4","v":74},{"$f":"'24. Data Input Object # 2'!BY4","v":75},{"$f":"'24. Data Input Object # 2'!BZ4","v":76},{"$f":"'24. Data Input Object # 2'!CA4","v":77}]
[{"$f":"'24. Data Input Object # 2'!A5","v":2},{"$f":"'24. Data Input Object # 2'!B5","v":17},{"$f":"'24. Data Input Object # 2'!C5","v":1},{"$f":"'24. Data Input Object # 2'!D5","v":1},{"$f":"'24. Data Input Object # 2'!E5","v":1},{"$f":"'24. Data Input Object # 2'!F5","v":1},{"$f":"'24. Data Input Object # 2'!G5","v":1},{"$f":"'24. Data Input Object # 2'!H5","v":1},{"$f":"'24. Data Input Object # 2'!I5","v":1},{"$f":"'24. Data Input Object # 2'!J5","v":1},{"$f":"'24. Data Input Object # 2'!K5","v":1},{"$f":"'24. Data Input Object # 2'!L5","v":1},{"$f":"'24. Data Input Object # 2'!M5","v":1},{"$f":"'24. Data Input Object # 2'!N5","v":1},{"$f":"'24. Data Input Object # 2'!O5","v":1},{"$f":"'24. Data Input Object # 2'!P5","v":1},{"$f":"'24. Data Input Object # 2'!Q5","v":1},{"$f":"'24. Data Input Object # 2'!R5","v":1},{"$f":"'24. Data Input Object # 2'!S5","v":1},{"$f":"'24. Data Input Object # 2'!T5","v":1},{"$f":"'24. Data Input Object # 2'!U5","v":1},{"$f":"'24. Data Input Object # 2'!V5","v":1},{"$f":"'24. Data Input Object # 2'!W5","v":1},{"$f":"'24. Data Input Object # 2'!X5","v":1},{"$f":"'24. Data Input Object # 2'!Y5","v":1},{"$f":"'24. Data Input Object # 2'!Z5","v":1},{"$f":"'24. Data Input Object # 2'!AA5","v":1},{"$f":"'24. Data Input Object # 2'!AB5","v":1},{"$f":"'24. Data Input Object # 2'!AC5","v":1},{"$f":"'24. Data Input Object # 2'!AD5","v":1},{"$f":"'24. Data Input Object # 2'!AE5","v":0},{"$f":"'24. Data Input Object # 2'!AF5","v":1},{"$f":"'24. Data Input Object # 2'!AG5","v":1},{"$f":"'24. Data Input Object # 2'!AH5","v":1},{"$f":"'24. Data Input Object # 2'!AI5","v":0},{"$f":"'24. Data Input Object # 2'!AJ5","v":1},{"$f":"'24. Data Input Object # 2'!AK5","v":0},{"$f":"'24. Data Input Object # 2'!AL5","v":0},{"$f":"'24. Data Input Object # 2'!AM5","v":0},{"$f":"'24. Data Input Object # 2'!AN5","v":0},{"$f":"'24. Data Input Object # 2'!AO5","v":0},{"$f":"'24. Data Input Object # 2'!AP5","v":0},{"$f":"'24. Data Input Object # 2'!AQ5","v":0},{"$f":"'24. Data Input Object # 2'!AR5","v":0},{"$f":"'24. Data Input Object # 2'!AS5","v":0},{"$f":"'24. Data Input Object # 2'!AT5","v":0},{"$f":"'24. Data Input Object # 2'!AU5","v":0},{"$f":"'24. Data Input Object # 2'!AV5","v":0},{"$f":"'24. Data Input Object # 2'!AW5","v":0},{"$f":"'24. Data Input Object # 2'!AX5","v":0},{"$f":"'24. Data Input Object # 2'!AY5","v":0},{"$f":"'24. Data Input Object # 2'!AZ5","v":0},{"$f":"'24. Data Input Object # 2'!BA5","v":0},{"$f":"'24. Data Input Object # 2'!BB5","v":0},{"$f":"'24. Data Input Object # 2'!BC5","v":0},{"$f":"'24. Data Input Object # 2'!BD5","v":0},{"$f":"'24. Data Input Object # 2'!BE5","v":0},{"$f":"'24. Data Input Object # 2'!BF5","v":0},{"$f":"'24. Data Input Object # 2'!BG5","v":0},{"$f":"'24. Data Input Object # 2'!BH5","v":0},{"$f":"'24. Data Input Object # 2'!BI5","v":0},{"$f":"'24. Data Input Object # 2'!BJ5","v":0},{"$f":"'24. Data Input Object # 2'!BK5","v":0},{"$f":"'24. Data Input Object # 2'!BL5","v":0},{"$f":"'24. Data Input Object # 2'!BM5","v":0},{"$f":"'24. Data Input Object # 2'!BN5","v":0},{"$f":"'24. Data Input Object # 2'!BO5","v":0},{"$f":"'24. Data Input Object # 2'!BP5","v":0},{"$f":"'24. Data Input Object # 2'!BQ5","v":0},{"$f":"'24. Data Input Object # 2'!BR5","v":0},{"$f":"'24. Data Input Object # 2'!BS5","v":0},{"$f":"'24. Data Input Object # 2'!BT5","v":0},{"$f":"'24. Data Input Object # 2'!BU5","v":0},{"$f":"'24. Data Input Object # 2'!BV5","v":0},{"$f":"'24. Data Input Object # 2'!BW5","v":0},{"$f":"'24. Data Input Object # 2'!BX5","v":0},{"$f":"'24. Data Input Object # 2'!BY5","v":0},{"$f":"'24. Data Input Object # 2'!BZ5","v":0},{"$f":"'24. Data Input Object # 2'!CA5","v":0}]
[{"$f":"'24. Data Input Object # 2'!A6","v":4},{"$f":"'24. Data Input Object # 2'!B6","v":32},{"$f":"'24. Data Input Object # 2'!C6","v":0},{"$f":"'24. Data Input Object # 2'!D6","v":0},{"$f":"'24. Data Input Object # 2'!E6","v":0},{"$f":"'24. Data Input Object # 2'!F6","v":0},{"$f":"'24. Data Input Object # 2'!G6","v":0},{"$f":"'24. Data Input Object # 2'!H6","v":0},{"$f":"'24. Data Input Object # 2'!I6","v":0},{"$f":"'24. Data Input Object # 2'!J6","v":0},{"$f":"'24. Data Input Object # 2'!K6","v":0},{"$f":"'24. Data Input Object # 2'!L6","v":0},{"$f":"'24. Data Input Object # 2'!M6","v":0},{"$f":"'24. Data Input Object # 2'!N6","v":0},{"$f":"'24. Data Input Object # 2'!O6","v":0},{"$f":"'24. Data Input Object # 2'!P6","v":0},{"$f":"'24. Data Input Object # 2'!Q6","v":0},{"$f":"'24. Data Input Object # 2'!R6","v":0},{"$f":"'24. Data Input Object # 2'!S6","v":0},{"$f":"'24. Data Input Object # 2'!T6","v":0},{"$f":"'24. Data Input Object # 2'!U6","v":0},{"$f":"'24. Data Input Object # 2'!V6","v":0},{"$f":"'24. Data Input Object # 2'!W6","v":0},{"$f":"'24. Data Input Object # 2'!X6","v":0},{"$f":"'24. Data Input Object # 2'!Y6","v":0},{"$f":"'24. Data Input Object # 2'!Z6","v":0},{"$f":"'24. Data Input Object # 2'!AA6","v":1},{"$f":"'24. Data Input Object # 2'!AB6","v":0},{"$f":"'24. Data Input Object # 2'!AC6","v":0},{"$f":"'24. Data Input Object # 2'!AD6","v":0},{"$f":"'24. Data Input Object # 2'!AE6","v":0},{"$f":"'24. Data Input Object # 2'!AF6","v":0},{"$f":"'24. Data Input Object # 2'!AG6","v":0},{"$f":"'24. Data Input Object # 2'!AH6","v":0},{"$f":"'24. Data Input Object # 2'!AI6","v":0},{"$f":"'24. Data Input Object # 2'!AJ6","v":0},{"$f":"'24. Data Input Object # 2'!AK6","v":0},{"$f":"'24. Data Input Object # 2'!AL6","v":0},{"$f":"'24. Data Input Object # 2'!AM6","v":0},{"$f":"'24. Data Input Object # 2'!AN6","v":0},{"$f":"'24. Data Input Object # 2'!AO6","v":0},{"$f":"'24. Data Input Object # 2'!AP6","v":0},{"$f":"'24. Data Input Object # 2'!AQ6","v":0},{"$f":"'24. Data Input Object # 2'!AR6","v":0},{"$f":"'24. Data Input Object # 2'!AS6","v":0},{"$f":"'24. Data Input Object # 2'!AT6","v":0},{"$f":"'24. Data Input Object # 2'!AU6","v":0},{"$f":"'24. Data Input Object # 2'!AV6","v":0},{"$f":"'24. Data Input Object # 2'!AW6","v":0},{"$f":"'24. Data Input Object # 2'!AX6","v":0},{"$f":"'24. Data Input Object # 2'!AY6","v":0},{"$f":"'24. Data Input Object # 2'!AZ6","v":0},{"$f":"'24. Data Input Object # 2'!BA6","v":0},{"$f":"'24. Data Input Object # 2'!BB6","v":0},{"$f":"'24. Data Input Object # 2'!BC6","v":0},{"$f":"'24. Data Input Object # 2'!BD6","v":0},{"$f":"'24. Data Input Object # 2'!BE6","v":0},{"$f":"'24. Data Input Object # 2'!BF6","v":0},{"$f":"'24. Data Input Object # 2'!BG6","v":0},{"$f":"'24. Data Input Object # 2'!BH6","v":0},{"$f":"'24. Data Input Object # 2'!BI6","v":0},{"$f":"'24. Data Input Object # 2'!BJ6","v":0},{"$f":"'24. Data Input Object # 2'!BK6","v":0},{"$f":"'24. Data Input Object # 2'!BL6","v":0},{"$f":"'24. Data Input Object # 2'!BM6","v":0},{"$f":"'24. Data Input Object # 2'!BN6","v":0},{"$f":"'24. Data Input Object # 2'!BO6","v":0},{"$f":"'24. Data Input Object # 2'!BP6","v":0},{"$f":"'24. Data Input Object # 2'!BQ6","v":0},{"$f":"'24. Data Input Object # 2'!BR6","v":0},{"$f":"'24. Data Input Object # 2'!BS6","v":0},{"$f":"'24. Data Input Object # 2'!BT6","v":0},{"$f":"'24. Data Input Object # 2'!BU6","v":0},{"$f":"'24. Data Input Object # 2'!BV6","v":0},{"$f":"'24. Data Input Object # 2'!BW6","v":0},{"$f":"'24. Data Input Object # 2'!BX6","v":0},{"$f":"'24. Data Input Object # 2'!BY6","v":0},{"$f":"'24. Data Input Object # 2'!BZ6","v":0},{"$f":"'24. Data Input Object # 2'!CA6","v":0}]
[{"$f":"'24. Data Input Object # 2'!A7","v":6},{"$f":"'24. Data Input Object # 2'!B7","v":1},{"$f":"'24. Data Input Object # 2'!C7","v":1},{"$f":"'24. Data Input Object # 2'!D7","v":1},{"$f":"'24. Data Input Object # 2'!E7","v":0},{"$f":"'24. Data Input Object # 2'!F7","v":1},{"$f":"'24. Data Input Object # 2'!G7","v":1},{"$f":"'24. Data Input Object # 2'!H7","v":1},{"$f":"'24. Data Input Object # 2'!I7","v":1},{"$f":"'24. Data Input Object # 2'!J7","v":1},{"$f":"'24. Data Input Object # 2'!K7","v":1},{"$f":"'24. Data Input Object # 2'!L7","v":1},{"$f":"'24. Data Input Object # 2'!M7","v":1},{"$f":"'24. Data Input Object # 2'!N7","v":1},{"$f":"'24. Data Input Object # 2'!O7","v":1},{"$f":"'24. Data Input Object # 2'!P7","v":1},{"$f":"'24. Data Input Object # 2'!Q7","v":1},{"$f":"'24. Data Input Object # 2'!R7","v":1},{"$f":"'24. Data Input Object # 2'!S7","v":1},{"$f":"'24. Data Input Object # 2'!T7","v":1},{"$f":"'24. Data Input Object # 2'!U7","v":1},{"$f":"'24. Data Input Object # 2'!V7","v":1},{"$f":"'24. Data Input Object # 2'!W7","v":1},{"$f":"'24. Data Input Object # 2'!X7","v":1},{"$f":"'24. Data Input Object # 2'!Y7","v":1},{"$f":"'24. Data Input Object # 2'!Z7","v":1},{"$f":"'24. Data Input Object # 2'!AA7","v":1},{"$f":"'24. Data Input Object # 2'!AB7","v":1},{"$f":"'24. Data Input Object # 2'!AC7","v":1},{"$f":"'24. Data Input Object # 2'!AD7","v":1},{"$f":"'24. Data Input Object # 2'!AE7","v":1},{"$f":"'24. Data Input Object # 2'!AF7","v":1},{"$f":"'24. Data Input Object # 2'!AG7","v":1},{"$f":"'24. Data Input Object # 2'!AH7","v":1},{"$f":"'24. Data Input Object # 2'!AI7","v":1},{"$f":"'24. Data Input Object # 2'!AJ7","v":1},{"$f":"'24. Data Input Object # 2'!AK7","v":0},{"$f":"'24. Data Input Object # 2'!AL7","v":0},{"$f":"'24. Data Input Object # 2'!AM7","v":0},{"$f":"'24. Data Input Object # 2'!AN7","v":0},{"$f":"'24. Data Input Object # 2'!AO7","v":0},{"$f":"'24. Data Input Object # 2'!AP7","v":0},{"$f":"'24. Data Input Object # 2'!AQ7","v":0},{"$f":"'24. Data Input Object # 2'!AR7","v":0},{"$f":"'24. Data Input Object # 2'!AS7","v":0},{"$f":"'24. Data Input Object # 2'!AT7","v":0},{"$f":"'24. Data Input Object # 2'!AU7","v":0},{"$f":"'24. Data Input Object # 2'!AV7","v":0},{"$f":"'24. Data Input Object # 2'!AW7","v":0},{"$f":"'24. Data Input Object # 2'!AX7","v":0},{"$f":"'24. Data Input Object # 2'!AY7","v":0},{"$f":"'24. Data Input Object # 2'!AZ7","v":0},{"$f":"'24. Data Input Object # 2'!BA7","v":0},{"$f":"'24. Data Input Object # 2'!BB7","v":0},{"$f":"'24. Data Input Object # 2'!BC7","v":0},{"$f":"'24. Data Input Object # 2'!BD7","v":0},{"$f":"'24. Data Input Object # 2'!BE7","v":0},{"$f":"'24. Data Input Object # 2'!BF7","v":0},{"$f":"'24. Data Input Object # 2'!BG7","v":0},{"$f":"'24. Data Input Object # 2'!BH7","v":0},{"$f":"'24. Data Input Object # 2'!BI7","v":0},{"$f":"'24. Data Input Object # 2'!BJ7","v":0},{"$f":"'24. Data Input Object # 2'!BK7","v":0},{"$f":"'24. Data Input Object # 2'!BL7","v":0},{"$f":"'24. Data Input Object # 2'!BM7","v":0},{"$f":"'24. Data Input Object # 2'!BN7","v":0},{"$f":"'24. Data Input Object # 2'!BO7","v":0},{"$f":"'24. Data Input Object # 2'!BP7","v":0},{"$f":"'24. Data Input Object # 2'!BQ7","v":0},{"$f":"'24. Data Input Object # 2'!BR7","v":0},{"$f":"'24. Data Input Object # 2'!BS7","v":0},{"$f":"'24. Data Input Object # 2'!BT7","v":0},{"$f":"'24. Data Input Object # 2'!BU7","v":0},{"$f":"'24. Data Input Object # 2'!BV7","v":0},{"$f":"'24. Data Input Object # 2'!BW7","v":0},{"$f":"'24. Data Input Object # 2'!BX7","v":0},{"$f":"'24. Data Input Object # 2'!BY7","v":0},{"$f":"'24. Data Input Object # 2'!BZ7","v":0},{"$f":"'24. Data Input Object # 2'!CA7","v":0}]
[{"$f":"'24. Data Input Object # 2'!A8","v":9},{"$f":"'24. Data Input Object # 2'!B8","v":32},{"$f":"'24. Data Input Object # 2'!C8","v":0},{"$f":"'24. Data Input Object # 2'!D8","v":0},{"$f":"'24. Data Input Object # 2'!E8","v":0},{"$f":"'24. Data Input Object # 2'!F8","v":0},{"$f":"'24. Data Input Object # 2'!G8","v":0},{"$f":"'24. Data Input Object # 2'!H8","v":1},{"$f":"'24. Data Input Object # 2'!I8","v":0},{"$f":"'24. Data Input Object # 2'!J8","v":0},{"$f":"'24. Data Input Object # 2'!K8","v":0},{"$f":"'24. Data Input Object # 2'!L8","v":0},{"$f":"'24. Data Input Object # 2'!M8","v":0},{"$f":"'24. Data Input Object # 2'!N8","v":0},{"$f":"'24. Data Input Object # 2'!O8","v":0},{"$f":"'24. Data Input Object # 2'!P8","v":0},{"$f":"'24. Data Input Object # 2'!Q8","v":0},{"$f":"'24. Data Input Object # 2'!R8","v":0},{"$f":"'24. Data Input Object # 2'!S8","v":0},{"$f":"'24. Data Input Object # 2'!T8","v":0},{"$f":"'24. Data Input Object # 2'!U8","v":0},{"$f":"'24. Data Input Object # 2'!V8","v":0},{"$f":"'24. Data Input Object # 2'!W8","v":0},{"$f":"'24. Data Input Object # 2'!X8","v":1},{"$f":"'24. Data Input Object # 2'!Y8","v":0},{"$f":"'24. Data Input Object # 2'!Z8","v":0},{"$f":"'24. Data Input Object # 2'!AA8","v":0},{"$f":"'24. Data Input Object # 2'!AB8","v":0},{"$f":"'24. Data Input Object # 2'!AC8","v":0},{"$f":"'24. Data Input Object # 2'!AD8","v":0},{"$f":"'24. Data Input Object # 2'!AE8","v":0},{"$f":"'24. Data Input Object # 2'!AF8","v":0},{"$f":"'24. Data Input Object # 2'!AG8","v":0},{"$f":"'24. Data Input Object # 2'!AH8","v":0},{"$f":"'24. Data Input Object # 2'!AI8","v":0},{"$f":"'24. Data Input Object # 2'!AJ8","v":0},{"$f":"'24. Data Input Object # 2'!AK8","v":0},{"$f":"'24. Data Input Object # 2'!AL8","v":0},{"$f":"'24. Data Input Object # 2'!AM8","v":0},{"$f":"'24. Data Input Object # 2'!AN8","v":0},{"$f":"'24. Data Input Object # 2'!AO8","v":0},{"$f":"'24. Data Input Object # 2'!AP8","v":0},{"$f":"'24. Data Input Object # 2'!AQ8","v":0},{"$f":"'24. Data Input Object # 2'!AR8","v":0},{"$f":"'24. Data Input Object # 2'!AS8","v":0},{"$f":"'24. Data Input Object # 2'!AT8","v":0},{"$f":"'24. Data Input Object # 2'!AU8","v":0},{"$f":"'24. Data Input Object # 2'!AV8","v":0},{"$f":"'24. Data Input Object # 2'!AW8","v":0},{"$f":"'24. Data Input Object # 2'!AX8","v":0},{"$f":"'24. Data Input Object # 2'!AY8","v":0},{"$f":"'24. Data Input Object # 2'!AZ8","v":0},{"$f":"'24. Data Input Object # 2'!BA8","v":0},{"$f":"'24. Data Input Object # 2'!BB8","v":0},{"$f":"'24. Data Input Object # 2'!BC8","v":0},{"$f":"'24. Data Input Object # 2'!BD8","v":0},{"$f":"'24. Data Input Object # 2'!BE8","v":0},{"$f":"'24. Data Input Object # 2'!BF8","v":0},{"$f":"'24. Data Input Object # 2'!BG8","v":0},{"$f":"'24. Data Input Object # 2'!BH8","v":0},{"$f":"'24. Data Input Object # 2'!BI8","v":0},{"$f":"'24. Data Input Object # 2'!BJ8","v":0},{"$f":"'24. Data Input Object # 2'!BK8","v":0},{"$f":"'24. Data Input Object # 2'!BL8","v":0},{"$f":"'24. Data Input Object # 2'!BM8","v":0},{"$f":"'24. Data Input Object # 2'!BN8","v":0},{"$f":"'24. Data Input Object # 2'!BO8","v":0},{"$f":"'24. Data Input Object # 2'!BP8","v":0},{"$f":"'24. Data Input Object # 2'!BQ8","v":0},{"$f":"'24. Data Input Object # 2'!BR8","v":0},{"$f":"'24. Data Input Object # 2'!BS8","v":0},{"$f":"'24. Data Input Object # 2'!BT8","v":0},{"$f":"'24. Data Input Object # 2'!BU8","v":0},{"$f":"'24. Data Input Object # 2'!BV8","v":0},{"$f":"'24. Data Input Object # 2'!BW8","v":0},{"$f":"'24. Data Input Object # 2'!BX8","v":0},{"$f":"'24. Data Input Object # 2'!BY8","v":0},{"$f":"'24. Data Input Object # 2'!BZ8","v":0},{"$f":"'24. Data Input Object # 2'!CA8","v":0}]
[{"$f":"'24. Data Input Object # 2'!A9","v":12},{"$f":"'24. Data Input Object # 2'!B9","v":9},{"$f":"'24. Data Input Object # 2'!C9","v":1},{"$f":"'24. Data Input Object # 2'!D9","v":1},{"$f":"'24. Data Input Object # 2'!E9","v":0},{"$f":"'24. Data Input Object # 2'!F9","v":1},{"$f":"'24. Data Input Object # 2'!G9","v":1},{"$f":"'24. Data Input Object # 2'!H9","v":1},{"$f":"'24. Data Input Object # 2'!I9","v":1},{"$f":"'24. Data Input Object # 2'!J9","v":1},{"$f":"'24. Data Input Object # 2'!K9","v":1},{"$f":"'24. Data Input Object # 2'!L9","v":1},{"$f":"'24. Data Input Object # 2'!M9","v":1},{"$f":"'24. Data Input Object # 2'!N9","v":1},{"$f":"'24. Data Input Object # 2'!O9","v":1},{"$f":"'24. Data Input Object # 2'!P9","v":1},{"$f":"'24. Data Input Object # 2'!Q9","v":1},{"$f":"'24. Data Input Object # 2'!R9","v":1},{"$f":"'24. Data Input Object # 2'!S9","v":1},{"$f":"'24. Data Input Object # 2'!T9","v":1},{"$f":"'24. Data Input Object # 2'!U9","v":0},{"$f":"'24. Data Input Object # 2'!V9","v":1},{"$f":"'24. Data Input Object # 2'!W9","v":1},{"$f":"'24. Data Input Object # 2'!X9","v":1},{"$f":"'24. Data Input Object # 2'!Y9","v":1},{"$f":"'24. Data Input Object # 2'!Z9","v":1},{"$f":"'24. Data Input Object # 2'!AA9","v":1},{"$f":"'24. Data Input Object # 2'!AB9","v":0},{"$f":"'24. Data Input Object # 2'!AC9","v":1},{"$f":"'24. Data Input Object # 2'!AD9","v":1},{"$f":"'24. Data Input Object # 2'!AE9","v":0},{"$f":"'24. Data Input Object # 2'!AF9","v":0},{"$f":"'24. Data Input Object # 2'!AG9","v":1},{"$f":"'24. Data Input Object # 2'!AH9","v":1},{"$f":"'24. Data Input Object # 2'!AI9","v":0},{"$f":"'24. Data Input Object # 2'!AJ9","v":1},{"$f":"'24. Data Input Object # 2'!AK9","v":0},{"$f":"'24. Data Input Object # 2'!AL9","v":0},{"$f":"'24. Data Input Object # 2'!AM9","v":0},{"$f":"'24. Data Input Object # 2'!AN9","v":0},{"$f":"'24. Data Input Object # 2'!AO9","v":0},{"$f":"'24. Data Input Object # 2'!AP9","v":0},{"$f":"'24. Data Input Object # 2'!AQ9","v":0},{"$f":"'24. Data Input Object # 2'!AR9","v":0},{"$f":"'24. Data Input Object # 2'!AS9","v":0},{"$f":"'24. Data Input Object # 2'!AT9","v":0},{"$f":"'24. Data Input Object # 2'!AU9","v":0},{"$f":"'24. Data Input Object # 2'!AV9","v":0},{"$f":"'24. Data Input Object # 2'!AW9","v":0},{"$f":"'24. Data Input Object # 2'!AX9","v":0},{"$f":"'24. Data Input Object # 2'!AY9","v":0},{"$f":"'24. Data Input Object # 2'!AZ9","v":0},{"$f":"'24. Data Input Object # 2'!BA9","v":0},{"$f":"'24. Data Input Object # 2'!BB9","v":0},{"$f":"'24. Data Input Object # 2'!BC9","v":0},{"$f":"'24. Data Input Object # 2'!BD9","v":0},{"$f":"'24. Data Input Object # 2'!BE9","v":0},{"$f":"'24. Data Input Object # 2'!BF9","v":0},{"$f":"'24. Data Input Object # 2'!BG9","v":0},{"$f":"'24. Data Input Object # 2'!BH9","v":0},{"$f":"'24. Data Input Object # 2'!BI9","v":0},{"$f":"'24. Data Input Object # 2'!BJ9","v":0},{"$f":"'24. Data Input Object # 2'!BK9","v":0},{"$f":"'24. Data Input Object # 2'!BL9","v":0},{"$f":"'24. Data Input Object # 2'!BM9","v":0},{"$f":"'24. Data Input Object # 2'!BN9","v":0},{"$f":"'24. Data Input Object # 2'!BO9","v":0},{"$f":"'24. Data Input Object # 2'!BP9","v":0},{"$f":"'24. Data Input Object # 2'!BQ9","v":0},{"$f":"'24. Data Input Object # 2'!BR9","v":0},{"$f":"'24. Data Input Object # 2'!BS9","v":0},{"$f":"'24. Data Input Object # 2'!BT9","v":0},{"$f":"'24. Data Input Object # 2'!BU9","v":0},{"$f":"'24. Data Input Object # 2'!BV9","v":0},{"$f":"'24. Data Input Object # 2'!BW9","v":0},{"$f":"'24. Data Input Object # 2'!BX9","v":0},{"$f":"'24. Data Input Object # 2'!BY9","v":0},{"$f":"'24. Data Input Object # 2'!BZ9","v":0},{"$f":"'24. Data Input Object # 2'!CA9","v":0}]
[{"$f":"'24. Data Input Object # 2'!A10","v":14},{"$f":"'24. Data Input Object # 2'!B10","v":26},{"$f":"'24. Data Input Object # 2'!C10","v":0},{"$f":"'24. Data Input Object # 2'!D10","v":0},{"$f":"'24. Data Input Object # 2'!E10","v":1},{"$f":"'24. Data Input Object # 2'!F10","v":1},{"$f":"'24. Data Input Object # 2'!G10","v":1},{"$f":"'24. Data Input Object # 2'!H10","v":0},{"$f":"'24. Data Input Object # 2'!I10","v":1},{"$f":"'24. Data Input Object # 2'!J10","v":1},{"$f":"'24. Data Input Object # 2'!K10","v":0},{"$f":"'24. Data Input Object # 2'!L10","v":1},{"$f":"'24. Data Input Object # 2'!M10","v":0},{"$f":"'24. Data Input Object # 2'!N10","v":0},{"$f":"'24. Data Input Object # 2'!O10","v":0},{"$f":"'24. Data Input Object # 2'!P10","v":1},{"$f":"'24. Data Input Object # 2'!Q10","v":1},{"$f":"'24. Data Input Object # 2'!R10","v":1},{"$f":"'24. Data Input Object # 2'!S10","v":0},{"$f":"'24. Data Input Object # 2'!T10","v":0},{"$f":"'24. Data Input Object # 2'!U10","v":0},{"$f":"'24. Data Input Object # 2'!V10","v":1},{"$f":"'24. Data Input Object # 2'!W10","v":1},{"$f":"'24. Data Input Object # 2'!X10","v":1},{"$f":"'24. Data Input Object # 2'!Y10","v":1},{"$f":"'24. Data Input Object # 2'!Z10","v":0},{"$f":"'24. Data Input Object # 2'!AA10","v":0},{"$f":"'24. Data Input Object # 2'!AB10","v":1},{"$f":"'24. Data Input Object # 2'!AC10","v":1},{"$f":"'24. Data Input Object # 2'!AD10","v":0},{"$f":"'24. Data Input Object # 2'!AE10","v":0},{"$f":"'24. Data Input Object # 2'!AF10","v":0},{"$f":"'24. Data Input Object # 2'!AG10","v":1},{"$f":"'24. Data Input Object # 2'!AH10","v":0},{"$f":"'24. Data Input Object # 2'!AI10","v":1},{"$f":"'24. Data Input Object # 2'!AJ10","v":0},{"$f":"'24. Data Input Object # 2'!AK10","v":0},{"$f":"'24. Data Input Object # 2'!AL10","v":0},{"$f":"'24. Data Input Object # 2'!AM10","v":0},{"$f":"'24. Data Input Object # 2'!AN10","v":0},{"$f":"'24. Data Input Object # 2'!AO10","v":0},{"$f":"'24. Data Input Object # 2'!AP10","v":0},{"$f":"'24. Data Input Object # 2'!AQ10","v":0},{"$f":"'24. Data Input Object # 2'!AR10","v":0},{"$f":"'24. Data Input Object # 2'!AS10","v":0},{"$f":"'24. Data Input Object # 2'!AT10","v":0},{"$f":"'24. Data Input Object # 2'!AU10","v":0},{"$f":"'24. Data Input Object # 2'!AV10","v":0},{"$f":"'24. Data Input Object # 2'!AW10","v":0},{"$f":"'24. Data Input Object # 2'!AX10","v":0},{"$f":"'24. Data Input Object # 2'!AY10","v":0},{"$f":"'24. Data Input Object # 2'!AZ10","v":0},{"$f":"'24. Data Input Object # 2'!BA10","v":0},{"$f":"'24. Data Input Object # 2'!BB10","v":0},{"$f":"'24. Data Input Object # 2'!BC10","v":0},{"$f":"'24. Data Input Object # 2'!BD10","v":0},{"$f":"'24. Data Input Object # 2'!BE10","v":0},{"$f":"'24. Data Input Object # 2'!BF10","v":0},{"$f":"'24. Data Input Object # 2'!BG10","v":0},{"$f":"'24. Data Input Object # 2'!BH10","v":0},{"$f":"'24. Data Input Object # 2'!BI10","v":0},{"$f":"'24. Data Input Object # 2'!BJ10","v":0},{"$f":"'24. Data Input Object # 2'!BK10","v":0},{"$f":"'24. Data Input Object # 2'!BL10","v":0},{"$f":"'24. Data Input Object # 2'!BM10","v":0},{"$f":"'24. Data Input Object # 2'!BN10","v":0},{"$f":"'24. Data Input Object # 2'!BO10","v":0},{"$f":"'24. Data Input Object # 2'!BP10","v":0},{"$f":"'24. Data Input Object # 2'!BQ10","v":0},{"$f":"'24. Data Input Object # 2'!BR10","v":0},{"$f":"'24. Data Input Object # 2'!BS10","v":0},{"$f":"'24. Data Input Object # 2'!BT10","v":0},{"$f":"'24. Data Input Object # 2'!BU10","v":0},{"$f":"'24. Data Input Object # 2'!BV10","v":0},{"$f":"'24. Data Input Object # 2'!BW10","v":0},{"$f":"'24. Data Input Object # 2'!BX10","v":0},{"$f":"'24. Data Input Object # 2'!BY10","v":0},{"$f":"'24. Data Input Object # 2'!BZ10","v":0},{"$f":"'24. Data Input Object # 2'!CA10","v":0}]
[{"$f":"'24. Data Input Object # 2'!A11","v":16},{"$f":"'24. Data Input Object # 2'!B11","v":9},{"$f":"'24. Data Input Object # 2'!C11","v":0},{"$f":"'24. Data Input Object # 2'!D11","v":0},{"$f":"'24. Data Input Object # 2'!E11","v":1},{"$f":"'24. Data Input Object # 2'!F11","v":0},{"$f":"'24. Data Input Object # 2'!G11","v":0},{"$f":"'24. Data Input Object # 2'!H11","v":1},{"$f":"'24. Data Input Object # 2'!I11","v":1},{"$f":"'24. Data Input Object # 2'!J11","v":1},{"$f":"'24. Data Input Object # 2'!K11","v":1},{"$f":"'24. Data Input Object # 2'!L11","v":1},{"$f":"'24. Data Input Object # 2'!M11","v":1},{"$f":"'24. Data Input Object # 2'!N11","v":1},{"$f":"'24. Data Input Object # 2'!O11","v":1},{"$f":"'24. Data Input Object # 2'!P11","v":1},{"$f":"'24. Data Input Object # 2'!Q11","v":1},{"$f":"'24. Data Input Object # 2'!R11","v":0},{"$f":"'24. Data Input Object # 2'!S11","v":0},{"$f":"'24. Data Input Object # 2'!T11","v":0},{"$f":"'24. Data Input Object # 2'!U11","v":0},{"$f":"'24. Data Input Object # 2'!V11","v":0},{"$f":"'24. Data Input Object # 2'!W11","v":0},{"$f":"'24. Data Input Object # 2'!X11","v":0},{"$f":"'24. Data Input Object # 2'!Y11","v":0},{"$f":"'24. Data Input Object # 2'!Z11","v":1},{"$f":"'24. Data Input Object # 2'!AA11","v":0},{"$f":"'24. Data Input Object # 2'!AB11","v":0},{"$f":"'24. Data Input Object # 2'!AC11","v":1},{"$f":"'24. Data Input Object # 2'!AD11","v":1},{"$f":"'24. Data Input Object # 2'!AE11","v":0},{"$f":"'24. Data Input Object # 2'!AF11","v":0},{"$f":"'24. Data Input Object # 2'!AG11","v":1},{"$f":"'24. Data Input Object # 2'!AH11","v":0},{"$f":"'24. Data Input Object # 2'!AI11","v":0},{"$f":"'24. Data Input Object # 2'!AJ11","v":1},{"$f":"'24. Data Input Object # 2'!AK11","v":0},{"$f":"'24. Data Input Object # 2'!AL11","v":0},{"$f":"'24. Data Input Object # 2'!AM11","v":0},{"$f":"'24. Data Input Object # 2'!AN11","v":0},{"$f":"'24. Data Input Object # 2'!AO11","v":0},{"$f":"'24. Data Input Object # 2'!AP11","v":0},{"$f":"'24. Data Input Object # 2'!AQ11","v":0},{"$f":"'24. Data Input Object # 2'!AR11","v":0},{"$f":"'24. Data Input Object # 2'!AS11","v":0},{"$f":"'24. Data Input Object # 2'!AT11","v":0},{"$f":"'24. Data Input Object # 2'!AU11","v":0},{"$f":"'24. Data Input Object # 2'!AV11","v":0},{"$f":"'24. Data Input Object # 2'!AW11","v":0},{"$f":"'24. Data Input Object # 2'!AX11","v":0},{"$f":"'24. Data Input Object # 2'!AY11","v":0},{"$f":"'24. Data Input Object # 2'!AZ11","v":0},{"$f":"'24. Data Input Object # 2'!BA11","v":0},{"$f":"'24. Data Input Object # 2'!BB11","v":0},{"$f":"'24. Data Input Object # 2'!BC11","v":0},{"$f":"'24. Data Input Object # 2'!BD11","v":0},{"$f":"'24. Data Input Object # 2'!BE11","v":0},{"$f":"'24. Data Input Object # 2'!BF11","v":0},{"$f":"'24. Data Input Object # 2'!BG11","v":0},{"$f":"'24. Data Input Object # 2'!BH11","v":0},{"$f":"'24. Data Input Object # 2'!BI11","v":0},{"$f":"'24. Data Input Object # 2'!BJ11","v":0},{"$f":"'24. Data Input Object # 2'!BK11","v":0},{"$f":"'24. Data Input Object # 2'!BL11","v":0},{"$f":"'24. Data Input Object # 2'!BM11","v":0},{"$f":"'24. Data Input Object # 2'!BN11","v":0},{"$f":"'24. Data Input Object # 2'!BO11","v":0},{"$f":"'24. Data Input Object # 2'!BP11","v":0},{"$f":"'24. Data Input Object # 2'!BQ11","v":0},{"$f":"'24. Data Input Object # 2'!BR11","v":0},{"$f":"'24. Data Input Object # 2'!BS11","v":0},{"$f":"'24. Data Input Object # 2'!BT11","v":0},{"$f":"'24. Data Input Object # 2'!BU11","v":0},{"$f":"'24. Data Input Object # 2'!BV11","v":0},{"$f":"'24. Data Input Object # 2'!BW11","v":0},{"$f":"'24. Data Input Object # 2'!BX11","v":0},{"$f":"'24. Data Input Object # 2'!BY11","v":0},{"$f":"'24. Data Input Object # 2'!BZ11","v":0},{"$f":"'24. Data Input Object # 2'!CA11","v":0}]
[{"$f":"'24. Data Input Object # 2'!A12","v":17},{"$f":"'24. Data Input Object # 2'!B12","v":16},{"$f":"'24. Data Input Object # 2'!C12","v":0},{"$f":"'24. Data Input Object # 2'!D12","v":0},{"$f":"'24. Data Input Object # 2'!E12","v":0},{"$f":"'24. Data Input Object # 2'!F12","v":0},{"$f":"'24. Data Input Object # 2'!G12","v":0},{"$f":"'24. Data Input Object # 2'!H12","v":0},{"$f":"'24. Data Input Object # 2'!I12","v":0},{"$f":"'24. Data Input Object # 2'!J12","v":0},{"$f":"'24. Data Input Object # 2'!K12","v":0},{"$f":"'24. Data Input Object # 2'!L12","v":0},{"$f":"'24. Data Input Object # 2'!M12","v":0},{"$f":"'24. Data Input Object # 2'!N12","v":0},{"$f":"'24. Data Input Object # 2'!O12","v":0},{"$f":"'24. Data Input Object # 2'!P12","v":0},{"$f":"'24. Data Input Object # 2'!Q12","v":0},{"$f":"'24. Data Input Object # 2'!R12","v":0},{"$f":"'24. Data Input Object # 2'!S12","v":0},{"$f":"'24. Data Input Object # 2'!T12","v":0},{"$f":"'24. Data Input Object # 2'!U12","v":0},{"$f":"'24. Data Input Object # 2'!V12","v":0},{"$f":"'24. Data Input Object # 2'!W12","v":0},{"$f":"'24. Data Input Object # 2'!X12","v":0},{"$f":"'24. Data Input Object # 2'!Y12","v":0},{"$f":"'24. Data Input Object # 2'!Z12","v":0},{"$f":"'24. Data Input Object # 2'!AA12","v":0},{"$f":"'24. Data Input Object # 2'!AB12","v":0},{"$f":"'24. Data Input Object # 2'!AC12","v":0},{"$f":"'24. Data Input Object # 2'!AD12","v":0},{"$f":"'24. Data Input Object # 2'!AE12","v":0},{"$f":"'24. Data Input Object # 2'!AF12","v":0},{"$f":"'24. Data Input Object # 2'!AG12","v":0},{"$f":"'24. Data Input Object # 2'!AH12","v":0},{"$f":"'24. Data Input Object # 2'!AI12","v":0},{"$f":"'24. Data Input Object # 2'!AJ12","v":0},{"$f":"'24. Data Input Object # 2'!AK12","v":0},{"$f":"'24. Data Input Object # 2'!AL12","v":0},{"$f":"'24. Data Input Object # 2'!AM12","v":0},{"$f":"'24. Data Input Object # 2'!AN12","v":0},{"$f":"'24. Data Input Object # 2'!AO12","v":0},{"$f":"'24. Data Input Object # 2'!AP12","v":0},{"$f":"'24. Data Input Object # 2'!AQ12","v":0},{"$f":"'24. Data Input Object # 2'!AR12","v":0},{"$f":"'24. Data Input Object # 2'!AS12","v":0},{"$f":"'24. Data Input Object # 2'!AT12","v":0},{"$f":"'24. Data Input Object # 2'!AU12","v":0},{"$f":"'24. Data Input Object # 2'!AV12","v":0},{"$f":"'24. Data Input Object # 2'!AW12","v":0},{"$f":"'24. Data Input Object # 2'!AX12","v":0},{"$f":"'24. Data Input Object # 2'!AY12","v":0},{"$f":"'24. Data Input Object # 2'!AZ12","v":0},{"$f":"'24. Data Input Object # 2'!BA12","v":0},{"$f":"'24. Data Input Object # 2'!BB12","v":0},{"$f":"'24. Data Input Object # 2'!BC12","v":0},{"$f":"'24. Data Input Object # 2'!BD12","v":0},{"$f":"'24. Data Input Object # 2'!BE12","v":0},{"$f":"'24. Data Input Object # 2'!BF12","v":0},{"$f":"'24. Data Input Object # 2'!BG12","v":0},{"$f":"'24. Data Input Object # 2'!BH12","v":0},{"$f":"'24. Data Input Object # 2'!BI12","v":0},{"$f":"'24. Data Input Object # 2'!BJ12","v":0},{"$f":"'24. Data Input Object # 2'!BK12","v":0},{"$f":"'24. Data Input Object # 2'!BL12","v":0},{"$f":"'24. Data Input Object # 2'!BM12","v":0},{"$f":"'24. Data Input Object # 2'!BN12","v":0},{"$f":"'24. Data Input Object # 2'!BO12","v":0},{"$f":"'24. Data Input Object # 2'!BP12","v":0},{"$f":"'24. Data Input Object # 2'!BQ12","v":0},{"$f":"'24. Data Input Object # 2'!BR12","v":0},{"$f":"'24. Data Input Object # 2'!BS12","v":0},{"$f":"'24. Data Input Object # 2'!BT12","v":0},{"$f":"'24. Data Input Object # 2'!BU12","v":0},{"$f":"'24. Data Input Object # 2'!BV12","v":0},{"$f":"'24. Data Input Object # 2'!BW12","v":0},{"$f":"'24. Data Input Object # 2'!BX12","v":0},{"$f":"'24. Data Input Object # 2'!BY12","v":0},{"$f":"'24. Data Input Object # 2'!BZ12","v":0},{"$f":"'24. Data Input Object # 2'!CA12","v":0}]
[{"$f":"'24. Data Input Object # 2'!A13","v":24},{"$f":"'24. Data Input Object # 2'!B13","v":25},{"$f":"'24. Data Input Object # 2'!C13","v":0},{"$f":"'24. Data Input Object # 2'!D13","v":1},{"$f":"'24. Data Input Object # 2'!E13","v":0},{"$f":"'24. Data Input Object # 2'!F13","v":1},{"$f":"'24. Data Input Object # 2'!G13","v":1},{"$f":"'24. Data Input Object # 2'!H13","v":1},{"$f":"'24. Data Input Object # 2'!I13","v":1},{"$f":"'24. Data Input Object # 2'!J13","v":1},{"$f":"'24. Data Input Object # 2'!K13","v":1},{"$f":"'24. Data Input Object # 2'!L13","v":1},{"$f":"'24. Data Input Object # 2'!M13","v":1},{"$f":"'24. Data Input Object # 2'!N13","v":1},{"$f":"'24. Data Input Object # 2'!O13","v":1},{"$f":"'24. Data Input Object # 2'!P13","v":1},{"$f":"'24. Data Input Object # 2'!Q13","v":1},{"$f":"'24. Data Input Object # 2'!R13","v":1},{"$f":"'24. Data Input Object # 2'!S13","v":1},{"$f":"'24. Data Input Object # 2'!T13","v":0},{"$f":"'24. Data Input Object # 2'!U13","v":1},{"$f":"'24. Data Input Object # 2'!V13","v":1},{"$f":"'24. Data Input Object # 2'!W13","v":1},{"$f":"'24. Data Input Object # 2'!X13","v":1},{"$f":"'24. Data Input Object # 2'!Y13","v":0},{"$f":"'24. Data Input Object # 2'!Z13","v":1},{"$f":"'24. Data Input Object # 2'!AA13","v":0},{"$f":"'24. Data Input Object # 2'!AB13","v":1},{"$f":"'24. Data Input Object # 2'!AC13","v":0},{"$f":"'24. Data Input Object # 2'!AD13","v":0},{"$f":"'24. Data Input Object # 2'!AE13","v":0},{"$f":"'24. Data Input Object # 2'!AF13","v":1},{"$f":"'24. Data Input Object # 2'!AG13","v":1},{"$f":"'24. Data Input Object # 2'!AH13","v":1},{"$f":"'24. Data Input Object # 2'!AI13","v":0},{"$f":"'24. Data Input Object # 2'!AJ13","v":1},{"$f":"'24. Data Input Object # 2'!AK13","v":0},{"$f":"'24. Data Input Object # 2'!AL13","v":0},{"$f":"'24. Data Input Object # 2'!AM13","v":0},{"$f":"'24. Data Input Object # 2'!AN13","v":0},{"$f":"'24. Data Input Object # 2'!AO13","v":0},{"$f":"'24. Data Input Object # 2'!AP13","v":0},{"$f":"'24. Data Input Object # 2'!AQ13","v":0},{"$f":"'24. Data Input Object # 2'!AR13","v":0},{"$f":"'24. Data Input Object # 2'!AS13","v":0},{"$f":"'24. Data Input Object # 2'!AT13","v":0},{"$f":"'24. Data Input Object # 2'!AU13","v":0},{"$f":"'24. Data Input Object # 2'!AV13","v":0},{"$f":"'24. Data Input Object # 2'!AW13","v":0},{"$f":"'24. Data Input Object # 2'!AX13","v":0},{"$f":"'24. Data Input Object # 2'!AY13","v":0},{"$f":"'24. Data Input Object # 2'!AZ13","v":0},{"$f":"'24. Data Input Object # 2'!BA13","v":0},{"$f":"'24. Data Input Object # 2'!BB13","v":0},{"$f":"'24. Data Input Object # 2'!BC13","v":0},{"$f":"'24. Data Input Object # 2'!BD13","v":0},{"$f":"'24. Data Input Object # 2'!BE13","v":0},{"$f":"'24. Data Input Object # 2'!BF13","v":0},{"$f":"'24. Data Input Object # 2'!BG13","v":0},{"$f":"'24. Data Input Object # 2'!BH13","v":0},{"$f":"'24. Data Input Object # 2'!BI13","v":0},{"$f":"'24. Data Input Object # 2'!BJ13","v":0},{"$f":"'24. Data Input Object # 2'!BK13","v":0},{"$f":"'24. Data Input Object # 2'!BL13","v":0},{"$f":"'24. Data Input Object # 2'!BM13","v":0},{"$f":"'24. Data Input Object # 2'!BN13","v":0},{"$f":"'24. Data Input Object # 2'!BO13","v":0},{"$f":"'24. Data Input Object # 2'!BP13","v":0},{"$f":"'24. Data Input Object # 2'!BQ13","v":0},{"$f":"'24. Data Input Object # 2'!BR13","v":0},{"$f":"'24. Data Input Object # 2'!BS13","v":0},{"$f":"'24. Data Input Object # 2'!BT13","v":0},{"$f":"'24. Data Input Object # 2'!BU13","v":0},{"$f":"'24. Data Input Object # 2'!BV13","v":0},{"$f":"'24. Data Input Object # 2'!BW13","v":0},{"$f":"'24. Data Input Object # 2'!BX13","v":0},{"$f":"'24. Data Input Object # 2'!BY13","v":0},{"$f":"'24. Data Input Object # 2'!BZ13","v":0},{"$f":"'24. Data Input Object # 2'!CA13","v":0}]
[{"$f":"'24. Data Input Object # 2'!A14","v":26},{"$f":"'24. Data Input Object # 2'!B14","v":2},{"$f":"'24. Data Input Object # 2'!C14","v":1},{"$f":"'24. Data Input Object # 2'!D14","v":1},{"$f":"'24. Data Input Object # 2'!E14","v":1},{"$f":"'24. Data Input Object # 2'!F14","v":1},{"$f":"'24. Data Input Object # 2'!G14","v":1},{"$f":"'24. Data Input Object # 2'!H14","v":1},{"$f":"'24. Data Input Object # 2'!I14","v":1},{"$f":"'24. Data Input Object # 2'!J14","v":1},{"$f":"'24. Data Input Object # 2'!K14","v":1},{"$f":"'24. Data Input Object # 2'!L14","v":1},{"$f":"'24. Data Input Object # 2'!M14","v":1},{"$f":"'24. Data Input Object # 2'!N14","v":1},{"$f":"'24. Data Input Object # 2'!O14","v":1},{"$f":"'24. Data Input Object # 2'!P14","v":1},{"$f":"'24. Data Input Object # 2'!Q14","v":1},{"$f":"'24. Data Input Object # 2'!R14","v":1},{"$f":"'24. Data Input Object # 2'!S14","v":1},{"$f":"'24. Data Input Object # 2'!T14","v":1},{"$f":"'24. Data Input Object # 2'!U14","v":1},{"$f":"'24. Data Input Object # 2'!V14","v":1},{"$f":"'24. Data Input Object # 2'!W14","v":1},{"$f":"'24. Data Input Object # 2'!X14","v":1},{"$f":"'24. Data Input Object # 2'!Y14","v":0},{"$f":"'24. Data Input Object # 2'!Z14","v":1},{"$f":"'24. Data Input Object # 2'!AA14","v":1},{"$f":"'24. Data Input Object # 2'!AB14","v":1},{"$f":"'24. Data Input Object # 2'!AC14","v":1},{"$f":"'24. Data Input Object # 2'!AD14","v":1},{"$f":"'24. Data Input Object # 2'!AE14","v":1},{"$f":"'24. Data Input Object # 2'!AF14","v":1},{"$f":"'24. Data Input Object # 2'!AG14","v":1},{"$f":"'24. Data Input Object # 2'!AH14","v":1},{"$f":"'24. Data Input Object # 2'!AI14","v":1},{"$f":"'24. Data Input Object # 2'!AJ14","v":1},{"$f":"'24. Data Input Object # 2'!AK14","v":0},{"$f":"'24. Data Input Object # 2'!AL14","v":0},{"$f":"'24. Data Input Object # 2'!AM14","v":0},{"$f":"'24. Data Input Object # 2'!AN14","v":0},{"$f":"'24. Data Input Object # 2'!AO14","v":0},{"$f":"'24. Data Input Object # 2'!AP14","v":0},{"$f":"'24. Data Input Object # 2'!AQ14","v":0},{"$f":"'24. Data Input Object # 2'!AR14","v":0},{"$f":"'24. Data Input Object # 2'!AS14","v":0},{"$f":"'24. Data Input Object # 2'!AT14","v":0},{"$f":"'24. Data Input Object # 2'!AU14","v":0},{"$f":"'24. Data Input Object # 2'!AV14","v":0},{"$f":"'24. Data Input Object # 2'!AW14","v":0},{"$f":"'24. Data Input Object # 2'!AX14","v":0},{"$f":"'24. Data Input Object # 2'!AY14","v":0},{"$f":"'24. Data Input Object # 2'!AZ14","v":0},{"$f":"'24. Data Input Object # 2'!BA14","v":0},{"$f":"'24. Data Input Object # 2'!BB14","v":0},{"$f":"'24. Data Input Object # 2'!BC14","v":0},{"$f":"'24. Data Input Object # 2'!BD14","v":0},{"$f":"'24. Data Input Object # 2'!BE14","v":0},{"$f":"'24. Data Input Object # 2'!BF14","v":0},{"$f":"'24. Data Input Object # 2'!BG14","v":0},{"$f":"'24. Data Input Object # 2'!BH14","v":0},{"$f":"'24. Data Input Object # 2'!BI14","v":0},{"$f":"'24. Data Input Object # 2'!BJ14","v":0},{"$f":"'24. Data Input Object # 2'!BK14","v":0},{"$f":"'24. Data Input Object # 2'!BL14","v":0},{"$f":"'24. Data Input Object # 2'!BM14","v":0},{"$f":"'24. Data Input Object # 2'!BN14","v":0},{"$f":"'24. Data Input Object # 2'!BO14","v":0},{"$f":"'24. Data Input Object # 2'!BP14","v":0},{"$f":"'24. Data Input Object # 2'!BQ14","v":0},{"$f":"'24. Data Input Object # 2'!BR14","v":0},{"$f":"'24. Data Input Object # 2'!BS14","v":0},{"$f":"'24. Data Input Object # 2'!BT14","v":0},{"$f":"'24. Data Input Object # 2'!BU14","v":0},{"$f":"'24. Data Input Object # 2'!BV14","v":0},{"$f":"'24. Data Input Object # 2'!BW14","v":0},{"$f":"'24. Data Input Object # 2'!BX14","v":0},{"$f":"'24. Data Input Object # 2'!BY14","v":0},{"$f":"'24. Data Input Object # 2'!BZ14","v":0},{"$f":"'24. Data Input Object # 2'!CA14","v":0}]
[{"$f":"'24. Data Input Object # 2'!A15","v":31},{"$f":"'24. Data Input Object # 2'!B15","v":12},{"$f":"'24. Data Input Object # 2'!C15","v":0},{"$f":"'24. Data Input Object # 2'!D15","v":1},{"$f":"'24. Data Input Object # 2'!E15","v":0},{"$f":"'24. Data Input Object # 2'!F15","v":0},{"$f":"'24. Data Input Object # 2'!G15","v":0},{"$f":"'24. Data Input Object # 2'!H15","v":0},{"$f":"'24. Data Input Object # 2'!I15","v":0},{"$f":"'24. Data Input Object # 2'!J15","v":0},{"$f":"'24. Data Input Object # 2'!K15","v":0},{"$f":"'24. Data Input Object # 2'!L15","v":1},{"$f":"'24. Data Input Object # 2'!M15","v":0},{"$f":"'24. Data Input Object # 2'!N15","v":0},{"$f":"'24. Data Input Object # 2'!O15","v":0},{"$f":"'24. Data Input Object # 2'!P15","v":0},{"$f":"'24. Data Input Object # 2'!Q15","v":0},{"$f":"'24. Data Input Object # 2'!R15","v":0},{"$f":"'24. Data Input Object # 2'!S15","v":0},{"$f":"'24. Data Input Object # 2'!T15","v":0},{"$f":"'24. Data Input Object # 2'!U15","v":1},{"$f":"'24. Data Input Object # 2'!V15","v":0},{"$f":"'24. Data Input Object # 2'!W15","v":0},{"$f":"'24. Data Input Object # 2'!X15","v":0},{"$f":"'24. Data Input Object # 2'!Y15","v":0},{"$f":"'24. Data Input Object # 2'!Z15","v":0},{"$f":"'24. Data Input Object # 2'!AA15","v":0},{"$f":"'24. Data Input Object # 2'!AB15","v":1},{"$f":"'24. Data Input Object # 2'!AC15","v":0},{"$f":"'24. Data Input Object # 2'!AD15","v":0},{"$f":"'24. Data Input Object # 2'!AE15","v":0},{"$f":"'24. Data Input Object # 2'!AF15","v":0},{"$f":"'24. Data Input Object # 2'!AG15","v":0},{"$f":"'24. Data Input Object # 2'!AH15","v":0},{"$f":"'24. Data Input Object # 2'!AI15","v":0},{"$f":"'24. Data Input Object # 2'!AJ15","v":0},{"$f":"'24. Data Input Object # 2'!AK15","v":0},{"$f":"'24. Data Input Object # 2'!AL15","v":0},{"$f":"'24. Data Input Object # 2'!AM15","v":0},{"$f":"'24. Data Input Object # 2'!AN15","v":0},{"$f":"'24. Data Input Object # 2'!AO15","v":0},{"$f":"'24. Data Input Object # 2'!AP15","v":0},{"$f":"'24. Data Input Object # 2'!AQ15","v":0},{"$f":"'24. Data Input Object # 2'!AR15","v":0},{"$f":"'24. Data Input Object # 2'!AS15","v":0},{"$f":"'24. Data Input Object # 2'!AT15","v":0},{"$f":"'24. Data Input Object # 2'!AU15","v":0},{"$f":"'24. Data Input Object # 2'!AV15","v":0},{"$f":"'24. Data Input Object # 2'!AW15","v":0},{"$f":"'24. Data Input Object # 2'!AX15","v":0},{"$f":"'24. Data Input Object # 2'!AY15","v":0},{"$f":"'24. Data Input Object # 2'!AZ15","v":0},{"$f":"'24. Data Input Object # 2'!BA15","v":0},{"$f":"'24. Data Input Object # 2'!BB15","v":0},{"$f":"'24. Data Input Object # 2'!BC15","v":0},{"$f":"'24. Data Input Object # 2'!BD15","v":0},{"$f":"'24. Data Input Object # 2'!BE15","v":0},{"$f":"'24. Data Input Object # 2'!BF15","v":0},{"$f":"'24. Data Input Object # 2'!BG15","v":0},{"$f":"'24. Data Input Object # 2'!BH15","v":0},{"$f":"'24. Data Input Object # 2'!BI15","v":0},{"$f":"'24. Data Input Object # 2'!BJ15","v":0},{"$f":"'24. Data Input Object # 2'!BK15","v":0},{"$f":"'24. Data Input Object # 2'!BL15","v":0},{"$f":"'24. Data Input Object # 2'!BM15","v":0},{"$f":"'24. Data Input Object # 2'!BN15","v":0},{"$f":"'24. Data Input Object # 2'!BO15","v":0},{"$f":"'24. Data Input Object # 2'!BP15","v":0},{"$f":"'24. Data Input Object # 2'!BQ15","v":0},{"$f":"'24. Data Input Object # 2'!BR15","v":0},{"$f":"'24. Data Input Object # 2'!BS15","v":0},{"$f":"'24. Data Input Object # 2'!BT15","v":0},{"$f":"'24. Data Input Object # 2'!BU15","v":0},{"$f":"'24. Data Input Object # 2'!BV15","v":0},{"$f":"'24. Data Input Object # 2'!BW15","v":0},{"$f":"'24. Data Input Object # 2'!BX15","v":0},{"$f":"'24. Data Input Object # 2'!BY15","v":0},{"$f":"'24. Data Input Object # 2'!BZ15","v":0},{"$f":"'24. Data Input Object # 2'!CA15","v":0}]
[{"$f":"'24. Data Input Object # 2'!A16","v":33},{"$f":"'24. Data Input Object # 2'!B16","v":12},{"$f":"'24. Data Input Object # 2'!C16","v":0},{"$f":"'24. Data Input Object # 2'!D16","v":1},{"$f":"'24. Data Input Object # 2'!E16","v":0},{"$f":"'24. Data Input Object # 2'!F16","v":0},{"$f":"'24. Data Input Object # 2'!G16","v":0},{"$f":"'24. Data Input Object # 2'!H16","v":1},{"$f":"'24. Data Input Object # 2'!I16","v":0},{"$f":"'24. Data Input Object # 2'!J16","v":0},{"$f":"'24. Data Input Object # 2'!K16","v":0},{"$f":"'24. Data Input Object # 2'!L16","v":0},{"$f":"'24. Data Input Object # 2'!M16","v":0},{"$f":"'24. Data Input Object # 2'!N16","v":0},{"$f":"'24. Data Input Object # 2'!O16","v":0},{"$f":"'24. Data Input Object # 2'!P16","v":0},{"$f":"'24. Data Input Object # 2'!Q16","v":0},{"$f":"'24. Data Input Object # 2'!R16","v":0},{"$f":"'24. Data Input Object # 2'!S16","v":0},{"$f":"'24. Data Input Object # 2'!T16","v":0},{"$f":"'24. Data Input Object # 2'!U16","v":0},{"$f":"'24. Data Input Object # 2'!V16","v":0},{"$f":"'24. Data Input Object # 2'!W16","v":0},{"$f":"'24. Data Input Object # 2'!X16","v":0},{"$f":"'24. Data Input Object # 2'!Y16","v":0},{"$f":"'24. Data Input Object # 2'!Z16","v":0},{"$f":"'24. Data Input Object # 2'!AA16","v":0},{"$f":"'24. Data Input Object # 2'!AB16","v":0},{"$f":"'24. Data Input Object # 2'!AC16","v":0},{"$f":"'24. Data Input Object # 2'!AD16","v":0},{"$f":"'24. Data Input Object # 2'!AE16","v":0},{"$f":"'24. Data Input Object # 2'!AF16","v":0},{"$f":"'24. Data Input Object # 2'!AG16","v":0},{"$f":"'24. Data Input Object # 2'!AH16","v":0},{"$f":"'24. Data Input Object # 2'!AI16","v":0},{"$f":"'24. Data Input Object # 2'!AJ16","v":0},{"$f":"'24. Data Input Object # 2'!AK16","v":0},{"$f":"'24. Data Input Object # 2'!AL16","v":0},{"$f":"'24. Data Input Object # 2'!AM16","v":0},{"$f":"'24. Data Input Object # 2'!AN16","v":0},{"$f":"'24. Data Input Object # 2'!AO16","v":0},{"$f":"'24. Data Input Object # 2'!AP16","v":0},{"$f":"'24. Data Input Object # 2'!AQ16","v":0},{"$f":"'24. Data Input Object # 2'!AR16","v":0},{"$f":"'24. Data Input Object # 2'!AS16","v":0},{"$f":"'24. Data Input Object # 2'!AT16","v":0},{"$f":"'24. Data Input Object # 2'!AU16","v":0},{"$f":"'24. Data Input Object # 2'!AV16","v":0},{"$f":"'24. Data Input Object # 2'!AW16","v":0},{"$f":"'24. Data Input Object # 2'!AX16","v":0},{"$f":"'24. Data Input Object # 2'!AY16","v":0},{"$f":"'24. Data Input Object # 2'!AZ16","v":0},{"$f":"'24. Data Input Object # 2'!BA16","v":0},{"$f":"'24. Data Input Object # 2'!BB16","v":0},{"$f":"'24. Data Input Object # 2'!BC16","v":0},{"$f":"'24. Data Input Object # 2'!BD16","v":0},{"$f":"'24. Data Input Object # 2'!BE16","v":0},{"$f":"'24. Data Input Object # 2'!BF16","v":0},{"$f":"'24. Data Input Object # 2'!BG16","v":0},{"$f":"'24. Data Input Object # 2'!BH16","v":0},{"$f":"'24. Data Input Object # 2'!BI16","v":0},{"$f":"'24. Data Input Object # 2'!BJ16","v":0},{"$f":"'24. Data Input Object # 2'!BK16","v":0},{"$f":"'24. Data Input Object # 2'!BL16","v":0},{"$f":"'24. Data Input Object # 2'!BM16","v":0},{"$f":"'24. Data Input Object # 2'!BN16","v":0},{"$f":"'24. Data Input Object # 2'!BO16","v":0},{"$f":"'24. Data Input Object # 2'!BP16","v":0},{"$f":"'24. Data Input Object # 2'!BQ16","v":0},{"$f":"'24. Data Input Object # 2'!BR16","v":0},{"$f":"'24. Data Input Object # 2'!BS16","v":0},{"$f":"'24. Data Input Object # 2'!BT16","v":0},{"$f":"'24. Data Input Object # 2'!BU16","v":0},{"$f":"'24. Data Input Object # 2'!BV16","v":0},{"$f":"'24. Data Input Object # 2'!BW16","v":0},{"$f":"'24. Data Input Object # 2'!BX16","v":0},{"$f":"'24. Data Input Object # 2'!BY16","v":0},{"$f":"'24. Data Input Object # 2'!BZ16","v":0},{"$f":"'24. Data Input Object # 2'!CA16","v":0}]
[{"$f":"'24. Data Input Object # 2'!A17","v":38},{"$f":"'24. Data Input Object # 2'!B17","v":16},{"$f":"'24. Data Input Object # 2'!C17","v":0},{"$f":"'24. Data Input Object # 2'!D17","v":0},{"$f":"'24. Data Input Object # 2'!E17","v":0},{"$f":"'24. Data Input Object # 2'!F17","v":0},{"$f":"'24. Data Input Object # 2'!G17","v":0},{"$f":"'24. Data Input Object # 2'!H17","v":0},{"$f":"'24. Data Input Object # 2'!I17","v":0},{"$f":"'24. Data Input Object # 2'!J17","v":0},{"$f":"'24. Data Input Object # 2'!K17","v":0},{"$f":"'24. Data Input Object # 2'!L17","v":0},{"$f":"'24. Data Input Object # 2'!M17","v":1},{"$f":"'24. Data Input Object # 2'!N17","v":0},{"$f":"'24. Data Input Object # 2'!O17","v":0},{"$f":"'24. Data Input Object # 2'!P17","v":0},{"$f":"'24. Data Input Object # 2'!Q17","v":0},{"$f":"'24. Data Input Object # 2'!R17","v":0},{"$f":"'24. Data Input Object # 2'!S17","v":0},{"$f":"'24. Data Input Object # 2'!T17","v":0},{"$f":"'24. Data Input Object # 2'!U17","v":0},{"$f":"'24. Data Input Object # 2'!V17","v":0},{"$f":"'24. Data Input Object # 2'!W17","v":0},{"$f":"'24. Data Input Object # 2'!X17","v":0},{"$f":"'24. Data Input Object # 2'!Y17","v":0},{"$f":"'24. Data Input Object # 2'!Z17","v":0},{"$f":"'24. Data Input Object # 2'!AA17","v":0},{"$f":"'24. Data Input Object # 2'!AB17","v":0},{"$f":"'24. Data Input Object # 2'!AC17","v":0},{"$f":"'24. Data Input Object # 2'!AD17","v":1},{"$f":"'24. Data Input Object # 2'!AE17","v":0},{"$f":"'24. Data Input Object # 2'!AF17","v":0},{"$f":"'24. Data Input Object # 2'!AG17","v":0},{"$f":"'24. Data Input Object # 2'!AH17","v":0},{"$f":"'24. Data Input Object # 2'!AI17","v":0},{"$f":"'24. Data Input Object # 2'!AJ17","v":0},{"$f":"'24. Data Input Object # 2'!AK17","v":0},{"$f":"'24. Data Input Object # 2'!AL17","v":0},{"$f":"'24. Data Input Object # 2'!AM17","v":0},{"$f":"'24. Data Input Object # 2'!AN17","v":0},{"$f":"'24. Data Input Object # 2'!AO17","v":0},{"$f":"'24. Data Input Object # 2'!AP17","v":0},{"$f":"'24. Data Input Object # 2'!AQ17","v":0},{"$f":"'24. Data Input Object # 2'!AR17","v":0},{"$f":"'24. Data Input Object # 2'!AS17","v":0},{"$f":"'24. Data Input Object # 2'!AT17","v":0},{"$f":"'24. Data Input Object # 2'!AU17","v":0},{"$f":"'24. Data Input Object # 2'!AV17","v":0},{"$f":"'24. Data Input Object # 2'!AW17","v":0},{"$f":"'24. Data Input Object # 2'!AX17","v":0},{"$f":"'24. Data Input Object # 2'!AY17","v":0},{"$f":"'24. Data Input Object # 2'!AZ17","v":0},{"$f":"'24. Data Input Object # 2'!BA17","v":0},{"$f":"'24. Data Input Object # 2'!BB17","v":0},{"$f":"'24. Data Input Object # 2'!BC17","v":0},{"$f":"'24. Data Input Object # 2'!BD17","v":0},{"$f":"'24. Data Input Object # 2'!BE17","v":0},{"$f":"'24. Data Input Object # 2'!BF17","v":0},{"$f":"'24. Data Input Object # 2'!BG17","v":0},{"$f":"'24. Data Input Object # 2'!BH17","v":0},{"$f":"'24. Data Input Object # 2'!BI17","v":0},{"$f":"'24. Data Input Object # 2'!BJ17","v":0},{"$f":"'24. Data Input Object # 2'!BK17","v":0},{"$f":"'24. Data Input Object # 2'!BL17","v":0},{"$f":"'24. Data Input Object # 2'!BM17","v":0},{"$f":"'24. Data Input Object # 2'!BN17","v":0},{"$f":"'24. Data Input Object # 2'!BO17","v":0},{"$f":"'24. Data Input Object # 2'!BP17","v":0},{"$f":"'24. Data Input Object # 2'!BQ17","v":0},{"$f":"'24. Data Input Object # 2'!BR17","v":0},{"$f":"'24. Data Input Object # 2'!BS17","v":0},{"$f":"'24. Data Input Object # 2'!BT17","v":0},{"$f":"'24. Data Input Object # 2'!BU17","v":0},{"$f":"'24. Data Input Object # 2'!BV17","v":0},{"$f":"'24. Data Input Object # 2'!BW17","v":0},{"$f":"'24. Data Input Object # 2'!BX17","v":0},{"$f":"'24. Data Input Object # 2'!BY17","v":0},{"$f":"'24. Data Input Object # 2'!BZ17","v":0},{"$f":"'24. Data Input Object # 2'!CA17","v":0}]
[{"$f":"'24. Data Input Object # 2'!A18","v":39},{"$f":"'24. Data Input Object # 2'!B18","v":4},{"$f":"'24. Data Input Object # 2'!C18","v":1},{"$f":"'24. Data Input Object # 2'!D18","v":1},{"$f":"'24. Data Input Object # 2'!E18","v":1},{"$f":"'24. Data Input Object # 2'!F18","v":1},{"$f":"'24. Data Input Object # 2'!G18","v":1},{"$f":"'24. Data Input Object # 2'!H18","v":1},{"$f":"'24. Data Input Object # 2'!I18","v":1},{"$f":"'24. Data Input Object # 2'!J18","v":1},{"$f":"'24. Data Input Object # 2'!K18","v":1},{"$f":"'24. Data Input Object # 2'!L18","v":1},{"$f":"'24. Data Input Object # 2'!M18","v":0},{"$f":"'24. Data Input Object # 2'!N18","v":1},{"$f":"'24. Data Input Object # 2'!O18","v":1},{"$f":"'24. Data Input Object # 2'!P18","v":1},{"$f":"'24. Data Input Object # 2'!Q18","v":1},{"$f":"'24. Data Input Object # 2'!R18","v":1},{"$f":"'24. Data Input Object # 2'!S18","v":1},{"$f":"'24. Data Input Object # 2'!T18","v":1},{"$f":"'24. Data Input Object # 2'!U18","v":1},{"$f":"'24. Data Input Object # 2'!V18","v":1},{"$f":"'24. Data Input Object # 2'!W18","v":1},{"$f":"'24. Data Input Object # 2'!X18","v":1},{"$f":"'24. Data Input Object # 2'!Y18","v":1},{"$f":"'24. Data Input Object # 2'!Z18","v":1},{"$f":"'24. Data Input Object # 2'!AA18","v":1},{"$f":"'24. Data Input Object # 2'!AB18","v":1},{"$f":"'24. Data Input Object # 2'!AC18","v":1},{"$f":"'24. Data Input Object # 2'!AD18","v":0},{"$f":"'24. Data Input Object # 2'!AE18","v":1},{"$f":"'24. Data Input Object # 2'!AF18","v":1},{"$f":"'24. Data Input Object # 2'!AG18","v":1},{"$f":"'24. Data Input Object # 2'!AH18","v":1},{"$f":"'24. Data Input Object # 2'!AI18","v":0},{"$f":"'24. Data Input Object # 2'!AJ18","v":1},{"$f":"'24. Data Input Object # 2'!AK18","v":0},{"$f":"'24. Data Input Object # 2'!AL18","v":0},{"$f":"'24. Data Input Object # 2'!AM18","v":0},{"$f":"'24. Data Input Object # 2'!AN18","v":0},{"$f":"'24. Data Input Object # 2'!AO18","v":0},{"$f":"'24. Data Input Object # 2'!AP18","v":0},{"$f":"'24. Data Input Object # 2'!AQ18","v":0},{"$f":"'24. Data Input Object # 2'!AR18","v":0},{"$f":"'24. Data Input Object # 2'!AS18","v":0},{"$f":"'24. Data Input Object # 2'!AT18","v":0},{"$f":"'24. Data Input Object # 2'!AU18","v":0},{"$f":"'24. Data Input Object # 2'!AV18","v":0},{"$f":"'24. Data Input Object # 2'!AW18","v":0},{"$f":"'24. Data Input Object # 2'!AX18","v":0},{"$f":"'24. Data Input Object # 2'!AY18","v":0},{"$f":"'24. Data Input Object # 2'!AZ18","v":0},{"$f":"'24. Data Input Object # 2'!BA18","v":0},{"$f":"'24. Data Input Object # 2'!BB18","v":0},{"$f":"'24. Data Input Object # 2'!BC18","v":0},{"$f":"'24. Data Input Object # 2'!BD18","v":0},{"$f":"'24. Data Input Object # 2'!BE18","v":0},{"$f":"'24. Data Input Object # 2'!BF18","v":0},{"$f":"'24. Data Input Object # 2'!BG18","v":0},{"$f":"'24. Data Input Object # 2'!BH18","v":0},{"$f":"'24. Data Input Object # 2'!BI18","v":0},{"$f":"'24. Data Input Object # 2'!BJ18","v":0},{"$f":"'24. Data Input Object # 2'!BK18","v":0},{"$f":"'24. Data Input Object # 2'!BL18","v":0},{"$f":"'24. Data Input Object # 2'!BM18","v":0},{"$f":"'24. Data Input Object # 2'!BN18","v":0},{"$f":"'24. Data Input Object # 2'!BO18","v":0},{"$f":"'24. Data Input Object # 2'!BP18","v":0},{"$f":"'24. Data Input Object # 2'!BQ18","v":0},{"$f":"'24. Data Input Object # 2'!BR18","v":0},{"$f":"'24. Data Input Object # 2'!BS18","v":0},{"$f":"'24. Data Input Object # 2'!BT18","v":0},{"$f":"'24. Data Input Object # 2'!BU18","v":0},{"$f":"'24. Data Input Object # 2'!BV18","v":0},{"$f":"'24. Data Input Object # 2'!BW18","v":0},{"$f":"'24. Data Input Object # 2'!BX18","v":0},{"$f":"'24. Data Input Object # 2'!BY18","v":0},{"$f":"'24. Data Input Object # 2'!BZ18","v":0},{"$f":"'24. Data Input Object # 2'!CA18","v":0}]
[{"$f":"'24. Data Input Object # 2'!A19","v":"48v"},{"$f":"'24. Data Input Object # 2'!B19","v":25},{"$f":"'24. Data Input Object # 2'!C19","v":0},{"$f":"'24. Data Input Object # 2'!D19","v":0},{"$f":"'24. Data Input Object # 2'!E19","v":0},{"$f":"'24. Data Input Object # 2'!F19","v":0},{"$f":"'24. Data Input Object # 2'!G19","v":0},{"$f":"'24. Data Input Object # 2'!H19","v":0},{"$f":"'24. Data Input Object # 2'!I19","v":0},{"$f":"'24. Data Input Object # 2'!J19","v":0},{"$f":"'24. Data Input Object # 2'!K19","v":0},{"$f":"'24. Data Input Object # 2'!L19","v":0},{"$f":"'24. Data Input Object # 2'!M19","v":0},{"$f":"'24. Data Input Object # 2'!N19","v":0},{"$f":"'24. Data Input Object # 2'!O19","v":0},{"$f":"'24. Data Input Object # 2'!P19","v":0},{"$f":"'24. Data Input Object # 2'!Q19","v":0},{"$f":"'24. Data Input Object # 2'!R19","v":0},{"$f":"'24. Data Input Object # 2'!S19","v":0},{"$f":"'24. Data Input Object # 2'!T19","v":0},{"$f":"'24. Data Input Object # 2'!U19","v":0},{"$f":"'24. Data Input Object # 2'!V19","v":0},{"$f":"'24. Data Input Object # 2'!W19","v":0},{"$f":"'24. Data Input Object # 2'!X19","v":0},{"$f":"'24. Data Input Object # 2'!Y19","v":0},{"$f":"'24. Data Input Object # 2'!Z19","v":0},{"$f":"'24. Data Input Object # 2'!AA19","v":0},{"$f":"'24. Data Input Object # 2'!AB19","v":0},{"$f":"'24. Data Input Object # 2'!AC19","v":0},{"$f":"'24. Data Input Object # 2'!AD19","v":0},{"$f":"'24. Data Input Object # 2'!AE19","v":0},{"$f":"'24. Data Input Object # 2'!AF19","v":0},{"$f":"'24. Data Input Object # 2'!AG19","v":0},{"$f":"'24. Data Input Object # 2'!AH19","v":0},{"$f":"'24. Data Input Object # 2'!AI19","v":0},{"$f":"'24. Data Input Object # 2'!AJ19","v":0},{"$f":"'24. Data Input Object # 2'!AK19","v":0},{"$f":"'24. Data Input Object # 2'!AL19","v":0},{"$f":"'24. Data Input Object # 2'!AM19","v":0},{"$f":"'24. Data Input Object # 2'!AN19","v":0},{"$f":"'24. Data Input Object # 2'!AO19","v":0},{"$f":"'24. Data Input Object # 2'!AP19","v":0},{"$f":"'24. Data Input Object # 2'!AQ19","v":0},{"$f":"'24. Data Input Object # 2'!AR19","v":0},{"$f":"'24. Data Input Object # 2'!AS19","v":0},{"$f":"'24. Data Input Object # 2'!AT19","v":0},{"$f":"'24. Data Input Object # 2'!AU19","v":0},{"$f":"'24. Data Input Object # 2'!AV19","v":0},{"$f":"'24. Data Input Object # 2'!AW19","v":0},{"$f":"'24. Data Input Object # 2'!AX19","v":0},{"$f":"'24. Data Input Object # 2'!AY19","v":0},{"$f":"'24. Data Input Object # 2'!AZ19","v":0},{"$f":"'24. Data Input Object # 2'!BA19","v":0},{"$f":"'24. Data Input Object # 2'!BB19","v":0},{"$f":"'24. Data Input Object # 2'!BC19","v":0},{"$f":"'24. Data Input Object # 2'!BD19","v":0},{"$f":"'24. Data Input Object # 2'!BE19","v":0},{"$f":"'24. Data Input Object # 2'!BF19","v":0},{"$f":"'24. Data Input Object # 2'!BG19","v":0},{"$f":"'24. Data Input Object # 2'!BH19","v":0},{"$f":"'24. Data Input Object # 2'!BI19","v":0},{"$f":"'24. Data Input Object # 2'!BJ19","v":0},{"$f":"'24. Data Input Object # 2'!BK19","v":0},{"$f":"'24. Data Input Object # 2'!BL19","v":0},{"$f":"'24. Data Input Object # 2'!BM19","v":0},{"$f":"'24. Data Input Object # 2'!BN19","v":0},{"$f":"'24. Data Input Object # 2'!BO19","v":0},{"$f":"'24. Data Input Object # 2'!BP19","v":0},{"$f":"'24. Data Input Object # 2'!BQ19","v":0},{"$f":"'24. Data Input Object # 2'!BR19","v":0},{"$f":"'24. Data Input Object # 2'!BS19","v":0},{"$f":"'24. Data Input Object # 2'!BT19","v":0},{"$f":"'24. Data Input Object # 2'!BU19","v":0},{"$f":"'24. Data Input Object # 2'!BV19","v":0},{"$f":"'24. Data Input Object # 2'!BW19","v":0},{"$f":"'24. Data Input Object # 2'!BX19","v":0},{"$f":"'24. Data Input Object # 2'!BY19","v":0},{"$f":"'24. Data Input Object # 2'!BZ19","v":0},{"$f":"'24. Data Input Object # 2'!CA19","v":0}]
[{"$f":"'24. Data Input Object # 2'!A20","v":0},{"$f":"'24. Data Input Object # 2'!B20","v":0},{"$f":"'24. Data Input Object # 2'!C20","v":0},{"$f":"'24. Data Input Object # 2'!D20","v":0},{"$f":"'24. Data Input Object # 2'!E20","v":0},{"$f":"'24. Data Input Object # 2'!F20","v":0},{"$f":"'24. Data Input Object # 2'!G20","v":0},{"$f":"'24. Data Input Object # 2'!H20","v":0},{"$f":"'24. Data Input Object # 2'!I20","v":0},{"$f":"'24. Data Input Object # 2'!J20","v":0},{"$f":"'24. Data Input Object # 2'!K20","v":0},{"$f":"'24. Data Input Object # 2'!L20","v":0},{"$f":"'24. Data Input Object # 2'!M20","v":0},{"$f":"'24. Data Input Object # 2'!N20","v":0},{"$f":"'24. Data Input Object # 2'!O20","v":0},{"$f":"'24. Data Input Object # 2'!P20","v":0},{"$f":"'24. Data Input Object # 2'!Q20","v":0},{"$f":"'24. Data Input Object # 2'!R20","v":0},{"$f":"'24. Data Input Object # 2'!S20","v":0},{"$f":"'24. Data Input Object # 2'!T20","v":0},{"$f":"'24. Data Input Object # 2'!U20","v":0},{"$f":"'24. Data Input Object # 2'!V20","v":0},{"$f":"'24. Data Input Object # 2'!W20","v":0},{"$f":"'24. Data Input Object # 2'!X20","v":0},{"$f":"'24. Data Input Object # 2'!Y20","v":0},{"$f":"'24. Data Input Object # 2'!Z20","v":0},{"$f":"'24. Data Input Object # 2'!AA20","v":0},{"$f":"'24. Data Input Object # 2'!AB20","v":0},{"$f":"'24. Data Input Object # 2'!AC20","v":0},{"$f":"'24. Data Input Object # 2'!AD20","v":0},{"$f":"'24. Data Input Object # 2'!AE20","v":0},{"$f":"'24. Data Input Object # 2'!AF20","v":0},{"$f":"'24. Data Input Object # 2'!AG20","v":0},{"$f":"'24. Data Input Object # 2'!AH20","v":0},{"$f":"'24. Data Input Object # 2'!AI20","v":0},{"$f":"'24. Data Input Object # 2'!AJ20","v":0},{"$f":"'24. Data Input Object # 2'!AK20","v":0},{"$f":"'24. Data Input Object # 2'!AL20","v":0},{"$f":"'24. Data Input Object # 2'!AM20","v":0},{"$f":"'24. Data Input Object # 2'!AN20","v":0},{"$f":"'24. Data Input Object # 2'!AO20","v":0},{"$f":"'24. Data Input Object # 2'!AP20","v":0},{"$f":"'24. Data Input Object # 2'!AQ20","v":0},{"$f":"'24. Data Input Object # 2'!AR20","v":0},{"$f":"'24. Data Input Object # 2'!AS20","v":0},{"$f":"'24. Data Input Object # 2'!AT20","v":0},{"$f":"'24. Data Input Object # 2'!AU20","v":0},{"$f":"'24. Data Input Object # 2'!AV20","v":0},{"$f":"'24. Data Input Object # 2'!AW20","v":0},{"$f":"'24. Data Input Object # 2'!AX20","v":0},{"$f":"'24. Data Input Object # 2'!AY20","v":0},{"$f":"'24. Data Input Object # 2'!AZ20","v":0},{"$f":"'24. Data Input Object # 2'!BA20","v":0},{"$f":"'24. Data Input Object # 2'!BB20","v":0},{"$f":"'24. Data Input Object # 2'!BC20","v":0},{"$f":"'24. Data Input Object # 2'!BD20","v":0},{"$f":"'24. Data Input Object # 2'!BE20","v":0},{"$f":"'24. Data Input Object # 2'!BF20","v":0},{"$f":"'24. Data Input Object # 2'!BG20","v":0},{"$f":"'24. Data Input Object # 2'!BH20","v":0},{"$f":"'24. Data Input Object # 2'!BI20","v":0},{"$f":"'24. Data Input Object # 2'!BJ20","v":0},{"$f":"'24. Data Input Object # 2'!BK20","v":0},{"$f":"'24. Data Input Object # 2'!BL20","v":0},{"$f":"'24. Data Input Object # 2'!BM20","v":0},{"$f":"'24. Data Input Object # 2'!BN20","v":0},{"$f":"'24. Data Input Object # 2'!BO20","v":0},{"$f":"'24. Data Input Object # 2'!BP20","v":0},{"$f":"'24. Data Input Object # 2'!BQ20","v":0},{"$f":"'24. Data Input Object # 2'!BR20","v":0},{"$f":"'24. Data Input Object # 2'!BS20","v":0},{"$f":"'24. Data Input Object # 2'!BT20","v":0},{"$f":"'24. Data Input Object # 2'!BU20","v":0},{"$f":"'24. Data Input Object # 2'!BV20","v":0},{"$f":"'24. Data Input Object # 2'!BW20","v":0},{"$f":"'24. Data Input Object # 2'!BX20","v":0},{"$f":"'24. Data Input Object # 2'!BY20","v":0},{"$f":"'24. Data Input Object # 2'!BZ20","v":0},{"$f":"'24. Data Input Object # 2'!CA20","v":0}]
[{"$f":"'24. Data Input Object # 2'!A21","v":0},{"$f":"'24. Data Input Object # 2'!B21","v":0},{"$f":"'24. Data Input Object # 2'!C21","v":0},{"$f":"'24. Data Input Object # 2'!D21","v":0},{"$f":"'24. Data Input Object # 2'!E21","v":0},{"$f":"'24. Data Input Object # 2'!F21","v":0},{"$f":"'24. Data Input Object # 2'!G21","v":0},{"$f":"'24. Data Input Object # 2'!H21","v":0},{"$f":"'24. Data Input Object # 2'!I21","v":0},{"$f":"'24. Data Input Object # 2'!J21","v":0},{"$f":"'24. Data Input Object # 2'!K21","v":0},{"$f":"'24. Data Input Object # 2'!L21","v":0},{"$f":"'24. Data Input Object # 2'!M21","v":0},{"$f":"'24. Data Input Object # 2'!N21","v":0},{"$f":"'24. Data Input Object # 2'!O21","v":0},{"$f":"'24. Data Input Object # 2'!P21","v":0},{"$f":"'24. Data Input Object # 2'!Q21","v":0},{"$f":"'24. Data Input Object # 2'!R21","v":0},{"$f":"'24. Data Input Object # 2'!S21","v":0},{"$f":"'24. Data Input Object # 2'!T21","v":0},{"$f":"'24. Data Input Object # 2'!U21","v":0},{"$f":"'24. Data Input Object # 2'!V21","v":0},{"$f":"'24. Data Input Object # 2'!W21","v":0},{"$f":"'24. Data Input Object # 2'!X21","v":0},{"$f":"'24. Data Input Object # 2'!Y21","v":0},{"$f":"'24. Data Input Object # 2'!Z21","v":0},{"$f":"'24. Data Input Object # 2'!AA21","v":0},{"$f":"'24. Data Input Object # 2'!AB21","v":0},{"$f":"'24. Data Input Object # 2'!AC21","v":0},{"$f":"'24. Data Input Object # 2'!AD21","v":0},{"$f":"'24. Data Input Object # 2'!AE21","v":0},{"$f":"'24. Data Input Object # 2'!AF21","v":0},{"$f":"'24. Data Input Object # 2'!AG21","v":0},{"$f":"'24. Data Input Object # 2'!AH21","v":0},{"$f":"'24. Data Input Object # 2'!AI21","v":0},{"$f":"'24. Data Input Object # 2'!AJ21","v":0},{"$f":"'24. Data Input Object # 2'!AK21","v":0},{"$f":"'24. Data Input Object # 2'!AL21","v":0},{"$f":"'24. Data Input Object # 2'!AM21","v":0},{"$f":"'24. Data Input Object # 2'!AN21","v":0},{"$f":"'24. Data Input Object # 2'!AO21","v":0},{"$f":"'24. Data Input Object # 2'!AP21","v":0},{"$f":"'24. Data Input Object # 2'!AQ21","v":0},{"$f":"'24. Data Input Object # 2'!AR21","v":0},{"$f":"'24. Data Input Object # 2'!AS21","v":0},{"$f":"'24. Data Input Object # 2'!AT21","v":0},{"$f":"'24. Data Input Object # 2'!AU21","v":0},{"$f":"'24. Data Input Object # 2'!AV21","v":0},{"$f":"'24. Data Input Object # 2'!AW21","v":0},{"$f":"'24. Data Input Object # 2'!AX21","v":0},{"$f":"'24. Data Input Object # 2'!AY21","v":0},{"$f":"'24. Data Input Object # 2'!AZ21","v":0},{"$f":"'24. Data Input Object # 2'!BA21","v":0},{"$f":"'24. Data Input Object # 2'!BB21","v":0},{"$f":"'24. Data Input Object # 2'!BC21","v":0},{"$f":"'24. Data Input Object # 2'!BD21","v":0},{"$f":"'24. Data Input Object # 2'!BE21","v":0},{"$f":"'24. Data Input Object # 2'!BF21","v":0},{"$f":"'24. Data Input Object # 2'!BG21","v":0},{"$f":"'24. Data Input Object # 2'!BH21","v":0},{"$f":"'24. Data Input Object # 2'!BI21","v":0},{"$f":"'24. Data Input Object # 2'!BJ21","v":0},{"$f":"'24. Data Input Object # 2'!BK21","v":0},{"$f":"'24. Data Input Object # 2'!BL21","v":0},{"$f":"'24. Data Input Object # 2'!BM21","v":0},{"$f":"'24. Data Input Object # 2'!BN21","v":0},{"$f":"'24. Data Input Object # 2'!BO21","v":0},{"$f":"'24. Data Input Object # 2'!BP21","v":0},{"$f":"'24. Data Input Object # 2'!BQ21","v":0},{"$f":"'24. Data Input Object # 2'!BR21","v":0},{"$f":"'24. Data Input Object # 2'!BS21","v":0},{"$f":"'24. Data Input Object # 2'!BT21","v":0},{"$f":"'24. Data Input Object # 2'!BU21","v":0},{"$f":"'24. Data Input Object # 2'!BV21","v":0},{"$f":"'24. Data Input Object # 2'!BW21","v":0},{"$f":"'24. Data Input Object # 2'!BX21","v":0},{"$f":"'24. Data Input Object # 2'!BY21","v":0},{"$f":"'24. Data Input Object # 2'!BZ21","v":0},{"$f":"'24. Data Input Object # 2'!CA21","v":0}]
[{"$f":"'24. Data Input Object # 2'!A22","v":0},{"$f":"'24. Data Input Object # 2'!B22","v":0},{"$f":"'24. Data Input Object # 2'!C22","v":0},{"$f":"'24. Data Input Object # 2'!D22","v":0},{"$f":"'24. Data Input Object # 2'!E22","v":0},{"$f":"'24. Data Input Object # 2'!F22","v":0},{"$f":"'24. Data Input Object # 2'!G22","v":0},{"$f":"'24. Data Input Object # 2'!H22","v":0},{"$f":"'24. Data Input Object # 2'!I22","v":0},{"$f":"'24. Data Input Object # 2'!J22","v":0},{"$f":"'24. Data Input Object # 2'!K22","v":0},{"$f":"'24. Data Input Object # 2'!L22","v":0},{"$f":"'24. Data Input Object # 2'!M22","v":0},{"$f":"'24. Data Input Object # 2'!N22","v":0},{"$f":"'24. Data Input Object # 2'!O22","v":0},{"$f":"'24. Data Input Object # 2'!P22","v":0},{"$f":"'24. Data Input Object # 2'!Q22","v":0},{"$f":"'24. Data Input Object # 2'!R22","v":0},{"$f":"'24. Data Input Object # 2'!S22","v":0},{"$f":"'24. Data Input Object # 2'!T22","v":0},{"$f":"'24. Data Input Object # 2'!U22","v":0},{"$f":"'24. Data Input Object # 2'!V22","v":0},{"$f":"'24. Data Input Object # 2'!W22","v":0},{"$f":"'24. Data Input Object # 2'!X22","v":0},{"$f":"'24. Data Input Object # 2'!Y22","v":0},{"$f":"'24. Data Input Object # 2'!Z22","v":0},{"$f":"'24. Data Input Object # 2'!AA22","v":0},{"$f":"'24. Data Input Object # 2'!AB22","v":0},{"$f":"'24. Data Input Object # 2'!AC22","v":0},{"$f":"'24. Data Input Object # 2'!AD22","v":0},{"$f":"'24. Data Input Object # 2'!AE22","v":0},{"$f":"'24. Data Input Object # 2'!AF22","v":0},{"$f":"'24. Data Input Object # 2'!AG22","v":0},{"$f":"'24. Data Input Object # 2'!AH22","v":0},{"$f":"'24. Data Input Object # 2'!AI22","v":0},{"$f":"'24. Data Input Object # 2'!AJ22","v":0},{"$f":"'24. Data Input Object # 2'!AK22","v":0},{"$f":"'24. Data Input Object # 2'!AL22","v":0},{"$f":"'24. Data Input Object # 2'!AM22","v":0},{"$f":"'24. Data Input Object # 2'!AN22","v":0},{"$f":"'24. Data Input Object # 2'!AO22","v":0},{"$f":"'24. Data Input Object # 2'!AP22","v":0},{"$f":"'24. Data Input Object # 2'!AQ22","v":0},{"$f":"'24. Data Input Object # 2'!AR22","v":0},{"$f":"'24. Data Input Object # 2'!AS22","v":0},{"$f":"'24. Data Input Object # 2'!AT22","v":0},{"$f":"'24. Data Input Object # 2'!AU22","v":0},{"$f":"'24. Data Input Object # 2'!AV22","v":0},{"$f":"'24. Data Input Object # 2'!AW22","v":0},{"$f":"'24. Data Input Object # 2'!AX22","v":0},{"$f":"'24. Data Input Object # 2'!AY22","v":0},{"$f":"'24. Data Input Object # 2'!AZ22","v":0},{"$f":"'24. Data Input Object # 2'!BA22","v":0},{"$f":"'24. Data Input Object # 2'!BB22","v":0},{"$f":"'24. Data Input Object # 2'!BC22","v":0},{"$f":"'24. Data Input Object # 2'!BD22","v":0},{"$f":"'24. Data Input Object # 2'!BE22","v":0},{"$f":"'24. Data Input Object # 2'!BF22","v":0},{"$f":"'24. Data Input Object # 2'!BG22","v":0},{"$f":"'24. Data Input Object # 2'!BH22","v":0},{"$f":"'24. Data Input Object # 2'!BI22","v":0},{"$f":"'24. Data Input Object # 2'!BJ22","v":0},{"$f":"'24. Data Input Object # 2'!BK22","v":0},{"$f":"'24. Data Input Object # 2'!BL22","v":0},{"$f":"'24. Data Input Object # 2'!BM22","v":0},{"$f":"'24. Data Input Object # 2'!BN22","v":0},{"$f":"'24. Data Input Object # 2'!BO22","v":0},{"$f":"'24. Data Input Object # 2'!BP22","v":0},{"$f":"'24. Data Input Object # 2'!BQ22","v":0},{"$f":"'24. Data Input Object # 2'!BR22","v":0},{"$f":"'24. Data Input Object # 2'!BS22","v":0},{"$f":"'24. Data Input Object # 2'!BT22","v":0},{"$f":"'24. Data Input Object # 2'!BU22","v":0},{"$f":"'24. Data Input Object # 2'!BV22","v":0},{"$f":"'24. Data Input Object # 2'!BW22","v":0},{"$f":"'24. Data Input Object # 2'!BX22","v":0},{"$f":"'24. Data Input Object # 2'!BY22","v":0},{"$f":"'24. Data Input Object # 2'!BZ22","v":0},{"$f":"'24. Data Input Object # 2'!CA22","v":0}]
[{"$f":"'24. Data Input Object # 2'!A23","v":0},{"$f":"'24. Data Input Object # 2'!B23","v":0},{"$f":"'24. Data Input Object # 2'!C23","v":0},{"$f":"'24. Data Input Object # 2'!D23","v":0},{"$f":"'24. Data Input Object # 2'!E23","v":0},{"$f":"'24. Data Input Object # 2'!F23","v":0},{"$f":"'24. Data Input Object # 2'!G23","v":0},{"$f":"'24. Data Input Object # 2'!H23","v":0},{"$f":"'24. Data Input Object # 2'!I23","v":0},{"$f":"'24. Data Input Object # 2'!J23","v":0},{"$f":"'24. Data Input Object # 2'!K23","v":0},{"$f":"'24. Data Input Object # 2'!L23","v":0},{"$f":"'24. Data Input Object # 2'!M23","v":0},{"$f":"'24. Data Input Object # 2'!N23","v":0},{"$f":"'24. Data Input Object # 2'!O23","v":0},{"$f":"'24. Data Input Object # 2'!P23","v":0},{"$f":"'24. Data Input Object # 2'!Q23","v":0},{"$f":"'24. Data Input Object # 2'!R23","v":0},{"$f":"'24. Data Input Object # 2'!S23","v":0},{"$f":"'24. Data Input Object # 2'!T23","v":0},{"$f":"'24. Data Input Object # 2'!U23","v":0},{"$f":"'24. Data Input Object # 2'!V23","v":0},{"$f":"'24. Data Input Object # 2'!W23","v":0},{"$f":"'24. Data Input Object # 2'!X23","v":0},{"$f":"'24. Data Input Object # 2'!Y23","v":0},{"$f":"'24. Data Input Object # 2'!Z23","v":0},{"$f":"'24. Data Input Object # 2'!AA23","v":0},{"$f":"'24. Data Input Object # 2'!AB23","v":0},{"$f":"'24. Data Input Object # 2'!AC23","v":0},{"$f":"'24. Data Input Object # 2'!AD23","v":0},{"$f":"'24. Data Input Object # 2'!AE23","v":0},{"$f":"'24. Data Input Object # 2'!AF23","v":0},{"$f":"'24. Data Input Object # 2'!AG23","v":0},{"$f":"'24. Data Input Object # 2'!AH23","v":0},{"$f":"'24. Data Input Object # 2'!AI23","v":0},{"$f":"'24. Data Input Object # 2'!AJ23","v":0},{"$f":"'24. Data Input Object # 2'!AK23","v":0},{"$f":"'24. Data Input Object # 2'!AL23","v":0},{"$f":"'24. Data Input Object # 2'!AM23","v":0},{"$f":"'24. Data Input Object # 2'!AN23","v":0},{"$f":"'24. Data Input Object # 2'!AO23","v":0},{"$f":"'24. Data Input Object # 2'!AP23","v":0},{"$f":"'24. Data Input Object # 2'!AQ23","v":0},{"$f":"'24. Data Input Object # 2'!AR23","v":0},{"$f":"'24. Data Input Object # 2'!AS23","v":0},{"$f":"'24. Data Input Object # 2'!AT23","v":0},{"$f":"'24. Data Input Object # 2'!AU23","v":0},{"$f":"'24. Data Input Object # 2'!AV23","v":0},{"$f":"'24. Data Input Object # 2'!AW23","v":0},{"$f":"'24. Data Input Object # 2'!AX23","v":0},{"$f":"'24. Data Input Object # 2'!AY23","v":0},{"$f":"'24. Data Input Object # 2'!AZ23","v":0},{"$f":"'24. Data Input Object # 2'!BA23","v":0},{"$f":"'24. Data Input Object # 2'!BB23","v":0},{"$f":"'24. Data Input Object # 2'!BC23","v":0},{"$f":"'24. Data Input Object # 2'!BD23","v":0},{"$f":"'24. Data Input Object # 2'!BE23","v":0},{"$f":"'24. Data Input Object # 2'!BF23","v":0},{"$f":"'24. Data Input Object # 2'!BG23","v":0},{"$f":"'24. Data Input Object # 2'!BH23","v":0},{"$f":"'24. Data Input Object # 2'!BI23","v":0},{"$f":"'24. Data Input Object # 2'!BJ23","v":0},{"$f":"'24. Data Input Object # 2'!BK23","v":0},{"$f":"'24. Data Input Object # 2'!BL23","v":0},{"$f":"'24. Data Input Object # 2'!BM23","v":0},{"$f":"'24. Data Input Object # 2'!BN23","v":0},{"$f":"'24. Data Input Object # 2'!BO23","v":0},{"$f":"'24. Data Input Object # 2'!BP23","v":0},{"$f":"'24. Data Input Object # 2'!BQ23","v":0},{"$f":"'24. Data Input Object # 2'!BR23","v":0},{"$f":"'24. Data Input Object # 2'!BS23","v":0},{"$f":"'24. Data Input Object # 2'!BT23","v":0},{"$f":"'24. Data Input Object # 2'!BU23","v":0},{"$f":"'24. Data Input Object # 2'!BV23","v":0},{"$f":"'24. Data Input Object # 2'!BW23","v":0},{"$f":"'24. Data Input Object # 2'!BX23","v":0},{"$f":"'24. Data Input Object # 2'!BY23","v":0},{"$f":"'24. Data Input Object # 2'!BZ23","v":0},{"$f":"'24. Data Input Object # 2'!CA23","v":0}]
[{"$f":"'24. Data Input Object # 2'!A24","v":0},{"$f":"'24. Data Input Object # 2'!B24","v":0},{"$f":"'24. Data Input Object # 2'!C24","v":0},{"$f":"'24. Data Input Object # 2'!D24","v":0},{"$f":"'24. Data Input Object # 2'!E24","v":0},{"$f":"'24. Data Input Object # 2'!F24","v":0},{"$f":"'24. Data Input Object # 2'!G24","v":0},{"$f":"'24. Data Input Object # 2'!H24","v":0},{"$f":"'24. Data Input Object # 2'!I24","v":0},{"$f":"'24. Data Input Object # 2'!J24","v":0},{"$f":"'24. Data Input Object # 2'!K24","v":0},{"$f":"'24. Data Input Object # 2'!L24","v":0},{"$f":"'24. Data Input Object # 2'!M24","v":0},{"$f":"'24. Data Input Object # 2'!N24","v":0},{"$f":"'24. Data Input Object # 2'!O24","v":0},{"$f":"'24. Data Input Object # 2'!P24","v":0},{"$f":"'24. Data Input Object # 2'!Q24","v":0},{"$f":"'24. Data Input Object # 2'!R24","v":0},{"$f":"'24. Data Input Object # 2'!S24","v":0},{"$f":"'24. Data Input Object # 2'!T24","v":0},{"$f":"'24. Data Input Object # 2'!U24","v":0},{"$f":"'24. Data Input Object # 2'!V24","v":0},{"$f":"'24. Data Input Object # 2'!W24","v":0},{"$f":"'24. Data Input Object # 2'!X24","v":0},{"$f":"'24. Data Input Object # 2'!Y24","v":0},{"$f":"'24. Data Input Object # 2'!Z24","v":0},{"$f":"'24. Data Input Object # 2'!AA24","v":0},{"$f":"'24. Data Input Object # 2'!AB24","v":0},{"$f":"'24. Data Input Object # 2'!AC24","v":0},{"$f":"'24. Data Input Object # 2'!AD24","v":0},{"$f":"'24. Data Input Object # 2'!AE24","v":0},{"$f":"'24. Data Input Object # 2'!AF24","v":0},{"$f":"'24. Data Input Object # 2'!AG24","v":0},{"$f":"'24. Data Input Object # 2'!AH24","v":0},{"$f":"'24. Data Input Object # 2'!AI24","v":0},{"$f":"'24. Data Input Object # 2'!AJ24","v":0},{"$f":"'24. Data Input Object # 2'!AK24","v":0},{"$f":"'24. Data Input Object # 2'!AL24","v":0},{"$f":"'24. Data Input Object # 2'!AM24","v":0},{"$f":"'24. Data Input Object # 2'!AN24","v":0},{"$f":"'24. Data Input Object # 2'!AO24","v":0},{"$f":"'24. Data Input Object # 2'!AP24","v":0},{"$f":"'24. Data Input Object # 2'!AQ24","v":0},{"$f":"'24. Data Input Object # 2'!AR24","v":0},{"$f":"'24. Data Input Object # 2'!AS24","v":0},{"$f":"'24. Data Input Object # 2'!AT24","v":0},{"$f":"'24. Data Input Object # 2'!AU24","v":0},{"$f":"'24. Data Input Object # 2'!AV24","v":0},{"$f":"'24. Data Input Object # 2'!AW24","v":0},{"$f":"'24. Data Input Object # 2'!AX24","v":0},{"$f":"'24. Data Input Object # 2'!AY24","v":0},{"$f":"'24. Data Input Object # 2'!AZ24","v":0},{"$f":"'24. Data Input Object # 2'!BA24","v":0},{"$f":"'24. Data Input Object # 2'!BB24","v":0},{"$f":"'24. Data Input Object # 2'!BC24","v":0},{"$f":"'24. Data Input Object # 2'!BD24","v":0},{"$f":"'24. Data Input Object # 2'!BE24","v":0},{"$f":"'24. Data Input Object # 2'!BF24","v":0},{"$f":"'24. Data Input Object # 2'!BG24","v":0},{"$f":"'24. Data Input Object # 2'!BH24","v":0},{"$f":"'24. Data Input Object # 2'!BI24","v":0},{"$f":"'24. Data Input Object # 2'!BJ24","v":0},{"$f":"'24. Data Input Object # 2'!BK24","v":0},{"$f":"'24. Data Input Object # 2'!BL24","v":0},{"$f":"'24. Data Input Object # 2'!BM24","v":0},{"$f":"'24. Data Input Object # 2'!BN24","v":0},{"$f":"'24. Data Input Object # 2'!BO24","v":0},{"$f":"'24. Data Input Object # 2'!BP24","v":0},{"$f":"'24. Data Input Object # 2'!BQ24","v":0},{"$f":"'24. Data Input Object # 2'!BR24","v":0},{"$f":"'24. Data Input Object # 2'!BS24","v":0},{"$f":"'24. Data Input Object # 2'!BT24","v":0},{"$f":"'24. Data Input Object # 2'!BU24","v":0},{"$f":"'24. Data Input Object # 2'!BV24","v":0},{"$f":"'24. Data Input Object # 2'!BW24","v":0},{"$f":"'24. Data Input Object # 2'!BX24","v":0},{"$f":"'24. Data Input Object # 2'!BY24","v":0},{"$f":"'24. Data Input Object # 2'!BZ24","v":0},{"$f":"'24. Data Input Object # 2'!CA24","v":0}]
[{"$f":"'24. Data Input Object # 2'!A25","v":0},{"$f":"'24. Data Input Object # 2'!B25","v":0},{"$f":"'24. Data Input Object # 2'!C25","v":0},{"$f":"'24. Data Input Object # 2'!D25","v":0},{"$f":"'24. Data Input Object # 2'!E25","v":0},{"$f":"'24. Data Input Object # 2'!F25","v":0},{"$f":"'24. Data Input Object # 2'!G25","v":0},{"$f":"'24. Data Input Object # 2'!H25","v":0},{"$f":"'24. Data Input Object # 2'!I25","v":0},{"$f":"'24. Data Input Object # 2'!J25","v":0},{"$f":"'24. Data Input Object # 2'!K25","v":0},{"$f":"'24. Data Input Object # 2'!L25","v":0},{"$f":"'24. Data Input Object # 2'!M25","v":0},{"$f":"'24. Data Input Object # 2'!N25","v":0},{"$f":"'24. Data Input Object # 2'!O25","v":0},{"$f":"'24. Data Input Object # 2'!P25","v":0},{"$f":"'24. Data Input Object # 2'!Q25","v":0},{"$f":"'24. Data Input Object # 2'!R25","v":0},{"$f":"'24. Data Input Object # 2'!S25","v":0},{"$f":"'24. Data Input Object # 2'!T25","v":0},{"$f":"'24. Data Input Object # 2'!U25","v":0},{"$f":"'24. Data Input Object # 2'!V25","v":0},{"$f":"'24. Data Input Object # 2'!W25","v":0},{"$f":"'24. Data Input Object # 2'!X25","v":0},{"$f":"'24. Data Input Object # 2'!Y25","v":0},{"$f":"'24. Data Input Object # 2'!Z25","v":0},{"$f":"'24. Data Input Object # 2'!AA25","v":0},{"$f":"'24. Data Input Object # 2'!AB25","v":0},{"$f":"'24. Data Input Object # 2'!AC25","v":0},{"$f":"'24. Data Input Object # 2'!AD25","v":0},{"$f":"'24. Data Input Object # 2'!AE25","v":0},{"$f":"'24. Data Input Object # 2'!AF25","v":0},{"$f":"'24. Data Input Object # 2'!AG25","v":0},{"$f":"'24. Data Input Object # 2'!AH25","v":0},{"$f":"'24. Data Input Object # 2'!AI25","v":0},{"$f":"'24. Data Input Object # 2'!AJ25","v":0},{"$f":"'24. Data Input Object # 2'!AK25","v":0},{"$f":"'24. Data Input Object # 2'!AL25","v":0},{"$f":"'24. Data Input Object # 2'!AM25","v":0},{"$f":"'24. Data Input Object # 2'!AN25","v":0},{"$f":"'24. Data Input Object # 2'!AO25","v":0},{"$f":"'24. Data Input Object # 2'!AP25","v":0},{"$f":"'24. Data Input Object # 2'!AQ25","v":0},{"$f":"'24. Data Input Object # 2'!AR25","v":0},{"$f":"'24. Data Input Object # 2'!AS25","v":0},{"$f":"'24. Data Input Object # 2'!AT25","v":0},{"$f":"'24. Data Input Object # 2'!AU25","v":0},{"$f":"'24. Data Input Object # 2'!AV25","v":0},{"$f":"'24. Data Input Object # 2'!AW25","v":0},{"$f":"'24. Data Input Object # 2'!AX25","v":0},{"$f":"'24. Data Input Object # 2'!AY25","v":0},{"$f":"'24. Data Input Object # 2'!AZ25","v":0},{"$f":"'24. Data Input Object # 2'!BA25","v":0},{"$f":"'24. Data Input Object # 2'!BB25","v":0},{"$f":"'24. Data Input Object # 2'!BC25","v":0},{"$f":"'24. Data Input Object # 2'!BD25","v":0},{"$f":"'24. Data Input Object # 2'!BE25","v":0},{"$f":"'24. Data Input Object # 2'!BF25","v":0},{"$f":"'24. Data Input Object # 2'!BG25","v":0},{"$f":"'24. Data Input Object # 2'!BH25","v":0},{"$f":"'24. Data Input Object # 2'!BI25","v":0},{"$f":"'24. Data Input Object # 2'!BJ25","v":0},{"$f":"'24. Data Input Object # 2'!BK25","v":0},{"$f":"'24. Data Input Object # 2'!BL25","v":0},{"$f":"'24. Data Input Object # 2'!BM25","v":0},{"$f":"'24. Data Input Object # 2'!BN25","v":0},{"$f":"'24. Data Input Object # 2'!BO25","v":0},{"$f":"'24. Data Input Object # 2'!BP25","v":0},{"$f":"'24. Data Input Object # 2'!BQ25","v":0},{"$f":"'24. Data Input Object # 2'!BR25","v":0},{"$f":"'24. Data Input Object # 2'!BS25","v":0},{"$f":"'24. Data Input Object # 2'!BT25","v":0},{"$f":"'24. Data Input Object # 2'!BU25","v":0},{"$f":"'24. Data Input Object # 2'!BV25","v":0},{"$f":"'24. Data Input Object # 2'!BW25","v":0},{"$f":"'24. Data Input Object # 2'!BX25","v":0},{"$f":"'24. Data Input Object # 2'!BY25","v":0},{"$f":"'24. Data Input Object # 2'!BZ25","v":0},{"$f":"'24. Data Input Object # 2'!CA25","v":0}]
[{"$f":"'24. Data Input Object # 2'!A26","v":0},{"$f":"'24. Data Input Object # 2'!B26","v":0},{"$f":"'24. Data Input Object # 2'!C26","v":0},{"$f":"'24. Data Input Object # 2'!D26","v":0},{"$f":"'24. Data Input Object # 2'!E26","v":0},{"$f":"'24. Data Input Object # 2'!F26","v":0},{"$f":"'24. Data Input Object # 2'!G26","v":0},{"$f":"'24. Data Input Object # 2'!H26","v":0},{"$f":"'24. Data Input Object # 2'!I26","v":0},{"$f":"'24. Data Input Object # 2'!J26","v":0},{"$f":"'24. Data Input Object # 2'!K26","v":0},{"$f":"'24. Data Input Object # 2'!L26","v":0},{"$f":"'24. Data Input Object # 2'!M26","v":0},{"$f":"'24. Data Input Object # 2'!N26","v":0},{"$f":"'24. Data Input Object # 2'!O26","v":0},{"$f":"'24. Data Input Object # 2'!P26","v":0},{"$f":"'24. Data Input Object # 2'!Q26","v":0},{"$f":"'24. Data Input Object # 2'!R26","v":0},{"$f":"'24. Data Input Object # 2'!S26","v":0},{"$f":"'24. Data Input Object # 2'!T26","v":0},{"$f":"'24. Data Input Object # 2'!U26","v":0},{"$f":"'24. Data Input Object # 2'!V26","v":0},{"$f":"'24. Data Input Object # 2'!W26","v":0},{"$f":"'24. Data Input Object # 2'!X26","v":0},{"$f":"'24. Data Input Object # 2'!Y26","v":0},{"$f":"'24. Data Input Object # 2'!Z26","v":0},{"$f":"'24. Data Input Object # 2'!AA26","v":0},{"$f":"'24. Data Input Object # 2'!AB26","v":0},{"$f":"'24. Data Input Object # 2'!AC26","v":0},{"$f":"'24. Data Input Object # 2'!AD26","v":0},{"$f":"'24. Data Input Object # 2'!AE26","v":0},{"$f":"'24. Data Input Object # 2'!AF26","v":0},{"$f":"'24. Data Input Object # 2'!AG26","v":0},{"$f":"'24. Data Input Object # 2'!AH26","v":0},{"$f":"'24. Data Input Object # 2'!AI26","v":0},{"$f":"'24. Data Input Object # 2'!AJ26","v":0},{"$f":"'24. Data Input Object # 2'!AK26","v":0},{"$f":"'24. Data Input Object # 2'!AL26","v":0},{"$f":"'24. Data Input Object # 2'!AM26","v":0},{"$f":"'24. Data Input Object # 2'!AN26","v":0},{"$f":"'24. Data Input Object # 2'!AO26","v":0},{"$f":"'24. Data Input Object # 2'!AP26","v":0},{"$f":"'24. Data Input Object # 2'!AQ26","v":0},{"$f":"'24. Data Input Object # 2'!AR26","v":0},{"$f":"'24. Data Input Object # 2'!AS26","v":0},{"$f":"'24. Data Input Object # 2'!AT26","v":0},{"$f":"'24. Data Input Object # 2'!AU26","v":0},{"$f":"'24. Data Input Object # 2'!AV26","v":0},{"$f":"'24. Data Input Object # 2'!AW26","v":0},{"$f":"'24. Data Input Object # 2'!AX26","v":0},{"$f":"'24. Data Input Object # 2'!AY26","v":0},{"$f":"'24. Data Input Object # 2'!AZ26","v":0},{"$f":"'24. Data Input Object # 2'!BA26","v":0},{"$f":"'24. Data Input Object # 2'!BB26","v":0},{"$f":"'24. Data Input Object # 2'!BC26","v":0},{"$f":"'24. Data Input Object # 2'!BD26","v":0},{"$f":"'24. Data Input Object # 2'!BE26","v":0},{"$f":"'24. Data Input Object # 2'!BF26","v":0},{"$f":"'24. Data Input Object # 2'!BG26","v":0},{"$f":"'24. Data Input Object # 2'!BH26","v":0},{"$f":"'24. Data Input Object # 2'!BI26","v":0},{"$f":"'24. Data Input Object # 2'!BJ26","v":0},{"$f":"'24. Data Input Object # 2'!BK26","v":0},{"$f":"'24. Data Input Object # 2'!BL26","v":0},{"$f":"'24. Data Input Object # 2'!BM26","v":0},{"$f":"'24. Data Input Object # 2'!BN26","v":0},{"$f":"'24. Data Input Object # 2'!BO26","v":0},{"$f":"'24. Data Input Object # 2'!BP26","v":0},{"$f":"'24. Data Input Object # 2'!BQ26","v":0},{"$f":"'24. Data Input Object # 2'!BR26","v":0},{"$f":"'24. Data Input Object # 2'!BS26","v":0},{"$f":"'24. Data Input Object # 2'!BT26","v":0},{"$f":"'24. Data Input Object # 2'!BU26","v":0},{"$f":"'24. Data Input Object # 2'!BV26","v":0},{"$f":"'24. Data Input Object # 2'!BW26","v":0},{"$f":"'24. Data Input Object # 2'!BX26","v":0},{"$f":"'24. Data Input Object # 2'!BY26","v":0},{"$f":"'24. Data Input Object # 2'!BZ26","v":0},{"$f":"'24. Data Input Object # 2'!CA26","v":0}]
[{"$f":"'24. Data Input Object # 2'!A27","v":0},{"$f":"'24. Data Input Object # 2'!B27","v":0},{"$f":"'24. Data Input Object # 2'!C27","v":0},{"$f":"'24. Data Input Object # 2'!D27","v":0},{"$f":"'24. Data Input Object # 2'!E27","v":0},{"$f":"'24. Data Input Object # 2'!F27","v":0},{"$f":"'24. Data Input Object # 2'!G27","v":0},{"$f":"'24. Data Input Object # 2'!H27","v":0},{"$f":"'24. Data Input Object # 2'!I27","v":0},{"$f":"'24. Data Input Object # 2'!J27","v":0},{"$f":"'24. Data Input Object # 2'!K27","v":0},{"$f":"'24. Data Input Object # 2'!L27","v":0},{"$f":"'24. Data Input Object # 2'!M27","v":0},{"$f":"'24. Data Input Object # 2'!N27","v":0},{"$f":"'24. Data Input Object # 2'!O27","v":0},{"$f":"'24. Data Input Object # 2'!P27","v":0},{"$f":"'24. Data Input Object # 2'!Q27","v":0},{"$f":"'24. Data Input Object # 2'!R27","v":0},{"$f":"'24. Data Input Object # 2'!S27","v":0},{"$f":"'24. Data Input Object # 2'!T27","v":0},{"$f":"'24. Data Input Object # 2'!U27","v":0},{"$f":"'24. Data Input Object # 2'!V27","v":0},{"$f":"'24. Data Input Object # 2'!W27","v":0},{"$f":"'24. Data Input Object # 2'!X27","v":0},{"$f":"'24. Data Input Object # 2'!Y27","v":0},{"$f":"'24. Data Input Object # 2'!Z27","v":0},{"$f":"'24. Data Input Object # 2'!AA27","v":0},{"$f":"'24. Data Input Object # 2'!AB27","v":0},{"$f":"'24. Data Input Object # 2'!AC27","v":0},{"$f":"'24. Data Input Object # 2'!AD27","v":0},{"$f":"'24. Data Input Object # 2'!AE27","v":0},{"$f":"'24. Data Input Object # 2'!AF27","v":0},{"$f":"'24. Data Input Object # 2'!AG27","v":0},{"$f":"'24. Data Input Object # 2'!AH27","v":0},{"$f":"'24. Data Input Object # 2'!AI27","v":0},{"$f":"'24. Data Input Object # 2'!AJ27","v":0},{"$f":"'24. Data Input Object # 2'!AK27","v":0},{"$f":"'24. Data Input Object # 2'!AL27","v":0},{"$f":"'24. Data Input Object # 2'!AM27","v":0},{"$f":"'24. Data Input Object # 2'!AN27","v":0},{"$f":"'24. Data Input Object # 2'!AO27","v":0},{"$f":"'24. Data Input Object # 2'!AP27","v":0},{"$f":"'24. Data Input Object # 2'!AQ27","v":0},{"$f":"'24. Data Input Object # 2'!AR27","v":0},{"$f":"'24. Data Input Object # 2'!AS27","v":0},{"$f":"'24. Data Input Object # 2'!AT27","v":0},{"$f":"'24. Data Input Object # 2'!AU27","v":0},{"$f":"'24. Data Input Object # 2'!AV27","v":0},{"$f":"'24. Data Input Object # 2'!AW27","v":0},{"$f":"'24. Data Input Object # 2'!AX27","v":0},{"$f":"'24. Data Input Object # 2'!AY27","v":0},{"$f":"'24. Data Input Object # 2'!AZ27","v":0},{"$f":"'24. Data Input Object # 2'!BA27","v":0},{"$f":"'24. Data Input Object # 2'!BB27","v":0},{"$f":"'24. Data Input Object # 2'!BC27","v":0},{"$f":"'24. Data Input Object # 2'!BD27","v":0},{"$f":"'24. Data Input Object # 2'!BE27","v":0},{"$f":"'24. Data Input Object # 2'!BF27","v":0},{"$f":"'24. Data Input Object # 2'!BG27","v":0},{"$f":"'24. Data Input Object # 2'!BH27","v":0},{"$f":"'24. Data Input Object # 2'!BI27","v":0},{"$f":"'24. Data Input Object # 2'!BJ27","v":0},{"$f":"'24. Data Input Object # 2'!BK27","v":0},{"$f":"'24. Data Input Object # 2'!BL27","v":0},{"$f":"'24. Data Input Object # 2'!BM27","v":0},{"$f":"'24. Data Input Object # 2'!BN27","v":0},{"$f":"'24. Data Input Object # 2'!BO27","v":0},{"$f":"'24. Data Input Object # 2'!BP27","v":0},{"$f":"'24. Data Input Object # 2'!BQ27","v":0},{"$f":"'24. Data Input Object # 2'!BR27","v":0},{"$f":"'24. Data Input Object # 2'!BS27","v":0},{"$f":"'24. Data Input Object # 2'!BT27","v":0},{"$f":"'24. Data Input Object # 2'!BU27","v":0},{"$f":"'24. Data Input Object # 2'!BV27","v":0},{"$f":"'24. Data Input Object # 2'!BW27","v":0},{"$f":"'24. Data Input Object # 2'!BX27","v":0},{"$f":"'24. Data Input Object # 2'!BY27","v":0},{"$f":"'24. Data Input Object # 2'!BZ27","v":0},{"$f":"'24. Data Input Object # 2'!CA27","v":0}]
[{"$f":"'24. Data Input Object # 2'!A28","v":0},{"$f":"'24. Data Input Object # 2'!B28","v":0},{"$f":"'24. Data Input Object # 2'!C28","v":0},{"$f":"'24. Data Input Object # 2'!D28","v":0},{"$f":"'24. Data Input Object # 2'!E28","v":0},{"$f":"'24. Data Input Object # 2'!F28","v":0},{"$f":"'24. Data Input Object # 2'!G28","v":0},{"$f":"'24. Data Input Object # 2'!H28","v":0},{"$f":"'24. Data Input Object # 2'!I28","v":0},{"$f":"'24. Data Input Object # 2'!J28","v":0},{"$f":"'24. Data Input Object # 2'!K28","v":0},{"$f":"'24. Data Input Object # 2'!L28","v":0},{"$f":"'24. Data Input Object # 2'!M28","v":0},{"$f":"'24. Data Input Object # 2'!N28","v":0},{"$f":"'24. Data Input Object # 2'!O28","v":0},{"$f":"'24. Data Input Object # 2'!P28","v":0},{"$f":"'24. Data Input Object # 2'!Q28","v":0},{"$f":"'24. Data Input Object # 2'!R28","v":0},{"$f":"'24. Data Input Object # 2'!S28","v":0},{"$f":"'24. Data Input Object # 2'!T28","v":0},{"$f":"'24. Data Input Object # 2'!U28","v":0},{"$f":"'24. Data Input Object # 2'!V28","v":0},{"$f":"'24. Data Input Object # 2'!W28","v":0},{"$f":"'24. Data Input Object # 2'!X28","v":0},{"$f":"'24. Data Input Object # 2'!Y28","v":0},{"$f":"'24. Data Input Object # 2'!Z28","v":0},{"$f":"'24. Data Input Object # 2'!AA28","v":0},{"$f":"'24. Data Input Object # 2'!AB28","v":0},{"$f":"'24. Data Input Object # 2'!AC28","v":0},{"$f":"'24. Data Input Object # 2'!AD28","v":0},{"$f":"'24. Data Input Object # 2'!AE28","v":0},{"$f":"'24. Data Input Object # 2'!AF28","v":0},{"$f":"'24. Data Input Object # 2'!AG28","v":0},{"$f":"'24. Data Input Object # 2'!AH28","v":0},{"$f":"'24. Data Input Object # 2'!AI28","v":0},{"$f":"'24. Data Input Object # 2'!AJ28","v":0},{"$f":"'24. Data Input Object # 2'!AK28","v":0},{"$f":"'24. Data Input Object # 2'!AL28","v":0},{"$f":"'24. Data Input Object # 2'!AM28","v":0},{"$f":"'24. Data Input Object # 2'!AN28","v":0},{"$f":"'24. Data Input Object # 2'!AO28","v":0},{"$f":"'24. Data Input Object # 2'!AP28","v":0},{"$f":"'24. Data Input Object # 2'!AQ28","v":0},{"$f":"'24. Data Input Object # 2'!AR28","v":0},{"$f":"'24. Data Input Object # 2'!AS28","v":0},{"$f":"'24. Data Input Object # 2'!AT28","v":0},{"$f":"'24. Data Input Object # 2'!AU28","v":0},{"$f":"'24. Data Input Object # 2'!AV28","v":0},{"$f":"'24. Data Input Object # 2'!AW28","v":0},{"$f":"'24. Data Input Object # 2'!AX28","v":0},{"$f":"'24. Data Input Object # 2'!AY28","v":0},{"$f":"'24. Data Input Object # 2'!AZ28","v":0},{"$f":"'24. Data Input Object # 2'!BA28","v":0},{"$f":"'24. Data Input Object # 2'!BB28","v":0},{"$f":"'24. Data Input Object # 2'!BC28","v":0},{"$f":"'24. Data Input Object # 2'!BD28","v":0},{"$f":"'24. Data Input Object # 2'!BE28","v":0},{"$f":"'24. Data Input Object # 2'!BF28","v":0},{"$f":"'24. Data Input Object # 2'!BG28","v":0},{"$f":"'24. Data Input Object # 2'!BH28","v":0},{"$f":"'24. Data Input Object # 2'!BI28","v":0},{"$f":"'24. Data Input Object # 2'!BJ28","v":0},{"$f":"'24. Data Input Object # 2'!BK28","v":0},{"$f":"'24. Data Input Object # 2'!BL28","v":0},{"$f":"'24. Data Input Object # 2'!BM28","v":0},{"$f":"'24. Data Input Object # 2'!BN28","v":0},{"$f":"'24. Data Input Object # 2'!BO28","v":0},{"$f":"'24. Data Input Object # 2'!BP28","v":0},{"$f":"'24. Data Input Object # 2'!BQ28","v":0},{"$f":"'24. Data Input Object # 2'!BR28","v":0},{"$f":"'24. Data Input Object # 2'!BS28","v":0},{"$f":"'24. Data Input Object # 2'!BT28","v":0},{"$f":"'24. Data Input Object # 2'!BU28","v":0},{"$f":"'24. Data Input Object # 2'!BV28","v":0},{"$f":"'24. Data Input Object # 2'!BW28","v":0},{"$f":"'24. Data Input Object # 2'!BX28","v":0},{"$f":"'24. Data Input Object # 2'!BY28","v":0},{"$f":"'24. Data Input Object # 2'!BZ28","v":0},{"$f":"'24. Data Input Object # 2'!CA28","v":0}]
[{"$f":"'24. Data Input Object # 2'!A29","v":0},{"$f":"'24. Data Input Object # 2'!B29","v":0},{"$f":"'24. Data Input Object # 2'!C29","v":0},{"$f":"'24. Data Input Object # 2'!D29","v":0},{"$f":"'24. Data Input Object # 2'!E29","v":0},{"$f":"'24. Data Input Object # 2'!F29","v":0},{"$f":"'24. Data Input Object # 2'!G29","v":0},{"$f":"'24. Data Input Object # 2'!H29","v":0},{"$f":"'24. Data Input Object # 2'!I29","v":0},{"$f":"'24. Data Input Object # 2'!J29","v":0},{"$f":"'24. Data Input Object # 2'!K29","v":0},{"$f":"'24. Data Input Object # 2'!L29","v":0},{"$f":"'24. Data Input Object # 2'!M29","v":0},{"$f":"'24. Data Input Object # 2'!N29","v":0},{"$f":"'24. Data Input Object # 2'!O29","v":0},{"$f":"'24. Data Input Object # 2'!P29","v":0},{"$f":"'24. Data Input Object # 2'!Q29","v":0},{"$f":"'24. Data Input Object # 2'!R29","v":0},{"$f":"'24. Data Input Object # 2'!S29","v":0},{"$f":"'24. Data Input Object # 2'!T29","v":0},{"$f":"'24. Data Input Object # 2'!U29","v":0},{"$f":"'24. Data Input Object # 2'!V29","v":0},{"$f":"'24. Data Input Object # 2'!W29","v":0},{"$f":"'24. Data Input Object # 2'!X29","v":0},{"$f":"'24. Data Input Object # 2'!Y29","v":0},{"$f":"'24. Data Input Object # 2'!Z29","v":0},{"$f":"'24. Data Input Object # 2'!AA29","v":0},{"$f":"'24. Data Input Object # 2'!AB29","v":0},{"$f":"'24. Data Input Object # 2'!AC29","v":0},{"$f":"'24. Data Input Object # 2'!AD29","v":0},{"$f":"'24. Data Input Object # 2'!AE29","v":0},{"$f":"'24. Data Input Object # 2'!AF29","v":0},{"$f":"'24. Data Input Object # 2'!AG29","v":0},{"$f":"'24. Data Input Object # 2'!AH29","v":0},{"$f":"'24. Data Input Object # 2'!AI29","v":0},{"$f":"'24. Data Input Object # 2'!AJ29","v":0},{"$f":"'24. Data Input Object # 2'!AK29","v":0},{"$f":"'24. Data Input Object # 2'!AL29","v":0},{"$f":"'24. Data Input Object # 2'!AM29","v":0},{"$f":"'24. Data Input Object # 2'!AN29","v":0},{"$f":"'24. Data Input Object # 2'!AO29","v":0},{"$f":"'24. Data Input Object # 2'!AP29","v":0},{"$f":"'24. Data Input Object # 2'!AQ29","v":0},{"$f":"'24. Data Input Object # 2'!AR29","v":0},{"$f":"'24. Data Input Object # 2'!AS29","v":0},{"$f":"'24. Data Input Object # 2'!AT29","v":0},{"$f":"'24. Data Input Object # 2'!AU29","v":0},{"$f":"'24. Data Input Object # 2'!AV29","v":0},{"$f":"'24. Data Input Object # 2'!AW29","v":0},{"$f":"'24. Data Input Object # 2'!AX29","v":0},{"$f":"'24. Data Input Object # 2'!AY29","v":0},{"$f":"'24. Data Input Object # 2'!AZ29","v":0},{"$f":"'24. Data Input Object # 2'!BA29","v":0},{"$f":"'24. Data Input Object # 2'!BB29","v":0},{"$f":"'24. Data Input Object # 2'!BC29","v":0},{"$f":"'24. Data Input Object # 2'!BD29","v":0},{"$f":"'24. Data Input Object # 2'!BE29","v":0},{"$f":"'24. Data Input Object # 2'!BF29","v":0},{"$f":"'24. Data Input Object # 2'!BG29","v":0},{"$f":"'24. Data Input Object # 2'!BH29","v":0},{"$f":"'24. Data Input Object # 2'!BI29","v":0},{"$f":"'24. Data Input Object # 2'!BJ29","v":0},{"$f":"'24. Data Input Object # 2'!BK29","v":0},{"$f":"'24. Data Input Object # 2'!BL29","v":0},{"$f":"'24. Data Input Object # 2'!BM29","v":0},{"$f":"'24. Data Input Object # 2'!BN29","v":0},{"$f":"'24. Data Input Object # 2'!BO29","v":0},{"$f":"'24. Data Input Object # 2'!BP29","v":0},{"$f":"'24. Data Input Object # 2'!BQ29","v":0},{"$f":"'24. Data Input Object # 2'!BR29","v":0},{"$f":"'24. Data Input Object # 2'!BS29","v":0},{"$f":"'24. Data Input Object # 2'!BT29","v":0},{"$f":"'24. Data Input Object # 2'!BU29","v":0},{"$f":"'24. Data Input Object # 2'!BV29","v":0},{"$f":"'24. Data Input Object # 2'!BW29","v":0},{"$f":"'24. Data Input Object # 2'!BX29","v":0},{"$f":"'24. Data Input Object # 2'!BY29","v":0},{"$f":"'24. Data Input Object # 2'!BZ29","v":0},{"$f":"'24. Data Input Object # 2'!CA29","v":0}]
[{"$f":"'24. Data Input Object # 2'!A30","v":0},{"$f":"'24. Data Input Object # 2'!B30","v":0},{"$f":"'24. Data Input Object # 2'!C30","v":0},{"$f":"'24. Data Input Object # 2'!D30","v":0},{"$f":"'24. Data Input Object # 2'!E30","v":0},{"$f":"'24. Data Input Object # 2'!F30","v":0},{"$f":"'24. Data Input Object # 2'!G30","v":0},{"$f":"'24. Data Input Object # 2'!H30","v":0},{"$f":"'24. Data Input Object # 2'!I30","v":0},{"$f":"'24. Data Input Object # 2'!J30","v":0},{"$f":"'24. Data Input Object # 2'!K30","v":0},{"$f":"'24. Data Input Object # 2'!L30","v":0},{"$f":"'24. Data Input Object # 2'!M30","v":0},{"$f":"'24. Data Input Object # 2'!N30","v":0},{"$f":"'24. Data Input Object # 2'!O30","v":0},{"$f":"'24. Data Input Object # 2'!P30","v":0},{"$f":"'24. Data Input Object # 2'!Q30","v":0},{"$f":"'24. Data Input Object # 2'!R30","v":0},{"$f":"'24. Data Input Object # 2'!S30","v":0},{"$f":"'24. Data Input Object # 2'!T30","v":0},{"$f":"'24. Data Input Object # 2'!U30","v":0},{"$f":"'24. Data Input Object # 2'!V30","v":0},{"$f":"'24. Data Input Object # 2'!W30","v":0},{"$f":"'24. Data Input Object # 2'!X30","v":0},{"$f":"'24. Data Input Object # 2'!Y30","v":0},{"$f":"'24. Data Input Object # 2'!Z30","v":0},{"$f":"'24. Data Input Object # 2'!AA30","v":0},{"$f":"'24. Data Input Object # 2'!AB30","v":0},{"$f":"'24. Data Input Object # 2'!AC30","v":0},{"$f":"'24. Data Input Object # 2'!AD30","v":0},{"$f":"'24. Data Input Object # 2'!AE30","v":0},{"$f":"'24. Data Input Object # 2'!AF30","v":0},{"$f":"'24. Data Input Object # 2'!AG30","v":0},{"$f":"'24. Data Input Object # 2'!AH30","v":0},{"$f":"'24. Data Input Object # 2'!AI30","v":0},{"$f":"'24. Data Input Object # 2'!AJ30","v":0},{"$f":"'24. Data Input Object # 2'!AK30","v":0},{"$f":"'24. Data Input Object # 2'!AL30","v":0},{"$f":"'24. Data Input Object # 2'!AM30","v":0},{"$f":"'24. Data Input Object # 2'!AN30","v":0},{"$f":"'24. Data Input Object # 2'!AO30","v":0},{"$f":"'24. Data Input Object # 2'!AP30","v":0},{"$f":"'24. Data Input Object # 2'!AQ30","v":0},{"$f":"'24. Data Input Object # 2'!AR30","v":0},{"$f":"'24. Data Input Object # 2'!AS30","v":0},{"$f":"'24. Data Input Object # 2'!AT30","v":0},{"$f":"'24. Data Input Object # 2'!AU30","v":0},{"$f":"'24. Data Input Object # 2'!AV30","v":0},{"$f":"'24. Data Input Object # 2'!AW30","v":0},{"$f":"'24. Data Input Object # 2'!AX30","v":0},{"$f":"'24. Data Input Object # 2'!AY30","v":0},{"$f":"'24. Data Input Object # 2'!AZ30","v":0},{"$f":"'24. Data Input Object # 2'!BA30","v":0},{"$f":"'24. Data Input Object # 2'!BB30","v":0},{"$f":"'24. Data Input Object # 2'!BC30","v":0},{"$f":"'24. Data Input Object # 2'!BD30","v":0},{"$f":"'24. Data Input Object # 2'!BE30","v":0},{"$f":"'24. Data Input Object # 2'!BF30","v":0},{"$f":"'24. Data Input Object # 2'!BG30","v":0},{"$f":"'24. Data Input Object # 2'!BH30","v":0},{"$f":"'24. Data Input Object # 2'!BI30","v":0},{"$f":"'24. Data Input Object # 2'!BJ30","v":0},{"$f":"'24. Data Input Object # 2'!BK30","v":0},{"$f":"'24. Data Input Object # 2'!BL30","v":0},{"$f":"'24. Data Input Object # 2'!BM30","v":0},{"$f":"'24. Data Input Object # 2'!BN30","v":0},{"$f":"'24. Data Input Object # 2'!BO30","v":0},{"$f":"'24. Data Input Object # 2'!BP30","v":0},{"$f":"'24. Data Input Object # 2'!BQ30","v":0},{"$f":"'24. Data Input Object # 2'!BR30","v":0},{"$f":"'24. Data Input Object # 2'!BS30","v":0},{"$f":"'24. Data Input Object # 2'!BT30","v":0},{"$f":"'24. Data Input Object # 2'!BU30","v":0},{"$f":"'24. Data Input Object # 2'!BV30","v":0},{"$f":"'24. Data Input Object # 2'!BW30","v":0},{"$f":"'24. Data Input Object # 2'!BX30","v":0},{"$f":"'24. Data Input Object # 2'!BY30","v":0},{"$f":"'24. Data Input Object # 2'!BZ30","v":0},{"$f":"'24. Data Input Object # 2'!CA30","v":0}]
[{"$f":"'24. Data Input Object # 2'!A31","v":0},{"$f":"'24. Data Input Object # 2'!B31","v":0},{"$f":"'24. Data Input Object # 2'!C31","v":0},{"$f":"'24. Data Input Object # 2'!D31","v":0},{"$f":"'24. Data Input Object # 2'!E31","v":0},{"$f":"'24. Data Input Object # 2'!F31","v":0},{"$f":"'24. Data Input Object # 2'!G31","v":0},{"$f":"'24. Data Input Object # 2'!H31","v":0},{"$f":"'24. Data Input Object # 2'!I31","v":0},{"$f":"'24. Data Input Object # 2'!J31","v":0},{"$f":"'24. Data Input Object # 2'!K31","v":0},{"$f":"'24. Data Input Object # 2'!L31","v":0},{"$f":"'24. Data Input Object # 2'!M31","v":0},{"$f":"'24. Data Input Object # 2'!N31","v":0},{"$f":"'24. Data Input Object # 2'!O31","v":0},{"$f":"'24. Data Input Object # 2'!P31","v":0},{"$f":"'24. Data Input Object # 2'!Q31","v":0},{"$f":"'24. Data Input Object # 2'!R31","v":0},{"$f":"'24. Data Input Object # 2'!S31","v":0},{"$f":"'24. Data Input Object # 2'!T31","v":0},{"$f":"'24. Data Input Object # 2'!U31","v":0},{"$f":"'24. Data Input Object # 2'!V31","v":0},{"$f":"'24. Data Input Object # 2'!W31","v":0},{"$f":"'24. Data Input Object # 2'!X31","v":0},{"$f":"'24. Data Input Object # 2'!Y31","v":0},{"$f":"'24. Data Input Object # 2'!Z31","v":0},{"$f":"'24. Data Input Object # 2'!AA31","v":0},{"$f":"'24. Data Input Object # 2'!AB31","v":0},{"$f":"'24. Data Input Object # 2'!AC31","v":0},{"$f":"'24. Data Input Object # 2'!AD31","v":0},{"$f":"'24. Data Input Object # 2'!AE31","v":0},{"$f":"'24. Data Input Object # 2'!AF31","v":0},{"$f":"'24. Data Input Object # 2'!AG31","v":0},{"$f":"'24. Data Input Object # 2'!AH31","v":0},{"$f":"'24. Data Input Object # 2'!AI31","v":0},{"$f":"'24. Data Input Object # 2'!AJ31","v":0},{"$f":"'24. Data Input Object # 2'!AK31","v":0},{"$f":"'24. Data Input Object # 2'!AL31","v":0},{"$f":"'24. Data Input Object # 2'!AM31","v":0},{"$f":"'24. Data Input Object # 2'!AN31","v":0},{"$f":"'24. Data Input Object # 2'!AO31","v":0},{"$f":"'24. Data Input Object # 2'!AP31","v":0},{"$f":"'24. Data Input Object # 2'!AQ31","v":0},{"$f":"'24. Data Input Object # 2'!AR31","v":0},{"$f":"'24. Data Input Object # 2'!AS31","v":0},{"$f":"'24. Data Input Object # 2'!AT31","v":0},{"$f":"'24. Data Input Object # 2'!AU31","v":0},{"$f":"'24. Data Input Object # 2'!AV31","v":0},{"$f":"'24. Data Input Object # 2'!AW31","v":0},{"$f":"'24. Data Input Object # 2'!AX31","v":0},{"$f":"'24. Data Input Object # 2'!AY31","v":0},{"$f":"'24. Data Input Object # 2'!AZ31","v":0},{"$f":"'24. Data Input Object # 2'!BA31","v":0},{"$f":"'24. Data Input Object # 2'!BB31","v":0},{"$f":"'24. Data Input Object # 2'!BC31","v":0},{"$f":"'24. Data Input Object # 2'!BD31","v":0},{"$f":"'24. Data Input Object # 2'!BE31","v":0},{"$f":"'24. Data Input Object # 2'!BF31","v":0},{"$f":"'24. Data Input Object # 2'!BG31","v":0},{"$f":"'24. Data Input Object # 2'!BH31","v":0},{"$f":"'24. Data Input Object # 2'!BI31","v":0},{"$f":"'24. Data Input Object # 2'!BJ31","v":0},{"$f":"'24. Data Input Object # 2'!BK31","v":0},{"$f":"'24. Data Input Object # 2'!BL31","v":0},{"$f":"'24. Data Input Object # 2'!BM31","v":0},{"$f":"'24. Data Input Object # 2'!BN31","v":0},{"$f":"'24. Data Input Object # 2'!BO31","v":0},{"$f":"'24. Data Input Object # 2'!BP31","v":0},{"$f":"'24. Data Input Object # 2'!BQ31","v":0},{"$f":"'24. Data Input Object # 2'!BR31","v":0},{"$f":"'24. Data Input Object # 2'!BS31","v":0},{"$f":"'24. Data Input Object # 2'!BT31","v":0},{"$f":"'24. Data Input Object # 2'!BU31","v":0},{"$f":"'24. Data Input Object # 2'!BV31","v":0},{"$f":"'24. Data Input Object # 2'!BW31","v":0},{"$f":"'24. Data Input Object # 2'!BX31","v":0},{"$f":"'24. Data Input Object # 2'!BY31","v":0},{"$f":"'24. Data Input Object # 2'!BZ31","v":0},{"$f":"'24. Data Input Object # 2'!CA31","v":0}]
[{"$f":"'24. Data Input Object # 2'!A32","v":0},{"$f":"'24. Data Input Object # 2'!B32","v":0},{"$f":"'24. Data Input Object # 2'!C32","v":0},{"$f":"'24. Data Input Object # 2'!D32","v":0},{"$f":"'24. Data Input Object # 2'!E32","v":0},{"$f":"'24. Data Input Object # 2'!F32","v":0},{"$f":"'24. Data Input Object # 2'!G32","v":0},{"$f":"'24. Data Input Object # 2'!H32","v":0},{"$f":"'24. Data Input Object # 2'!I32","v":0},{"$f":"'24. Data Input Object # 2'!J32","v":0},{"$f":"'24. Data Input Object # 2'!K32","v":0},{"$f":"'24. Data Input Object # 2'!L32","v":0},{"$f":"'24. Data Input Object # 2'!M32","v":0},{"$f":"'24. Data Input Object # 2'!N32","v":0},{"$f":"'24. Data Input Object # 2'!O32","v":0},{"$f":"'24. Data Input Object # 2'!P32","v":0},{"$f":"'24. Data Input Object # 2'!Q32","v":0},{"$f":"'24. Data Input Object # 2'!R32","v":0},{"$f":"'24. Data Input Object # 2'!S32","v":0},{"$f":"'24. Data Input Object # 2'!T32","v":0},{"$f":"'24. Data Input Object # 2'!U32","v":0},{"$f":"'24. Data Input Object # 2'!V32","v":0},{"$f":"'24. Data Input Object # 2'!W32","v":0},{"$f":"'24. Data Input Object # 2'!X32","v":0},{"$f":"'24. Data Input Object # 2'!Y32","v":0},{"$f":"'24. Data Input Object # 2'!Z32","v":0},{"$f":"'24. Data Input Object # 2'!AA32","v":0},{"$f":"'24. Data Input Object # 2'!AB32","v":0},{"$f":"'24. Data Input Object # 2'!AC32","v":0},{"$f":"'24. Data Input Object # 2'!AD32","v":0},{"$f":"'24. Data Input Object # 2'!AE32","v":0},{"$f":"'24. Data Input Object # 2'!AF32","v":0},{"$f":"'24. Data Input Object # 2'!AG32","v":0},{"$f":"'24. Data Input Object # 2'!AH32","v":0},{"$f":"'24. Data Input Object # 2'!AI32","v":0},{"$f":"'24. Data Input Object # 2'!AJ32","v":0},{"$f":"'24. Data Input Object # 2'!AK32","v":0},{"$f":"'24. Data Input Object # 2'!AL32","v":0},{"$f":"'24. Data Input Object # 2'!AM32","v":0},{"$f":"'24. Data Input Object # 2'!AN32","v":0},{"$f":"'24. Data Input Object # 2'!AO32","v":0},{"$f":"'24. Data Input Object # 2'!AP32","v":0},{"$f":"'24. Data Input Object # 2'!AQ32","v":0},{"$f":"'24. Data Input Object # 2'!AR32","v":0},{"$f":"'24. Data Input Object # 2'!AS32","v":0},{"$f":"'24. Data Input Object # 2'!AT32","v":0},{"$f":"'24. Data Input Object # 2'!AU32","v":0},{"$f":"'24. Data Input Object # 2'!AV32","v":0},{"$f":"'24. Data Input Object # 2'!AW32","v":0},{"$f":"'24. Data Input Object # 2'!AX32","v":0},{"$f":"'24. Data Input Object # 2'!AY32","v":0},{"$f":"'24. Data Input Object # 2'!AZ32","v":0},{"$f":"'24. Data Input Object # 2'!BA32","v":0},{"$f":"'24. Data Input Object # 2'!BB32","v":0},{"$f":"'24. Data Input Object # 2'!BC32","v":0},{"$f":"'24. Data Input Object # 2'!BD32","v":0},{"$f":"'24. Data Input Object # 2'!BE32","v":0},{"$f":"'24. Data Input Object # 2'!BF32","v":0},{"$f":"'24. Data Input Object # 2'!BG32","v":0},{"$f":"'24. Data Input Object # 2'!BH32","v":0},{"$f":"'24. Data Input Object # 2'!BI32","v":0},{"$f":"'24. Data Input Object # 2'!BJ32","v":0},{"$f":"'24. Data Input Object # 2'!BK32","v":0},{"$f":"'24. Data Input Object # 2'!BL32","v":0},{"$f":"'24. Data Input Object # 2'!BM32","v":0},{"$f":"'24. Data Input Object # 2'!BN32","v":0},{"$f":"'24. Data Input Object # 2'!BO32","v":0},{"$f":"'24. Data Input Object # 2'!BP32","v":0},{"$f":"'24. Data Input Object # 2'!BQ32","v":0},{"$f":"'24. Data Input Object # 2'!BR32","v":0},{"$f":"'24. Data Input Object # 2'!BS32","v":0},{"$f":"'24. Data Input Object # 2'!BT32","v":0},{"$f":"'24. Data Input Object # 2'!BU32","v":0},{"$f":"'24. Data Input Object # 2'!BV32","v":0},{"$f":"'24. Data Input Object # 2'!BW32","v":0},{"$f":"'24. Data Input Object # 2'!BX32","v":0},{"$f":"'24. Data Input Object # 2'!BY32","v":0},{"$f":"'24. Data Input Object # 2'!BZ32","v":0},{"$f":"'24. Data Input Object # 2'!CA32","v":0}]
[{"$f":"'24. Data Input Object # 2'!A33","v":0},{"$f":"'24. Data Input Object # 2'!B33","v":0},{"$f":"'24. Data Input Object # 2'!C33","v":0},{"$f":"'24. Data Input Object # 2'!D33","v":0},{"$f":"'24. Data Input Object # 2'!E33","v":0},{"$f":"'24. Data Input Object # 2'!F33","v":0},{"$f":"'24. Data Input Object # 2'!G33","v":0},{"$f":"'24. Data Input Object # 2'!H33","v":0},{"$f":"'24. Data Input Object # 2'!I33","v":0},{"$f":"'24. Data Input Object # 2'!J33","v":0},{"$f":"'24. Data Input Object # 2'!K33","v":0},{"$f":"'24. Data Input Object # 2'!L33","v":0},{"$f":"'24. Data Input Object # 2'!M33","v":0},{"$f":"'24. Data Input Object # 2'!N33","v":0},{"$f":"'24. Data Input Object # 2'!O33","v":0},{"$f":"'24. Data Input Object # 2'!P33","v":0},{"$f":"'24. Data Input Object # 2'!Q33","v":0},{"$f":"'24. Data Input Object # 2'!R33","v":0},{"$f":"'24. Data Input Object # 2'!S33","v":0},{"$f":"'24. Data Input Object # 2'!T33","v":0},{"$f":"'24. Data Input Object # 2'!U33","v":0},{"$f":"'24. Data Input Object # 2'!V33","v":0},{"$f":"'24. Data Input Object # 2'!W33","v":0},{"$f":"'24. Data Input Object # 2'!X33","v":0},{"$f":"'24. Data Input Object # 2'!Y33","v":0},{"$f":"'24. Data Input Object # 2'!Z33","v":0},{"$f":"'24. Data Input Object # 2'!AA33","v":0},{"$f":"'24. Data Input Object # 2'!AB33","v":0},{"$f":"'24. Data Input Object # 2'!AC33","v":0},{"$f":"'24. Data Input Object # 2'!AD33","v":0},{"$f":"'24. Data Input Object # 2'!AE33","v":0},{"$f":"'24. Data Input Object # 2'!AF33","v":0},{"$f":"'24. Data Input Object # 2'!AG33","v":0},{"$f":"'24. Data Input Object # 2'!AH33","v":0},{"$f":"'24. Data Input Object # 2'!AI33","v":0},{"$f":"'24. Data Input Object # 2'!AJ33","v":0},{"$f":"'24. Data Input Object # 2'!AK33","v":0},{"$f":"'24. Data Input Object # 2'!AL33","v":0},{"$f":"'24. Data Input Object # 2'!AM33","v":0},{"$f":"'24. Data Input Object # 2'!AN33","v":0},{"$f":"'24. Data Input Object # 2'!AO33","v":0},{"$f":"'24. Data Input Object # 2'!AP33","v":0},{"$f":"'24. Data Input Object # 2'!AQ33","v":0},{"$f":"'24. Data Input Object # 2'!AR33","v":0},{"$f":"'24. Data Input Object # 2'!AS33","v":0},{"$f":"'24. Data Input Object # 2'!AT33","v":0},{"$f":"'24. Data Input Object # 2'!AU33","v":0},{"$f":"'24. Data Input Object # 2'!AV33","v":0},{"$f":"'24. Data Input Object # 2'!AW33","v":0},{"$f":"'24. Data Input Object # 2'!AX33","v":0},{"$f":"'24. Data Input Object # 2'!AY33","v":0},{"$f":"'24. Data Input Object # 2'!AZ33","v":0},{"$f":"'24. Data Input Object # 2'!BA33","v":0},{"$f":"'24. Data Input Object # 2'!BB33","v":0},{"$f":"'24. Data Input Object # 2'!BC33","v":0},{"$f":"'24. Data Input Object # 2'!BD33","v":0},{"$f":"'24. Data Input Object # 2'!BE33","v":0},{"$f":"'24. Data Input Object # 2'!BF33","v":0},{"$f":"'24. Data Input Object # 2'!BG33","v":0},{"$f":"'24. Data Input Object # 2'!BH33","v":0},{"$f":"'24. Data Input Object # 2'!BI33","v":0},{"$f":"'24. Data Input Object # 2'!BJ33","v":0},{"$f":"'24. Data Input Object # 2'!BK33","v":0},{"$f":"'24. Data Input Object # 2'!BL33","v":0},{"$f":"'24. Data Input Object # 2'!BM33","v":0},{"$f":"'24. Data Input Object # 2'!BN33","v":0},{"$f":"'24. Data Input Object # 2'!BO33","v":0},{"$f":"'24. Data Input Object # 2'!BP33","v":0},{"$f":"'24. Data Input Object # 2'!BQ33","v":0},{"$f":"'24. Data Input Object # 2'!BR33","v":0},{"$f":"'24. Data Input Object # 2'!BS33","v":0},{"$f":"'24. Data Input Object # 2'!BT33","v":0},{"$f":"'24. Data Input Object # 2'!BU33","v":0},{"$f":"'24. Data Input Object # 2'!BV33","v":0},{"$f":"'24. Data Input Object # 2'!BW33","v":0},{"$f":"'24. Data Input Object # 2'!BX33","v":0},{"$f":"'24. Data Input Object # 2'!BY33","v":0},{"$f":"'24. Data Input Object # 2'!BZ33","v":0},{"$f":"'24. Data Input Object # 2'!CA33","v":0}]
[{"$f":"'24. Data Input Object # 2'!A34","v":0},{"$f":"'24. Data Input Object # 2'!B34","v":0},{"$f":"'24. Data Input Object # 2'!C34","v":0},{"$f":"'24. Data Input Object # 2'!D34","v":0},{"$f":"'24. Data Input Object # 2'!E34","v":0},{"$f":"'24. Data Input Object # 2'!F34","v":0},{"$f":"'24. Data Input Object # 2'!G34","v":0},{"$f":"'24. Data Input Object # 2'!H34","v":0},{"$f":"'24. Data Input Object # 2'!I34","v":0},{"$f":"'24. Data Input Object # 2'!J34","v":0},{"$f":"'24. Data Input Object # 2'!K34","v":0},{"$f":"'24. Data Input Object # 2'!L34","v":0},{"$f":"'24. Data Input Object # 2'!M34","v":0},{"$f":"'24. Data Input Object # 2'!N34","v":0},{"$f":"'24. Data Input Object # 2'!O34","v":0},{"$f":"'24. Data Input Object # 2'!P34","v":0},{"$f":"'24. Data Input Object # 2'!Q34","v":0},{"$f":"'24. Data Input Object # 2'!R34","v":0},{"$f":"'24. Data Input Object # 2'!S34","v":0},{"$f":"'24. Data Input Object # 2'!T34","v":0},{"$f":"'24. Data Input Object # 2'!U34","v":0},{"$f":"'24. Data Input Object # 2'!V34","v":0},{"$f":"'24. Data Input Object # 2'!W34","v":0},{"$f":"'24. Data Input Object # 2'!X34","v":0},{"$f":"'24. Data Input Object # 2'!Y34","v":0},{"$f":"'24. Data Input Object # 2'!Z34","v":0},{"$f":"'24. Data Input Object # 2'!AA34","v":0},{"$f":"'24. Data Input Object # 2'!AB34","v":0},{"$f":"'24. Data Input Object # 2'!AC34","v":0},{"$f":"'24. Data Input Object # 2'!AD34","v":0},{"$f":"'24. Data Input Object # 2'!AE34","v":0},{"$f":"'24. Data Input Object # 2'!AF34","v":0},{"$f":"'24. Data Input Object # 2'!AG34","v":0},{"$f":"'24. Data Input Object # 2'!AH34","v":0},{"$f":"'24. Data Input Object # 2'!AI34","v":0},{"$f":"'24. Data Input Object # 2'!AJ34","v":0},{"$f":"'24. Data Input Object # 2'!AK34","v":0},{"$f":"'24. Data Input Object # 2'!AL34","v":0},{"$f":"'24. Data Input Object # 2'!AM34","v":0},{"$f":"'24. Data Input Object # 2'!AN34","v":0},{"$f":"'24. Data Input Object # 2'!AO34","v":0},{"$f":"'24. Data Input Object # 2'!AP34","v":0},{"$f":"'24. Data Input Object # 2'!AQ34","v":0},{"$f":"'24. Data Input Object # 2'!AR34","v":0},{"$f":"'24. Data Input Object # 2'!AS34","v":0},{"$f":"'24. Data Input Object # 2'!AT34","v":0},{"$f":"'24. Data Input Object # 2'!AU34","v":0},{"$f":"'24. Data Input Object # 2'!AV34","v":0},{"$f":"'24. Data Input Object # 2'!AW34","v":0},{"$f":"'24. Data Input Object # 2'!AX34","v":0},{"$f":"'24. Data Input Object # 2'!AY34","v":0},{"$f":"'24. Data Input Object # 2'!AZ34","v":0},{"$f":"'24. Data Input Object # 2'!BA34","v":0},{"$f":"'24. Data Input Object # 2'!BB34","v":0},{"$f":"'24. Data Input Object # 2'!BC34","v":0},{"$f":"'24. Data Input Object # 2'!BD34","v":0},{"$f":"'24. Data Input Object # 2'!BE34","v":0},{"$f":"'24. Data Input Object # 2'!BF34","v":0},{"$f":"'24. Data Input Object # 2'!BG34","v":0},{"$f":"'24. Data Input Object # 2'!BH34","v":0},{"$f":"'24. Data Input Object # 2'!BI34","v":0},{"$f":"'24. Data Input Object # 2'!BJ34","v":0},{"$f":"'24. Data Input Object # 2'!BK34","v":0},{"$f":"'24. Data Input Object # 2'!BL34","v":0},{"$f":"'24. Data Input Object # 2'!BM34","v":0},{"$f":"'24. Data Input Object # 2'!BN34","v":0},{"$f":"'24. Data Input Object # 2'!BO34","v":0},{"$f":"'24. Data Input Object # 2'!BP34","v":0},{"$f":"'24. Data Input Object # 2'!BQ34","v":0},{"$f":"'24. Data Input Object # 2'!BR34","v":0},{"$f":"'24. Data Input Object # 2'!BS34","v":0},{"$f":"'24. Data Input Object # 2'!BT34","v":0},{"$f":"'24. Data Input Object # 2'!BU34","v":0},{"$f":"'24. Data Input Object # 2'!BV34","v":0},{"$f":"'24. Data Input Object # 2'!BW34","v":0},{"$f":"'24. Data Input Object # 2'!BX34","v":0},{"$f":"'24. Data Input Object # 2'!BY34","v":0},{"$f":"'24. Data Input Object # 2'!BZ34","v":0},{"$f":"'24. Data Input Object # 2'!CA34","v":0}]
[]
[]
["Search Object Type # 3",{"$f":"'25. Data Input Object # 3'!K1","v":"Clue Low-Visibility"}]
[{"$f":"'25. Data Input Object # 3'!A4","v":"Location #"},{"$f":"'25. Data Input Object # 3'!B4","v":"LR"},{"$f":"'25. Data Input Object # 3'!C4","v":1},{"$f":"'25. Data Input Object # 3'!D4","v":2},{"$f":"'25. Data Input Object # 3'!E4","v":3},{"$f":"'25. Data Input Object # 3'!F4","v":4},{"$f":"'25. Data Input Object # 3'!G4","v":5},{"$f":"'25. Data Input Object # 3'!H4","v":6},{"$f":"'25. Data Input Object # 3'!I4","v":7},{"$f":"'25. Data Input Object # 3'!J4","v":8},{"$f":"'25. Data Input Object # 3'!K4","v":9},{"$f":"'25. Data Input Object # 3'!L4","v":10},{"$f":"'25. Data Input Object # 3'!M4","v":11},{"$f":"'25. Data Input Object # 3'!N4","v":12},{"$f":"'25. Data Input Object # 3'!O4","v":13},{"$f":"'25. Data Input Object # 3'!P4","v":14},{"$f":"'25. Data Input Object # 3'!Q4","v":15},{"$f":"'25. Data Input Object # 3'!R4","v":16},{"$f":"'25. Data Input Object # 3'!S4","v":17},{"$f":"'25. Data Input Object # 3'!T4","v":18},{"$f":"'25. Data Input Object # 3'!U4","v":19},{"$f":"'25. Data Input Object # 3'!V4","v":20},{"$f":"'25. Data Input Object # 3'!W4","v":21},{"$f":"'25. Data Input Object # 3'!X4","v":22},{"$f":"'25. Data Input Object # 3'!Y4","v":23},{"$f":"'25. Data Input Object # 3'!Z4","v":24},{"$f":"'25. Data Input Object # 3'!AA4","v":25},{"$f":"'25. Data Input Object # 3'!AB4","v":26},{"$f":"'25. Data Input Object # 3'!AC4","v":27},{"$f":"'25. Data Input Object # 3'!AD4","v":28},{"$f":"'25. Data Input Object # 3'!AE4","v":29},{"$f":"'25. Data Input Object # 3'!AF4","v":30},{"$f":"'25. Data Input Object # 3'!AG4","v":31},{"$f":"'25. Data Input Object # 3'!AH4","v":32},{"$f":"'25. Data Input Object # 3'!AI4","v":33},{"$f":"'25. Data Input Object # 3'!AJ4","v":34},{"$f":"'25. Data Input Object # 3'!AK4","v":35},{"$f":"'25. Data Input Object # 3'!AL4","v":36},{"$f":"'25. Data Input Object # 3'!AM4","v":37},{"$f":"'25. Data Input Object # 3'!AN4","v":38},{"$f":"'25. Data Input Object # 3'!AO4","v":39},{"$f":"'25. Data Input Object # 3'!AP4","v":40},{"$f":"'25. Data Input Object # 3'!AQ4","v":41},{"$f":"'25. Data Input Object # 3'!AR4","v":42},{"$f":"'25. Data Input Object # 3'!AS4","v":43},{"$f":"'25. Data Input Object # 3'!AT4","v":44},{"$f":"'25. Data Input Object # 3'!AU4","v":45},{"$f":"'25. Data Input Object # 3'!AV4","v":46},{"$f":"'25. Data Input Object # 3'!AW4","v":47},{"$f":"'25. Data Input Object # 3'!AX4","v":48},{"$f":"'25. Data Input Object # 3'!AY4","v":49},{"$f":"'25. Data Input Object # 3'!AZ4","v":50},{"$f":"'25. Data Input Object # 3'!BA4","v":51},{"$f":"'25. Data Input Object # 3'!BB4","v":52},{"$f":"'25. Data Input Object # 3'!BC4","v":53},{"$f":"'25. Data Input Object # 3'!BD4","v":54},{"$f":"'25. Data Input Object # 3'!BE4","v":55},{"$f":"'25. Data Input Object # 3'!BF4","v":56},{"$f":"'25. Data Input Object # 3'!BG4","v":57},{"$f":"'25. Data Input Object # 3'!BH4","v":58},{"$f":"'25. Data Input Object # 3'!BI4","v":59},{"$f":"'25. Data Input Object # 3'!BJ4","v":60},{"$f":"'25. Data Input Object # 3'!BK4","v":61},{"$f":"'25. Data Input Object # 3'!BL4","v":62},{"$f":"'25. Data Input Object # 3'!BM4","v":63},{"$f":"'25. Data Input Object # 3'!BN4","v":64},{"$f":"'25. Data Input Object # 3'!BO4","v":65},{"$f":"'25. Data Input Object # 3'!BP4","v":66},{"$f":"'25. Data Input Object # 3'!BQ4","v":67},{"$f":"'25. Data Input Object # 3'!BR4","v":68},{"$f":"'25. Data Input Object # 3'!BS4","v":69},{"$f":"'25. Data Input Object # 3'!BT4","v":70},{"$f":"'25. Data Input Object # 3'!BU4","v":71},{"$f":"'25. Data Input Object # 3'!BV4","v":72},{"$f":"'25. Data Input Object # 3'!BW4","v":73},{"$f":"'25. Data Input Object # 3'!BX4","v":74},{"$f":"'25. Data Input Object # 3'!BY4","v":75},{"$f":"'25. Data Input Object # 3'!BZ4","v":76},{"$f":"'25. Data Input Object # 3'!CA4","v":77}]
[{"$f":"'25. Data Input Object # 3'!A5","v":3},{"$f":"'25. Data Input Object # 3'!B5","v":9},{"$f":"'25. Data Input Object # 3'!C5","v":1},{"$f":"'25. Data Input Object # 3'!D5","v":1},{"$f":"'25. Data Input Object # 3'!E5","v":1},{"$f":"'25. Data Input Object # 3'!F5","v":1},{"$f":"'25. Data Input Object # 3'!G5","v":1},{"$f":"'25. Data Input Object # 3'!H5","v":1},{"$f":"'25. Data Input Object # 3'!I5","v":1},{"$f":"'25. Data Input Object # 3'!J5","v":1},{"$f":"'25. Data Input Object # 3'!K5","v":0},{"$f":"'25. Data Input Object # 3'!L5","v":1},{"$f":"'25. Data Input Object # 3'!M5","v":1},{"$f":"'25. Data Input Object # 3'!N5","v":1},{"$f":"'25. Data Input Object # 3'!O5","v":1},{"$f":"'25. Data Input Object # 3'!P5","v":1},{"$f":"'25. Data Input Object # 3'!Q5","v":1},{"$f":"'25. Data Input Object # 3'!R5","v":1},{"$f":"'25. Data Input Object # 3'!S5","v":1},{"$f":"'25. Data Input Object # 3'!T5","v":1},{"$f":"'25. Data Input Object # 3'!U5","v":1},{"$f":"'25. Data Input Object # 3'!V5","v":1},{"$f":"'25. Data Input Object # 3'!W5","v":1},{"$f":"'25. Data Input Object # 3'!X5","v":1},{"$f":"'25. Data Input Object # 3'!Y5","v":0},{"$f":"'25. Data Input Object # 3'!Z5","v":1},{"$f":"'25. Data Input Object # 3'!AA5","v":1},{"$f":"'25. Data Input Object # 3'!AB5","v":1},{"$f":"'25. Data Input Object # 3'!AC5","v":1},{"$f":"'25. Data Input Object # 3'!AD5","v":1},{"$f":"'25. Data Input Object # 3'!AE5","v":0},{"$f":"'25. Data Input Object # 3'!AF5","v":0},{"$f":"'25. Data Input Object # 3'!AG5","v":1},{"$f":"'25. Data Input Object # 3'!AH5","v":1},{"$f":"'25. Data Input Object # 3'!AI5","v":0},{"$f":"'25. Data Input Object # 3'!AJ5","v":1},{"$f":"'25. Data Input Object # 3'!AK5","v":0},{"$f":"'25. Data Input Object # 3'!AL5","v":0},{"$f":"'25. Data Input Object # 3'!AM5","v":0},{"$f":"'25. Data Input Object # 3'!AN5","v":0},{"$f":"'25. Data Input Object # 3'!AO5","v":0},{"$f":"'25. Data Input Object # 3'!AP5","v":0},{"$f":"'25. Data Input Object # 3'!AQ5","v":0},{"$f":"'25. Data Input Object # 3'!AR5","v":0},{"$f":"'25. Data Input Object # 3'!AS5","v":0},{"$f":"'25. Data Input Object # 3'!AT5","v":0},{"$f":"'25. Data Input Object # 3'!AU5","v":0},{"$f":"'25. Data Input Object # 3'!AV5","v":0},{"$f":"'25. Data Input Object # 3'!AW5","v":0},{"$f":"'25. Data Input Object # 3'!AX5","v":0},{"$f":"'25. Data Input Object # 3'!AY5","v":0},{"$f":"'25. Data Input Object # 3'!AZ5","v":0},{"$f":"'25. Data Input Object # 3'!BA5","v":0},{"$f":"'25. Data Input Object # 3'!BB5","v":0},{"$f":"'25. Data Input Object # 3'!BC5","v":0},{"$f":"'25. Data Input Object # 3'!BD5","v":0},{"$f":"'25. Data Input Object # 3'!BE5","v":0},{"$f":"'25. Data Input Object # 3'!BF5","v":0},{"$f":"'25. Data Input Object # 3'!BG5","v":0},{"$f":"'25. Data Input Object # 3'!BH5","v":0},{"$f":"'25. Data Input Object # 3'!BI5","v":0},{"$f":"'25. Data Input Object # 3'!BJ5","v":0},{"$f":"'25. Data Input Object # 3'!BK5","v":0},{"$f":"'25. Data Input Object # 3'!BL5","v":0},{"$f":"'25. Data Input Object # 3'!BM5","v":0},{"$f":"'25. Data Input Object # 3'!BN5","v":0},{"$f":"'25. Data Input Object # 3'!BO5","v":0},{"$f":"'25. Data Input Object # 3'!BP5","v":0},{"$f":"'25. Data Input Object # 3'!BQ5","v":0},{"$f":"'25. Data Input Object # 3'!BR5","v":0},{"$f":"'25. Data Input Object # 3'!BS5","v":0},{"$f":"'25. Data Input Object # 3'!BT5","v":0},{"$f":"'25. Data Input Object # 3'!BU5","v":0},{"$f":"'25. Data Input Object # 3'!BV5","v":0},{"$f":"'25. Data Input Object # 3'!BW5","v":0},{"$f":"'25. Data Input Object # 3'!BX5","v":0},{"$f":"'25. Data Input Object # 3'!BY5","v":0},{"$f":"'25. Data Input Object # 3'!BZ5","v":0},{"$f":"'25. Data Input Object # 3'!CA5","v":0}]
[{"$f":"'25. Data Input Object # 3'!A6","v":7},{"$f":"'25. Data Input Object # 3'!B6","v":18},{"$f":"'25. Data Input Object # 3'!C6","v":1},{"$f":"'25. Data Input Object # 3'!D6","v":1},{"$f":"'25. Data Input Object # 3'!E6","v":0},{"$f":"'25. Data Input Object # 3'!F6","v":0},{"$f":"'25. Data Input Object # 3'!G6","v":0},{"$f":"'25. Data Input Object # 3'!H6","v":1},{"$f":"'25. Data Input Object # 3'!I6","v":1},{"$f":"'25. Data Input Object # 3'!J6","v":1},{"$f":"'25. Data Input Object # 3'!K6","v":1},{"$f":"'25. Data Input Object # 3'!L6","v":1},{"$f":"'25. Data Input Object # 3'!M6","v":1},{"$f":"'25. Data Input Object # 3'!N6","v":1},{"$f":"'25. Data Input Object # 3'!O6","v":1},{"$f":"'25. Data Input Object # 3'!P6","v":1},{"$f":"'25. Data Input Object # 3'!Q6","v":1},{"$f":"'25. Data Input Object # 3'!R6","v":1},{"$f":"'25. Data Input Object # 3'!S6","v":1},{"$f":"'25. Data Input Object # 3'!T6","v":1},{"$f":"'25. Data Input Object # 3'!U6","v":1},{"$f":"'25. Data Input Object # 3'!V6","v":1},{"$f":"'25. Data Input Object # 3'!W6","v":1},{"$f":"'25. Data Input Object # 3'!X6","v":1},{"$f":"'25. Data Input Object # 3'!Y6","v":1},{"$f":"'25. Data Input Object # 3'!Z6","v":0},{"$f":"'25. Data Input Object # 3'!AA6","v":1},{"$f":"'25. Data Input Object # 3'!AB6","v":1},{"$f":"'25. Data Input Object # 3'!AC6","v":0},{"$f":"'25. Data Input Object # 3'!AD6","v":1},{"$f":"'25. Data Input Object # 3'!AE6","v":0},{"$f":"'25. Data Input Object # 3'!AF6","v":1},{"$f":"'25. Data Input Object # 3'!AG6","v":1},{"$f":"'25. Data Input Object # 3'!AH6","v":0},{"$f":"'25. Data Input Object # 3'!AI6","v":0},{"$f":"'25. Data Input Object # 3'!AJ6","v":0},{"$f":"'25. Data Input Object # 3'!AK6","v":0},{"$f":"'25. Data Input Object # 3'!AL6","v":0},{"$f":"'25. Data Input Object # 3'!AM6","v":0},{"$f":"'25. Data Input Object # 3'!AN6","v":0},{"$f":"'25. Data Input Object # 3'!AO6","v":0},{"$f":"'25. Data Input Object # 3'!AP6","v":0},{"$f":"'25. Data Input Object # 3'!AQ6","v":0},{"$f":"'25. Data Input Object # 3'!AR6","v":0},{"$f":"'25. Data Input Object # 3'!AS6","v":0},{"$f":"'25. Data Input Object # 3'!AT6","v":0},{"$f":"'25. Data Input Object # 3'!AU6","v":0},{"$f":"'25. Data Input Object # 3'!AV6","v":0},{"$f":"'25. Data Input Object # 3'!AW6","v":0},{"$f":"'25. Data Input Object # 3'!AX6","v":0},{"$f":"'25. Data Input Object # 3'!AY6","v":0},{"$f":"'25. Data Input Object # 3'!AZ6","v":0},{"$f":"'25. Data Input Object # 3'!BA6","v":0},{"$f":"'25. Data Input Object # 3'!BB6","v":0},{"$f":"'25. Data Input Object # 3'!BC6","v":0},{"$f":"'25. Data Input Object # 3'!BD6","v":0},{"$f":"'25. Data Input Object # 3'!BE6","v":0},{"$f":"'25. Data Input Object # 3'!BF6","v":0},{"$f":"'25. Data Input Object # 3'!BG6","v":0},{"$f":"'25. Data Input Object # 3'!BH6","v":0},{"$f":"'25. Data Input Object # 3'!BI6","v":0},{"$f":"'25. Data Input Object # 3'!BJ6","v":0},{"$f":"'25. Data Input Object # 3'!BK6","v":0},{"$f":"'25. Data Input Object # 3'!BL6","v":0},{"$f":"'25. Data Input Object # 3'!BM6","v":0},{"$f":"'25. Data Input Object # 3'!BN6","v":0},{"$f":"'25. Data Input Object # 3'!BO6","v":0},{"$f":"'25. Data Input Object # 3'!BP6","v":0},{"$f":"'25. Data Input Object # 3'!BQ6","v":0},{"$f":"'25. Data Input Object # 3'!BR6","v":0},{"$f":"'25. Data Input Object # 3'!BS6","v":0},{"$f":"'25. Data Input Object # 3'!BT6","v":0},{"$f":"'25. Data Input Object # 3'!BU6","v":0},{"$f":"'25. Data Input Object # 3'!BV6","v":0},{"$f":"'25. Data Input Object # 3'!BW6","v":0},{"$f":"'25. Data Input Object # 3'!BX6","v":0},{"$f":"'25. Data Input Object # 3'!BY6","v":0},{"$f":"'25. Data Input Object # 3'!BZ6","v":0},{"$f":"'25. Data Input Object # 3'!CA6","v":0}]
[{"$f":"'25. Data Input Object # 3'!A7","v":13},{"$f":"'25. Data Input Object # 3'!B7","v":0.37},{"$f":"'25. Data Input Object # 3'!C7","v":1},{"$f":"'25. Data Input Object # 3'!D7","v":0},{"$f":"'25. Data Input Object # 3'!E7","v":0},{"$f":"'25. Data Input Object # 3'!F7","v":0},{"$f":"'25. Data Input Object # 3'!G7","v":0},{"$f":"'25. Data Input Object # 3'!H7","v":1},{"$f":"'25. Data Input Object # 3'!I7","v":1},{"$f":"'25. Data Input Object # 3'!J7","v":0},{"$f":"'25. Data Input Object # 3'!K7","v":0},{"$f":"'25. Data Input Object # 3'!L7","v":0},{"$f":"'25. Data Input Object # 3'!M7","v":0},{"$f":"'25. Data Input Object # 3'!N7","v":1},{"$f":"'25. Data Input Object # 3'!O7","v":0},{"$f":"'25. Data Input Object # 3'!P7","v":0},{"$f":"'25. Data Input Object # 3'!Q7","v":0},{"$f":"'25. Data Input Object # 3'!R7","v":1},{"$f":"'25. Data Input Object # 3'!S7","v":1},{"$f":"'25. Data Input Object # 3'!T7","v":0},{"$f":"'25. Data Input Object # 3'!U7","v":1},{"$f":"'25. Data Input Object # 3'!V7","v":0},{"$f":"'25. Data Input Object # 3'!W7","v":0},{"$f":"'25. Data Input Object # 3'!X7","v":0},{"$f":"'25. Data Input Object # 3'!Y7","v":0},{"$f":"'25. Data Input Object # 3'!Z7","v":0},{"$f":"'25. Data Input Object # 3'!AA7","v":1},{"$f":"'25. Data Input Object # 3'!AB7","v":0},{"$f":"'25. Data Input Object # 3'!AC7","v":1},{"$f":"'25. Data Input Object # 3'!AD7","v":1},{"$f":"'25. Data Input Object # 3'!AE7","v":0},{"$f":"'25. Data Input Object # 3'!AF7","v":0},{"$f":"'25. Data Input Object # 3'!AG7","v":0},{"$f":"'25. Data Input Object # 3'!AH7","v":1},{"$f":"'25. Data Input Object # 3'!AI7","v":1},{"$f":"'25. Data Input Object # 3'!AJ7","v":0},{"$f":"'25. Data Input Object # 3'!AK7","v":0},{"$f":"'25. Data Input Object # 3'!AL7","v":0},{"$f":"'25. Data Input Object # 3'!AM7","v":0},{"$f":"'25. Data Input Object # 3'!AN7","v":0},{"$f":"'25. Data Input Object # 3'!AO7","v":0},{"$f":"'25. Data Input Object # 3'!AP7","v":0},{"$f":"'25. Data Input Object # 3'!AQ7","v":0},{"$f":"'25. Data Input Object # 3'!AR7","v":0},{"$f":"'25. Data Input Object # 3'!AS7","v":0},{"$f":"'25. Data Input Object # 3'!AT7","v":0},{"$f":"'25. Data Input Object # 3'!AU7","v":0},{"$f":"'25. Data Input Object # 3'!AV7","v":0},{"$f":"'25. Data Input Object # 3'!AW7","v":0},{"$f":"'25. Data Input Object # 3'!AX7","v":0},{"$f":"'25. Data Input Object # 3'!AY7","v":0},{"$f":"'25. Data Input Object # 3'!AZ7","v":0},{"$f":"'25. Data Input Object # 3'!BA7","v":0},{"$f":"'25. Data Input Object # 3'!BB7","v":0},{"$f":"'25. Data Input Object # 3'!BC7","v":0},{"$f":"'25. Data Input Object # 3'!BD7","v":0},{"$f":"'25. Data Input Object # 3'!BE7","v":0},{"$f":"'25. Data Input Object # 3'!BF7","v":0},{"$f":"'25. Data Input Object # 3'!BG7","v":0},{"$f":"'25. Data Input Object # 3'!BH7","v":0},{"$f":"'25. Data Input Object # 3'!BI7","v":0},{"$f":"'25. Data Input Object # 3'!BJ7","v":0},{"$f":"'25. Data Input Object # 3'!BK7","v":0},{"$f":"'25. Data Input Object # 3'!BL7","v":0},{"$f":"'25. Data Input Object # 3'!BM7","v":0},{"$f":"'25. Data Input Object # 3'!BN7","v":0},{"$f":"'25. Data Input Object # 3'!BO7","v":0},{"$f":"'25. Data Input Object # 3'!BP7","v":0},{"$f":"'25. Data Input Object # 3'!BQ7","v":0},{"$f":"'25. Data Input Object # 3'!BR7","v":0},{"$f":"'25. Data Input Object # 3'!BS7","v":0},{"$f":"'25. Data Input Object # 3'!BT7","v":0},{"$f":"'25. Data Input Object # 3'!BU7","v":0},{"$f":"'25. Data Input Object # 3'!BV7","v":0},{"$f":"'25. Data Input Object # 3'!BW7","v":0},{"$f":"'25. Data Input Object # 3'!BX7","v":0},{"$f":"'25. Data Input Object # 3'!BY7","v":0},{"$f":"'25. Data Input Object # 3'!BZ7","v":0},{"$f":"'25. Data Input Object # 3'!CA7","v":0}]
[{"$f":"'25. Data Input Object # 3'!A8","v":18},{"$f":"'25. Data Input Object # 3'!B8","v":18},{"$f":"'25. Data Input Object # 3'!C8","v":0},{"$f":"'25. Data Input Object # 3'!D8","v":0},{"$f":"'25. Data Input Object # 3'!E8","v":0},{"$f":"'25. Data Input Object # 3'!F8","v":0},{"$f":"'25. Data Input Object # 3'!G8","v":0},{"$f":"'25. Data Input Object # 3'!H8","v":0},{"$f":"'25. Data Input Object # 3'!I8","v":0},{"$f":"'25. Data Input Object # 3'!J8","v":0},{"$f":"'25. Data Input Object # 3'!K8","v":0},{"$f":"'25. Data Input Object # 3'!L8","v":0},{"$f":"'25. Data Input Object # 3'!M8","v":0},{"$f":"'25. Data Input Object # 3'!N8","v":0},{"$f":"'25. Data Input Object # 3'!O8","v":0},{"$f":"'25. Data Input Object # 3'!P8","v":0},{"$f":"'25. Data Input Object # 3'!Q8","v":0},{"$f":"'25. Data Input Object # 3'!R8","v":0},{"$f":"'25. Data Input Object # 3'!S8","v":0},{"$f":"'25. Data Input Object # 3'!T8","v":0},{"$f":"'25. Data Input Object # 3'!U8","v":0},{"$f":"'25. Data Input Object # 3'!V8","v":0},{"$f":"'25. Data Input Object # 3'!W8","v":0},{"$f":"'25. Data Input Object # 3'!X8","v":0},{"$f":"'25. Data Input Object # 3'!Y8","v":0},{"$f":"'25. Data Input Object # 3'!Z8","v":0},{"$f":"'25. Data Input Object # 3'!AA8","v":0},{"$f":"'25. Data Input Object # 3'!AB8","v":0},{"$f":"'25. Data Input Object # 3'!AC8","v":0},{"$f":"'25. Data Input Object # 3'!AD8","v":0},{"$f":"'25. Data Input Object # 3'!AE8","v":0},{"$f":"'25. Data Input Object # 3'!AF8","v":0},{"$f":"'25. Data Input Object # 3'!AG8","v":0},{"$f":"'25. Data Input Object # 3'!AH8","v":0},{"$f":"'25. Data Input Object # 3'!AI8","v":0},{"$f":"'25. Data Input Object # 3'!AJ8","v":0},{"$f":"'25. Data Input Object # 3'!AK8","v":0},{"$f":"'25. Data Input Object # 3'!AL8","v":0},{"$f":"'25. Data Input Object # 3'!AM8","v":0},{"$f":"'25. Data Input Object # 3'!AN8","v":0},{"$f":"'25. Data Input Object # 3'!AO8","v":0},{"$f":"'25. Data Input Object # 3'!AP8","v":0},{"$f":"'25. Data Input Object # 3'!AQ8","v":0},{"$f":"'25. Data Input Object # 3'!AR8","v":0},{"$f":"'25. Data Input Object # 3'!AS8","v":0},{"$f":"'25. Data Input Object # 3'!AT8","v":0},{"$f":"'25. Data Input Object # 3'!AU8","v":0},{"$f":"'25. Data Input Object # 3'!AV8","v":0},{"$f":"'25. Data Input Object # 3'!AW8","v":0},{"$f":"'25. Data Input Object # 3'!AX8","v":0},{"$f":"'25. Data Input Object # 3'!AY8","v":0},{"$f":"'25. Data Input Object # 3'!AZ8","v":0},{"$f":"'25. Data Input Object # 3'!BA8","v":0},{"$f":"'25. Data Input Object # 3'!BB8","v":0},{"$f":"'25. Data Input Object # 3'!BC8","v":0},{"$f":"'25. Data Input Object # 3'!BD8","v":0},{"$f":"'25. Data Input Object # 3'!BE8","v":0},{"$f":"'25. Data Input Object # 3'!BF8","v":0},{"$f":"'25. Data Input Object # 3'!BG8","v":0},{"$f":"'25. Data Input Object # 3'!BH8","v":0},{"$f":"'25. Data Input Object # 3'!BI8","v":0},{"$f":"'25. Data Input Object # 3'!BJ8","v":0},{"$f":"'25. Data Input Object # 3'!BK8","v":0},{"$f":"'25. Data Input Object # 3'!BL8","v":0},{"$f":"'25. Data Input Object # 3'!BM8","v":0},{"$f":"'25. Data Input Object # 3'!BN8","v":0},{"$f":"'25. Data Input Object # 3'!BO8","v":0},{"$f":"'25. Data Input Object # 3'!BP8","v":0},{"$f":"'25. Data Input Object # 3'!BQ8","v":0},{"$f":"'25. Data Input Object # 3'!BR8","v":0},{"$f":"'25. Data Input Object # 3'!BS8","v":0},{"$f":"'25. Data Input Object # 3'!BT8","v":0},{"$f":"'25. Data Input Object # 3'!BU8","v":0},{"$f":"'25. Data Input Object # 3'!BV8","v":0},{"$f":"'25. Data Input Object # 3'!BW8","v":0},{"$f":"'25. Data Input Object # 3'!BX8","v":0},{"$f":"'25. Data Input Object # 3'!BY8","v":0},{"$f":"'25. Data Input Object # 3'!BZ8","v":0},{"$f":"'25. Data Input Object # 3'!CA8","v":0}]
[{"$f":"'25. Data Input Object # 3'!A9","v":23},{"$f":"'25. Data Input Object # 3'!B9","v":8},{"$f":"'25. Data Input Object # 3'!C9","v":0},{"$f":"'25. Data Input Object # 3'!D9","v":0},{"$f":"'25. Data Input Object # 3'!E9","v":0},{"$f":"'25. Data Input Object # 3'!F9","v":0},{"$f":"'25. Data Input Object # 3'!G9","v":0},{"$f":"'25. Data Input Object # 3'!H9","v":0},{"$f":"'25. Data Input Object # 3'!I9","v":1},{"$f":"'25. Data Input Object # 3'!J9","v":0},{"$f":"'25. Data Input Object # 3'!K9","v":0},{"$f":"'25. Data Input Object # 3'!L9","v":1},{"$f":"'25. Data Input Object # 3'!M9","v":0},{"$f":"'25. Data Input Object # 3'!N9","v":0},{"$f":"'25. Data Input Object # 3'!O9","v":1},{"$f":"'25. Data Input Object # 3'!P9","v":0},{"$f":"'25. Data Input Object # 3'!Q9","v":0},{"$f":"'25. Data Input Object # 3'!R9","v":0},{"$f":"'25. Data Input Object # 3'!S9","v":0},{"$f":"'25. Data Input Object # 3'!T9","v":0},{"$f":"'25. Data Input Object # 3'!U9","v":0},{"$f":"'25. Data Input Object # 3'!V9","v":0},{"$f":"'25. Data Input Object # 3'!W9","v":0},{"$f":"'25. Data Input Object # 3'!X9","v":0},{"$f":"'25. Data Input Object # 3'!Y9","v":0},{"$f":"'25. Data Input Object # 3'!Z9","v":0},{"$f":"'25. Data Input Object # 3'!AA9","v":0},{"$f":"'25. Data Input Object # 3'!AB9","v":0},{"$f":"'25. Data Input Object # 3'!AC9","v":0},{"$f":"'25. Data Input Object # 3'!AD9","v":0},{"$f":"'25. Data Input Object # 3'!AE9","v":0},{"$f":"'25. Data Input Object # 3'!AF9","v":0},{"$f":"'25. Data Input Object # 3'!AG9","v":0},{"$f":"'25. Data Input Object # 3'!AH9","v":0},{"$f":"'25. Data Input Object # 3'!AI9","v":0},{"$f":"'25. Data Input Object # 3'!AJ9","v":0},{"$f":"'25. Data Input Object # 3'!AK9","v":0},{"$f":"'25. Data Input Object # 3'!AL9","v":0},{"$f":"'25. Data Input Object # 3'!AM9","v":0},{"$f":"'25. Data Input Object # 3'!AN9","v":0},{"$f":"'25. Data Input Object # 3'!AO9","v":0},{"$f":"'25. Data Input Object # 3'!AP9","v":0},{"$f":"'25. Data Input Object # 3'!AQ9","v":0},{"$f":"'25. Data Input Object # 3'!AR9","v":0},{"$f":"'25. Data Input Object # 3'!AS9","v":0},{"$f":"'25. Data Input Object # 3'!AT9","v":0},{"$f":"'25. Data Input Object # 3'!AU9","v":0},{"$f":"'25. Data Input Object # 3'!AV9","v":0},{"$f":"'25. Data Input Object # 3'!AW9","v":0},{"$f":"'25. Data Input Object # 3'!AX9","v":0},{"$f":"'25. Data Input Object # 3'!AY9","v":0},{"$f":"'25. Data Input Object # 3'!AZ9","v":0},{"$f":"'25. Data Input Object # 3'!BA9","v":0},{"$f":"'25. Data Input Object # 3'!BB9","v":0},{"$f":"'25. Data Input Object # 3'!BC9","v":0},{"$f":"'25. Data Input Object # 3'!BD9","v":0},{"$f":"'25. Data Input Object # 3'!BE9","v":0},{"$f":"'25. Data Input Object # 3'!BF9","v":0},{"$f":"'25. Data Input Object # 3'!BG9","v":0},{"$f":"'25. Data Input Object # 3'!BH9","v":0},{"$f":"'25. Data Input Object # 3'!BI9","v":0},{"$f":"'25. Data Input Object # 3'!BJ9","v":0},{"$f":"'25. Data Input Object # 3'!BK9","v":0},{"$f":"'25. Data Input Object # 3'!BL9","v":0},{"$f":"'25. Data Input Object # 3'!BM9","v":0},{"$f":"'25. Data Input Object # 3'!BN9","v":0},{"$f":"'25. Data Input Object # 3'!BO9","v":0},{"$f":"'25. Data Input Object # 3'!BP9","v":0},{"$f":"'25. Data Input Object # 3'!BQ9","v":0},{"$f":"'25. Data Input Object # 3'!BR9","v":0},{"$f":"'25. Data Input Object # 3'!BS9","v":0},{"$f":"'25. Data Input Object # 3'!BT9","v":0},{"$f":"'25. Data Input Object # 3'!BU9","v":0},{"$f":"'25. Data Input Object # 3'!BV9","v":0},{"$f":"'25. Data Input Object # 3'!BW9","v":0},{"$f":"'25. Data Input Object # 3'!BX9","v":0},{"$f":"'25. Data Input Object # 3'!BY9","v":0},{"$f":"'25. Data Input Object # 3'!BZ9","v":0},{"$f":"'25. Data Input Object # 3'!CA9","v":0}]
[{"$f":"'25. Data Input Object # 3'!A10","v":25},{"$f":"'25. Data Input Object # 3'!B10","v":5},{"$f":"'25. Data Input Object # 3'!C10","v":1},{"$f":"'25. Data Input Object # 3'!D10","v":1},{"$f":"'25. Data Input Object # 3'!E10","v":1},{"$f":"'25. Data Input Object # 3'!F10","v":1},{"$f":"'25. Data Input Object # 3'!G10","v":1},{"$f":"'25. Data Input Object # 3'!H10","v":1},{"$f":"'25. Data Input Object # 3'!I10","v":1},{"$f":"'25. Data Input Object # 3'!J10","v":1},{"$f":"'25. Data Input Object # 3'!K10","v":1},{"$f":"'25. Data Input Object # 3'!L10","v":1},{"$f":"'25. Data Input Object # 3'!M10","v":1},{"$f":"'25. Data Input Object # 3'!N10","v":1},{"$f":"'25. Data Input Object # 3'!O10","v":1},{"$f":"'25. Data Input Object # 3'!P10","v":1},{"$f":"'25. Data Input Object # 3'!Q10","v":1},{"$f":"'25. Data Input Object # 3'!R10","v":1},{"$f":"'25. Data Input Object # 3'!S10","v":1},{"$f":"'25. Data Input Object # 3'!T10","v":1},{"$f":"'25. Data Input Object # 3'!U10","v":1},{"$f":"'25. Data Input Object # 3'!V10","v":0},{"$f":"'25. Data Input Object # 3'!W10","v":1},{"$f":"'25. Data Input Object # 3'!X10","v":1},{"$f":"'25. Data Input Object # 3'!Y10","v":1},{"$f":"'25. Data Input Object # 3'!Z10","v":1},{"$f":"'25. Data Input Object # 3'!AA10","v":1},{"$f":"'25. Data Input Object # 3'!AB10","v":1},{"$f":"'25. Data Input Object # 3'!AC10","v":1},{"$f":"'25. Data Input Object # 3'!AD10","v":1},{"$f":"'25. Data Input Object # 3'!AE10","v":1},{"$f":"'25. Data Input Object # 3'!AF10","v":1},{"$f":"'25. Data Input Object # 3'!AG10","v":1},{"$f":"'25. Data Input Object # 3'!AH10","v":1},{"$f":"'25. Data Input Object # 3'!AI10","v":0},{"$f":"'25. Data Input Object # 3'!AJ10","v":1},{"$f":"'25. Data Input Object # 3'!AK10","v":0},{"$f":"'25. Data Input Object # 3'!AL10","v":0},{"$f":"'25. Data Input Object # 3'!AM10","v":0},{"$f":"'25. Data Input Object # 3'!AN10","v":0},{"$f":"'25. Data Input Object # 3'!AO10","v":0},{"$f":"'25. Data Input Object # 3'!AP10","v":0},{"$f":"'25. Data Input Object # 3'!AQ10","v":0},{"$f":"'25. Data Input Object # 3'!AR10","v":0},{"$f":"'25. Data Input Object # 3'!AS10","v":0},{"$f":"'25. Data Input Object # 3'!AT10","v":0},{"$f":"'25. Data Input Object # 3'!AU10","v":0},{"$f":"'25. Data Input Object # 3'!AV10","v":0},{"$f":"'25. Data Input Object # 3'!AW10","v":0},{"$f":"'25. Data Input Object # 3'!AX10","v":0},{"$f":"'25. Data Input Object # 3'!AY10","v":0},{"$f":"'25. Data Input Object # 3'!AZ10","v":0},{"$f":"'25. Data Input Object # 3'!BA10","v":0},{"$f":"'25. Data Input Object # 3'!BB10","v":0},{"$f":"'25. Data Input Object # 3'!BC10","v":0},{"$f":"'25. Data Input Object # 3'!BD10","v":0},{"$f":"'25. Data Input Object # 3'!BE10","v":0},{"$f":"'25. Data Input Object # 3'!BF10","v":0},{"$f":"'25. Data Input Object # 3'!BG10","v":0},{"$f":"'25. Data Input Object # 3'!BH10","v":0},{"$f":"'25. Data Input Object # 3'!BI10","v":0},{"$f":"'25. Data Input Object # 3'!BJ10","v":0},{"$f":"'25. Data Input Object # 3'!BK10","v":0},{"$f":"'25. Data Input Object # 3'!BL10","v":0},{"$f":"'25. Data Input Object # 3'!BM10","v":0},{"$f":"'25. Data Input Object # 3'!BN10","v":0},{"$f":"'25. Data Input Object # 3'!BO10","v":0},{"$f":"'25. Data Input Object # 3'!BP10","v":0},{"$f":"'25. Data Input Object # 3'!BQ10","v":0},{"$f":"'25. Data Input Object # 3'!BR10","v":0},{"$f":"'25. Data Input Object # 3'!BS10","v":0},{"$f":"'25. Data Input Object # 3'!BT10","v":0},{"$f":"'25. Data Input Object # 3'!BU10","v":0},{"$f":"'25. Data Input Object # 3'!BV10","v":0},{"$f":"'25. Data Input Object # 3'!BW10","v":0},{"$f":"'25. Data Input Object # 3'!BX10","v":0},{"$f":"'25. Data Input Object # 3'!BY10","v":0},{"$f":"'25. Data Input Object # 3'!BZ10","v":0},{"$f":"'25. Data Input Object # 3'!CA10","v":0}]
[{"$f":"'25. Data Input Object # 3'!A11","v":27},{"$f":"'25. Data Input Object # 3'!B11","v":14},{"$f":"'25. Data Input Object # 3'!C11","v":0},{"$f":"'25. Data Input Object # 3'!D11","v":0},{"$f":"'25. Data Input Object # 3'!E11","v":0},{"$f":"'25. Data Input Object # 3'!F11","v":0},{"$f":"'25. Data Input Object # 3'!G11","v":0},{"$f":"'25. Data Input Object # 3'!H11","v":0},{"$f":"'25. Data Input Object # 3'!I11","v":0},{"$f":"'25. Data Input Object # 3'!J11","v":0},{"$f":"'25. Data Input Object # 3'!K11","v":0},{"$f":"'25. Data Input Object # 3'!L11","v":0},{"$f":"'25. Data Input Object # 3'!M11","v":1},{"$f":"'25. Data Input Object # 3'!N11","v":0},{"$f":"'25. Data Input Object # 3'!O11","v":0},{"$f":"'25. Data Input Object # 3'!P11","v":0},{"$f":"'25. Data Input Object # 3'!Q11","v":0},{"$f":"'25. Data Input Object # 3'!R11","v":1},{"$f":"'25. Data Input Object # 3'!S11","v":0},{"$f":"'25. Data Input Object # 3'!T11","v":0},{"$f":"'25. Data Input Object # 3'!U11","v":0},{"$f":"'25. Data Input Object # 3'!V11","v":0},{"$f":"'25. Data Input Object # 3'!W11","v":0},{"$f":"'25. Data Input Object # 3'!X11","v":0},{"$f":"'25. Data Input Object # 3'!Y11","v":0},{"$f":"'25. Data Input Object # 3'!Z11","v":0},{"$f":"'25. Data Input Object # 3'!AA11","v":0},{"$f":"'25. Data Input Object # 3'!AB11","v":0},{"$f":"'25. Data Input Object # 3'!AC11","v":0},{"$f":"'25. Data Input Object # 3'!AD11","v":0},{"$f":"'25. Data Input Object # 3'!AE11","v":0},{"$f":"'25. Data Input Object # 3'!AF11","v":0},{"$f":"'25. Data Input Object # 3'!AG11","v":0},{"$f":"'25. Data Input Object # 3'!AH11","v":0},{"$f":"'25. Data Input Object # 3'!AI11","v":0},{"$f":"'25. Data Input Object # 3'!AJ11","v":0},{"$f":"'25. Data Input Object # 3'!AK11","v":0},{"$f":"'25. Data Input Object # 3'!AL11","v":0},{"$f":"'25. Data Input Object # 3'!AM11","v":0},{"$f":"'25. Data Input Object # 3'!AN11","v":0},{"$f":"'25. Data Input Object # 3'!AO11","v":0},{"$f":"'25. Data Input Object # 3'!AP11","v":0},{"$f":"'25. Data Input Object # 3'!AQ11","v":0},{"$f":"'25. Data Input Object # 3'!AR11","v":0},{"$f":"'25. Data Input Object # 3'!AS11","v":0},{"$f":"'25. Data Input Object # 3'!AT11","v":0},{"$f":"'25. Data Input Object # 3'!AU11","v":0},{"$f":"'25. Data Input Object # 3'!AV11","v":0},{"$f":"'25. Data Input Object # 3'!AW11","v":0},{"$f":"'25. Data Input Object # 3'!AX11","v":0},{"$f":"'25. Data Input Object # 3'!AY11","v":0},{"$f":"'25. Data Input Object # 3'!AZ11","v":0},{"$f":"'25. Data Input Object # 3'!BA11","v":0},{"$f":"'25. Data Input Object # 3'!BB11","v":0},{"$f":"'25. Data Input Object # 3'!BC11","v":0},{"$f":"'25. Data Input Object # 3'!BD11","v":0},{"$f":"'25. Data Input Object # 3'!BE11","v":0},{"$f":"'25. Data Input Object # 3'!BF11","v":0},{"$f":"'25. Data Input Object # 3'!BG11","v":0},{"$f":"'25. Data Input Object # 3'!BH11","v":0},{"$f":"'25. Data Input Object # 3'!BI11","v":0},{"$f":"'25. Data Input Object # 3'!BJ11","v":0},{"$f":"'25. Data Input Object # 3'!BK11","v":0},{"$f":"'25. Data Input Object # 3'!BL11","v":0},{"$f":"'25. Data Input Object # 3'!BM11","v":0},{"$f":"'25. Data Input Object # 3'!BN11","v":0},{"$f":"'25. Data Input Object # 3'!BO11","v":0},{"$f":"'25. Data Input Object # 3'!BP11","v":0},{"$f":"'25. Data Input Object # 3'!BQ11","v":0},{"$f":"'25. Data Input Object # 3'!BR11","v":0},{"$f":"'25. Data Input Object # 3'!BS11","v":0},{"$f":"'25. Data Input Object # 3'!BT11","v":0},{"$f":"'25. Data Input Object # 3'!BU11","v":0},{"$f":"'25. Data Input Object # 3'!BV11","v":0},{"$f":"'25. Data Input Object # 3'!BW11","v":0},{"$f":"'25. Data Input Object # 3'!BX11","v":0},{"$f":"'25. Data Input Object # 3'!BY11","v":0},{"$f":"'25. Data Input Object # 3'!BZ11","v":0},{"$f":"'25. Data Input Object # 3'!CA11","v":0}]
[{"$f":"'25. Data Input Object # 3'!A12","v":28},{"$f":"'25. Data Input Object # 3'!B12","v":11},{"$f":"'25. Data Input Object # 3'!C12","v":0},{"$f":"'25. Data Input Object # 3'!D12","v":0},{"$f":"'25. Data Input Object # 3'!E12","v":0},{"$f":"'25. Data Input Object # 3'!F12","v":0},{"$f":"'25. Data Input Object # 3'!G12","v":0},{"$f":"'25. Data Input Object # 3'!H12","v":0},{"$f":"'25. Data Input Object # 3'!I12","v":1},{"$f":"'25. Data Input Object # 3'!J12","v":0},{"$f":"'25. Data Input Object # 3'!K12","v":0},{"$f":"'25. Data Input Object # 3'!L12","v":0},{"$f":"'25. Data Input Object # 3'!M12","v":0},{"$f":"'25. Data Input Object # 3'!N12","v":0},{"$f":"'25. Data Input Object # 3'!O12","v":0},{"$f":"'25. Data Input Object # 3'!P12","v":0},{"$f":"'25. Data Input Object # 3'!Q12","v":0},{"$f":"'25. Data Input Object # 3'!R12","v":0},{"$f":"'25. Data Input Object # 3'!S12","v":0},{"$f":"'25. Data Input Object # 3'!T12","v":0},{"$f":"'25. Data Input Object # 3'!U12","v":0},{"$f":"'25. Data Input Object # 3'!V12","v":0},{"$f":"'25. Data Input Object # 3'!W12","v":0},{"$f":"'25. Data Input Object # 3'!X12","v":0},{"$f":"'25. Data Input Object # 3'!Y12","v":0},{"$f":"'25. Data Input Object # 3'!Z12","v":0},{"$f":"'25. Data Input Object # 3'!AA12","v":0},{"$f":"'25. Data Input Object # 3'!AB12","v":0},{"$f":"'25. Data Input Object # 3'!AC12","v":0},{"$f":"'25. Data Input Object # 3'!AD12","v":0},{"$f":"'25. Data Input Object # 3'!AE12","v":0},{"$f":"'25. Data Input Object # 3'!AF12","v":0},{"$f":"'25. Data Input Object # 3'!AG12","v":0},{"$f":"'25. Data Input Object # 3'!AH12","v":0},{"$f":"'25. Data Input Object # 3'!AI12","v":0},{"$f":"'25. Data Input Object # 3'!AJ12","v":0},{"$f":"'25. Data Input Object # 3'!AK12","v":0},{"$f":"'25. Data Input Object # 3'!AL12","v":0},{"$f":"'25. Data Input Object # 3'!AM12","v":0},{"$f":"'25. Data Input Object # 3'!AN12","v":0},{"$f":"'25. Data Input Object # 3'!AO12","v":0},{"$f":"'25. Data Input Object # 3'!AP12","v":0},{"$f":"'25. Data Input Object # 3'!AQ12","v":0},{"$f":"'25. Data Input Object # 3'!AR12","v":0},{"$f":"'25. Data Input Object # 3'!AS12","v":0},{"$f":"'25. Data Input Object # 3'!AT12","v":0},{"$f":"'25. Data Input Object # 3'!AU12","v":0},{"$f":"'25. Data Input Object # 3'!AV12","v":0},{"$f":"'25. Data Input Object # 3'!AW12","v":0},{"$f":"'25. Data Input Object # 3'!AX12","v":0},{"$f":"'25. Data Input Object # 3'!AY12","v":0},{"$f":"'25. Data Input Object # 3'!AZ12","v":0},{"$f":"'25. Data Input Object # 3'!BA12","v":0},{"$f":"'25. Data Input Object # 3'!BB12","v":0},{"$f":"'25. Data Input Object # 3'!BC12","v":0},{"$f":"'25. Data Input Object # 3'!BD12","v":0},{"$f":"'25. Data Input Object # 3'!BE12","v":0},{"$f":"'25. Data Input Object # 3'!BF12","v":0},{"$f":"'25. Data Input Object # 3'!BG12","v":0},{"$f":"'25. Data Input Object # 3'!BH12","v":0},{"$f":"'25. Data Input Object # 3'!BI12","v":0},{"$f":"'25. Data Input Object # 3'!BJ12","v":0},{"$f":"'25. Data Input Object # 3'!BK12","v":0},{"$f":"'25. Data Input Object # 3'!BL12","v":0},{"$f":"'25. Data Input Object # 3'!BM12","v":0},{"$f":"'25. Data Input Object # 3'!BN12","v":0},{"$f":"'25. Data Input Object # 3'!BO12","v":0},{"$f":"'25. Data Input Object # 3'!BP12","v":0},{"$f":"'25. Data Input Object # 3'!BQ12","v":0},{"$f":"'25. Data Input Object # 3'!BR12","v":0},{"$f":"'25. Data Input Object # 3'!BS12","v":0},{"$f":"'25. Data Input Object # 3'!BT12","v":0},{"$f":"'25. Data Input Object # 3'!BU12","v":0},{"$f":"'25. Data Input Object # 3'!BV12","v":0},{"$f":"'25. Data Input Object # 3'!BW12","v":0},{"$f":"'25. Data Input Object # 3'!BX12","v":0},{"$f":"'25. Data Input Object # 3'!BY12","v":0},{"$f":"'25. Data Input Object # 3'!BZ12","v":0},{"$f":"'25. Data Input Object # 3'!CA12","v":0}]
[{"$f":"'25. Data Input Object # 3'!A13","v":29},{"$f":"'25. Data Input Object # 3'!B13","v":6},{"$f":"'25. Data Input Object # 3'!C13","v":1},{"$f":"'25. Data Input Object # 3'!D13","v":1},{"$f":"'25. Data Input Object # 3'!E13","v":0},{"$f":"'25. Data Input Object # 3'!F13","v":1},{"$f":"'25. Data Input Object # 3'!G13","v":0},{"$f":"'25. Data Input Object # 3'!H13","v":1},{"$f":"'25. Data Input Object # 3'!I13","v":1},{"$f":"'25. Data Input Object # 3'!J13","v":1},{"$f":"'25. Data Input Object # 3'!K13","v":1},{"$f":"'25. Data Input Object # 3'!L13","v":0},{"$f":"'25. Data Input Object # 3'!M13","v":1},{"$f":"'25. Data Input Object # 3'!N13","v":1},{"$f":"'25. Data Input Object # 3'!O13","v":1},{"$f":"'25. Data Input Object # 3'!P13","v":1},{"$f":"'25. Data Input Object # 3'!Q13","v":1},{"$f":"'25. Data Input Object # 3'!R13","v":1},{"$f":"'25. Data Input Object # 3'!S13","v":0},{"$f":"'25. Data Input Object # 3'!T13","v":0},{"$f":"'25. Data Input Object # 3'!U13","v":1},{"$f":"'25. Data Input Object # 3'!V13","v":1},{"$f":"'25. Data Input Object # 3'!W13","v":1},{"$f":"'25. Data Input Object # 3'!X13","v":0},{"$f":"'25. Data Input Object # 3'!Y13","v":1},{"$f":"'25. Data Input Object # 3'!Z13","v":1},{"$f":"'25. Data Input Object # 3'!AA13","v":1},{"$f":"'25. Data Input Object # 3'!AB13","v":1},{"$f":"'25. Data Input Object # 3'!AC13","v":1},{"$f":"'25. Data Input Object # 3'!AD13","v":1},{"$f":"'25. Data Input Object # 3'!AE13","v":1},{"$f":"'25. Data Input Object # 3'!AF13","v":1},{"$f":"'25. Data Input Object # 3'!AG13","v":1},{"$f":"'25. Data Input Object # 3'!AH13","v":1},{"$f":"'25. Data Input Object # 3'!AI13","v":0},{"$f":"'25. Data Input Object # 3'!AJ13","v":1},{"$f":"'25. Data Input Object # 3'!AK13","v":0},{"$f":"'25. Data Input Object # 3'!AL13","v":0},{"$f":"'25. Data Input Object # 3'!AM13","v":0},{"$f":"'25. Data Input Object # 3'!AN13","v":0},{"$f":"'25. Data Input Object # 3'!AO13","v":0},{"$f":"'25. Data Input Object # 3'!AP13","v":0},{"$f":"'25. Data Input Object # 3'!AQ13","v":0},{"$f":"'25. Data Input Object # 3'!AR13","v":0},{"$f":"'25. Data Input Object # 3'!AS13","v":0},{"$f":"'25. Data Input Object # 3'!AT13","v":0},{"$f":"'25. Data Input Object # 3'!AU13","v":0},{"$f":"'25. Data Input Object # 3'!AV13","v":0},{"$f":"'25. Data Input Object # 3'!AW13","v":0},{"$f":"'25. Data Input Object # 3'!AX13","v":0},{"$f":"'25. Data Input Object # 3'!AY13","v":0},{"$f":"'25. Data Input Object # 3'!AZ13","v":0},{"$f":"'25. Data Input Object # 3'!BA13","v":0},{"$f":"'25. Data Input Object # 3'!BB13","v":0},{"$f":"'25. Data Input Object # 3'!BC13","v":0},{"$f":"'25. Data Input Object # 3'!BD13","v":0},{"$f":"'25. Data Input Object # 3'!BE13","v":0},{"$f":"'25. Data Input Object # 3'!BF13","v":0},{"$f":"'25. Data Input Object # 3'!BG13","v":0},{"$f":"'25. Data Input Object # 3'!BH13","v":0},{"$f":"'25. Data Input Object # 3'!BI13","v":0},{"$f":"'25. Data Input Object # 3'!BJ13","v":0},{"$f":"'25. Data Input Object # 3'!BK13","v":0},{"$f":"'25. Data Input Object # 3'!BL13","v":0},{"$f":"'25. Data Input Object # 3'!BM13","v":0},{"$f":"'25. Data Input Object # 3'!BN13","v":0},{"$f":"'25. Data Input Object # 3'!BO13","v":0},{"$f":"'25. Data Input Object # 3'!BP13","v":0},{"$f":"'25. Data Input Object # 3'!BQ13","v":0},{"$f":"'25. Data Input Object # 3'!BR13","v":0},{"$f":"'25. Data Input Object # 3'!BS13","v":0},{"$f":"'25. Data Input Object # 3'!BT13","v":0},{"$f":"'25. Data Input Object # 3'!BU13","v":0},{"$f":"'25. Data Input Object # 3'!BV13","v":0},{"$f":"'25. Data Input Object # 3'!BW13","v":0},{"$f":"'25. Data Input Object # 3'!BX13","v":0},{"$f":"'25. Data Input Object # 3'!BY13","v":0},{"$f":"'25. Data Input Object # 3'!BZ13","v":0},{"$f":"'25. Data Input Object # 3'!CA13","v":0}]
[{"$f":"'25. Data Input Object # 3'!A14","v":34},{"$f":"'25. Data Input Object # 3'!B14","v":1},{"$f":"'25. Data Input Object # 3'!C14","v":1},{"$f":"'25. Data Input Object # 3'!D14","v":1},{"$f":"'25. Data Input Object # 3'!E14","v":0},{"$f":"'25. Data Input Object # 3'!F14","v":0},{"$f":"'25. Data Input Object # 3'!G14","v":1},{"$f":"'25. Data Input Object # 3'!H14","v":1},{"$f":"'25. Data Input Object # 3'!I14","v":1},{"$f":"'25. Data Input Object # 3'!J14","v":0},{"$f":"'25. Data Input Object # 3'!K14","v":0},{"$f":"'25. Data Input Object # 3'!L14","v":1},{"$f":"'25. Data Input Object # 3'!M14","v":0},{"$f":"'25. Data Input Object # 3'!N14","v":1},{"$f":"'25. Data Input Object # 3'!O14","v":1},{"$f":"'25. Data Input Object # 3'!P14","v":0},{"$f":"'25. Data Input Object # 3'!Q14","v":0},{"$f":"'25. Data Input Object # 3'!R14","v":1},{"$f":"'25. Data Input Object # 3'!S14","v":0},{"$f":"'25. Data Input Object # 3'!T14","v":0},{"$f":"'25. Data Input Object # 3'!U14","v":0},{"$f":"'25. Data Input Object # 3'!V14","v":1},{"$f":"'25. Data Input Object # 3'!W14","v":0},{"$f":"'25. Data Input Object # 3'!X14","v":1},{"$f":"'25. Data Input Object # 3'!Y14","v":0},{"$f":"'25. Data Input Object # 3'!Z14","v":1},{"$f":"'25. Data Input Object # 3'!AA14","v":1},{"$f":"'25. Data Input Object # 3'!AB14","v":0},{"$f":"'25. Data Input Object # 3'!AC14","v":1},{"$f":"'25. Data Input Object # 3'!AD14","v":1},{"$f":"'25. Data Input Object # 3'!AE14","v":1},{"$f":"'25. Data Input Object # 3'!AF14","v":0},{"$f":"'25. Data Input Object # 3'!AG14","v":0},{"$f":"'25. Data Input Object # 3'!AH14","v":1},{"$f":"'25. Data Input Object # 3'!AI14","v":1},{"$f":"'25. Data Input Object # 3'!AJ14","v":1},{"$f":"'25. Data Input Object # 3'!AK14","v":0},{"$f":"'25. Data Input Object # 3'!AL14","v":0},{"$f":"'25. Data Input Object # 3'!AM14","v":0},{"$f":"'25. Data Input Object # 3'!AN14","v":0},{"$f":"'25. Data Input Object # 3'!AO14","v":0},{"$f":"'25. Data Input Object # 3'!AP14","v":0},{"$f":"'25. Data Input Object # 3'!AQ14","v":0},{"$f":"'25. Data Input Object # 3'!AR14","v":0},{"$f":"'25. Data Input Object # 3'!AS14","v":0},{"$f":"'25. Data Input Object # 3'!AT14","v":0},{"$f":"'25. Data Input Object # 3'!AU14","v":0},{"$f":"'25. Data Input Object # 3'!AV14","v":0},{"$f":"'25. Data Input Object # 3'!AW14","v":0},{"$f":"'25. Data Input Object # 3'!AX14","v":0},{"$f":"'25. Data Input Object # 3'!AY14","v":0},{"$f":"'25. Data Input Object # 3'!AZ14","v":0},{"$f":"'25. Data Input Object # 3'!BA14","v":0},{"$f":"'25. Data Input Object # 3'!BB14","v":0},{"$f":"'25. Data Input Object # 3'!BC14","v":0},{"$f":"'25. Data Input Object # 3'!BD14","v":0},{"$f":"'25. Data Input Object # 3'!BE14","v":0},{"$f":"'25. Data Input Object # 3'!BF14","v":0},{"$f":"'25. Data Input Object # 3'!BG14","v":0},{"$f":"'25. Data Input Object # 3'!BH14","v":0},{"$f":"'25. Data Input Object # 3'!BI14","v":0},{"$f":"'25. Data Input Object # 3'!BJ14","v":0},{"$f":"'25. Data Input Object # 3'!BK14","v":0},{"$f":"'25. Data Input Object # 3'!BL14","v":0},{"$f":"'25. Data Input Object # 3'!BM14","v":0},{"$f":"'25. Data Input Object # 3'!BN14","v":0},{"$f":"'25. Data Input Object # 3'!BO14","v":0},{"$f":"'25. Data Input Object # 3'!BP14","v":0},{"$f":"'25. Data Input Object # 3'!BQ14","v":0},{"$f":"'25. Data Input Object # 3'!BR14","v":0},{"$f":"'25. Data Input Object # 3'!BS14","v":0},{"$f":"'25. Data Input Object # 3'!BT14","v":0},{"$f":"'25. Data Input Object # 3'!BU14","v":0},{"$f":"'25. Data Input Object # 3'!BV14","v":0},{"$f":"'25. Data Input Object # 3'!BW14","v":0},{"$f":"'25. Data Input Object # 3'!BX14","v":0},{"$f":"'25. Data Input Object # 3'!BY14","v":0},{"$f":"'25. Data Input Object # 3'!BZ14","v":0},{"$f":"'25. Data Input Object # 3'!CA14","v":0}]
[{"$f":"'25. Data Input Object # 3'!A15","v":35},{"$f":"'25. Data Input Object # 3'!B15","v":14},{"$f":"'25. Data Input Object # 3'!C15","v":0},{"$f":"'25. Data Input Object # 3'!D15","v":0},{"$f":"'25. Data Input Object # 3'!E15","v":0},{"$f":"'25. Data Input Object # 3'!F15","v":0},{"$f":"'25. Data Input Object # 3'!G15","v":0},{"$f":"'25. Data Input Object # 3'!H15","v":0},{"$f":"'25. Data Input Object # 3'!I15","v":0},{"$f":"'25. Data Input Object # 3'!J15","v":0},{"$f":"'25. Data Input Object # 3'!K15","v":0},{"$f":"'25. Data Input Object # 3'!L15","v":0},{"$f":"'25. Data Input Object # 3'!M15","v":0},{"$f":"'25. Data Input Object # 3'!N15","v":0},{"$f":"'25. Data Input Object # 3'!O15","v":0},{"$f":"'25. Data Input Object # 3'!P15","v":0},{"$f":"'25. Data Input Object # 3'!Q15","v":0},{"$f":"'25. Data Input Object # 3'!R15","v":0},{"$f":"'25. Data Input Object # 3'!S15","v":0},{"$f":"'25. Data Input Object # 3'!T15","v":0},{"$f":"'25. Data Input Object # 3'!U15","v":0},{"$f":"'25. Data Input Object # 3'!V15","v":0},{"$f":"'25. Data Input Object # 3'!W15","v":0},{"$f":"'25. Data Input Object # 3'!X15","v":0},{"$f":"'25. Data Input Object # 3'!Y15","v":0},{"$f":"'25. Data Input Object # 3'!Z15","v":0},{"$f":"'25. Data Input Object # 3'!AA15","v":0},{"$f":"'25. Data Input Object # 3'!AB15","v":0},{"$f":"'25. Data Input Object # 3'!AC15","v":1},{"$f":"'25. Data Input Object # 3'!AD15","v":0},{"$f":"'25. Data Input Object # 3'!AE15","v":0},{"$f":"'25. Data Input Object # 3'!AF15","v":0},{"$f":"'25. Data Input Object # 3'!AG15","v":0},{"$f":"'25. Data Input Object # 3'!AH15","v":0},{"$f":"'25. Data Input Object # 3'!AI15","v":0},{"$f":"'25. Data Input Object # 3'!AJ15","v":0},{"$f":"'25. Data Input Object # 3'!AK15","v":0},{"$f":"'25. Data Input Object # 3'!AL15","v":0},{"$f":"'25. Data Input Object # 3'!AM15","v":0},{"$f":"'25. Data Input Object # 3'!AN15","v":0},{"$f":"'25. Data Input Object # 3'!AO15","v":0},{"$f":"'25. Data Input Object # 3'!AP15","v":0},{"$f":"'25. Data Input Object # 3'!AQ15","v":0},{"$f":"'25. Data Input Object # 3'!AR15","v":0},{"$f":"'25. Data Input Object # 3'!AS15","v":0},{"$f":"'25. Data Input Object # 3'!AT15","v":0},{"$f":"'25. Data Input Object # 3'!AU15","v":0},{"$f":"'25. Data Input Object # 3'!AV15","v":0},{"$f":"'25. Data Input Object # 3'!AW15","v":0},{"$f":"'25. Data Input Object # 3'!AX15","v":0},{"$f":"'25. Data Input Object # 3'!AY15","v":0},{"$f":"'25. Data Input Object # 3'!AZ15","v":0},{"$f":"'25. Data Input Object # 3'!BA15","v":0},{"$f":"'25. Data Input Object # 3'!BB15","v":0},{"$f":"'25. Data Input Object # 3'!BC15","v":0},{"$f":"'25. Data Input Object # 3'!BD15","v":0},{"$f":"'25. Data Input Object # 3'!BE15","v":0},{"$f":"'25. Data Input Object # 3'!BF15","v":0},{"$f":"'25. Data Input Object # 3'!BG15","v":0},{"$f":"'25. Data Input Object # 3'!BH15","v":0},{"$f":"'25. Data Input Object # 3'!BI15","v":0},{"$f":"'25. Data Input Object # 3'!BJ15","v":0},{"$f":"'25. Data Input Object # 3'!BK15","v":0},{"$f":"'25. Data Input Object # 3'!BL15","v":0},{"$f":"'25. Data Input Object # 3'!BM15","v":0},{"$f":"'25. Data Input Object # 3'!BN15","v":0},{"$f":"'25. Data Input Object # 3'!BO15","v":0},{"$f":"'25. Data Input Object # 3'!BP15","v":0},{"$f":"'25. Data Input Object # 3'!BQ15","v":0},{"$f":"'25. Data Input Object # 3'!BR15","v":0},{"$f":"'25. Data Input Object # 3'!BS15","v":0},{"$f":"'25. Data Input Object # 3'!BT15","v":0},{"$f":"'25. Data Input Object # 3'!BU15","v":0},{"$f":"'25. Data Input Object # 3'!BV15","v":0},{"$f":"'25. Data Input Object # 3'!BW15","v":0},{"$f":"'25. Data Input Object # 3'!BX15","v":0},{"$f":"'25. Data Input Object # 3'!BY15","v":0},{"$f":"'25. Data Input Object # 3'!BZ15","v":0},{"$f":"'25. Data Input Object # 3'!CA15","v":0}]
[{"$f":"'25. Data Input Object # 3'!A16","v":37},{"$f":"'25. Data Input Object # 3'!B16","v":8},{"$f":"'25. Data Input Object # 3'!C16","v":0},{"$f":"'25. Data Input Object # 3'!D16","v":0},{"$f":"'25. Data Input Object # 3'!E16","v":0},{"$f":"'25. Data Input Object # 3'!F16","v":0},{"$f":"'25. Data Input Object # 3'!G16","v":0},{"$f":"'25. Data Input Object # 3'!H16","v":0},{"$f":"'25. Data Input Object # 3'!I16","v":1},{"$f":"'25. Data Input Object # 3'!J16","v":0},{"$f":"'25. Data Input Object # 3'!K16","v":0},{"$f":"'25. Data Input Object # 3'!L16","v":0},{"$f":"'25. Data Input Object # 3'!M16","v":0},{"$f":"'25. Data Input Object # 3'!N16","v":1},{"$f":"'25. Data Input Object # 3'!O16","v":0},{"$f":"'25. Data Input Object # 3'!P16","v":1},{"$f":"'25. Data Input Object # 3'!Q16","v":0},{"$f":"'25. Data Input Object # 3'!R16","v":0},{"$f":"'25. Data Input Object # 3'!S16","v":0},{"$f":"'25. Data Input Object # 3'!T16","v":0},{"$f":"'25. Data Input Object # 3'!U16","v":0},{"$f":"'25. Data Input Object # 3'!V16","v":0},{"$f":"'25. Data Input Object # 3'!W16","v":0},{"$f":"'25. Data Input Object # 3'!X16","v":0},{"$f":"'25. Data Input Object # 3'!Y16","v":0},{"$f":"'25. Data Input Object # 3'!Z16","v":1},{"$f":"'25. Data Input Object # 3'!AA16","v":0},{"$f":"'25. Data Input Object # 3'!AB16","v":0},{"$f":"'25. Data Input Object # 3'!AC16","v":0},{"$f":"'25. Data Input Object # 3'!AD16","v":0},{"$f":"'25. Data Input Object # 3'!AE16","v":0},{"$f":"'25. Data Input Object # 3'!AF16","v":0},{"$f":"'25. Data Input Object # 3'!AG16","v":0},{"$f":"'25. Data Input Object # 3'!AH16","v":0},{"$f":"'25. Data Input Object # 3'!AI16","v":0},{"$f":"'25. Data Input Object # 3'!AJ16","v":0},{"$f":"'25. Data Input Object # 3'!AK16","v":0},{"$f":"'25. Data Input Object # 3'!AL16","v":0},{"$f":"'25. Data Input Object # 3'!AM16","v":0},{"$f":"'25. Data Input Object # 3'!AN16","v":0},{"$f":"'25. Data Input Object # 3'!AO16","v":0},{"$f":"'25. Data Input Object # 3'!AP16","v":0},{"$f":"'25. Data Input Object # 3'!AQ16","v":0},{"$f":"'25. Data Input Object # 3'!AR16","v":0},{"$f":"'25. Data Input Object # 3'!AS16","v":0},{"$f":"'25. Data Input Object # 3'!AT16","v":0},{"$f":"'25. Data Input Object # 3'!AU16","v":0},{"$f":"'25. Data Input Object # 3'!AV16","v":0},{"$f":"'25. Data Input Object # 3'!AW16","v":0},{"$f":"'25. Data Input Object # 3'!AX16","v":0},{"$f":"'25. Data Input Object # 3'!AY16","v":0},{"$f":"'25. Data Input Object # 3'!AZ16","v":0},{"$f":"'25. Data Input Object # 3'!BA16","v":0},{"$f":"'25. Data Input Object # 3'!BB16","v":0},{"$f":"'25. Data Input Object # 3'!BC16","v":0},{"$f":"'25. Data Input Object # 3'!BD16","v":0},{"$f":"'25. Data Input Object # 3'!BE16","v":0},{"$f":"'25. Data Input Object # 3'!BF16","v":0},{"$f":"'25. Data Input Object # 3'!BG16","v":0},{"$f":"'25. Data Input Object # 3'!BH16","v":0},{"$f":"'25. Data Input Object # 3'!BI16","v":0},{"$f":"'25. Data Input Object # 3'!BJ16","v":0},{"$f":"'25. Data Input Object # 3'!BK16","v":0},{"$f":"'25. Data Input Object # 3'!BL16","v":0},{"$f":"'25. Data Input Object # 3'!BM16","v":0},{"$f":"'25. Data Input Object # 3'!BN16","v":0},{"$f":"'25. Data Input Object # 3'!BO16","v":0},{"$f":"'25. Data Input Object # 3'!BP16","v":0},{"$f":"'25. Data Input Object # 3'!BQ16","v":0},{"$f":"'25. Data Input Object # 3'!BR16","v":0},{"$f":"'25. Data Input Object # 3'!BS16","v":0},{"$f":"'25. Data Input Object # 3'!BT16","v":0},{"$f":"'25. Data Input Object # 3'!BU16","v":0},{"$f":"'25. Data Input Object # 3'!BV16","v":0},{"$f":"'25. Data Input Object # 3'!BW16","v":0},{"$f":"'25. Data Input Object # 3'!BX16","v":0},{"$f":"'25. Data Input Object # 3'!BY16","v":0},{"$f":"'25. Data Input Object # 3'!BZ16","v":0},{"$f":"'25. Data Input Object # 3'!CA16","v":0}]
[{"$f":"'25. Data Input Object # 3'!A17","v":40},{"$f":"'25. Data Input Object # 3'!B17","v":5},{"$f":"'25. Data Input Object # 3'!C17","v":0},{"$f":"'25. Data Input Object # 3'!D17","v":1},{"$f":"'25. Data Input Object # 3'!E17","v":0},{"$f":"'25. Data Input Object # 3'!F17","v":0},{"$f":"'25. Data Input Object # 3'!G17","v":1},{"$f":"'25. Data Input Object # 3'!H17","v":1},{"$f":"'25. Data Input Object # 3'!I17","v":1},{"$f":"'25. Data Input Object # 3'!J17","v":0},{"$f":"'25. Data Input Object # 3'!K17","v":1},{"$f":"'25. Data Input Object # 3'!L17","v":1},{"$f":"'25. Data Input Object # 3'!M17","v":0},{"$f":"'25. Data Input Object # 3'!N17","v":1},{"$f":"'25. Data Input Object # 3'!O17","v":1},{"$f":"'25. Data Input Object # 3'!P17","v":1},{"$f":"'25. Data Input Object # 3'!Q17","v":1},{"$f":"'25. Data Input Object # 3'!R17","v":1},{"$f":"'25. Data Input Object # 3'!S17","v":1},{"$f":"'25. Data Input Object # 3'!T17","v":1},{"$f":"'25. Data Input Object # 3'!U17","v":1},{"$f":"'25. Data Input Object # 3'!V17","v":1},{"$f":"'25. Data Input Object # 3'!W17","v":1},{"$f":"'25. Data Input Object # 3'!X17","v":0},{"$f":"'25. Data Input Object # 3'!Y17","v":1},{"$f":"'25. Data Input Object # 3'!Z17","v":0},{"$f":"'25. Data Input Object # 3'!AA17","v":0},{"$f":"'25. Data Input Object # 3'!AB17","v":1},{"$f":"'25. Data Input Object # 3'!AC17","v":1},{"$f":"'25. Data Input Object # 3'!AD17","v":1},{"$f":"'25. Data Input Object # 3'!AE17","v":1},{"$f":"'25. Data Input Object # 3'!AF17","v":1},{"$f":"'25. Data Input Object # 3'!AG17","v":1},{"$f":"'25. Data Input Object # 3'!AH17","v":1},{"$f":"'25. Data Input Object # 3'!AI17","v":0},{"$f":"'25. Data Input Object # 3'!AJ17","v":0},{"$f":"'25. Data Input Object # 3'!AK17","v":0},{"$f":"'25. Data Input Object # 3'!AL17","v":0},{"$f":"'25. Data Input Object # 3'!AM17","v":0},{"$f":"'25. Data Input Object # 3'!AN17","v":0},{"$f":"'25. Data Input Object # 3'!AO17","v":0},{"$f":"'25. Data Input Object # 3'!AP17","v":0},{"$f":"'25. Data Input Object # 3'!AQ17","v":0},{"$f":"'25. Data Input Object # 3'!AR17","v":0},{"$f":"'25. Data Input Object # 3'!AS17","v":0},{"$f":"'25. Data Input Object # 3'!AT17","v":0},{"$f":"'25. Data Input Object # 3'!AU17","v":0},{"$f":"'25. Data Input Object # 3'!AV17","v":0},{"$f":"'25. Data Input Object # 3'!AW17","v":0},{"$f":"'25. Data Input Object # 3'!AX17","v":0},{"$f":"'25. Data Input Object # 3'!AY17","v":0},{"$f":"'25. Data Input Object # 3'!AZ17","v":0},{"$f":"'25. Data Input Object # 3'!BA17","v":0},{"$f":"'25. Data Input Object # 3'!BB17","v":0},{"$f":"'25. Data Input Object # 3'!BC17","v":0},{"$f":"'25. Data Input Object # 3'!BD17","v":0},{"$f":"'25. Data Input Object # 3'!BE17","v":0},{"$f":"'25. Data Input Object # 3'!BF17","v":0},{"$f":"'25. Data Input Object # 3'!BG17","v":0},{"$f":"'25. Data Input Object # 3'!BH17","v":0},{"$f":"'25. Data Input Object # 3'!BI17","v":0},{"$f":"'25. Data Input Object # 3'!BJ17","v":0},{"$f":"'25. Data Input Object # 3'!BK17","v":0},{"$f":"'25. Data Input Object # 3'!BL17","v":0},{"$f":"'25. Data Input Object # 3'!BM17","v":0},{"$f":"'25. Data Input Object # 3'!BN17","v":0},{"$f":"'25. Data Input Object # 3'!BO17","v":0},{"$f":"'25. Data Input Object # 3'!BP17","v":0},{"$f":"'25. Data Input Object # 3'!BQ17","v":0},{"$f":"'25. Data Input Object # 3'!BR17","v":0},{"$f":"'25. Data Input Object # 3'!BS17","v":0},{"$f":"'25. Data Input Object # 3'!BT17","v":0},{"$f":"'25. Data Input Object # 3'!BU17","v":0},{"$f":"'25. Data Input Object # 3'!BV17","v":0},{"$f":"'25. Data Input Object # 3'!BW17","v":0},{"$f":"'25. Data Input Object # 3'!BX17","v":0},{"$f":"'25. Data Input Object # 3'!BY17","v":0},{"$f":"'25. Data Input Object # 3'!BZ17","v":0},{"$f":"'25. Data Input Object # 3'!CA17","v":0}]
[{"$f":"'25. Data Input Object # 3'!A18","v":42},{"$f":"'25. Data Input Object # 3'!B18","v":6},{"$f":"'25. Data Input Object # 3'!C18","v":1},{"$f":"'25. Data Input Object # 3'!D18","v":0},{"$f":"'25. Data Input Object # 3'!E18","v":0},{"$f":"'25. Data Input Object # 3'!F18","v":0},{"$f":"'25. Data Input Object # 3'!G18","v":0},{"$f":"'25. Data Input Object # 3'!H18","v":0},{"$f":"'25. Data Input Object # 3'!I18","v":1},{"$f":"'25. Data Input Object # 3'!J18","v":1},{"$f":"'25. Data Input Object # 3'!K18","v":0},{"$f":"'25. Data Input Object # 3'!L18","v":0},{"$f":"'25. Data Input Object # 3'!M18","v":0},{"$f":"'25. Data Input Object # 3'!N18","v":1},{"$f":"'25. Data Input Object # 3'!O18","v":0},{"$f":"'25. Data Input Object # 3'!P18","v":0},{"$f":"'25. Data Input Object # 3'!Q18","v":0},{"$f":"'25. Data Input Object # 3'!R18","v":1},{"$f":"'25. Data Input Object # 3'!S18","v":0},{"$f":"'25. Data Input Object # 3'!T18","v":1},{"$f":"'25. Data Input Object # 3'!U18","v":1},{"$f":"'25. Data Input Object # 3'!V18","v":0},{"$f":"'25. Data Input Object # 3'!W18","v":0},{"$f":"'25. Data Input Object # 3'!X18","v":0},{"$f":"'25. Data Input Object # 3'!Y18","v":0},{"$f":"'25. Data Input Object # 3'!Z18","v":1},{"$f":"'25. Data Input Object # 3'!AA18","v":0},{"$f":"'25. Data Input Object # 3'!AB18","v":0},{"$f":"'25. Data Input Object # 3'!AC18","v":0},{"$f":"'25. Data Input Object # 3'!AD18","v":0},{"$f":"'25. Data Input Object # 3'!AE18","v":0},{"$f":"'25. Data Input Object # 3'!AF18","v":0},{"$f":"'25. Data Input Object # 3'!AG18","v":1},{"$f":"'25. Data Input Object # 3'!AH18","v":0},{"$f":"'25. Data Input Object # 3'!AI18","v":0},{"$f":"'25. Data Input Object # 3'!AJ18","v":0},{"$f":"'25. Data Input Object # 3'!AK18","v":0},{"$f":"'25. Data Input Object # 3'!AL18","v":0},{"$f":"'25. Data Input Object # 3'!AM18","v":0},{"$f":"'25. Data Input Object # 3'!AN18","v":0},{"$f":"'25. Data Input Object # 3'!AO18","v":0},{"$f":"'25. Data Input Object # 3'!AP18","v":0},{"$f":"'25. Data Input Object # 3'!AQ18","v":0},{"$f":"'25. Data Input Object # 3'!AR18","v":0},{"$f":"'25. Data Input Object # 3'!AS18","v":0},{"$f":"'25. Data Input Object # 3'!AT18","v":0},{"$f":"'25. Data Input Object # 3'!AU18","v":0},{"$f":"'25. Data Input Object # 3'!AV18","v":0},{"$f":"'25. Data Input Object # 3'!AW18","v":0},{"$f":"'25. Data Input Object # 3'!AX18","v":0},{"$f":"'25. Data Input Object # 3'!AY18","v":0},{"$f":"'25. Data Input Object # 3'!AZ18","v":0},{"$f":"'25. Data Input Object # 3'!BA18","v":0},{"$f":"'25. Data Input Object # 3'!BB18","v":0},{"$f":"'25. Data Input Object # 3'!BC18","v":0},{"$f":"'25. Data Input Object # 3'!BD18","v":0},{"$f":"'25. Data Input Object # 3'!BE18","v":0},{"$f":"'25. Data Input Object # 3'!BF18","v":0},{"$f":"'25. Data Input Object # 3'!BG18","v":0},{"$f":"'25. Data Input Object # 3'!BH18","v":0},{"$f":"'25. Data Input Object # 3'!BI18","v":0},{"$f":"'25. Data Input Object # 3'!BJ18","v":0},{"$f":"'25. Data Input Object # 3'!BK18","v":0},{"$f":"'25. Data Input Object # 3'!BL18","v":0},{"$f":"'25. Data Input Object # 3'!BM18","v":0},{"$f":"'25. Data Input Object # 3'!BN18","v":0},{"$f":"'25. Data Input Object # 3'!BO18","v":0},{"$f":"'25. Data Input Object # 3'!BP18","v":0},{"$f":"'25. Data Input Object # 3'!BQ18","v":0},{"$f":"'25. Data Input Object # 3'!BR18","v":0},{"$f":"'25. Data Input Object # 3'!BS18","v":0},{"$f":"'25. Data Input Object # 3'!BT18","v":0},{"$f":"'25. Data Input Object # 3'!BU18","v":0},{"$f":"'25. Data Input Object # 3'!BV18","v":0},{"$f":"'25. Data Input Object # 3'!BW18","v":0},{"$f":"'25. Data Input Object # 3'!BX18","v":0},{"$f":"'25. Data Input Object # 3'!BY18","v":0},{"$f":"'25. Data Input Object # 3'!BZ18","v":0},{"$f":"'25. Data Input Object # 3'!CA18","v":0}]
[{"$f":"'25. Data Input Object # 3'!A19","v":"43v ???"},{"$f":"'25. Data Input Object # 3'!B19","v":0.37},{"$f":"'25. Data Input Object # 3'!C19","v":0},{"$f":"'25. Data Input Object # 3'!D19","v":0},{"$f":"'25. Data Input Object # 3'!E19","v":0},{"$f":"'25. Data Input Object # 3'!F19","v":0},{"$f":"'25. Data Input Object # 3'!G19","v":0},{"$f":"'25. Data Input Object # 3'!H19","v":0},{"$f":"'25. Data Input Object # 3'!I19","v":0},{"$f":"'25. Data Input Object # 3'!J19","v":0},{"$f":"'25. Data Input Object # 3'!K19","v":0},{"$f":"'25. Data Input Object # 3'!L19","v":0},{"$f":"'25. Data Input Object # 3'!M19","v":0},{"$f":"'25. Data Input Object # 3'!N19","v":0},{"$f":"'25. Data Input Object # 3'!O19","v":0},{"$f":"'25. Data Input Object # 3'!P19","v":0},{"$f":"'25. Data Input Object # 3'!Q19","v":0},{"$f":"'25. Data Input Object # 3'!R19","v":0},{"$f":"'25. Data Input Object # 3'!S19","v":0},{"$f":"'25. Data Input Object # 3'!T19","v":0},{"$f":"'25. Data Input Object # 3'!U19","v":0},{"$f":"'25. Data Input Object # 3'!V19","v":0},{"$f":"'25. Data Input Object # 3'!W19","v":0},{"$f":"'25. Data Input Object # 3'!X19","v":0},{"$f":"'25. Data Input Object # 3'!Y19","v":0},{"$f":"'25. Data Input Object # 3'!Z19","v":0},{"$f":"'25. Data Input Object # 3'!AA19","v":0},{"$f":"'25. Data Input Object # 3'!AB19","v":0},{"$f":"'25. Data Input Object # 3'!AC19","v":0},{"$f":"'25. Data Input Object # 3'!AD19","v":0},{"$f":"'25. Data Input Object # 3'!AE19","v":0},{"$f":"'25. Data Input Object # 3'!AF19","v":0},{"$f":"'25. Data Input Object # 3'!AG19","v":0},{"$f":"'25. Data Input Object # 3'!AH19","v":0},{"$f":"'25. Data Input Object # 3'!AI19","v":0},{"$f":"'25. Data Input Object # 3'!AJ19","v":0},{"$f":"'25. Data Input Object # 3'!AK19","v":0},{"$f":"'25. Data Input Object # 3'!AL19","v":0},{"$f":"'25. Data Input Object # 3'!AM19","v":0},{"$f":"'25. Data Input Object # 3'!AN19","v":0},{"$f":"'25. Data Input Object # 3'!AO19","v":0},{"$f":"'25. Data Input Object # 3'!AP19","v":0},{"$f":"'25. Data Input Object # 3'!AQ19","v":0},{"$f":"'25. Data Input Object # 3'!AR19","v":0},{"$f":"'25. Data Input Object # 3'!AS19","v":0},{"$f":"'25. Data Input Object # 3'!AT19","v":0},{"$f":"'25. Data Input Object # 3'!AU19","v":0},{"$f":"'25. Data Input Object # 3'!AV19","v":0},{"$f":"'25. Data Input Object # 3'!AW19","v":0},{"$f":"'25. Data Input Object # 3'!AX19","v":0},{"$f":"'25. Data Input Object # 3'!AY19","v":0},{"$f":"'25. Data Input Object # 3'!AZ19","v":0},{"$f":"'25. Data Input Object # 3'!BA19","v":0},{"$f":"'25. Data Input Object # 3'!BB19","v":0},{"$f":"'25. Data Input Object # 3'!BC19","v":0},{"$f":"'25. Data Input Object # 3'!BD19","v":0},{"$f":"'25. Data Input Object # 3'!BE19","v":0},{"$f":"'25. Data Input Object # 3'!BF19","v":0},{"$f":"'25. Data Input Object # 3'!BG19","v":0},{"$f":"'25. Data Input Object # 3'!BH19","v":0},{"$f":"'25. Data Input Object # 3'!BI19","v":0},{"$f":"'25. Data Input Object # 3'!BJ19","v":0},{"$f":"'25. Data Input Object # 3'!BK19","v":0},{"$f":"'25. Data Input Object # 3'!BL19","v":0},{"$f":"'25. Data Input Object # 3'!BM19","v":0},{"$f":"'25. Data Input Object # 3'!BN19","v":0},{"$f":"'25. Data Input Object # 3'!BO19","v":0},{"$f":"'25. Data Input Object # 3'!BP19","v":0},{"$f":"'25. Data Input Object # 3'!BQ19","v":0},{"$f":"'25. Data Input Object # 3'!BR19","v":0},{"$f":"'25. Data Input Object # 3'!BS19","v":0},{"$f":"'25. Data Input Object # 3'!BT19","v":0},{"$f":"'25. Data Input Object # 3'!BU19","v":0},{"$f":"'25. Data Input Object # 3'!BV19","v":0},{"$f":"'25. Data Input Object # 3'!BW19","v":0},{"$f":"'25. Data Input Object # 3'!BX19","v":0},{"$f":"'25. Data Input Object # 3'!BY19","v":0},{"$f":"'25. Data Input Object # 3'!BZ19","v":0},{"$f":"'25. Data Input Object # 3'!CA19","v":0}]
[{"$f":"'25. Data Input Object # 3'!A20","v":"45v"},{"$f":"'25. Data Input Object # 3'!B20","v":14},{"$f":"'25. Data Input Object # 3'!C20","v":0},{"$f":"'25. Data Input Object # 3'!D20","v":0},{"$f":"'25. Data Input Object # 3'!E20","v":0},{"$f":"'25. Data Input Object # 3'!F20","v":0},{"$f":"'25. Data Input Object # 3'!G20","v":0},{"$f":"'25. Data Input Object # 3'!H20","v":0},{"$f":"'25. Data Input Object # 3'!I20","v":0},{"$f":"'25. Data Input Object # 3'!J20","v":0},{"$f":"'25. Data Input Object # 3'!K20","v":0},{"$f":"'25. Data Input Object # 3'!L20","v":0},{"$f":"'25. Data Input Object # 3'!M20","v":0},{"$f":"'25. Data Input Object # 3'!N20","v":0},{"$f":"'25. Data Input Object # 3'!O20","v":0},{"$f":"'25. Data Input Object # 3'!P20","v":0},{"$f":"'25. Data Input Object # 3'!Q20","v":0},{"$f":"'25. Data Input Object # 3'!R20","v":0},{"$f":"'25. Data Input Object # 3'!S20","v":0},{"$f":"'25. Data Input Object # 3'!T20","v":0},{"$f":"'25. Data Input Object # 3'!U20","v":0},{"$f":"'25. Data Input Object # 3'!V20","v":0},{"$f":"'25. Data Input Object # 3'!W20","v":0},{"$f":"'25. Data Input Object # 3'!X20","v":0},{"$f":"'25. Data Input Object # 3'!Y20","v":0},{"$f":"'25. Data Input Object # 3'!Z20","v":0},{"$f":"'25. Data Input Object # 3'!AA20","v":0},{"$f":"'25. Data Input Object # 3'!AB20","v":0},{"$f":"'25. Data Input Object # 3'!AC20","v":0},{"$f":"'25. Data Input Object # 3'!AD20","v":0},{"$f":"'25. Data Input Object # 3'!AE20","v":0},{"$f":"'25. Data Input Object # 3'!AF20","v":0},{"$f":"'25. Data Input Object # 3'!AG20","v":0},{"$f":"'25. Data Input Object # 3'!AH20","v":0},{"$f":"'25. Data Input Object # 3'!AI20","v":0},{"$f":"'25. Data Input Object # 3'!AJ20","v":0},{"$f":"'25. Data Input Object # 3'!AK20","v":0},{"$f":"'25. Data Input Object # 3'!AL20","v":0},{"$f":"'25. Data Input Object # 3'!AM20","v":0},{"$f":"'25. Data Input Object # 3'!AN20","v":0},{"$f":"'25. Data Input Object # 3'!AO20","v":0},{"$f":"'25. Data Input Object # 3'!AP20","v":0},{"$f":"'25. Data Input Object # 3'!AQ20","v":0},{"$f":"'25. Data Input Object # 3'!AR20","v":0},{"$f":"'25. Data Input Object # 3'!AS20","v":0},{"$f":"'25. Data Input Object # 3'!AT20","v":0},{"$f":"'25. Data Input Object # 3'!AU20","v":0},{"$f":"'25. Data Input Object # 3'!AV20","v":0},{"$f":"'25. Data Input Object # 3'!AW20","v":0},{"$f":"'25. Data Input Object # 3'!AX20","v":0},{"$f":"'25. Data Input Object # 3'!AY20","v":0},{"$f":"'25. Data Input Object # 3'!AZ20","v":0},{"$f":"'25. Data Input Object # 3'!BA20","v":0},{"$f":"'25. Data Input Object # 3'!BB20","v":0},{"$f":"'25. Data Input Object # 3'!BC20","v":0},{"$f":"'25. Data Input Object # 3'!BD20","v":0},{"$f":"'25. Data Input Object # 3'!BE20","v":0},{"$f":"'25. Data Input Object # 3'!BF20","v":0},{"$f":"'25. Data Input Object # 3'!BG20","v":0},{"$f":"'25. Data Input Object # 3'!BH20","v":0},{"$f":"'25. Data Input Object # 3'!BI20","v":0},{"$f":"'25. Data Input Object # 3'!BJ20","v":0},{"$f":"'25. Data Input Object # 3'!BK20","v":0},{"$f":"'25. Data Input Object # 3'!BL20","v":0},{"$f":"'25. Data Input Object # 3'!BM20","v":0},{"$f":"'25. Data Input Object # 3'!BN20","v":0},{"$f":"'25. Data Input Object # 3'!BO20","v":0},{"$f":"'25. Data Input Object # 3'!BP20","v":0},{"$f":"'25. Data Input Object # 3'!BQ20","v":0},{"$f":"'25. Data Input Object # 3'!BR20","v":0},{"$f":"'25. Data Input Object # 3'!BS20","v":0},{"$f":"'25. Data Input Object # 3'!BT20","v":0},{"$f":"'25. Data Input Object # 3'!BU20","v":0},{"$f":"'25. Data Input Object # 3'!BV20","v":0},{"$f":"'25. Data Input Object # 3'!BW20","v":0},{"$f":"'25. Data Input Object # 3'!BX20","v":0},{"$f":"'25. Data Input Object # 3'!BY20","v":0},{"$f":"'25. Data Input Object # 3'!BZ20","v":0},{"$f":"'25. Data Input Object # 3'!CA20","v":0}]
[{"$f":"'25. Data Input Object # 3'!A21","v":0},{"$f":"'25. Data Input Object # 3'!B21","v":0},{"$f":"'25. Data Input Object # 3'!C21","v":0},{"$f":"'25. Data Input Object # 3'!D21","v":0},{"$f":"'25. Data Input Object # 3'!E21","v":0},{"$f":"'25. Data Input Object # 3'!F21","v":0},{"$f":"'25. Data Input Object # 3'!G21","v":0},{"$f":"'25. Data Input Object # 3'!H21","v":0},{"$f":"'25. Data Input Object # 3'!I21","v":0},{"$f":"'25. Data Input Object # 3'!J21","v":0},{"$f":"'25. Data Input Object # 3'!K21","v":0},{"$f":"'25. Data Input Object # 3'!L21","v":0},{"$f":"'25. Data Input Object # 3'!M21","v":0},{"$f":"'25. Data Input Object # 3'!N21","v":0},{"$f":"'25. Data Input Object # 3'!O21","v":0},{"$f":"'25. Data Input Object # 3'!P21","v":0},{"$f":"'25. Data Input Object # 3'!Q21","v":0},{"$f":"'25. Data Input Object # 3'!R21","v":0},{"$f":"'25. Data Input Object # 3'!S21","v":0},{"$f":"'25. Data Input Object # 3'!T21","v":0},{"$f":"'25. Data Input Object # 3'!U21","v":0},{"$f":"'25. Data Input Object # 3'!V21","v":0},{"$f":"'25. Data Input Object # 3'!W21","v":0},{"$f":"'25. Data Input Object # 3'!X21","v":0},{"$f":"'25. Data Input Object # 3'!Y21","v":0},{"$f":"'25. Data Input Object # 3'!Z21","v":0},{"$f":"'25. Data Input Object # 3'!AA21","v":0},{"$f":"'25. Data Input Object # 3'!AB21","v":0},{"$f":"'25. Data Input Object # 3'!AC21","v":0},{"$f":"'25. Data Input Object # 3'!AD21","v":0},{"$f":"'25. Data Input Object # 3'!AE21","v":0},{"$f":"'25. Data Input Object # 3'!AF21","v":0},{"$f":"'25. Data Input Object # 3'!AG21","v":0},{"$f":"'25. Data Input Object # 3'!AH21","v":0},{"$f":"'25. Data Input Object # 3'!AI21","v":0},{"$f":"'25. Data Input Object # 3'!AJ21","v":0},{"$f":"'25. Data Input Object # 3'!AK21","v":0},{"$f":"'25. Data Input Object # 3'!AL21","v":0},{"$f":"'25. Data Input Object # 3'!AM21","v":0},{"$f":"'25. Data Input Object # 3'!AN21","v":0},{"$f":"'25. Data Input Object # 3'!AO21","v":0},{"$f":"'25. Data Input Object # 3'!AP21","v":0},{"$f":"'25. Data Input Object # 3'!AQ21","v":0},{"$f":"'25. Data Input Object # 3'!AR21","v":0},{"$f":"'25. Data Input Object # 3'!AS21","v":0},{"$f":"'25. Data Input Object # 3'!AT21","v":0},{"$f":"'25. Data Input Object # 3'!AU21","v":0},{"$f":"'25. Data Input Object # 3'!AV21","v":0},{"$f":"'25. Data Input Object # 3'!AW21","v":0},{"$f":"'25. Data Input Object # 3'!AX21","v":0},{"$f":"'25. Data Input Object # 3'!AY21","v":0},{"$f":"'25. Data Input Object # 3'!AZ21","v":0},{"$f":"'25. Data Input Object # 3'!BA21","v":0},{"$f":"'25. Data Input Object # 3'!BB21","v":0},{"$f":"'25. Data Input Object # 3'!BC21","v":0},{"$f":"'25. Data Input Object # 3'!BD21","v":0},{"$f":"'25. Data Input Object # 3'!BE21","v":0},{"$f":"'25. Data Input Object # 3'!BF21","v":0},{"$f":"'25. Data Input Object # 3'!BG21","v":0},{"$f":"'25. Data Input Object # 3'!BH21","v":0},{"$f":"'25. Data Input Object # 3'!BI21","v":0},{"$f":"'25. Data Input Object # 3'!BJ21","v":0},{"$f":"'25. Data Input Object # 3'!BK21","v":0},{"$f":"'25. Data Input Object # 3'!BL21","v":0},{"$f":"'25. Data Input Object # 3'!BM21","v":0},{"$f":"'25. Data Input Object # 3'!BN21","v":0},{"$f":"'25. Data Input Object # 3'!BO21","v":0},{"$f":"'25. Data Input Object # 3'!BP21","v":0},{"$f":"'25. Data Input Object # 3'!BQ21","v":0},{"$f":"'25. Data Input Object # 3'!BR21","v":0},{"$f":"'25. Data Input Object # 3'!BS21","v":0},{"$f":"'25. Data Input Object # 3'!BT21","v":0},{"$f":"'25. Data Input Object # 3'!BU21","v":0},{"$f":"'25. Data Input Object # 3'!BV21","v":0},{"$f":"'25. Data Input Object # 3'!BW21","v":0},{"$f":"'25. Data Input Object # 3'!BX21","v":0},{"$f":"'25. Data Input Object # 3'!BY21","v":0},{"$f":"'25. Data Input Object # 3'!BZ21","v":0},{"$f":"'25. Data Input Object # 3'!CA21","v":0}]
[{"$f":"'25. Data Input Object # 3'!A22","v":0},{"$f":"'25. Data Input Object # 3'!B22","v":0},{"$f":"'25. Data Input Object # 3'!C22","v":0},{"$f":"'25. Data Input Object # 3'!D22","v":0},{"$f":"'25. Data Input Object # 3'!E22","v":0},{"$f":"'25. Data Input Object # 3'!F22","v":0},{"$f":"'25. Data Input Object # 3'!G22","v":0},{"$f":"'25. Data Input Object # 3'!H22","v":0},{"$f":"'25. Data Input Object # 3'!I22","v":0},{"$f":"'25. Data Input Object # 3'!J22","v":0},{"$f":"'25. Data Input Object # 3'!K22","v":0},{"$f":"'25. Data Input Object # 3'!L22","v":0},{"$f":"'25. Data Input Object # 3'!M22","v":0},{"$f":"'25. Data Input Object # 3'!N22","v":0},{"$f":"'25. Data Input Object # 3'!O22","v":0},{"$f":"'25. Data Input Object # 3'!P22","v":0},{"$f":"'25. Data Input Object # 3'!Q22","v":0},{"$f":"'25. Data Input Object # 3'!R22","v":0},{"$f":"'25. Data Input Object # 3'!S22","v":0},{"$f":"'25. Data Input Object # 3'!T22","v":0},{"$f":"'25. Data Input Object # 3'!U22","v":0},{"$f":"'25. Data Input Object # 3'!V22","v":0},{"$f":"'25. Data Input Object # 3'!W22","v":0},{"$f":"'25. Data Input Object # 3'!X22","v":0},{"$f":"'25. Data Input Object # 3'!Y22","v":0},{"$f":"'25. Data Input Object # 3'!Z22","v":0},{"$f":"'25. Data Input Object # 3'!AA22","v":0},{"$f":"'25. Data Input Object # 3'!AB22","v":0},{"$f":"'25. Data Input Object # 3'!AC22","v":0},{"$f":"'25. Data Input Object # 3'!AD22","v":0},{"$f":"'25. Data Input Object # 3'!AE22","v":0},{"$f":"'25. Data Input Object # 3'!AF22","v":0},{"$f":"'25. Data Input Object # 3'!AG22","v":0},{"$f":"'25. Data Input Object # 3'!AH22","v":0},{"$f":"'25. Data Input Object # 3'!AI22","v":0},{"$f":"'25. Data Input Object # 3'!AJ22","v":0},{"$f":"'25. Data Input Object # 3'!AK22","v":0},{"$f":"'25. Data Input Object # 3'!AL22","v":0},{"$f":"'25. Data Input Object # 3'!AM22","v":0},{"$f":"'25. Data Input Object # 3'!AN22","v":0},{"$f":"'25. Data Input Object # 3'!AO22","v":0},{"$f":"'25. Data Input Object # 3'!AP22","v":0},{"$f":"'25. Data Input Object # 3'!AQ22","v":0},{"$f":"'25. Data Input Object # 3'!AR22","v":0},{"$f":"'25. Data Input Object # 3'!AS22","v":0},{"$f":"'25. Data Input Object # 3'!AT22","v":0},{"$f":"'25. Data Input Object # 3'!AU22","v":0},{"$f":"'25. Data Input Object # 3'!AV22","v":0},{"$f":"'25. Data Input Object # 3'!AW22","v":0},{"$f":"'25. Data Input Object # 3'!AX22","v":0},{"$f":"'25. Data Input Object # 3'!AY22","v":0},{"$f":"'25. Data Input Object # 3'!AZ22","v":0},{"$f":"'25. Data Input Object # 3'!BA22","v":0},{"$f":"'25. Data Input Object # 3'!BB22","v":0},{"$f":"'25. Data Input Object # 3'!BC22","v":0},{"$f":"'25. Data Input Object # 3'!BD22","v":0},{"$f":"'25. Data Input Object # 3'!BE22","v":0},{"$f":"'25. Data Input Object # 3'!BF22","v":0},{"$f":"'25. Data Input Object # 3'!BG22","v":0},{"$f":"'25. Data Input Object # 3'!BH22","v":0},{"$f":"'25. Data Input Object # 3'!BI22","v":0},{"$f":"'25. Data Input Object # 3'!BJ22","v":0},{"$f":"'25. Data Input Object # 3'!BK22","v":0},{"$f":"'25. Data Input Object # 3'!BL22","v":0},{"$f":"'25. Data Input Object # 3'!BM22","v":0},{"$f":"'25. Data Input Object # 3'!BN22","v":0},{"$f":"'25. Data Input Object # 3'!BO22","v":0},{"$f":"'25. Data Input Object # 3'!BP22","v":0},{"$f":"'25. Data Input Object # 3'!BQ22","v":0},{"$f":"'25. Data Input Object # 3'!BR22","v":0},{"$f":"'25. Data Input Object # 3'!BS22","v":0},{"$f":"'25. Data Input Object # 3'!BT22","v":0},{"$f":"'25. Data Input Object # 3'!BU22","v":0},{"$f":"'25. Data Input Object # 3'!BV22","v":0},{"$f":"'25. Data Input Object # 3'!BW22","v":0},{"$f":"'25. Data Input Object # 3'!BX22","v":0},{"$f":"'25. Data Input Object # 3'!BY22","v":0},{"$f":"'25. Data Input Object # 3'!BZ22","v":0},{"$f":"'25. Data Input Object # 3'!CA22","v":0}]
[{"$f":"'25. Data Input Object # 3'!A23","v":0},{"$f":"'25. Data Input Object # 3'!B23","v":0},{"$f":"'25. Data Input Object # 3'!C23","v":0},{"$f":"'25. Data Input Object # 3'!D23","v":0},{"$f":"'25. Data Input Object # 3'!E23","v":0},{"$f":"'25. Data Input Object # 3'!F23","v":0},{"$f":"'25. Data Input Object # 3'!G23","v":0},{"$f":"'25. Data Input Object # 3'!H23","v":0},{"$f":"'25. Data Input Object # 3'!I23","v":0},{"$f":"'25. Data Input Object # 3'!J23","v":0},{"$f":"'25. Data Input Object # 3'!K23","v":0},{"$f":"'25. Data Input Object # 3'!L23","v":0},{"$f":"'25. Data Input Object # 3'!M23","v":0},{"$f":"'25. Data Input Object # 3'!N23","v":0},{"$f":"'25. Data Input Object # 3'!O23","v":0},{"$f":"'25. Data Input Object # 3'!P23","v":0},{"$f":"'25. Data Input Object # 3'!Q23","v":0},{"$f":"'25. Data Input Object # 3'!R23","v":0},{"$f":"'25. Data Input Object # 3'!S23","v":0},{"$f":"'25. Data Input Object # 3'!T23","v":0},{"$f":"'25. Data Input Object # 3'!U23","v":0},{"$f":"'25. Data Input Object # 3'!V23","v":0},{"$f":"'25. Data Input Object # 3'!W23","v":0},{"$f":"'25. Data Input Object # 3'!X23","v":0},{"$f":"'25. Data Input Object # 3'!Y23","v":0},{"$f":"'25. Data Input Object # 3'!Z23","v":0},{"$f":"'25. Data Input Object # 3'!AA23","v":0},{"$f":"'25. Data Input Object # 3'!AB23","v":0},{"$f":"'25. Data Input Object # 3'!AC23","v":0},{"$f":"'25. Data Input Object # 3'!AD23","v":0},{"$f":"'25. Data Input Object # 3'!AE23","v":0},{"$f":"'25. Data Input Object # 3'!AF23","v":0},{"$f":"'25. Data Input Object # 3'!AG23","v":0},{"$f":"'25. Data Input Object # 3'!AH23","v":0},{"$f":"'25. Data Input Object # 3'!AI23","v":0},{"$f":"'25. Data Input Object # 3'!AJ23","v":0},{"$f":"'25. Data Input Object # 3'!AK23","v":0},{"$f":"'25. Data Input Object # 3'!AL23","v":0},{"$f":"'25. Data Input Object # 3'!AM23","v":0},{"$f":"'25. Data Input Object # 3'!AN23","v":0},{"$f":"'25. Data Input Object # 3'!AO23","v":0},{"$f":"'25. Data Input Object # 3'!AP23","v":0},{"$f":"'25. Data Input Object # 3'!AQ23","v":0},{"$f":"'25. Data Input Object # 3'!AR23","v":0},{"$f":"'25. Data Input Object # 3'!AS23","v":0},{"$f":"'25. Data Input Object # 3'!AT23","v":0},{"$f":"'25. Data Input Object # 3'!AU23","v":0},{"$f":"'25. Data Input Object # 3'!AV23","v":0},{"$f":"'25. Data Input Object # 3'!AW23","v":0},{"$f":"'25. Data Input Object # 3'!AX23","v":0},{"$f":"'25. Data Input Object # 3'!AY23","v":0},{"$f":"'25. Data Input Object # 3'!AZ23","v":0},{"$f":"'25. Data Input Object # 3'!BA23","v":0},{"$f":"'25. Data Input Object # 3'!BB23","v":0},{"$f":"'25. Data Input Object # 3'!BC23","v":0},{"$f":"'25. Data Input Object # 3'!BD23","v":0},{"$f":"'25. Data Input Object # 3'!BE23","v":0},{"$f":"'25. Data Input Object # 3'!BF23","v":0},{"$f":"'25. Data Input Object # 3'!BG23","v":0},{"$f":"'25. Data Input Object # 3'!BH23","v":0},{"$f":"'25. Data Input Object # 3'!BI23","v":0},{"$f":"'25. Data Input Object # 3'!BJ23","v":0},{"$f":"'25. Data Input Object # 3'!BK23","v":0},{"$f":"'25. Data Input Object # 3'!BL23","v":0},{"$f":"'25. Data Input Object # 3'!BM23","v":0},{"$f":"'25. Data Input Object # 3'!BN23","v":0},{"$f":"'25. Data Input Object # 3'!BO23","v":0},{"$f":"'25. Data Input Object # 3'!BP23","v":0},{"$f":"'25. Data Input Object # 3'!BQ23","v":0},{"$f":"'25. Data Input Object # 3'!BR23","v":0},{"$f":"'25. Data Input Object # 3'!BS23","v":0},{"$f":"'25. Data Input Object # 3'!BT23","v":0},{"$f":"'25. Data Input Object # 3'!BU23","v":0},{"$f":"'25. Data Input Object # 3'!BV23","v":0},{"$f":"'25. Data Input Object # 3'!BW23","v":0},{"$f":"'25. Data Input Object # 3'!BX23","v":0},{"$f":"'25. Data Input Object # 3'!BY23","v":0},{"$f":"'25. Data Input Object # 3'!BZ23","v":0},{"$f":"'25. Data Input Object # 3'!CA23","v":0}]
[{"$f":"'25. Data Input Object # 3'!A24","v":0},{"$f":"'25. Data Input Object # 3'!B24","v":0},{"$f":"'25. Data Input Object # 3'!C24","v":0},{"$f":"'25. Data Input Object # 3'!D24","v":0},{"$f":"'25. Data Input Object # 3'!E24","v":0},{"$f":"'25. Data Input Object # 3'!F24","v":0},{"$f":"'25. Data Input Object # 3'!G24","v":0},{"$f":"'25. Data Input Object # 3'!H24","v":0},{"$f":"'25. Data Input Object # 3'!I24","v":0},{"$f":"'25. Data Input Object # 3'!J24","v":0},{"$f":"'25. Data Input Object # 3'!K24","v":0},{"$f":"'25. Data Input Object # 3'!L24","v":0},{"$f":"'25. Data Input Object # 3'!M24","v":0},{"$f":"'25. Data Input Object # 3'!N24","v":0},{"$f":"'25. Data Input Object # 3'!O24","v":0},{"$f":"'25. Data Input Object # 3'!P24","v":0},{"$f":"'25. Data Input Object # 3'!Q24","v":0},{"$f":"'25. Data Input Object # 3'!R24","v":0},{"$f":"'25. Data Input Object # 3'!S24","v":0},{"$f":"'25. Data Input Object # 3'!T24","v":0},{"$f":"'25. Data Input Object # 3'!U24","v":0},{"$f":"'25. Data Input Object # 3'!V24","v":0},{"$f":"'25. Data Input Object # 3'!W24","v":0},{"$f":"'25. Data Input Object # 3'!X24","v":0},{"$f":"'25. Data Input Object # 3'!Y24","v":0},{"$f":"'25. Data Input Object # 3'!Z24","v":0},{"$f":"'25. Data Input Object # 3'!AA24","v":0},{"$f":"'25. Data Input Object # 3'!AB24","v":0},{"$f":"'25. Data Input Object # 3'!AC24","v":0},{"$f":"'25. Data Input Object # 3'!AD24","v":0},{"$f":"'25. Data Input Object # 3'!AE24","v":0},{"$f":"'25. Data Input Object # 3'!AF24","v":0},{"$f":"'25. Data Input Object # 3'!AG24","v":0},{"$f":"'25. Data Input Object # 3'!AH24","v":0},{"$f":"'25. Data Input Object # 3'!AI24","v":0},{"$f":"'25. Data Input Object # 3'!AJ24","v":0},{"$f":"'25. Data Input Object # 3'!AK24","v":0},{"$f":"'25. Data Input Object # 3'!AL24","v":0},{"$f":"'25. Data Input Object # 3'!AM24","v":0},{"$f":"'25. Data Input Object # 3'!AN24","v":0},{"$f":"'25. Data Input Object # 3'!AO24","v":0},{"$f":"'25. Data Input Object # 3'!AP24","v":0},{"$f":"'25. Data Input Object # 3'!AQ24","v":0},{"$f":"'25. Data Input Object # 3'!AR24","v":0},{"$f":"'25. Data Input Object # 3'!AS24","v":0},{"$f":"'25. Data Input Object # 3'!AT24","v":0},{"$f":"'25. Data Input Object # 3'!AU24","v":0},{"$f":"'25. Data Input Object # 3'!AV24","v":0},{"$f":"'25. Data Input Object # 3'!AW24","v":0},{"$f":"'25. Data Input Object # 3'!AX24","v":0},{"$f":"'25. Data Input Object # 3'!AY24","v":0},{"$f":"'25. Data Input Object # 3'!AZ24","v":0},{"$f":"'25. Data Input Object # 3'!BA24","v":0},{"$f":"'25. Data Input Object # 3'!BB24","v":0},{"$f":"'25. Data Input Object # 3'!BC24","v":0},{"$f":"'25. Data Input Object # 3'!BD24","v":0},{"$f":"'25. Data Input Object # 3'!BE24","v":0},{"$f":"'25. Data Input Object # 3'!BF24","v":0},{"$f":"'25. Data Input Object # 3'!BG24","v":0},{"$f":"'25. Data Input Object # 3'!BH24","v":0},{"$f":"'25. Data Input Object # 3'!BI24","v":0},{"$f":"'25. Data Input Object # 3'!BJ24","v":0},{"$f":"'25. Data Input Object # 3'!BK24","v":0},{"$f":"'25. Data Input Object # 3'!BL24","v":0},{"$f":"'25. Data Input Object # 3'!BM24","v":0},{"$f":"'25. Data Input Object # 3'!BN24","v":0},{"$f":"'25. Data Input Object # 3'!BO24","v":0},{"$f":"'25. Data Input Object # 3'!BP24","v":0},{"$f":"'25. Data Input Object # 3'!BQ24","v":0},{"$f":"'25. Data Input Object # 3'!BR24","v":0},{"$f":"'25. Data Input Object # 3'!BS24","v":0},{"$f":"'25. Data Input Object # 3'!BT24","v":0},{"$f":"'25. Data Input Object # 3'!BU24","v":0},{"$f":"'25. Data Input Object # 3'!BV24","v":0},{"$f":"'25. Data Input Object # 3'!BW24","v":0},{"$f":"'25. Data Input Object # 3'!BX24","v":0},{"$f":"'25. Data Input Object # 3'!BY24","v":0},{"$f":"'25. Data Input Object # 3'!BZ24","v":0},{"$f":"'25. Data Input Object # 3'!CA24","v":0}]
[{"$f":"'25. Data Input Object # 3'!A25","v":0},{"$f":"'25. Data Input Object # 3'!B25","v":0},{"$f":"'25. Data Input Object # 3'!C25","v":0},{"$f":"'25. Data Input Object # 3'!D25","v":0},{"$f":"'25. Data Input Object # 3'!E25","v":0},{"$f":"'25. Data Input Object # 3'!F25","v":0},{"$f":"'25. Data Input Object # 3'!G25","v":0},{"$f":"'25. Data Input Object # 3'!H25","v":0},{"$f":"'25. Data Input Object # 3'!I25","v":0},{"$f":"'25. Data Input Object # 3'!J25","v":0},{"$f":"'25. Data Input Object # 3'!K25","v":0},{"$f":"'25. Data Input Object # 3'!L25","v":0},{"$f":"'25. Data Input Object # 3'!M25","v":0},{"$f":"'25. Data Input Object # 3'!N25","v":0},{"$f":"'25. Data Input Object # 3'!O25","v":0},{"$f":"'25. Data Input Object # 3'!P25","v":0},{"$f":"'25. Data Input Object # 3'!Q25","v":0},{"$f":"'25. Data Input Object # 3'!R25","v":0},{"$f":"'25. Data Input Object # 3'!S25","v":0},{"$f":"'25. Data Input Object # 3'!T25","v":0},{"$f":"'25. Data Input Object # 3'!U25","v":0},{"$f":"'25. Data Input Object # 3'!V25","v":0},{"$f":"'25. Data Input Object # 3'!W25","v":0},{"$f":"'25. Data Input Object # 3'!X25","v":0},{"$f":"'25. Data Input Object # 3'!Y25","v":0},{"$f":"'25. Data Input Object # 3'!Z25","v":0},{"$f":"'25. Data Input Object # 3'!AA25","v":0},{"$f":"'25. Data Input Object # 3'!AB25","v":0},{"$f":"'25. Data Input Object # 3'!AC25","v":0},{"$f":"'25. Data Input Object # 3'!AD25","v":0},{"$f":"'25. Data Input Object # 3'!AE25","v":0},{"$f":"'25. Data Input Object # 3'!AF25","v":0},{"$f":"'25. Data Input Object # 3'!AG25","v":0},{"$f":"'25. Data Input Object # 3'!AH25","v":0},{"$f":"'25. Data Input Object # 3'!AI25","v":0},{"$f":"'25. Data Input Object # 3'!AJ25","v":0},{"$f":"'25. Data Input Object # 3'!AK25","v":0},{"$f":"'25. Data Input Object # 3'!AL25","v":0},{"$f":"'25. Data Input Object # 3'!AM25","v":0},{"$f":"'25. Data Input Object # 3'!AN25","v":0},{"$f":"'25. Data Input Object # 3'!AO25","v":0},{"$f":"'25. Data Input Object # 3'!AP25","v":0},{"$f":"'25. Data Input Object # 3'!AQ25","v":0},{"$f":"'25. Data Input Object # 3'!AR25","v":0},{"$f":"'25. Data Input Object # 3'!AS25","v":0},{"$f":"'25. Data Input Object # 3'!AT25","v":0},{"$f":"'25. Data Input Object # 3'!AU25","v":0},{"$f":"'25. Data Input Object # 3'!AV25","v":0},{"$f":"'25. Data Input Object # 3'!AW25","v":0},{"$f":"'25. Data Input Object # 3'!AX25","v":0},{"$f":"'25. Data Input Object # 3'!AY25","v":0},{"$f":"'25. Data Input Object # 3'!AZ25","v":0},{"$f":"'25. Data Input Object # 3'!BA25","v":0},{"$f":"'25. Data Input Object # 3'!BB25","v":0},{"$f":"'25. Data Input Object # 3'!BC25","v":0},{"$f":"'25. Data Input Object # 3'!BD25","v":0},{"$f":"'25. Data Input Object # 3'!BE25","v":0},{"$f":"'25. Data Input Object # 3'!BF25","v":0},{"$f":"'25. Data Input Object # 3'!BG25","v":0},{"$f":"'25. Data Input Object # 3'!BH25","v":0},{"$f":"'25. Data Input Object # 3'!BI25","v":0},{"$f":"'25. Data Input Object # 3'!BJ25","v":0},{"$f":"'25. Data Input Object # 3'!BK25","v":0},{"$f":"'25. Data Input Object # 3'!BL25","v":0},{"$f":"'25. Data Input Object # 3'!BM25","v":0},{"$f":"'25. Data Input Object # 3'!BN25","v":0},{"$f":"'25. Data Input Object # 3'!BO25","v":0},{"$f":"'25. Data Input Object # 3'!BP25","v":0},{"$f":"'25. Data Input Object # 3'!BQ25","v":0},{"$f":"'25. Data Input Object # 3'!BR25","v":0},{"$f":"'25. Data Input Object # 3'!BS25","v":0},{"$f":"'25. Data Input Object # 3'!BT25","v":0},{"$f":"'25. Data Input Object # 3'!BU25","v":0},{"$f":"'25. Data Input Object # 3'!BV25","v":0},{"$f":"'25. Data Input Object # 3'!BW25","v":0},{"$f":"'25. Data Input Object # 3'!BX25","v":0},{"$f":"'25. Data Input Object # 3'!BY25","v":0},{"$f":"'25. Data Input Object # 3'!BZ25","v":0},{"$f":"'25. Data Input Object # 3'!CA25","v":0}]
[{"$f":"'25. Data Input Object # 3'!A26","v":0},{"$f":"'25. Data Input Object # 3'!B26","v":0},{"$f":"'25. Data Input Object # 3'!C26","v":0},{"$f":"'25. Data Input Object # 3'!D26","v":0},{"$f":"'25. Data Input Object # 3'!E26","v":0},{"$f":"'25. Data Input Object # 3'!F26","v":0},{"$f":"'25. Data Input Object # 3'!G26","v":0},{"$f":"'25. Data Input Object # 3'!H26","v":0},{"$f":"'25. Data Input Object # 3'!I26","v":0},{"$f":"'25. Data Input Object # 3'!J26","v":0},{"$f":"'25. Data Input Object # 3'!K26","v":0},{"$f":"'25. Data Input Object # 3'!L26","v":0},{"$f":"'25. Data Input Object # 3'!M26","v":0},{"$f":"'25. Data Input Object # 3'!N26","v":0},{"$f":"'25. Data Input Object # 3'!O26","v":0},{"$f":"'25. Data Input Object # 3'!P26","v":0},{"$f":"'25. Data Input Object # 3'!Q26","v":0},{"$f":"'25. Data Input Object # 3'!R26","v":0},{"$f":"'25. Data Input Object # 3'!S26","v":0},{"$f":"'25. Data Input Object # 3'!T26","v":0},{"$f":"'25. Data Input Object # 3'!U26","v":0},{"$f":"'25. Data Input Object # 3'!V26","v":0},{"$f":"'25. Data Input Object # 3'!W26","v":0},{"$f":"'25. Data Input Object # 3'!X26","v":0},{"$f":"'25. Data Input Object # 3'!Y26","v":0},{"$f":"'25. Data Input Object # 3'!Z26","v":0},{"$f":"'25. Data Input Object # 3'!AA26","v":0},{"$f":"'25. Data Input Object # 3'!AB26","v":0},{"$f":"'25. Data Input Object # 3'!AC26","v":0},{"$f":"'25. Data Input Object # 3'!AD26","v":0},{"$f":"'25. Data Input Object # 3'!AE26","v":0},{"$f":"'25. Data Input Object # 3'!AF26","v":0},{"$f":"'25. Data Input Object # 3'!AG26","v":0},{"$f":"'25. Data Input Object # 3'!AH26","v":0},{"$f":"'25. Data Input Object # 3'!AI26","v":0},{"$f":"'25. Data Input Object # 3'!AJ26","v":0},{"$f":"'25. Data Input Object # 3'!AK26","v":0},{"$f":"'25. Data Input Object # 3'!AL26","v":0},{"$f":"'25. Data Input Object # 3'!AM26","v":0},{"$f":"'25. Data Input Object # 3'!AN26","v":0},{"$f":"'25. Data Input Object # 3'!AO26","v":0},{"$f":"'25. Data Input Object # 3'!AP26","v":0},{"$f":"'25. Data Input Object # 3'!AQ26","v":0},{"$f":"'25. Data Input Object # 3'!AR26","v":0},{"$f":"'25. Data Input Object # 3'!AS26","v":0},{"$f":"'25. Data Input Object # 3'!AT26","v":0},{"$f":"'25. Data Input Object # 3'!AU26","v":0},{"$f":"'25. Data Input Object # 3'!AV26","v":0},{"$f":"'25. Data Input Object # 3'!AW26","v":0},{"$f":"'25. Data Input Object # 3'!AX26","v":0},{"$f":"'25. Data Input Object # 3'!AY26","v":0},{"$f":"'25. Data Input Object # 3'!AZ26","v":0},{"$f":"'25. Data Input Object # 3'!BA26","v":0},{"$f":"'25. Data Input Object # 3'!BB26","v":0},{"$f":"'25. Data Input Object # 3'!BC26","v":0},{"$f":"'25. Data Input Object # 3'!BD26","v":0},{"$f":"'25. Data Input Object # 3'!BE26","v":0},{"$f":"'25. Data Input Object # 3'!BF26","v":0},{"$f":"'25. Data Input Object # 3'!BG26","v":0},{"$f":"'25. Data Input Object # 3'!BH26","v":0},{"$f":"'25. Data Input Object # 3'!BI26","v":0},{"$f":"'25. Data Input Object # 3'!BJ26","v":0},{"$f":"'25. Data Input Object # 3'!BK26","v":0},{"$f":"'25. Data Input Object # 3'!BL26","v":0},{"$f":"'25. Data Input Object # 3'!BM26","v":0},{"$f":"'25. Data Input Object # 3'!BN26","v":0},{"$f":"'25. Data Input Object # 3'!BO26","v":0},{"$f":"'25. Data Input Object # 3'!BP26","v":0},{"$f":"'25. Data Input Object # 3'!BQ26","v":0},{"$f":"'25. Data Input Object # 3'!BR26","v":0},{"$f":"'25. Data Input Object # 3'!BS26","v":0},{"$f":"'25. Data Input Object # 3'!BT26","v":0},{"$f":"'25. Data Input Object # 3'!BU26","v":0},{"$f":"'25. Data Input Object # 3'!BV26","v":0},{"$f":"'25. Data Input Object # 3'!BW26","v":0},{"$f":"'25. Data Input Object # 3'!BX26","v":0},{"$f":"'25. Data Input Object # 3'!BY26","v":0},{"$f":"'25. Data Input Object # 3'!BZ26","v":0},{"$f":"'25. Data Input Object # 3'!CA26","v":0}]
[{"$f":"'25. Data Input Object # 3'!A27","v":0},{"$f":"'25. Data Input Object # 3'!B27","v":0},{"$f":"'25. Data Input Object # 3'!C27","v":0},{"$f":"'25. Data Input Object # 3'!D27","v":0},{"$f":"'25. Data Input Object # 3'!E27","v":0},{"$f":"'25. Data Input Object # 3'!F27","v":0},{"$f":"'25. Data Input Object # 3'!G27","v":0},{"$f":"'25. Data Input Object # 3'!H27","v":0},{"$f":"'25. Data Input Object # 3'!I27","v":0},{"$f":"'25. Data Input Object # 3'!J27","v":0},{"$f":"'25. Data Input Object # 3'!K27","v":0},{"$f":"'25. Data Input Object # 3'!L27","v":0},{"$f":"'25. Data Input Object # 3'!M27","v":0},{"$f":"'25. Data Input Object # 3'!N27","v":0},{"$f":"'25. Data Input Object # 3'!O27","v":0},{"$f":"'25. Data Input Object # 3'!P27","v":0},{"$f":"'25. Data Input Object # 3'!Q27","v":0},{"$f":"'25. Data Input Object # 3'!R27","v":0},{"$f":"'25. Data Input Object # 3'!S27","v":0},{"$f":"'25. Data Input Object # 3'!T27","v":0},{"$f":"'25. Data Input Object # 3'!U27","v":0},{"$f":"'25. Data Input Object # 3'!V27","v":0},{"$f":"'25. Data Input Object # 3'!W27","v":0},{"$f":"'25. Data Input Object # 3'!X27","v":0},{"$f":"'25. Data Input Object # 3'!Y27","v":0},{"$f":"'25. Data Input Object # 3'!Z27","v":0},{"$f":"'25. Data Input Object # 3'!AA27","v":0},{"$f":"'25. Data Input Object # 3'!AB27","v":0},{"$f":"'25. Data Input Object # 3'!AC27","v":0},{"$f":"'25. Data Input Object # 3'!AD27","v":0},{"$f":"'25. Data Input Object # 3'!AE27","v":0},{"$f":"'25. Data Input Object # 3'!AF27","v":0},{"$f":"'25. Data Input Object # 3'!AG27","v":0},{"$f":"'25. Data Input Object # 3'!AH27","v":0},{"$f":"'25. Data Input Object # 3'!AI27","v":0},{"$f":"'25. Data Input Object # 3'!AJ27","v":0},{"$f":"'25. Data Input Object # 3'!AK27","v":0},{"$f":"'25. Data Input Object # 3'!AL27","v":0},{"$f":"'25. Data Input Object # 3'!AM27","v":0},{"$f":"'25. Data Input Object # 3'!AN27","v":0},{"$f":"'25. Data Input Object # 3'!AO27","v":0},{"$f":"'25. Data Input Object # 3'!AP27","v":0},{"$f":"'25. Data Input Object # 3'!AQ27","v":0},{"$f":"'25. Data Input Object # 3'!AR27","v":0},{"$f":"'25. Data Input Object # 3'!AS27","v":0},{"$f":"'25. Data Input Object # 3'!AT27","v":0},{"$f":"'25. Data Input Object # 3'!AU27","v":0},{"$f":"'25. Data Input Object # 3'!AV27","v":0},{"$f":"'25. Data Input Object # 3'!AW27","v":0},{"$f":"'25. Data Input Object # 3'!AX27","v":0},{"$f":"'25. Data Input Object # 3'!AY27","v":0},{"$f":"'25. Data Input Object # 3'!AZ27","v":0},{"$f":"'25. Data Input Object # 3'!BA27","v":0},{"$f":"'25. Data Input Object # 3'!BB27","v":0},{"$f":"'25. Data Input Object # 3'!BC27","v":0},{"$f":"'25. Data Input Object # 3'!BD27","v":0},{"$f":"'25. Data Input Object # 3'!BE27","v":0},{"$f":"'25. Data Input Object # 3'!BF27","v":0},{"$f":"'25. Data Input Object # 3'!BG27","v":0},{"$f":"'25. Data Input Object # 3'!BH27","v":0},{"$f":"'25. Data Input Object # 3'!BI27","v":0},{"$f":"'25. Data Input Object # 3'!BJ27","v":0},{"$f":"'25. Data Input Object # 3'!BK27","v":0},{"$f":"'25. Data Input Object # 3'!BL27","v":0},{"$f":"'25. Data Input Object # 3'!BM27","v":0},{"$f":"'25. Data Input Object # 3'!BN27","v":0},{"$f":"'25. Data Input Object # 3'!BO27","v":0},{"$f":"'25. Data Input Object # 3'!BP27","v":0},{"$f":"'25. Data Input Object # 3'!BQ27","v":0},{"$f":"'25. Data Input Object # 3'!BR27","v":0},{"$f":"'25. Data Input Object # 3'!BS27","v":0},{"$f":"'25. Data Input Object # 3'!BT27","v":0},{"$f":"'25. Data Input Object # 3'!BU27","v":0},{"$f":"'25. Data Input Object # 3'!BV27","v":0},{"$f":"'25. Data Input Object # 3'!BW27","v":0},{"$f":"'25. Data Input Object # 3'!BX27","v":0},{"$f":"'25. Data Input Object # 3'!BY27","v":0},{"$f":"'25. Data Input Object # 3'!BZ27","v":0},{"$f":"'25. Data Input Object # 3'!CA27","v":0}]
[{"$f":"'25. Data Input Object # 3'!A28","v":0},{"$f":"'25. Data Input Object # 3'!B28","v":0},{"$f":"'25. Data Input Object # 3'!C28","v":0},{"$f":"'25. Data Input Object # 3'!D28","v":0},{"$f":"'25. Data Input Object # 3'!E28","v":0},{"$f":"'25. Data Input Object # 3'!F28","v":0},{"$f":"'25. Data Input Object # 3'!G28","v":0},{"$f":"'25. Data Input Object # 3'!H28","v":0},{"$f":"'25. Data Input Object # 3'!I28","v":0},{"$f":"'25. Data Input Object # 3'!J28","v":0},{"$f":"'25. Data Input Object # 3'!K28","v":0},{"$f":"'25. Data Input Object # 3'!L28","v":0},{"$f":"'25. Data Input Object # 3'!M28","v":0},{"$f":"'25. Data Input Object # 3'!N28","v":0},{"$f":"'25. Data Input Object # 3'!O28","v":0},{"$f":"'25. Data Input Object # 3'!P28","v":0},{"$f":"'25. Data Input Object # 3'!Q28","v":0},{"$f":"'25. Data Input Object # 3'!R28","v":0},{"$f":"'25. Data Input Object # 3'!S28","v":0},{"$f":"'25. Data Input Object # 3'!T28","v":0},{"$f":"'25. Data Input Object # 3'!U28","v":0},{"$f":"'25. Data Input Object # 3'!V28","v":0},{"$f":"'25. Data Input Object # 3'!W28","v":0},{"$f":"'25. Data Input Object # 3'!X28","v":0},{"$f":"'25. Data Input Object # 3'!Y28","v":0},{"$f":"'25. Data Input Object # 3'!Z28","v":0},{"$f":"'25. Data Input Object # 3'!AA28","v":0},{"$f":"'25. Data Input Object # 3'!AB28","v":0},{"$f":"'25. Data Input Object # 3'!AC28","v":0},{"$f":"'25. Data Input Object # 3'!AD28","v":0},{"$f":"'25. Data Input Object # 3'!AE28","v":0},{"$f":"'25. Data Input Object # 3'!AF28","v":0},{"$f":"'25. Data Input Object # 3'!AG28","v":0},{"$f":"'25. Data Input Object # 3'!AH28","v":0},{"$f":"'25. Data Input Object # 3'!AI28","v":0},{"$f":"'25. Data Input Object # 3'!AJ28","v":0},{"$f":"'25. Data Input Object # 3'!AK28","v":0},{"$f":"'25. Data Input Object # 3'!AL28","v":0},{"$f":"'25. Data Input Object # 3'!AM28","v":0},{"$f":"'25. Data Input Object # 3'!AN28","v":0},{"$f":"'25. Data Input Object # 3'!AO28","v":0},{"$f":"'25. Data Input Object # 3'!AP28","v":0},{"$f":"'25. Data Input Object # 3'!AQ28","v":0},{"$f":"'25. Data Input Object # 3'!AR28","v":0},{"$f":"'25. Data Input Object # 3'!AS28","v":0},{"$f":"'25. Data Input Object # 3'!AT28","v":0},{"$f":"'25. Data Input Object # 3'!AU28","v":0},{"$f":"'25. Data Input Object # 3'!AV28","v":0},{"$f":"'25. Data Input Object # 3'!AW28","v":0},{"$f":"'25. Data Input Object # 3'!AX28","v":0},{"$f":"'25. Data Input Object # 3'!AY28","v":0},{"$f":"'25. Data Input Object # 3'!AZ28","v":0},{"$f":"'25. Data Input Object # 3'!BA28","v":0},{"$f":"'25. Data Input Object # 3'!BB28","v":0},{"$f":"'25. Data Input Object # 3'!BC28","v":0},{"$f":"'25. Data Input Object # 3'!BD28","v":0},{"$f":"'25. Data Input Object # 3'!BE28","v":0},{"$f":"'25. Data Input Object # 3'!BF28","v":0},{"$f":"'25. Data Input Object # 3'!BG28","v":0},{"$f":"'25. Data Input Object # 3'!BH28","v":0},{"$f":"'25. Data Input Object # 3'!BI28","v":0},{"$f":"'25. Data Input Object # 3'!BJ28","v":0},{"$f":"'25. Data Input Object # 3'!BK28","v":0},{"$f":"'25. Data Input Object # 3'!BL28","v":0},{"$f":"'25. Data Input Object # 3'!BM28","v":0},{"$f":"'25. Data Input Object # 3'!BN28","v":0},{"$f":"'25. Data Input Object # 3'!BO28","v":0},{"$f":"'25. Data Input Object # 3'!BP28","v":0},{"$f":"'25. Data Input Object # 3'!BQ28","v":0},{"$f":"'25. Data Input Object # 3'!BR28","v":0},{"$f":"'25. Data Input Object # 3'!BS28","v":0},{"$f":"'25. Data Input Object # 3'!BT28","v":0},{"$f":"'25. Data Input Object # 3'!BU28","v":0},{"$f":"'25. Data Input Object # 3'!BV28","v":0},{"$f":"'25. Data Input Object # 3'!BW28","v":0},{"$f":"'25. Data Input Object # 3'!BX28","v":0},{"$f":"'25. Data Input Object # 3'!BY28","v":0},{"$f":"'25. Data Input Object # 3'!BZ28","v":0},{"$f":"'25. Data Input Object # 3'!CA28","v":0}]
[{"$f":"'25. Data Input Object # 3'!A29","v":0},{"$f":"'25. Data Input Object # 3'!B29","v":0},{"$f":"'25. Data Input Object # 3'!C29","v":0},{"$f":"'25. Data Input Object # 3'!D29","v":0},{"$f":"'25. Data Input Object # 3'!E29","v":0},{"$f":"'25. Data Input Object # 3'!F29","v":0},{"$f":"'25. Data Input Object # 3'!G29","v":0},{"$f":"'25. Data Input Object # 3'!H29","v":0},{"$f":"'25. Data Input Object # 3'!I29","v":0},{"$f":"'25. Data Input Object # 3'!J29","v":0},{"$f":"'25. Data Input Object # 3'!K29","v":0},{"$f":"'25. Data Input Object # 3'!L29","v":0},{"$f":"'25. Data Input Object # 3'!M29","v":0},{"$f":"'25. Data Input Object # 3'!N29","v":0},{"$f":"'25. Data Input Object # 3'!O29","v":0},{"$f":"'25. Data Input Object # 3'!P29","v":0},{"$f":"'25. Data Input Object # 3'!Q29","v":0},{"$f":"'25. Data Input Object # 3'!R29","v":0},{"$f":"'25. Data Input Object # 3'!S29","v":0},{"$f":"'25. Data Input Object # 3'!T29","v":0},{"$f":"'25. Data Input Object # 3'!U29","v":0},{"$f":"'25. Data Input Object # 3'!V29","v":0},{"$f":"'25. Data Input Object # 3'!W29","v":0},{"$f":"'25. Data Input Object # 3'!X29","v":0},{"$f":"'25. Data Input Object # 3'!Y29","v":0},{"$f":"'25. Data Input Object # 3'!Z29","v":0},{"$f":"'25. Data Input Object # 3'!AA29","v":0},{"$f":"'25. Data Input Object # 3'!AB29","v":0},{"$f":"'25. Data Input Object # 3'!AC29","v":0},{"$f":"'25. Data Input Object # 3'!AD29","v":0},{"$f":"'25. Data Input Object # 3'!AE29","v":0},{"$f":"'25. Data Input Object # 3'!AF29","v":0},{"$f":"'25. Data Input Object # 3'!AG29","v":0},{"$f":"'25. Data Input Object # 3'!AH29","v":0},{"$f":"'25. Data Input Object # 3'!AI29","v":0},{"$f":"'25. Data Input Object # 3'!AJ29","v":0},{"$f":"'25. Data Input Object # 3'!AK29","v":0},{"$f":"'25. Data Input Object # 3'!AL29","v":0},{"$f":"'25. Data Input Object # 3'!AM29","v":0},{"$f":"'25. Data Input Object # 3'!AN29","v":0},{"$f":"'25. Data Input Object # 3'!AO29","v":0},{"$f":"'25. Data Input Object # 3'!AP29","v":0},{"$f":"'25. Data Input Object # 3'!AQ29","v":0},{"$f":"'25. Data Input Object # 3'!AR29","v":0},{"$f":"'25. Data Input Object # 3'!AS29","v":0},{"$f":"'25. Data Input Object # 3'!AT29","v":0},{"$f":"'25. Data Input Object # 3'!AU29","v":0},{"$f":"'25. Data Input Object # 3'!AV29","v":0},{"$f":"'25. Data Input Object # 3'!AW29","v":0},{"$f":"'25. Data Input Object # 3'!AX29","v":0},{"$f":"'25. Data Input Object # 3'!AY29","v":0},{"$f":"'25. Data Input Object # 3'!AZ29","v":0},{"$f":"'25. Data Input Object # 3'!BA29","v":0},{"$f":"'25. Data Input Object # 3'!BB29","v":0},{"$f":"'25. Data Input Object # 3'!BC29","v":0},{"$f":"'25. Data Input Object # 3'!BD29","v":0},{"$f":"'25. Data Input Object # 3'!BE29","v":0},{"$f":"'25. Data Input Object # 3'!BF29","v":0},{"$f":"'25. Data Input Object # 3'!BG29","v":0},{"$f":"'25. Data Input Object # 3'!BH29","v":0},{"$f":"'25. Data Input Object # 3'!BI29","v":0},{"$f":"'25. Data Input Object # 3'!BJ29","v":0},{"$f":"'25. Data Input Object # 3'!BK29","v":0},{"$f":"'25. Data Input Object # 3'!BL29","v":0},{"$f":"'25. Data Input Object # 3'!BM29","v":0},{"$f":"'25. Data Input Object # 3'!BN29","v":0},{"$f":"'25. Data Input Object # 3'!BO29","v":0},{"$f":"'25. Data Input Object # 3'!BP29","v":0},{"$f":"'25. Data Input Object # 3'!BQ29","v":0},{"$f":"'25. Data Input Object # 3'!BR29","v":0},{"$f":"'25. Data Input Object # 3'!BS29","v":0},{"$f":"'25. Data Input Object # 3'!BT29","v":0},{"$f":"'25. Data Input Object # 3'!BU29","v":0},{"$f":"'25. Data Input Object # 3'!BV29","v":0},{"$f":"'25. Data Input Object # 3'!BW29","v":0},{"$f":"'25. Data Input Object # 3'!BX29","v":0},{"$f":"'25. Data Input Object # 3'!BY29","v":0},{"$f":"'25. Data Input Object # 3'!BZ29","v":0},{"$f":"'25. Data Input Object # 3'!CA29","v":0}]
[{"$f":"'25. Data Input Object # 3'!A30","v":0},{"$f":"'25. Data Input Object # 3'!B30","v":0},{"$f":"'25. Data Input Object # 3'!C30","v":0},{"$f":"'25. Data Input Object # 3'!D30","v":0},{"$f":"'25. Data Input Object # 3'!E30","v":0},{"$f":"'25. Data Input Object # 3'!F30","v":0},{"$f":"'25. Data Input Object # 3'!G30","v":0},{"$f":"'25. Data Input Object # 3'!H30","v":0},{"$f":"'25. Data Input Object # 3'!I30","v":0},{"$f":"'25. Data Input Object # 3'!J30","v":0},{"$f":"'25. Data Input Object # 3'!K30","v":0},{"$f":"'25. Data Input Object # 3'!L30","v":0},{"$f":"'25. Data Input Object # 3'!M30","v":0},{"$f":"'25. Data Input Object # 3'!N30","v":0},{"$f":"'25. Data Input Object # 3'!O30","v":0},{"$f":"'25. Data Input Object # 3'!P30","v":0},{"$f":"'25. Data Input Object # 3'!Q30","v":0},{"$f":"'25. Data Input Object # 3'!R30","v":0},{"$f":"'25. Data Input Object # 3'!S30","v":0},{"$f":"'25. Data Input Object # 3'!T30","v":0},{"$f":"'25. Data Input Object # 3'!U30","v":0},{"$f":"'25. Data Input Object # 3'!V30","v":0},{"$f":"'25. Data Input Object # 3'!W30","v":0},{"$f":"'25. Data Input Object # 3'!X30","v":0},{"$f":"'25. Data Input Object # 3'!Y30","v":0},{"$f":"'25. Data Input Object # 3'!Z30","v":0},{"$f":"'25. Data Input Object # 3'!AA30","v":0},{"$f":"'25. Data Input Object # 3'!AB30","v":0},{"$f":"'25. Data Input Object # 3'!AC30","v":0},{"$f":"'25. Data Input Object # 3'!AD30","v":0},{"$f":"'25. Data Input Object # 3'!AE30","v":0},{"$f":"'25. Data Input Object # 3'!AF30","v":0},{"$f":"'25. Data Input Object # 3'!AG30","v":0},{"$f":"'25. Data Input Object # 3'!AH30","v":0},{"$f":"'25. Data Input Object # 3'!AI30","v":0},{"$f":"'25. Data Input Object # 3'!AJ30","v":0},{"$f":"'25. Data Input Object # 3'!AK30","v":0},{"$f":"'25. Data Input Object # 3'!AL30","v":0},{"$f":"'25. Data Input Object # 3'!AM30","v":0},{"$f":"'25. Data Input Object # 3'!AN30","v":0},{"$f":"'25. Data Input Object # 3'!AO30","v":0},{"$f":"'25. Data Input Object # 3'!AP30","v":0},{"$f":"'25. Data Input Object # 3'!AQ30","v":0},{"$f":"'25. Data Input Object # 3'!AR30","v":0},{"$f":"'25. Data Input Object # 3'!AS30","v":0},{"$f":"'25. Data Input Object # 3'!AT30","v":0},{"$f":"'25. Data Input Object # 3'!AU30","v":0},{"$f":"'25. Data Input Object # 3'!AV30","v":0},{"$f":"'25. Data Input Object # 3'!AW30","v":0},{"$f":"'25. Data Input Object # 3'!AX30","v":0},{"$f":"'25. Data Input Object # 3'!AY30","v":0},{"$f":"'25. Data Input Object # 3'!AZ30","v":0},{"$f":"'25. Data Input Object # 3'!BA30","v":0},{"$f":"'25. Data Input Object # 3'!BB30","v":0},{"$f":"'25. Data Input Object # 3'!BC30","v":0},{"$f":"'25. Data Input Object # 3'!BD30","v":0},{"$f":"'25. Data Input Object # 3'!BE30","v":0},{"$f":"'25. Data Input Object # 3'!BF30","v":0},{"$f":"'25. Data Input Object # 3'!BG30","v":0},{"$f":"'25. Data Input Object # 3'!BH30","v":0},{"$f":"'25. Data Input Object # 3'!BI30","v":0},{"$f":"'25. Data Input Object # 3'!BJ30","v":0},{"$f":"'25. Data Input Object # 3'!BK30","v":0},{"$f":"'25. Data Input Object # 3'!BL30","v":0},{"$f":"'25. Data Input Object # 3'!BM30","v":0},{"$f":"'25. Data Input Object # 3'!BN30","v":0},{"$f":"'25. Data Input Object # 3'!BO30","v":0},{"$f":"'25. Data Input Object # 3'!BP30","v":0},{"$f":"'25. Data Input Object # 3'!BQ30","v":0},{"$f":"'25. Data Input Object # 3'!BR30","v":0},{"$f":"'25. Data Input Object # 3'!BS30","v":0},{"$f":"'25. Data Input Object # 3'!BT30","v":0},{"$f":"'25. Data Input Object # 3'!BU30","v":0},{"$f":"'25. Data Input Object # 3'!BV30","v":0},{"$f":"'25. Data Input Object # 3'!BW30","v":0},{"$f":"'25. Data Input Object # 3'!BX30","v":0},{"$f":"'25. Data Input Object # 3'!BY30","v":0},{"$f":"'25. Data Input Object # 3'!BZ30","v":0},{"$f":"'25. Data Input Object # 3'!CA30","v":0}]
[{"$f":"'25. Data Input Object # 3'!A31","v":0},{"$f":"'25. Data Input Object # 3'!B31","v":0},{"$f":"'25. Data Input Object # 3'!C31","v":0},{"$f":"'25. Data Input Object # 3'!D31","v":0},{"$f":"'25. Data Input Object # 3'!E31","v":0},{"$f":"'25. Data Input Object # 3'!F31","v":0},{"$f":"'25. Data Input Object # 3'!G31","v":0},{"$f":"'25. Data Input Object # 3'!H31","v":0},{"$f":"'25. Data Input Object # 3'!I31","v":0},{"$f":"'25. Data Input Object # 3'!J31","v":0},{"$f":"'25. Data Input Object # 3'!K31","v":0},{"$f":"'25. Data Input Object # 3'!L31","v":0},{"$f":"'25. Data Input Object # 3'!M31","v":0},{"$f":"'25. Data Input Object # 3'!N31","v":0},{"$f":"'25. Data Input Object # 3'!O31","v":0},{"$f":"'25. Data Input Object # 3'!P31","v":0},{"$f":"'25. Data Input Object # 3'!Q31","v":0},{"$f":"'25. Data Input Object # 3'!R31","v":0},{"$f":"'25. Data Input Object # 3'!S31","v":0},{"$f":"'25. Data Input Object # 3'!T31","v":0},{"$f":"'25. Data Input Object # 3'!U31","v":0},{"$f":"'25. Data Input Object # 3'!V31","v":0},{"$f":"'25. Data Input Object # 3'!W31","v":0},{"$f":"'25. Data Input Object # 3'!X31","v":0},{"$f":"'25. Data Input Object # 3'!Y31","v":0},{"$f":"'25. Data Input Object # 3'!Z31","v":0},{"$f":"'25. Data Input Object # 3'!AA31","v":0},{"$f":"'25. Data Input Object # 3'!AB31","v":0},{"$f":"'25. Data Input Object # 3'!AC31","v":0},{"$f":"'25. Data Input Object # 3'!AD31","v":0},{"$f":"'25. Data Input Object # 3'!AE31","v":0},{"$f":"'25. Data Input Object # 3'!AF31","v":0},{"$f":"'25. Data Input Object # 3'!AG31","v":0},{"$f":"'25. Data Input Object # 3'!AH31","v":0},{"$f":"'25. Data Input Object # 3'!AI31","v":0},{"$f":"'25. Data Input Object # 3'!AJ31","v":0},{"$f":"'25. Data Input Object # 3'!AK31","v":0},{"$f":"'25. Data Input Object # 3'!AL31","v":0},{"$f":"'25. Data Input Object # 3'!AM31","v":0},{"$f":"'25. Data Input Object # 3'!AN31","v":0},{"$f":"'25. Data Input Object # 3'!AO31","v":0},{"$f":"'25. Data Input Object # 3'!AP31","v":0},{"$f":"'25. Data Input Object # 3'!AQ31","v":0},{"$f":"'25. Data Input Object # 3'!AR31","v":0},{"$f":"'25. Data Input Object # 3'!AS31","v":0},{"$f":"'25. Data Input Object # 3'!AT31","v":0},{"$f":"'25. Data Input Object # 3'!AU31","v":0},{"$f":"'25. Data Input Object # 3'!AV31","v":0},{"$f":"'25. Data Input Object # 3'!AW31","v":0},{"$f":"'25. Data Input Object # 3'!AX31","v":0},{"$f":"'25. Data Input Object # 3'!AY31","v":0},{"$f":"'25. Data Input Object # 3'!AZ31","v":0},{"$f":"'25. Data Input Object # 3'!BA31","v":0},{"$f":"'25. Data Input Object # 3'!BB31","v":0},{"$f":"'25. Data Input Object # 3'!BC31","v":0},{"$f":"'25. Data Input Object # 3'!BD31","v":0},{"$f":"'25. Data Input Object # 3'!BE31","v":0},{"$f":"'25. Data Input Object # 3'!BF31","v":0},{"$f":"'25. Data Input Object # 3'!BG31","v":0},{"$f":"'25. Data Input Object # 3'!BH31","v":0},{"$f":"'25. Data Input Object # 3'!BI31","v":0},{"$f":"'25. Data Input Object # 3'!BJ31","v":0},{"$f":"'25. Data Input Object # 3'!BK31","v":0},{"$f":"'25. Data Input Object # 3'!BL31","v":0},{"$f":"'25. Data Input Object # 3'!BM31","v":0},{"$f":"'25. Data Input Object # 3'!BN31","v":0},{"$f":"'25. Data Input Object # 3'!BO31","v":0},{"$f":"'25. Data Input Object # 3'!BP31","v":0},{"$f":"'25. Data Input Object # 3'!BQ31","v":0},{"$f":"'25. Data Input Object # 3'!BR31","v":0},{"$f":"'25. Data Input Object # 3'!BS31","v":0},{"$f":"'25. Data Input Object # 3'!BT31","v":0},{"$f":"'25. Data Input Object # 3'!BU31","v":0},{"$f":"'25. Data Input Object # 3'!BV31","v":0},{"$f":"'25. Data Input Object # 3'!BW31","v":0},{"$f":"'25. Data Input Object # 3'!BX31","v":0},{"$f":"'25. Data Input Object # 3'!BY31","v":0},{"$f":"'25. Data Input Object # 3'!BZ31","v":0},{"$f":"'25. Data Input Object # 3'!CA31","v":0}]
[{"$f":"'25. Data Input Object # 3'!A32","v":0},{"$f":"'25. Data Input Object # 3'!B32","v":0},{"$f":"'25. Data Input Object # 3'!C32","v":0},{"$f":"'25. Data Input Object # 3'!D32","v":0},{"$f":"'25. Data Input Object # 3'!E32","v":0},{"$f":"'25. Data Input Object # 3'!F32","v":0},{"$f":"'25. Data Input Object # 3'!G32","v":0},{"$f":"'25. Data Input Object # 3'!H32","v":0},{"$f":"'25. Data Input Object # 3'!I32","v":0},{"$f":"'25. Data Input Object # 3'!J32","v":0},{"$f":"'25. Data Input Object # 3'!K32","v":0},{"$f":"'25. Data Input Object # 3'!L32","v":0},{"$f":"'25. Data Input Object # 3'!M32","v":0},{"$f":"'25. Data Input Object # 3'!N32","v":0},{"$f":"'25. Data Input Object # 3'!O32","v":0},{"$f":"'25. Data Input Object # 3'!P32","v":0},{"$f":"'25. Data Input Object # 3'!Q32","v":0},{"$f":"'25. Data Input Object # 3'!R32","v":0},{"$f":"'25. Data Input Object # 3'!S32","v":0},{"$f":"'25. Data Input Object # 3'!T32","v":0},{"$f":"'25. Data Input Object # 3'!U32","v":0},{"$f":"'25. Data Input Object # 3'!V32","v":0},{"$f":"'25. Data Input Object # 3'!W32","v":0},{"$f":"'25. Data Input Object # 3'!X32","v":0},{"$f":"'25. Data Input Object # 3'!Y32","v":0},{"$f":"'25. Data Input Object # 3'!Z32","v":0},{"$f":"'25. Data Input Object # 3'!AA32","v":0},{"$f":"'25. Data Input Object # 3'!AB32","v":0},{"$f":"'25. Data Input Object # 3'!AC32","v":0},{"$f":"'25. Data Input Object # 3'!AD32","v":0},{"$f":"'25. Data Input Object # 3'!AE32","v":0},{"$f":"'25. Data Input Object # 3'!AF32","v":0},{"$f":"'25. Data Input Object # 3'!AG32","v":0},{"$f":"'25. Data Input Object # 3'!AH32","v":0},{"$f":"'25. Data Input Object # 3'!AI32","v":0},{"$f":"'25. Data Input Object # 3'!AJ32","v":0},{"$f":"'25. Data Input Object # 3'!AK32","v":0},{"$f":"'25. Data Input Object # 3'!AL32","v":0},{"$f":"'25. Data Input Object # 3'!AM32","v":0},{"$f":"'25. Data Input Object # 3'!AN32","v":0},{"$f":"'25. Data Input Object # 3'!AO32","v":0},{"$f":"'25. Data Input Object # 3'!AP32","v":0},{"$f":"'25. Data Input Object # 3'!AQ32","v":0},{"$f":"'25. Data Input Object # 3'!AR32","v":0},{"$f":"'25. Data Input Object # 3'!AS32","v":0},{"$f":"'25. Data Input Object # 3'!AT32","v":0},{"$f":"'25. Data Input Object # 3'!AU32","v":0},{"$f":"'25. Data Input Object # 3'!AV32","v":0},{"$f":"'25. Data Input Object # 3'!AW32","v":0},{"$f":"'25. Data Input Object # 3'!AX32","v":0},{"$f":"'25. Data Input Object # 3'!AY32","v":0},{"$f":"'25. Data Input Object # 3'!AZ32","v":0},{"$f":"'25. Data Input Object # 3'!BA32","v":0},{"$f":"'25. Data Input Object # 3'!BB32","v":0},{"$f":"'25. Data Input Object # 3'!BC32","v":0},{"$f":"'25. Data Input Object # 3'!BD32","v":0},{"$f":"'25. Data Input Object # 3'!BE32","v":0},{"$f":"'25. Data Input Object # 3'!BF32","v":0},{"$f":"'25. Data Input Object # 3'!BG32","v":0},{"$f":"'25. Data Input Object # 3'!BH32","v":0},{"$f":"'25. Data Input Object # 3'!BI32","v":0},{"$f":"'25. Data Input Object # 3'!BJ32","v":0},{"$f":"'25. Data Input Object # 3'!BK32","v":0},{"$f":"'25. Data Input Object # 3'!BL32","v":0},{"$f":"'25. Data Input Object # 3'!BM32","v":0},{"$f":"'25. Data Input Object # 3'!BN32","v":0},{"$f":"'25. Data Input Object # 3'!BO32","v":0},{"$f":"'25. Data Input Object # 3'!BP32","v":0},{"$f":"'25. Data Input Object # 3'!BQ32","v":0},{"$f":"'25. Data Input Object # 3'!BR32","v":0},{"$f":"'25. Data Input Object # 3'!BS32","v":0},{"$f":"'25. Data Input Object # 3'!BT32","v":0},{"$f":"'25. Data Input Object # 3'!BU32","v":0},{"$f":"'25. Data Input Object # 3'!BV32","v":0},{"$f":"'25. Data Input Object # 3'!BW32","v":0},{"$f":"'25. Data Input Object # 3'!BX32","v":0},{"$f":"'25. Data Input Object # 3'!BY32","v":0},{"$f":"'25. Data Input Object # 3'!BZ32","v":0},{"$f":"'25. Data Input Object # 3'!CA32","v":0}]
[{"$f":"'25. Data Input Object # 3'!A33","v":0},{"$f":"'25. Data Input Object # 3'!B33","v":0},{"$f":"'25. Data Input Object # 3'!C33","v":0},{"$f":"'25. Data Input Object # 3'!D33","v":0},{"$f":"'25. Data Input Object # 3'!E33","v":0},{"$f":"'25. Data Input Object # 3'!F33","v":0},{"$f":"'25. Data Input Object # 3'!G33","v":0},{"$f":"'25. Data Input Object # 3'!H33","v":0},{"$f":"'25. Data Input Object # 3'!I33","v":0},{"$f":"'25. Data Input Object # 3'!J33","v":0},{"$f":"'25. Data Input Object # 3'!K33","v":0},{"$f":"'25. Data Input Object # 3'!L33","v":0},{"$f":"'25. Data Input Object # 3'!M33","v":0},{"$f":"'25. Data Input Object # 3'!N33","v":0},{"$f":"'25. Data Input Object # 3'!O33","v":0},{"$f":"'25. Data Input Object # 3'!P33","v":0},{"$f":"'25. Data Input Object # 3'!Q33","v":0},{"$f":"'25. Data Input Object # 3'!R33","v":0},{"$f":"'25. Data Input Object # 3'!S33","v":0},{"$f":"'25. Data Input Object # 3'!T33","v":0},{"$f":"'25. Data Input Object # 3'!U33","v":0},{"$f":"'25. Data Input Object # 3'!V33","v":0},{"$f":"'25. Data Input Object # 3'!W33","v":0},{"$f":"'25. Data Input Object # 3'!X33","v":0},{"$f":"'25. Data Input Object # 3'!Y33","v":0},{"$f":"'25. Data Input Object # 3'!Z33","v":0},{"$f":"'25. Data Input Object # 3'!AA33","v":0},{"$f":"'25. Data Input Object # 3'!AB33","v":0},{"$f":"'25. Data Input Object # 3'!AC33","v":0},{"$f":"'25. Data Input Object # 3'!AD33","v":0},{"$f":"'25. Data Input Object # 3'!AE33","v":0},{"$f":"'25. Data Input Object # 3'!AF33","v":0},{"$f":"'25. Data Input Object # 3'!AG33","v":0},{"$f":"'25. Data Input Object # 3'!AH33","v":0},{"$f":"'25. Data Input Object # 3'!AI33","v":0},{"$f":"'25. Data Input Object # 3'!AJ33","v":0},{"$f":"'25. Data Input Object # 3'!AK33","v":0},{"$f":"'25. Data Input Object # 3'!AL33","v":0},{"$f":"'25. Data Input Object # 3'!AM33","v":0},{"$f":"'25. Data Input Object # 3'!AN33","v":0},{"$f":"'25. Data Input Object # 3'!AO33","v":0},{"$f":"'25. Data Input Object # 3'!AP33","v":0},{"$f":"'25. Data Input Object # 3'!AQ33","v":0},{"$f":"'25. Data Input Object # 3'!AR33","v":0},{"$f":"'25. Data Input Object # 3'!AS33","v":0},{"$f":"'25. Data Input Object # 3'!AT33","v":0},{"$f":"'25. Data Input Object # 3'!AU33","v":0},{"$f":"'25. Data Input Object # 3'!AV33","v":0},{"$f":"'25. Data Input Object # 3'!AW33","v":0},{"$f":"'25. Data Input Object # 3'!AX33","v":0},{"$f":"'25. Data Input Object # 3'!AY33","v":0},{"$f":"'25. Data Input Object # 3'!AZ33","v":0},{"$f":"'25. Data Input Object # 3'!BA33","v":0},{"$f":"'25. Data Input Object # 3'!BB33","v":0},{"$f":"'25. Data Input Object # 3'!BC33","v":0},{"$f":"'25. Data Input Object # 3'!BD33","v":0},{"$f":"'25. Data Input Object # 3'!BE33","v":0},{"$f":"'25. Data Input Object # 3'!BF33","v":0},{"$f":"'25. Data Input Object # 3'!BG33","v":0},{"$f":"'25. Data Input Object # 3'!BH33","v":0},{"$f":"'25. Data Input Object # 3'!BI33","v":0},{"$f":"'25. Data Input Object # 3'!BJ33","v":0},{"$f":"'25. Data Input Object # 3'!BK33","v":0},{"$f":"'25. Data Input Object # 3'!BL33","v":0},{"$f":"'25. Data Input Object # 3'!BM33","v":0},{"$f":"'25. Data Input Object # 3'!BN33","v":0},{"$f":"'25. Data Input Object # 3'!BO33","v":0},{"$f":"'25. Data Input Object # 3'!BP33","v":0},{"$f":"'25. Data Input Object # 3'!BQ33","v":0},{"$f":"'25. Data Input Object # 3'!BR33","v":0},{"$f":"'25. Data Input Object # 3'!BS33","v":0},{"$f":"'25. Data Input Object # 3'!BT33","v":0},{"$f":"'25. Data Input Object # 3'!BU33","v":0},{"$f":"'25. Data Input Object # 3'!BV33","v":0},{"$f":"'25. Data Input Object # 3'!BW33","v":0},{"$f":"'25. Data Input Object # 3'!BX33","v":0},{"$f":"'25. Data Input Object # 3'!BY33","v":0},{"$f":"'25. Data Input Object # 3'!BZ33","v":0},{"$f":"'25. Data Input Object # 3'!CA33","v":0}]
[{"$f":"'25. Data Input Object # 3'!A34","v":0},{"$f":"'25. Data Input Object # 3'!B34","v":0},{"$f":"'25. Data Input Object # 3'!C34","v":0},{"$f":"'25. Data Input Object # 3'!D34","v":0},{"$f":"'25. Data Input Object # 3'!E34","v":0},{"$f":"'25. Data Input Object # 3'!F34","v":0},{"$f":"'25. Data Input Object # 3'!G34","v":0},{"$f":"'25. Data Input Object # 3'!H34","v":0},{"$f":"'25. Data Input Object # 3'!I34","v":0},{"$f":"'25. Data Input Object # 3'!J34","v":0},{"$f":"'25. Data Input Object # 3'!K34","v":0},{"$f":"'25. Data Input Object # 3'!L34","v":0},{"$f":"'25. Data Input Object # 3'!M34","v":0},{"$f":"'25. Data Input Object # 3'!N34","v":0},{"$f":"'25. Data Input Object # 3'!O34","v":0},{"$f":"'25. Data Input Object # 3'!P34","v":0},{"$f":"'25. Data Input Object # 3'!Q34","v":0},{"$f":"'25. Data Input Object # 3'!R34","v":0},{"$f":"'25. Data Input Object # 3'!S34","v":0},{"$f":"'25. Data Input Object # 3'!T34","v":0},{"$f":"'25. Data Input Object # 3'!U34","v":0},{"$f":"'25. Data Input Object # 3'!V34","v":0},{"$f":"'25. Data Input Object # 3'!W34","v":0},{"$f":"'25. Data Input Object # 3'!X34","v":0},{"$f":"'25. Data Input Object # 3'!Y34","v":0},{"$f":"'25. Data Input Object # 3'!Z34","v":0},{"$f":"'25. Data Input Object # 3'!AA34","v":0},{"$f":"'25. Data Input Object # 3'!AB34","v":0},{"$f":"'25. Data Input Object # 3'!AC34","v":0},{"$f":"'25. Data Input Object # 3'!AD34","v":0},{"$f":"'25. Data Input Object # 3'!AE34","v":0},{"$f":"'25. Data Input Object # 3'!AF34","v":0},{"$f":"'25. Data Input Object # 3'!AG34","v":0},{"$f":"'25. Data Input Object # 3'!AH34","v":0},{"$f":"'25. Data Input Object # 3'!AI34","v":0},{"$f":"'25. Data Input Object # 3'!AJ34","v":0},{"$f":"'25. Data Input Object # 3'!AK34","v":0},{"$f":"'25. Data Input Object # 3'!AL34","v":0},{"$f":"'25. Data Input Object # 3'!AM34","v":0},{"$f":"'25. Data Input Object # 3'!AN34","v":0},{"$f":"'25. Data Input Object # 3'!AO34","v":0},{"$f":"'25. Data Input Object # 3'!AP34","v":0},{"$f":"'25. Data Input Object # 3'!AQ34","v":0},{"$f":"'25. Data Input Object # 3'!AR34","v":0},{"$f":"'25. Data Input Object # 3'!AS34","v":0},{"$f":"'25. Data Input Object # 3'!AT34","v":0},{"$f":"'25. Data Input Object # 3'!AU34","v":0},{"$f":"'25. Data Input Object # 3'!AV34","v":0},{"$f":"'25. Data Input Object # 3'!AW34","v":0},{"$f":"'25. Data Input Object # 3'!AX34","v":0},{"$f":"'25. Data Input Object # 3'!AY34","v":0},{"$f":"'25. Data Input Object # 3'!AZ34","v":0},{"$f":"'25. Data Input Object # 3'!BA34","v":0},{"$f":"'25. Data Input Object # 3'!BB34","v":0},{"$f":"'25. Data Input Object # 3'!BC34","v":0},{"$f":"'25. Data Input Object # 3'!BD34","v":0},{"$f":"'25. Data Input Object # 3'!BE34","v":0},{"$f":"'25. Data Input Object # 3'!BF34","v":0},{"$f":"'25. Data Input Object # 3'!BG34","v":0},{"$f":"'25. Data Input Object # 3'!BH34","v":0},{"$f":"'25. Data Input Object # 3'!BI34","v":0},{"$f":"'25. Data Input Object # 3'!BJ34","v":0},{"$f":"'25. Data Input Object # 3'!BK34","v":0},{"$f":"'25. Data Input Object # 3'!BL34","v":0},{"$f":"'25. Data Input Object # 3'!BM34","v":0},{"$f":"'25. Data Input Object # 3'!BN34","v":0},{"$f":"'25. Data Input Object # 3'!BO34","v":0},{"$f":"'25. Data Input Object # 3'!BP34","v":0},{"$f":"'25. Data Input Object # 3'!BQ34","v":0},{"$f":"'25. Data Input Object # 3'!BR34","v":0},{"$f":"'25. Data Input Object # 3'!BS34","v":0},{"$f":"'25. Data Input Object # 3'!BT34","v":0},{"$f":"'25. Data Input Object # 3'!BU34","v":0},{"$f":"'25. Data Input Object # 3'!BV34","v":0},{"$f":"'25. Data Input Object # 3'!BW34","v":0},{"$f":"'25. Data Input Object # 3'!BX34","v":0},{"$f":"'25. Data Input Object # 3'!BY34","v":0},{"$f":"'25. Data Input Object # 3'!BZ34","v":0},{"$f":"'25. Data Input Object # 3'!CA34","v":0}]
[]
[]
["Search Object Type # 4",{"$f":"'26. Data Input Object # 4'!K1","v":"Not applicable"}]
[{"$f":"'26. Data Input Object # 4'!A4","v":"Location #"},{"$f":"'26. Data Input Object # 4'!B4","v":"LR"},{"$f":"'26. Data Input Object # 4'!C4","v":1},{"$f":"'26. Data Input Object # 4'!D4","v":2},{"$f":"'26. Data Input Object # 4'!E4","v":3},{"$f":"'26. Data Input Object # 4'!F4","v":4},{"$f":"'26. Data Input Object # 4'!G4","v":5},{"$f":"'26. Data Input Object # 4'!H4","v":6},{"$f":"'26. Data Input Object # 4'!I4","v":7},{"$f":"'26. Data Input Object # 4'!J4","v":8},{"$f":"'26. Data Input Object # 4'!K4","v":9},{"$f":"'26. Data Input Object # 4'!L4","v":10},{"$f":"'26. Data Input Object # 4'!M4","v":11},{"$f":"'26. Data Input Object # 4'!N4","v":12},{"$f":"'26. Data Input Object # 4'!O4","v":13},{"$f":"'26. Data Input Object # 4'!P4","v":14},{"$f":"'26. Data Input Object # 4'!Q4","v":15},{"$f":"'26. Data Input Object # 4'!R4","v":16},{"$f":"'26. Data Input Object # 4'!S4","v":17},{"$f":"'26. Data Input Object # 4'!T4","v":18},{"$f":"'26. Data Input Object # 4'!U4","v":19},{"$f":"'26. Data Input Object # 4'!V4","v":20},{"$f":"'26. Data Input Object # 4'!W4","v":21},{"$f":"'26. Data Input Object # 4'!X4","v":22},{"$f":"'26. Data Input Object # 4'!Y4","v":23},{"$f":"'26. Data Input Object # 4'!Z4","v":24},{"$f":"'26. Data Input Object # 4'!AA4","v":25},{"$f":"'26. Data Input Object # 4'!AB4","v":26},{"$f":"'26. Data Input Object # 4'!AC4","v":27},{"$f":"'26. Data Input Object # 4'!AD4","v":28},{"$f":"'26. Data Input Object # 4'!AE4","v":29},{"$f":"'26. Data Input Object # 4'!AF4","v":30},{"$f":"'26. Data Input Object # 4'!AG4","v":31},{"$f":"'26. Data Input Object # 4'!AH4","v":32},{"$f":"'26. Data Input Object # 4'!AI4","v":33},{"$f":"'26. Data Input Object # 4'!AJ4","v":34},{"$f":"'26. Data Input Object # 4'!AK4","v":35},{"$f":"'26. Data Input Object # 4'!AL4","v":36},{"$f":"'26. Data Input Object # 4'!AM4","v":37},{"$f":"'26. Data Input Object # 4'!AN4","v":38},{"$f":"'26. Data Input Object # 4'!AO4","v":39},{"$f":"'26. Data Input Object # 4'!AP4","v":40},{"$f":"'26. Data Input Object # 4'!AQ4","v":41},{"$f":"'26. Data Input Object # 4'!AR4","v":42},{"$f":"'26. Data Input Object # 4'!AS4","v":43},{"$f":"'26. Data Input Object # 4'!AT4","v":44},{"$f":"'26. Data Input Object # 4'!AU4","v":45},{"$f":"'26. Data Input Object # 4'!AV4","v":46},{"$f":"'26. Data Input Object # 4'!AW4","v":47},{"$f":"'26. Data Input Object # 4'!AX4","v":48},{"$f":"'26. Data Input Object # 4'!AY4","v":49},{"$f":"'26. Data Input Object # 4'!AZ4","v":50},{"$f":"'26. Data Input Object # 4'!BA4","v":51},{"$f":"'26. Data Input Object # 4'!BB4","v":52},{"$f":"'26. Data Input Object # 4'!BC4","v":53},{"$f":"'26. Data Input Object # 4'!BD4","v":54},{"$f":"'26. Data Input Object # 4'!BE4","v":55},{"$f":"'26. Data Input Object # 4'!BF4","v":56},{"$f":"'26. Data Input Object # 4'!BG4","v":57},{"$f":"'26. Data Input Object # 4'!BH4","v":58},{"$f":"'26. Data Input Object # 4'!BI4","v":59},{"$f":"'26. Data Input Object # 4'!BJ4","v":60},{"$f":"'26. Data Input Object # 4'!BK4","v":61},{"$f":"'26. Data Input Object # 4'!BL4","v":62},{"$f":"'26. Data Input Object # 4'!BM4","v":63},{"$f":"'26. Data Input Object # 4'!BN4","v":64},{"$f":"'26. Data Input Object # 4'!BO4","v":65},{"$f":"'26. Data Input Object # 4'!BP4","v":66},{"$f":"'26. Data Input Object # 4'!BQ4","v":67},{"$f":"'26. Data Input Object # 4'!BR4","v":68},{"$f":"'26. Data Input Object # 4'!BS4","v":69},{"$f":"'26. Data Input Object # 4'!BT4","v":70},{"$f":"'26. Data Input Object # 4'!BU4","v":71},{"$f":"'26. Data Input Object # 4'!BV4","v":72},{"$f":"'26. Data Input Object # 4'!BW4","v":73},{"$f":"'26. Data Input Object # 4'!BX4","v":74},{"$f":"'26. Data Input Object # 4'!BY4","v":75},{"$f":"'26. Data Input Object # 4'!BZ4","v":76},{"$f":"'26. Data Input Object # 4'!CA4","v":77}]
[{"$f":"'26. Data Input Object # 4'!A5","v":0},{"$f":"'26. Data Input Object # 4'!B5","v":0},{"$f":"'26. Data Input Object # 4'!C5","v":0},{"$f":"'26. Data Input Object # 4'!D5","v":0},{"$f":"'26. Data Input Object # 4'!E5","v":0},{"$f":"'26. Data Input Object # 4'!F5","v":0},{"$f":"'26. Data Input Object # 4'!G5","v":0},{"$f":"'26. Data Input Object # 4'!H5","v":0},{"$f":"'26. Data Input Object # 4'!I5","v":0},{"$f":"'26. Data Input Object # 4'!J5","v":0},{"$f":"'26. Data Input Object # 4'!K5","v":0},{"$f":"'26. Data Input Object # 4'!L5","v":0},{"$f":"'26. Data Input Object # 4'!M5","v":0},{"$f":"'26. Data Input Object # 4'!N5","v":0},{"$f":"'26. Data Input Object # 4'!O5","v":0},{"$f":"'26. Data Input Object # 4'!P5","v":0},{"$f":"'26. Data Input Object # 4'!Q5","v":0},{"$f":"'26. Data Input Object # 4'!R5","v":0},{"$f":"'26. Data Input Object # 4'!S5","v":0},{"$f":"'26. Data Input Object # 4'!T5","v":0},{"$f":"'26. Data Input Object # 4'!U5","v":0},{"$f":"'26. Data Input Object # 4'!V5","v":0},{"$f":"'26. Data Input Object # 4'!W5","v":0},{"$f":"'26. Data Input Object # 4'!X5","v":0},{"$f":"'26. Data Input Object # 4'!Y5","v":0},{"$f":"'26. Data Input Object # 4'!Z5","v":0},{"$f":"'26. Data Input Object # 4'!AA5","v":0},{"$f":"'26. Data Input Object # 4'!AB5","v":0},{"$f":"'26. Data Input Object # 4'!AC5","v":0},{"$f":"'26. Data Input Object # 4'!AD5","v":0},{"$f":"'26. Data Input Object # 4'!AE5","v":0},{"$f":"'26. Data Input Object # 4'!AF5","v":0},{"$f":"'26. Data Input Object # 4'!AG5","v":0},{"$f":"'26. Data Input Object # 4'!AH5","v":0},{"$f":"'26. Data Input Object # 4'!AI5","v":0},{"$f":"'26. Data Input Object # 4'!AJ5","v":0},{"$f":"'26. Data Input Object # 4'!AK5","v":0},{"$f":"'26. Data Input Object # 4'!AL5","v":0},{"$f":"'26. Data Input Object # 4'!AM5","v":0},{"$f":"'26. Data Input Object # 4'!AN5","v":0},{"$f":"'26. Data Input Object # 4'!AO5","v":0},{"$f":"'26. Data Input Object # 4'!AP5","v":0},{"$f":"'26. Data Input Object # 4'!AQ5","v":0},{"$f":"'26. Data Input Object # 4'!AR5","v":0},{"$f":"'26. Data Input Object # 4'!AS5","v":0},{"$f":"'26. Data Input Object # 4'!AT5","v":0},{"$f":"'26. Data Input Object # 4'!AU5","v":0},{"$f":"'26. Data Input Object # 4'!AV5","v":0},{"$f":"'26. Data Input Object # 4'!AW5","v":0},{"$f":"'26. Data Input Object # 4'!AX5","v":0},{"$f":"'26. Data Input Object # 4'!AY5","v":0},{"$f":"'26. Data Input Object # 4'!AZ5","v":0},{"$f":"'26. Data Input Object # 4'!BA5","v":0},{"$f":"'26. Data Input Object # 4'!BB5","v":0},{"$f":"'26. Data Input Object # 4'!BC5","v":0},{"$f":"'26. Data Input Object # 4'!BD5","v":0},{"$f":"'26. Data Input Object # 4'!BE5","v":0},{"$f":"'26. Data Input Object # 4'!BF5","v":0},{"$f":"'26. Data Input Object # 4'!BG5","v":0},{"$f":"'26. Data Input Object # 4'!BH5","v":0},{"$f":"'26. Data Input Object # 4'!BI5","v":0},{"$f":"'26. Data Input Object # 4'!BJ5","v":0},{"$f":"'26. Data Input Object # 4'!BK5","v":0},{"$f":"'26. Data Input Object # 4'!BL5","v":0},{"$f":"'26. Data Input Object # 4'!BM5","v":0},{"$f":"'26. Data Input Object # 4'!BN5","v":0},{"$f":"'26. Data Input Object # 4'!BO5","v":0},{"$f":"'26. Data Input Object # 4'!BP5","v":0},{"$f":"'26. Data Input Object # 4'!BQ5","v":0},{"$f":"'26. Data Input Object # 4'!BR5","v":0},{"$f":"'26. Data Input Object # 4'!BS5","v":0},{"$f":"'26. Data Input Object # 4'!BT5","v":0},{"$f":"'26. Data Input Object # 4'!BU5","v":0},{"$f":"'26. Data Input Object # 4'!BV5","v":0},{"$f":"'26. Data Input Object # 4'!BW5","v":0},{"$f":"'26. Data Input Object # 4'!BX5","v":0},{"$f":"'26. Data Input Object # 4'!BY5","v":0},{"$f":"'26. Data Input Object # 4'!BZ5","v":0},{"$f":"'26. Data Input Object # 4'!CA5","v":0}]
[{"$f":"'26. Data Input Object # 4'!A6","v":0},{"$f":"'26. Data Input Object # 4'!B6","v":0},{"$f":"'26. Data Input Object # 4'!C6","v":0},{"$f":"'26. Data Input Object # 4'!D6","v":0},{"$f":"'26. Data Input Object # 4'!E6","v":0},{"$f":"'26. Data Input Object # 4'!F6","v":0},{"$f":"'26. Data Input Object # 4'!G6","v":0},{"$f":"'26. Data Input Object # 4'!H6","v":0},{"$f":"'26. Data Input Object # 4'!I6","v":0},{"$f":"'26. Data Input Object # 4'!J6","v":0},{"$f":"'26. Data Input Object # 4'!K6","v":0},{"$f":"'26. Data Input Object # 4'!L6","v":0},{"$f":"'26. Data Input Object # 4'!M6","v":0},{"$f":"'26. Data Input Object # 4'!N6","v":0},{"$f":"'26. Data Input Object # 4'!O6","v":0},{"$f":"'26. Data Input Object # 4'!P6","v":0},{"$f":"'26. Data Input Object # 4'!Q6","v":0},{"$f":"'26. Data Input Object # 4'!R6","v":0},{"$f":"'26. Data Input Object # 4'!S6","v":0},{"$f":"'26. Data Input Object # 4'!T6","v":0},{"$f":"'26. Data Input Object # 4'!U6","v":0},{"$f":"'26. Data Input Object # 4'!V6","v":0},{"$f":"'26. Data Input Object # 4'!W6","v":0},{"$f":"'26. Data Input Object # 4'!X6","v":0},{"$f":"'26. Data Input Object # 4'!Y6","v":0},{"$f":"'26. Data Input Object # 4'!Z6","v":0},{"$f":"'26. Data Input Object # 4'!AA6","v":0},{"$f":"'26. Data Input Object # 4'!AB6","v":0},{"$f":"'26. Data Input Object # 4'!AC6","v":0},{"$f":"'26. Data Input Object # 4'!AD6","v":0},{"$f":"'26. Data Input Object # 4'!AE6","v":0},{"$f":"'26. Data Input Object # 4'!AF6","v":0},{"$f":"'26. Data Input Object # 4'!AG6","v":0},{"$f":"'26. Data Input Object # 4'!AH6","v":0},{"$f":"'26. Data Input Object # 4'!AI6","v":0},{"$f":"'26. Data Input Object # 4'!AJ6","v":0},{"$f":"'26. Data Input Object # 4'!AK6","v":0},{"$f":"'26. Data Input Object # 4'!AL6","v":0},{"$f":"'26. Data Input Object # 4'!AM6","v":0},{"$f":"'26. Data Input Object # 4'!AN6","v":0},{"$f":"'26. Data Input Object # 4'!AO6","v":0},{"$f":"'26. Data Input Object # 4'!AP6","v":0},{"$f":"'26. Data Input Object # 4'!AQ6","v":0},{"$f":"'26. Data Input Object # 4'!AR6","v":0},{"$f":"'26. Data Input Object # 4'!AS6","v":0},{"$f":"'26. Data Input Object # 4'!AT6","v":0},{"$f":"'26. Data Input Object # 4'!AU6","v":0},{"$f":"'26. Data Input Object # 4'!AV6","v":0},{"$f":"'26. Data Input Object # 4'!AW6","v":0},{"$f":"'26. Data Input Object # 4'!AX6","v":0},{"$f":"'26. Data Input Object # 4'!AY6","v":0},{"$f":"'26. Data Input Object # 4'!AZ6","v":0},{"$f":"'26. Data Input Object # 4'!BA6","v":0},{"$f":"'26. Data Input Object # 4'!BB6","v":0},{"$f":"'26. Data Input Object # 4'!BC6","v":0},{"$f":"'26. Data Input Object # 4'!BD6","v":0},{"$f":"'26. Data Input Object # 4'!BE6","v":0},{"$f":"'26. Data Input Object # 4'!BF6","v":0},{"$f":"'26. Data Input Object # 4'!BG6","v":0},{"$f":"'26. Data Input Object # 4'!BH6","v":0},{"$f":"'26. Data Input Object # 4'!BI6","v":0},{"$f":"'26. Data Input Object # 4'!BJ6","v":0},{"$f":"'26. Data Input Object # 4'!BK6","v":0},{"$f":"'26. Data Input Object # 4'!BL6","v":0},{"$f":"'26. Data Input Object # 4'!BM6","v":0},{"$f":"'26. Data Input Object # 4'!BN6","v":0},{"$f":"'26. Data Input Object # 4'!BO6","v":0},{"$f":"'26. Data Input Object # 4'!BP6","v":0},{"$f":"'26. Data Input Object # 4'!BQ6","v":0},{"$f":"'26. Data Input Object # 4'!BR6","v":0},{"$f":"'26. Data Input Object # 4'!BS6","v":0},{"$f":"'26. Data Input Object # 4'!BT6","v":0},{"$f":"'26. Data Input Object # 4'!BU6","v":0},{"$f":"'26. Data Input Object # 4'!BV6","v":0},{"$f":"'26. Data Input Object # 4'!BW6","v":0},{"$f":"'26. Data Input Object # 4'!BX6","v":0},{"$f":"'26. Data Input Object # 4'!BY6","v":0},{"$f":"'26. Data Input Object # 4'!BZ6","v":0},{"$f":"'26. Data Input Object # 4'!CA6","v":0}]
[{"$f":"'26. Data Input Object # 4'!A7","v":0},{"$f":"'26. Data Input Object # 4'!B7","v":0},{"$f":"'26. Data Input Object # 4'!C7","v":0},{"$f":"'26. Data Input Object # 4'!D7","v":0},{"$f":"'26. Data Input Object # 4'!E7","v":0},{"$f":"'26. Data Input Object # 4'!F7","v":0},{"$f":"'26. Data Input Object # 4'!G7","v":0},{"$f":"'26. Data Input Object # 4'!H7","v":0},{"$f":"'26. Data Input Object # 4'!I7","v":0},{"$f":"'26. Data Input Object # 4'!J7","v":0},{"$f":"'26. Data Input Object # 4'!K7","v":0},{"$f":"'26. Data Input Object # 4'!L7","v":0},{"$f":"'26. Data Input Object # 4'!M7","v":0},{"$f":"'26. Data Input Object # 4'!N7","v":0},{"$f":"'26. Data Input Object # 4'!O7","v":0},{"$f":"'26. Data Input Object # 4'!P7","v":0},{"$f":"'26. Data Input Object # 4'!Q7","v":0},{"$f":"'26. Data Input Object # 4'!R7","v":0},{"$f":"'26. Data Input Object # 4'!S7","v":0},{"$f":"'26. Data Input Object # 4'!T7","v":0},{"$f":"'26. Data Input Object # 4'!U7","v":0},{"$f":"'26. Data Input Object # 4'!V7","v":0},{"$f":"'26. Data Input Object # 4'!W7","v":0},{"$f":"'26. Data Input Object # 4'!X7","v":0},{"$f":"'26. Data Input Object # 4'!Y7","v":0},{"$f":"'26. Data Input Object # 4'!Z7","v":0},{"$f":"'26. Data Input Object # 4'!AA7","v":0},{"$f":"'26. Data Input Object # 4'!AB7","v":0},{"$f":"'26. Data Input Object # 4'!AC7","v":0},{"$f":"'26. Data Input Object # 4'!AD7","v":0},{"$f":"'26. Data Input Object # 4'!AE7","v":0},{"$f":"'26. Data Input Object # 4'!AF7","v":0},{"$f":"'26. Data Input Object # 4'!AG7","v":0},{"$f":"'26. Data Input Object # 4'!AH7","v":0},{"$f":"'26. Data Input Object # 4'!AI7","v":0},{"$f":"'26. Data Input Object # 4'!AJ7","v":0},{"$f":"'26. Data Input Object # 4'!AK7","v":0},{"$f":"'26. Data Input Object # 4'!AL7","v":0},{"$f":"'26. Data Input Object # 4'!AM7","v":0},{"$f":"'26. Data Input Object # 4'!AN7","v":0},{"$f":"'26. Data Input Object # 4'!AO7","v":0},{"$f":"'26. Data Input Object # 4'!AP7","v":0},{"$f":"'26. Data Input Object # 4'!AQ7","v":0},{"$f":"'26. Data Input Object # 4'!AR7","v":0},{"$f":"'26. Data Input Object # 4'!AS7","v":0},{"$f":"'26. Data Input Object # 4'!AT7","v":0},{"$f":"'26. Data Input Object # 4'!AU7","v":0},{"$f":"'26. Data Input Object # 4'!AV7","v":0},{"$f":"'26. Data Input Object # 4'!AW7","v":0},{"$f":"'26. Data Input Object # 4'!AX7","v":0},{"$f":"'26. Data Input Object # 4'!AY7","v":0},{"$f":"'26. Data Input Object # 4'!AZ7","v":0},{"$f":"'26. Data Input Object # 4'!BA7","v":0},{"$f":"'26. Data Input Object # 4'!BB7","v":0},{"$f":"'26. Data Input Object # 4'!BC7","v":0},{"$f":"'26. Data Input Object # 4'!BD7","v":0},{"$f":"'26. Data Input Object # 4'!BE7","v":0},{"$f":"'26. Data Input Object # 4'!BF7","v":0},{"$f":"'26. Data Input Object # 4'!BG7","v":0},{"$f":"'26. Data Input Object # 4'!BH7","v":0},{"$f":"'26. Data Input Object # 4'!BI7","v":0},{"$f":"'26. Data Input Object # 4'!BJ7","v":0},{"$f":"'26. Data Input Object # 4'!BK7","v":0},{"$f":"'26. Data Input Object # 4'!BL7","v":0},{"$f":"'26. Data Input Object # 4'!BM7","v":0},{"$f":"'26. Data Input Object # 4'!BN7","v":0},{"$f":"'26. Data Input Object # 4'!BO7","v":0},{"$f":"'26. Data Input Object # 4'!BP7","v":0},{"$f":"'26. Data Input Object # 4'!BQ7","v":0},{"$f":"'26. Data Input Object # 4'!BR7","v":0},{"$f":"'26. Data Input Object # 4'!BS7","v":0},{"$f":"'26. Data Input Object # 4'!BT7","v":0},{"$f":"'26. Data Input Object # 4'!BU7","v":0},{"$f":"'26. Data Input Object # 4'!BV7","v":0},{"$f":"'26. Data Input Object # 4'!BW7","v":0},{"$f":"'26. Data Input Object # 4'!BX7","v":0},{"$f":"'26. Data Input Object # 4'!BY7","v":0},{"$f":"'26. Data Input Object # 4'!BZ7","v":0},{"$f":"'26. Data Input Object # 4'!CA7","v":0}]
[{"$f":"'26. Data Input Object # 4'!A8","v":0},{"$f":"'26. Data Input Object # 4'!B8","v":0},{"$f":"'26. Data Input Object # 4'!C8","v":0},{"$f":"'26. Data Input Object # 4'!D8","v":0},{"$f":"'26. Data Input Object # 4'!E8","v":0},{"$f":"'26. Data Input Object # 4'!F8","v":0},{"$f":"'26. Data Input Object # 4'!G8","v":0},{"$f":"'26. Data Input Object # 4'!H8","v":0},{"$f":"'26. Data Input Object # 4'!I8","v":0},{"$f":"'26. Data Input Object # 4'!J8","v":0},{"$f":"'26. Data Input Object # 4'!K8","v":0},{"$f":"'26. Data Input Object # 4'!L8","v":0},{"$f":"'26. Data Input Object # 4'!M8","v":0},{"$f":"'26. Data Input Object # 4'!N8","v":0},{"$f":"'26. Data Input Object # 4'!O8","v":0},{"$f":"'26. Data Input Object # 4'!P8","v":0},{"$f":"'26. Data Input Object # 4'!Q8","v":0},{"$f":"'26. Data Input Object # 4'!R8","v":0},{"$f":"'26. Data Input Object # 4'!S8","v":0},{"$f":"'26. Data Input Object # 4'!T8","v":0},{"$f":"'26. Data Input Object # 4'!U8","v":0},{"$f":"'26. Data Input Object # 4'!V8","v":0},{"$f":"'26. Data Input Object # 4'!W8","v":0},{"$f":"'26. Data Input Object # 4'!X8","v":0},{"$f":"'26. Data Input Object # 4'!Y8","v":0},{"$f":"'26. Data Input Object # 4'!Z8","v":0},{"$f":"'26. Data Input Object # 4'!AA8","v":0},{"$f":"'26. Data Input Object # 4'!AB8","v":0},{"$f":"'26. Data Input Object # 4'!AC8","v":0},{"$f":"'26. Data Input Object # 4'!AD8","v":0},{"$f":"'26. Data Input Object # 4'!AE8","v":0},{"$f":"'26. Data Input Object # 4'!AF8","v":0},{"$f":"'26. Data Input Object # 4'!AG8","v":0},{"$f":"'26. Data Input Object # 4'!AH8","v":0},{"$f":"'26. Data Input Object # 4'!AI8","v":0},{"$f":"'26. Data Input Object # 4'!AJ8","v":0},{"$f":"'26. Data Input Object # 4'!AK8","v":0},{"$f":"'26. Data Input Object # 4'!AL8","v":0},{"$f":"'26. Data Input Object # 4'!AM8","v":0},{"$f":"'26. Data Input Object # 4'!AN8","v":0},{"$f":"'26. Data Input Object # 4'!AO8","v":0},{"$f":"'26. Data Input Object # 4'!AP8","v":0},{"$f":"'26. Data Input Object # 4'!AQ8","v":0},{"$f":"'26. Data Input Object # 4'!AR8","v":0},{"$f":"'26. Data Input Object # 4'!AS8","v":0},{"$f":"'26. Data Input Object # 4'!AT8","v":0},{"$f":"'26. Data Input Object # 4'!AU8","v":0},{"$f":"'26. Data Input Object # 4'!AV8","v":0},{"$f":"'26. Data Input Object # 4'!AW8","v":0},{"$f":"'26. Data Input Object # 4'!AX8","v":0},{"$f":"'26. Data Input Object # 4'!AY8","v":0},{"$f":"'26. Data Input Object # 4'!AZ8","v":0},{"$f":"'26. Data Input Object # 4'!BA8","v":0},{"$f":"'26. Data Input Object # 4'!BB8","v":0},{"$f":"'26. Data Input Object # 4'!BC8","v":0},{"$f":"'26. Data Input Object # 4'!BD8","v":0},{"$f":"'26. Data Input Object # 4'!BE8","v":0},{"$f":"'26. Data Input Object # 4'!BF8","v":0},{"$f":"'26. Data Input Object # 4'!BG8","v":0},{"$f":"'26. Data Input Object # 4'!BH8","v":0},{"$f":"'26. Data Input Object # 4'!BI8","v":0},{"$f":"'26. Data Input Object # 4'!BJ8","v":0},{"$f":"'26. Data Input Object # 4'!BK8","v":0},{"$f":"'26. Data Input Object # 4'!BL8","v":0},{"$f":"'26. Data Input Object # 4'!BM8","v":0},{"$f":"'26. Data Input Object # 4'!BN8","v":0},{"$f":"'26. Data Input Object # 4'!BO8","v":0},{"$f":"'26. Data Input Object # 4'!BP8","v":0},{"$f":"'26. Data Input Object # 4'!BQ8","v":0},{"$f":"'26. Data Input Object # 4'!BR8","v":0},{"$f":"'26. Data Input Object # 4'!BS8","v":0},{"$f":"'26. Data Input Object # 4'!BT8","v":0},{"$f":"'26. Data Input Object # 4'!BU8","v":0},{"$f":"'26. Data Input Object # 4'!BV8","v":0},{"$f":"'26. Data Input Object # 4'!BW8","v":0},{"$f":"'26. Data Input Object # 4'!BX8","v":0},{"$f":"'26. Data Input Object # 4'!BY8","v":0},{"$f":"'26. Data Input Object # 4'!BZ8","v":0},{"$f":"'26. Data Input Object # 4'!CA8","v":0}]
[{"$f":"'26. Data Input Object # 4'!A9","v":0},{"$f":"'26. Data Input Object # 4'!B9","v":0},{"$f":"'26. Data Input Object # 4'!C9","v":0},{"$f":"'26. Data Input Object # 4'!D9","v":0},{"$f":"'26. Data Input Object # 4'!E9","v":0},{"$f":"'26. Data Input Object # 4'!F9","v":0},{"$f":"'26. Data Input Object # 4'!G9","v":0},{"$f":"'26. Data Input Object # 4'!H9","v":0},{"$f":"'26. Data Input Object # 4'!I9","v":0},{"$f":"'26. Data Input Object # 4'!J9","v":0},{"$f":"'26. Data Input Object # 4'!K9","v":0},{"$f":"'26. Data Input Object # 4'!L9","v":0},{"$f":"'26. Data Input Object # 4'!M9","v":0},{"$f":"'26. Data Input Object # 4'!N9","v":0},{"$f":"'26. Data Input Object # 4'!O9","v":0},{"$f":"'26. Data Input Object # 4'!P9","v":0},{"$f":"'26. Data Input Object # 4'!Q9","v":0},{"$f":"'26. Data Input Object # 4'!R9","v":0},{"$f":"'26. Data Input Object # 4'!S9","v":0},{"$f":"'26. Data Input Object # 4'!T9","v":0},{"$f":"'26. Data Input Object # 4'!U9","v":0},{"$f":"'26. Data Input Object # 4'!V9","v":0},{"$f":"'26. Data Input Object # 4'!W9","v":0},{"$f":"'26. Data Input Object # 4'!X9","v":0},{"$f":"'26. Data Input Object # 4'!Y9","v":0},{"$f":"'26. Data Input Object # 4'!Z9","v":0},{"$f":"'26. Data Input Object # 4'!AA9","v":0},{"$f":"'26. Data Input Object # 4'!AB9","v":0},{"$f":"'26. Data Input Object # 4'!AC9","v":0},{"$f":"'26. Data Input Object # 4'!AD9","v":0},{"$f":"'26. Data Input Object # 4'!AE9","v":0},{"$f":"'26. Data Input Object # 4'!AF9","v":0},{"$f":"'26. Data Input Object # 4'!AG9","v":0},{"$f":"'26. Data Input Object # 4'!AH9","v":0},{"$f":"'26. Data Input Object # 4'!AI9","v":0},{"$f":"'26. Data Input Object # 4'!AJ9","v":0},{"$f":"'26. Data Input Object # 4'!AK9","v":0},{"$f":"'26. Data Input Object # 4'!AL9","v":0},{"$f":"'26. Data Input Object # 4'!AM9","v":0},{"$f":"'26. Data Input Object # 4'!AN9","v":0},{"$f":"'26. Data Input Object # 4'!AO9","v":0},{"$f":"'26. Data Input Object # 4'!AP9","v":0},{"$f":"'26. Data Input Object # 4'!AQ9","v":0},{"$f":"'26. Data Input Object # 4'!AR9","v":0},{"$f":"'26. Data Input Object # 4'!AS9","v":0},{"$f":"'26. Data Input Object # 4'!AT9","v":0},{"$f":"'26. Data Input Object # 4'!AU9","v":0},{"$f":"'26. Data Input Object # 4'!AV9","v":0},{"$f":"'26. Data Input Object # 4'!AW9","v":0},{"$f":"'26. Data Input Object # 4'!AX9","v":0},{"$f":"'26. Data Input Object # 4'!AY9","v":0},{"$f":"'26. Data Input Object # 4'!AZ9","v":0},{"$f":"'26. Data Input Object # 4'!BA9","v":0},{"$f":"'26. Data Input Object # 4'!BB9","v":0},{"$f":"'26. Data Input Object # 4'!BC9","v":0},{"$f":"'26. Data Input Object # 4'!BD9","v":0},{"$f":"'26. Data Input Object # 4'!BE9","v":0},{"$f":"'26. Data Input Object # 4'!BF9","v":0},{"$f":"'26. Data Input Object # 4'!BG9","v":0},{"$f":"'26. Data Input Object # 4'!BH9","v":0},{"$f":"'26. Data Input Object # 4'!BI9","v":0},{"$f":"'26. Data Input Object # 4'!BJ9","v":0},{"$f":"'26. Data Input Object # 4'!BK9","v":0},{"$f":"'26. Data Input Object # 4'!BL9","v":0},{"$f":"'26. Data Input Object # 4'!BM9","v":0},{"$f":"'26. Data Input Object # 4'!BN9","v":0},{"$f":"'26. Data Input Object # 4'!BO9","v":0},{"$f":"'26. Data Input Object # 4'!BP9","v":0},{"$f":"'26. Data Input Object # 4'!BQ9","v":0},{"$f":"'26. Data Input Object # 4'!BR9","v":0},{"$f":"'26. Data Input Object # 4'!BS9","v":0},{"$f":"'26. Data Input Object # 4'!BT9","v":0},{"$f":"'26. Data Input Object # 4'!BU9","v":0},{"$f":"'26. Data Input Object # 4'!BV9","v":0},{"$f":"'26. Data Input Object # 4'!BW9","v":0},{"$f":"'26. Data Input Object # 4'!BX9","v":0},{"$f":"'26. Data Input Object # 4'!BY9","v":0},{"$f":"'26. Data Input Object # 4'!BZ9","v":0},{"$f":"'26. Data Input Object # 4'!CA9","v":0}]
[{"$f":"'26. Data Input Object # 4'!A10","v":0},{"$f":"'26. Data Input Object # 4'!B10","v":0},{"$f":"'26. Data Input Object # 4'!C10","v":0},{"$f":"'26. Data Input Object # 4'!D10","v":0},{"$f":"'26. Data Input Object # 4'!E10","v":0},{"$f":"'26. Data Input Object # 4'!F10","v":0},{"$f":"'26. Data Input Object # 4'!G10","v":0},{"$f":"'26. Data Input Object # 4'!H10","v":0},{"$f":"'26. Data Input Object # 4'!I10","v":0},{"$f":"'26. Data Input Object # 4'!J10","v":0},{"$f":"'26. Data Input Object # 4'!K10","v":0},{"$f":"'26. Data Input Object # 4'!L10","v":0},{"$f":"'26. Data Input Object # 4'!M10","v":0},{"$f":"'26. Data Input Object # 4'!N10","v":0},{"$f":"'26. Data Input Object # 4'!O10","v":0},{"$f":"'26. Data Input Object # 4'!P10","v":0},{"$f":"'26. Data Input Object # 4'!Q10","v":0},{"$f":"'26. Data Input Object # 4'!R10","v":0},{"$f":"'26. Data Input Object # 4'!S10","v":0},{"$f":"'26. Data Input Object # 4'!T10","v":0},{"$f":"'26. Data Input Object # 4'!U10","v":0},{"$f":"'26. Data Input Object # 4'!V10","v":0},{"$f":"'26. Data Input Object # 4'!W10","v":0},{"$f":"'26. Data Input Object # 4'!X10","v":0},{"$f":"'26. Data Input Object # 4'!Y10","v":0},{"$f":"'26. Data Input Object # 4'!Z10","v":0},{"$f":"'26. Data Input Object # 4'!AA10","v":0},{"$f":"'26. Data Input Object # 4'!AB10","v":0},{"$f":"'26. Data Input Object # 4'!AC10","v":0},{"$f":"'26. Data Input Object # 4'!AD10","v":0},{"$f":"'26. Data Input Object # 4'!AE10","v":0},{"$f":"'26. Data Input Object # 4'!AF10","v":0},{"$f":"'26. Data Input Object # 4'!AG10","v":0},{"$f":"'26. Data Input Object # 4'!AH10","v":0},{"$f":"'26. Data Input Object # 4'!AI10","v":0},{"$f":"'26. Data Input Object # 4'!AJ10","v":0},{"$f":"'26. Data Input Object # 4'!AK10","v":0},{"$f":"'26. Data Input Object # 4'!AL10","v":0},{"$f":"'26. Data Input Object # 4'!AM10","v":0},{"$f":"'26. Data Input Object # 4'!AN10","v":0},{"$f":"'26. Data Input Object # 4'!AO10","v":0},{"$f":"'26. Data Input Object # 4'!AP10","v":0},{"$f":"'26. Data Input Object # 4'!AQ10","v":0},{"$f":"'26. Data Input Object # 4'!AR10","v":0},{"$f":"'26. Data Input Object # 4'!AS10","v":0},{"$f":"'26. Data Input Object # 4'!AT10","v":0},{"$f":"'26. Data Input Object # 4'!AU10","v":0},{"$f":"'26. Data Input Object # 4'!AV10","v":0},{"$f":"'26. Data Input Object # 4'!AW10","v":0},{"$f":"'26. Data Input Object # 4'!AX10","v":0},{"$f":"'26. Data Input Object # 4'!AY10","v":0},{"$f":"'26. Data Input Object # 4'!AZ10","v":0},{"$f":"'26. Data Input Object # 4'!BA10","v":0},{"$f":"'26. Data Input Object # 4'!BB10","v":0},{"$f":"'26. Data Input Object # 4'!BC10","v":0},{"$f":"'26. Data Input Object # 4'!BD10","v":0},{"$f":"'26. Data Input Object # 4'!BE10","v":0},{"$f":"'26. Data Input Object # 4'!BF10","v":0},{"$f":"'26. Data Input Object # 4'!BG10","v":0},{"$f":"'26. Data Input Object # 4'!BH10","v":0},{"$f":"'26. Data Input Object # 4'!BI10","v":0},{"$f":"'26. Data Input Object # 4'!BJ10","v":0},{"$f":"'26. Data Input Object # 4'!BK10","v":0},{"$f":"'26. Data Input Object # 4'!BL10","v":0},{"$f":"'26. Data Input Object # 4'!BM10","v":0},{"$f":"'26. Data Input Object # 4'!BN10","v":0},{"$f":"'26. Data Input Object # 4'!BO10","v":0},{"$f":"'26. Data Input Object # 4'!BP10","v":0},{"$f":"'26. Data Input Object # 4'!BQ10","v":0},{"$f":"'26. Data Input Object # 4'!BR10","v":0},{"$f":"'26. Data Input Object # 4'!BS10","v":0},{"$f":"'26. Data Input Object # 4'!BT10","v":0},{"$f":"'26. Data Input Object # 4'!BU10","v":0},{"$f":"'26. Data Input Object # 4'!BV10","v":0},{"$f":"'26. Data Input Object # 4'!BW10","v":0},{"$f":"'26. Data Input Object # 4'!BX10","v":0},{"$f":"'26. Data Input Object # 4'!BY10","v":0},{"$f":"'26. Data Input Object # 4'!BZ10","v":0},{"$f":"'26. Data Input Object # 4'!CA10","v":0}]
[{"$f":"'26. Data Input Object # 4'!A11","v":0},{"$f":"'26. Data Input Object # 4'!B11","v":0},{"$f":"'26. Data Input Object # 4'!C11","v":0},{"$f":"'26. Data Input Object # 4'!D11","v":0},{"$f":"'26. Data Input Object # 4'!E11","v":0},{"$f":"'26. Data Input Object # 4'!F11","v":0},{"$f":"'26. Data Input Object # 4'!G11","v":0},{"$f":"'26. Data Input Object # 4'!H11","v":0},{"$f":"'26. Data Input Object # 4'!I11","v":0},{"$f":"'26. Data Input Object # 4'!J11","v":0},{"$f":"'26. Data Input Object # 4'!K11","v":0},{"$f":"'26. Data Input Object # 4'!L11","v":0},{"$f":"'26. Data Input Object # 4'!M11","v":0},{"$f":"'26. Data Input Object # 4'!N11","v":0},{"$f":"'26. Data Input Object # 4'!O11","v":0},{"$f":"'26. Data Input Object # 4'!P11","v":0},{"$f":"'26. Data Input Object # 4'!Q11","v":0},{"$f":"'26. Data Input Object # 4'!R11","v":0},{"$f":"'26. Data Input Object # 4'!S11","v":0},{"$f":"'26. Data Input Object # 4'!T11","v":0},{"$f":"'26. Data Input Object # 4'!U11","v":0},{"$f":"'26. Data Input Object # 4'!V11","v":0},{"$f":"'26. Data Input Object # 4'!W11","v":0},{"$f":"'26. Data Input Object # 4'!X11","v":0},{"$f":"'26. Data Input Object # 4'!Y11","v":0},{"$f":"'26. Data Input Object # 4'!Z11","v":0},{"$f":"'26. Data Input Object # 4'!AA11","v":0},{"$f":"'26. Data Input Object # 4'!AB11","v":0},{"$f":"'26. Data Input Object # 4'!AC11","v":0},{"$f":"'26. Data Input Object # 4'!AD11","v":0},{"$f":"'26. Data Input Object # 4'!AE11","v":0},{"$f":"'26. Data Input Object # 4'!AF11","v":0},{"$f":"'26. Data Input Object # 4'!AG11","v":0},{"$f":"'26. Data Input Object # 4'!AH11","v":0},{"$f":"'26. Data Input Object # 4'!AI11","v":0},{"$f":"'26. Data Input Object # 4'!AJ11","v":0},{"$f":"'26. Data Input Object # 4'!AK11","v":0},{"$f":"'26. Data Input Object # 4'!AL11","v":0},{"$f":"'26. Data Input Object # 4'!AM11","v":0},{"$f":"'26. Data Input Object # 4'!AN11","v":0},{"$f":"'26. Data Input Object # 4'!AO11","v":0},{"$f":"'26. Data Input Object # 4'!AP11","v":0},{"$f":"'26. Data Input Object # 4'!AQ11","v":0},{"$f":"'26. Data Input Object # 4'!AR11","v":0},{"$f":"'26. Data Input Object # 4'!AS11","v":0},{"$f":"'26. Data Input Object # 4'!AT11","v":0},{"$f":"'26. Data Input Object # 4'!AU11","v":0},{"$f":"'26. Data Input Object # 4'!AV11","v":0},{"$f":"'26. Data Input Object # 4'!AW11","v":0},{"$f":"'26. Data Input Object # 4'!AX11","v":0},{"$f":"'26. Data Input Object # 4'!AY11","v":0},{"$f":"'26. Data Input Object # 4'!AZ11","v":0},{"$f":"'26. Data Input Object # 4'!BA11","v":0},{"$f":"'26. Data Input Object # 4'!BB11","v":0},{"$f":"'26. Data Input Object # 4'!BC11","v":0},{"$f":"'26. Data Input Object # 4'!BD11","v":0},{"$f":"'26. Data Input Object # 4'!BE11","v":0},{"$f":"'26. Data Input Object # 4'!BF11","v":0},{"$f":"'26. Data Input Object # 4'!BG11","v":0},{"$f":"'26. Data Input Object # 4'!BH11","v":0},{"$f":"'26. Data Input Object # 4'!BI11","v":0},{"$f":"'26. Data Input Object # 4'!BJ11","v":0},{"$f":"'26. Data Input Object # 4'!BK11","v":0},{"$f":"'26. Data Input Object # 4'!BL11","v":0},{"$f":"'26. Data Input Object # 4'!BM11","v":0},{"$f":"'26. Data Input Object # 4'!BN11","v":0},{"$f":"'26. Data Input Object # 4'!BO11","v":0},{"$f":"'26. Data Input Object # 4'!BP11","v":0},{"$f":"'26. Data Input Object # 4'!BQ11","v":0},{"$f":"'26. Data Input Object # 4'!BR11","v":0},{"$f":"'26. Data Input Object # 4'!BS11","v":0},{"$f":"'26. Data Input Object # 4'!BT11","v":0},{"$f":"'26. Data Input Object # 4'!BU11","v":0},{"$f":"'26. Data Input Object # 4'!BV11","v":0},{"$f":"'26. Data Input Object # 4'!BW11","v":0},{"$f":"'26. Data Input Object # 4'!BX11","v":0},{"$f":"'26. Data Input Object # 4'!BY11","v":0},{"$f":"'26. Data Input Object # 4'!BZ11","v":0},{"$f":"'26. Data Input Object # 4'!CA11","v":0}]
[{"$f":"'26. Data Input Object # 4'!A12","v":0},{"$f":"'26. Data Input Object # 4'!B12","v":0},{"$f":"'26. Data Input Object # 4'!C12","v":0},{"$f":"'26. Data Input Object # 4'!D12","v":0},{"$f":"'26. Data Input Object # 4'!E12","v":0},{"$f":"'26. Data Input Object # 4'!F12","v":0},{"$f":"'26. Data Input Object # 4'!G12","v":0},{"$f":"'26. Data Input Object # 4'!H12","v":0},{"$f":"'26. Data Input Object # 4'!I12","v":0},{"$f":"'26. Data Input Object # 4'!J12","v":0},{"$f":"'26. Data Input Object # 4'!K12","v":0},{"$f":"'26. Data Input Object # 4'!L12","v":0},{"$f":"'26. Data Input Object # 4'!M12","v":0},{"$f":"'26. Data Input Object # 4'!N12","v":0},{"$f":"'26. Data Input Object # 4'!O12","v":0},{"$f":"'26. Data Input Object # 4'!P12","v":0},{"$f":"'26. Data Input Object # 4'!Q12","v":0},{"$f":"'26. Data Input Object # 4'!R12","v":0},{"$f":"'26. Data Input Object # 4'!S12","v":0},{"$f":"'26. Data Input Object # 4'!T12","v":0},{"$f":"'26. Data Input Object # 4'!U12","v":0},{"$f":"'26. Data Input Object # 4'!V12","v":0},{"$f":"'26. Data Input Object # 4'!W12","v":0},{"$f":"'26. Data Input Object # 4'!X12","v":0},{"$f":"'26. Data Input Object # 4'!Y12","v":0},{"$f":"'26. Data Input Object # 4'!Z12","v":0},{"$f":"'26. Data Input Object # 4'!AA12","v":0},{"$f":"'26. Data Input Object # 4'!AB12","v":0},{"$f":"'26. Data Input Object # 4'!AC12","v":0},{"$f":"'26. Data Input Object # 4'!AD12","v":0},{"$f":"'26. Data Input Object # 4'!AE12","v":0},{"$f":"'26. Data Input Object # 4'!AF12","v":0},{"$f":"'26. Data Input Object # 4'!AG12","v":0},{"$f":"'26. Data Input Object # 4'!AH12","v":0},{"$f":"'26. Data Input Object # 4'!AI12","v":0},{"$f":"'26. Data Input Object # 4'!AJ12","v":0},{"$f":"'26. Data Input Object # 4'!AK12","v":0},{"$f":"'26. Data Input Object # 4'!AL12","v":0},{"$f":"'26. Data Input Object # 4'!AM12","v":0},{"$f":"'26. Data Input Object # 4'!AN12","v":0},{"$f":"'26. Data Input Object # 4'!AO12","v":0},{"$f":"'26. Data Input Object # 4'!AP12","v":0},{"$f":"'26. Data Input Object # 4'!AQ12","v":0},{"$f":"'26. Data Input Object # 4'!AR12","v":0},{"$f":"'26. Data Input Object # 4'!AS12","v":0},{"$f":"'26. Data Input Object # 4'!AT12","v":0},{"$f":"'26. Data Input Object # 4'!AU12","v":0},{"$f":"'26. Data Input Object # 4'!AV12","v":0},{"$f":"'26. Data Input Object # 4'!AW12","v":0},{"$f":"'26. Data Input Object # 4'!AX12","v":0},{"$f":"'26. Data Input Object # 4'!AY12","v":0},{"$f":"'26. Data Input Object # 4'!AZ12","v":0},{"$f":"'26. Data Input Object # 4'!BA12","v":0},{"$f":"'26. Data Input Object # 4'!BB12","v":0},{"$f":"'26. Data Input Object # 4'!BC12","v":0},{"$f":"'26. Data Input Object # 4'!BD12","v":0},{"$f":"'26. Data Input Object # 4'!BE12","v":0},{"$f":"'26. Data Input Object # 4'!BF12","v":0},{"$f":"'26. Data Input Object # 4'!BG12","v":0},{"$f":"'26. Data Input Object # 4'!BH12","v":0},{"$f":"'26. Data Input Object # 4'!BI12","v":0},{"$f":"'26. Data Input Object # 4'!BJ12","v":0},{"$f":"'26. Data Input Object # 4'!BK12","v":0},{"$f":"'26. Data Input Object # 4'!BL12","v":0},{"$f":"'26. Data Input Object # 4'!BM12","v":0},{"$f":"'26. Data Input Object # 4'!BN12","v":0},{"$f":"'26. Data Input Object # 4'!BO12","v":0},{"$f":"'26. Data Input Object # 4'!BP12","v":0},{"$f":"'26. Data Input Object # 4'!BQ12","v":0},{"$f":"'26. Data Input Object # 4'!BR12","v":0},{"$f":"'26. Data Input Object # 4'!BS12","v":0},{"$f":"'26. Data Input Object # 4'!BT12","v":0},{"$f":"'26. Data Input Object # 4'!BU12","v":0},{"$f":"'26. Data Input Object # 4'!BV12","v":0},{"$f":"'26. Data Input Object # 4'!BW12","v":0},{"$f":"'26. Data Input Object # 4'!BX12","v":0},{"$f":"'26. Data Input Object # 4'!BY12","v":0},{"$f":"'26. Data Input Object # 4'!BZ12","v":0},{"$f":"'26. Data Input Object # 4'!CA12","v":0}]
[{"$f":"'26. Data Input Object # 4'!A13","v":0},{"$f":"'26. Data Input Object # 4'!B13","v":0},{"$f":"'26. Data Input Object # 4'!C13","v":0},{"$f":"'26. Data Input Object # 4'!D13","v":0},{"$f":"'26. Data Input Object # 4'!E13","v":0},{"$f":"'26. Data Input Object # 4'!F13","v":0},{"$f":"'26. Data Input Object # 4'!G13","v":0},{"$f":"'26. Data Input Object # 4'!H13","v":0},{"$f":"'26. Data Input Object # 4'!I13","v":0},{"$f":"'26. Data Input Object # 4'!J13","v":0},{"$f":"'26. Data Input Object # 4'!K13","v":0},{"$f":"'26. Data Input Object # 4'!L13","v":0},{"$f":"'26. Data Input Object # 4'!M13","v":0},{"$f":"'26. Data Input Object # 4'!N13","v":0},{"$f":"'26. Data Input Object # 4'!O13","v":0},{"$f":"'26. Data Input Object # 4'!P13","v":0},{"$f":"'26. Data Input Object # 4'!Q13","v":0},{"$f":"'26. Data Input Object # 4'!R13","v":0},{"$f":"'26. Data Input Object # 4'!S13","v":0},{"$f":"'26. Data Input Object # 4'!T13","v":0},{"$f":"'26. Data Input Object # 4'!U13","v":0},{"$f":"'26. Data Input Object # 4'!V13","v":0},{"$f":"'26. Data Input Object # 4'!W13","v":0},{"$f":"'26. Data Input Object # 4'!X13","v":0},{"$f":"'26. Data Input Object # 4'!Y13","v":0},{"$f":"'26. Data Input Object # 4'!Z13","v":0},{"$f":"'26. Data Input Object # 4'!AA13","v":0},{"$f":"'26. Data Input Object # 4'!AB13","v":0},{"$f":"'26. Data Input Object # 4'!AC13","v":0},{"$f":"'26. Data Input Object # 4'!AD13","v":0},{"$f":"'26. Data Input Object # 4'!AE13","v":0},{"$f":"'26. Data Input Object # 4'!AF13","v":0},{"$f":"'26. Data Input Object # 4'!AG13","v":0},{"$f":"'26. Data Input Object # 4'!AH13","v":0},{"$f":"'26. Data Input Object # 4'!AI13","v":0},{"$f":"'26. Data Input Object # 4'!AJ13","v":0},{"$f":"'26. Data Input Object # 4'!AK13","v":0},{"$f":"'26. Data Input Object # 4'!AL13","v":0},{"$f":"'26. Data Input Object # 4'!AM13","v":0},{"$f":"'26. Data Input Object # 4'!AN13","v":0},{"$f":"'26. Data Input Object # 4'!AO13","v":0},{"$f":"'26. Data Input Object # 4'!AP13","v":0},{"$f":"'26. Data Input Object # 4'!AQ13","v":0},{"$f":"'26. Data Input Object # 4'!AR13","v":0},{"$f":"'26. Data Input Object # 4'!AS13","v":0},{"$f":"'26. Data Input Object # 4'!AT13","v":0},{"$f":"'26. Data Input Object # 4'!AU13","v":0},{"$f":"'26. Data Input Object # 4'!AV13","v":0},{"$f":"'26. Data Input Object # 4'!AW13","v":0},{"$f":"'26. Data Input Object # 4'!AX13","v":0},{"$f":"'26. Data Input Object # 4'!AY13","v":0},{"$f":"'26. Data Input Object # 4'!AZ13","v":0},{"$f":"'26. Data Input Object # 4'!BA13","v":0},{"$f":"'26. Data Input Object # 4'!BB13","v":0},{"$f":"'26. Data Input Object # 4'!BC13","v":0},{"$f":"'26. Data Input Object # 4'!BD13","v":0},{"$f":"'26. Data Input Object # 4'!BE13","v":0},{"$f":"'26. Data Input Object # 4'!BF13","v":0},{"$f":"'26. Data Input Object # 4'!BG13","v":0},{"$f":"'26. Data Input Object # 4'!BH13","v":0},{"$f":"'26. Data Input Object # 4'!BI13","v":0},{"$f":"'26. Data Input Object # 4'!BJ13","v":0},{"$f":"'26. Data Input Object # 4'!BK13","v":0},{"$f":"'26. Data Input Object # 4'!BL13","v":0},{"$f":"'26. Data Input Object # 4'!BM13","v":0},{"$f":"'26. Data Input Object # 4'!BN13","v":0},{"$f":"'26. Data Input Object # 4'!BO13","v":0},{"$f":"'26. Data Input Object # 4'!BP13","v":0},{"$f":"'26. Data Input Object # 4'!BQ13","v":0},{"$f":"'26. Data Input Object # 4'!BR13","v":0},{"$f":"'26. Data Input Object # 4'!BS13","v":0},{"$f":"'26. Data Input Object # 4'!BT13","v":0},{"$f":"'26. Data Input Object # 4'!BU13","v":0},{"$f":"'26. Data Input Object # 4'!BV13","v":0},{"$f":"'26. Data Input Object # 4'!BW13","v":0},{"$f":"'26. Data Input Object # 4'!BX13","v":0},{"$f":"'26. Data Input Object # 4'!BY13","v":0},{"$f":"'26. Data Input Object # 4'!BZ13","v":0},{"$f":"'26. Data Input Object # 4'!CA13","v":0}]
[{"$f":"'26. Data Input Object # 4'!A14","v":0},{"$f":"'26. Data Input Object # 4'!B14","v":0},{"$f":"'26. Data Input Object # 4'!C14","v":0},{"$f":"'26. Data Input Object # 4'!D14","v":0},{"$f":"'26. Data Input Object # 4'!E14","v":0},{"$f":"'26. Data Input Object # 4'!F14","v":0},{"$f":"'26. Data Input Object # 4'!G14","v":0},{"$f":"'26. Data Input Object # 4'!H14","v":0},{"$f":"'26. Data Input Object # 4'!I14","v":0},{"$f":"'26. Data Input Object # 4'!J14","v":0},{"$f":"'26. Data Input Object # 4'!K14","v":0},{"$f":"'26. Data Input Object # 4'!L14","v":0},{"$f":"'26. Data Input Object # 4'!M14","v":0},{"$f":"'26. Data Input Object # 4'!N14","v":0},{"$f":"'26. Data Input Object # 4'!O14","v":0},{"$f":"'26. Data Input Object # 4'!P14","v":0},{"$f":"'26. Data Input Object # 4'!Q14","v":0},{"$f":"'26. Data Input Object # 4'!R14","v":0},{"$f":"'26. Data Input Object # 4'!S14","v":0},{"$f":"'26. Data Input Object # 4'!T14","v":0},{"$f":"'26. Data Input Object # 4'!U14","v":0},{"$f":"'26. Data Input Object # 4'!V14","v":0},{"$f":"'26. Data Input Object # 4'!W14","v":0},{"$f":"'26. Data Input Object # 4'!X14","v":0},{"$f":"'26. Data Input Object # 4'!Y14","v":0},{"$f":"'26. Data Input Object # 4'!Z14","v":0},{"$f":"'26. Data Input Object # 4'!AA14","v":0},{"$f":"'26. Data Input Object # 4'!AB14","v":0},{"$f":"'26. Data Input Object # 4'!AC14","v":0},{"$f":"'26. Data Input Object # 4'!AD14","v":0},{"$f":"'26. Data Input Object # 4'!AE14","v":0},{"$f":"'26. Data Input Object # 4'!AF14","v":0},{"$f":"'26. Data Input Object # 4'!AG14","v":0},{"$f":"'26. Data Input Object # 4'!AH14","v":0},{"$f":"'26. Data Input Object # 4'!AI14","v":0},{"$f":"'26. Data Input Object # 4'!AJ14","v":0},{"$f":"'26. Data Input Object # 4'!AK14","v":0},{"$f":"'26. Data Input Object # 4'!AL14","v":0},{"$f":"'26. Data Input Object # 4'!AM14","v":0},{"$f":"'26. Data Input Object # 4'!AN14","v":0},{"$f":"'26. Data Input Object # 4'!AO14","v":0},{"$f":"'26. Data Input Object # 4'!AP14","v":0},{"$f":"'26. Data Input Object # 4'!AQ14","v":0},{"$f":"'26. Data Input Object # 4'!AR14","v":0},{"$f":"'26. Data Input Object # 4'!AS14","v":0},{"$f":"'26. Data Input Object # 4'!AT14","v":0},{"$f":"'26. Data Input Object # 4'!AU14","v":0},{"$f":"'26. Data Input Object # 4'!AV14","v":0},{"$f":"'26. Data Input Object # 4'!AW14","v":0},{"$f":"'26. Data Input Object # 4'!AX14","v":0},{"$f":"'26. Data Input Object # 4'!AY14","v":0},{"$f":"'26. Data Input Object # 4'!AZ14","v":0},{"$f":"'26. Data Input Object # 4'!BA14","v":0},{"$f":"'26. Data Input Object # 4'!BB14","v":0},{"$f":"'26. Data Input Object # 4'!BC14","v":0},{"$f":"'26. Data Input Object # 4'!BD14","v":0},{"$f":"'26. Data Input Object # 4'!BE14","v":0},{"$f":"'26. Data Input Object # 4'!BF14","v":0},{"$f":"'26. Data Input Object # 4'!BG14","v":0},{"$f":"'26. Data Input Object # 4'!BH14","v":0},{"$f":"'26. Data Input Object # 4'!BI14","v":0},{"$f":"'26. Data Input Object # 4'!BJ14","v":0},{"$f":"'26. Data Input Object # 4'!BK14","v":0},{"$f":"'26. Data Input Object # 4'!BL14","v":0},{"$f":"'26. Data Input Object # 4'!BM14","v":0},{"$f":"'26. Data Input Object # 4'!BN14","v":0},{"$f":"'26. Data Input Object # 4'!BO14","v":0},{"$f":"'26. Data Input Object # 4'!BP14","v":0},{"$f":"'26. Data Input Object # 4'!BQ14","v":0},{"$f":"'26. Data Input Object # 4'!BR14","v":0},{"$f":"'26. Data Input Object # 4'!BS14","v":0},{"$f":"'26. Data Input Object # 4'!BT14","v":0},{"$f":"'26. Data Input Object # 4'!BU14","v":0},{"$f":"'26. Data Input Object # 4'!BV14","v":0},{"$f":"'26. Data Input Object # 4'!BW14","v":0},{"$f":"'26. Data Input Object # 4'!BX14","v":0},{"$f":"'26. Data Input Object # 4'!BY14","v":0},{"$f":"'26. Data Input Object # 4'!BZ14","v":0},{"$f":"'26. Data Input Object # 4'!CA14","v":0}]
[{"$f":"'26. Data Input Object # 4'!A15","v":0},{"$f":"'26. Data Input Object # 4'!B15","v":0},{"$f":"'26. Data Input Object # 4'!C15","v":0},{"$f":"'26. Data Input Object # 4'!D15","v":0},{"$f":"'26. Data Input Object # 4'!E15","v":0},{"$f":"'26. Data Input Object # 4'!F15","v":0},{"$f":"'26. Data Input Object # 4'!G15","v":0},{"$f":"'26. Data Input Object # 4'!H15","v":0},{"$f":"'26. Data Input Object # 4'!I15","v":0},{"$f":"'26. Data Input Object # 4'!J15","v":0},{"$f":"'26. Data Input Object # 4'!K15","v":0},{"$f":"'26. Data Input Object # 4'!L15","v":0},{"$f":"'26. Data Input Object # 4'!M15","v":0},{"$f":"'26. Data Input Object # 4'!N15","v":0},{"$f":"'26. Data Input Object # 4'!O15","v":0},{"$f":"'26. Data Input Object # 4'!P15","v":0},{"$f":"'26. Data Input Object # 4'!Q15","v":0},{"$f":"'26. Data Input Object # 4'!R15","v":0},{"$f":"'26. Data Input Object # 4'!S15","v":0},{"$f":"'26. Data Input Object # 4'!T15","v":0},{"$f":"'26. Data Input Object # 4'!U15","v":0},{"$f":"'26. Data Input Object # 4'!V15","v":0},{"$f":"'26. Data Input Object # 4'!W15","v":0},{"$f":"'26. Data Input Object # 4'!X15","v":0},{"$f":"'26. Data Input Object # 4'!Y15","v":0},{"$f":"'26. Data Input Object # 4'!Z15","v":0},{"$f":"'26. Data Input Object # 4'!AA15","v":0},{"$f":"'26. Data Input Object # 4'!AB15","v":0},{"$f":"'26. Data Input Object # 4'!AC15","v":0},{"$f":"'26. Data Input Object # 4'!AD15","v":0},{"$f":"'26. Data Input Object # 4'!AE15","v":0},{"$f":"'26. Data Input Object # 4'!AF15","v":0},{"$f":"'26. Data Input Object # 4'!AG15","v":0},{"$f":"'26. Data Input Object # 4'!AH15","v":0},{"$f":"'26. Data Input Object # 4'!AI15","v":0},{"$f":"'26. Data Input Object # 4'!AJ15","v":0},{"$f":"'26. Data Input Object # 4'!AK15","v":0},{"$f":"'26. Data Input Object # 4'!AL15","v":0},{"$f":"'26. Data Input Object # 4'!AM15","v":0},{"$f":"'26. Data Input Object # 4'!AN15","v":0},{"$f":"'26. Data Input Object # 4'!AO15","v":0},{"$f":"'26. Data Input Object # 4'!AP15","v":0},{"$f":"'26. Data Input Object # 4'!AQ15","v":0},{"$f":"'26. Data Input Object # 4'!AR15","v":0},{"$f":"'26. Data Input Object # 4'!AS15","v":0},{"$f":"'26. Data Input Object # 4'!AT15","v":0},{"$f":"'26. Data Input Object # 4'!AU15","v":0},{"$f":"'26. Data Input Object # 4'!AV15","v":0},{"$f":"'26. Data Input Object # 4'!AW15","v":0},{"$f":"'26. Data Input Object # 4'!AX15","v":0},{"$f":"'26. Data Input Object # 4'!AY15","v":0},{"$f":"'26. Data Input Object # 4'!AZ15","v":0},{"$f":"'26. Data Input Object # 4'!BA15","v":0},{"$f":"'26. Data Input Object # 4'!BB15","v":0},{"$f":"'26. Data Input Object # 4'!BC15","v":0},{"$f":"'26. Data Input Object # 4'!BD15","v":0},{"$f":"'26. Data Input Object # 4'!BE15","v":0},{"$f":"'26. Data Input Object # 4'!BF15","v":0},{"$f":"'26. Data Input Object # 4'!BG15","v":0},{"$f":"'26. Data Input Object # 4'!BH15","v":0},{"$f":"'26. Data Input Object # 4'!BI15","v":0},{"$f":"'26. Data Input Object # 4'!BJ15","v":0},{"$f":"'26. Data Input Object # 4'!BK15","v":0},{"$f":"'26. Data Input Object # 4'!BL15","v":0},{"$f":"'26. Data Input Object # 4'!BM15","v":0},{"$f":"'26. Data Input Object # 4'!BN15","v":0},{"$f":"'26. Data Input Object # 4'!BO15","v":0},{"$f":"'26. Data Input Object # 4'!BP15","v":0},{"$f":"'26. Data Input Object # 4'!BQ15","v":0},{"$f":"'26. Data Input Object # 4'!BR15","v":0},{"$f":"'26. Data Input Object # 4'!BS15","v":0},{"$f":"'26. Data Input Object # 4'!BT15","v":0},{"$f":"'26. Data Input Object # 4'!BU15","v":0},{"$f":"'26. Data Input Object # 4'!BV15","v":0},{"$f":"'26. Data Input Object # 4'!BW15","v":0},{"$f":"'26. Data Input Object # 4'!BX15","v":0},{"$f":"'26. Data Input Object # 4'!BY15","v":0},{"$f":"'26. Data Input Object # 4'!BZ15","v":0},{"$f":"'26. Data Input Object # 4'!CA15","v":0}]
[{"$f":"'26. Data Input Object # 4'!A16","v":0},{"$f":"'26. Data Input Object # 4'!B16","v":0},{"$f":"'26. Data Input Object # 4'!C16","v":0},{"$f":"'26. Data Input Object # 4'!D16","v":0},{"$f":"'26. Data Input Object # 4'!E16","v":0},{"$f":"'26. Data Input Object # 4'!F16","v":0},{"$f":"'26. Data Input Object # 4'!G16","v":0},{"$f":"'26. Data Input Object # 4'!H16","v":0},{"$f":"'26. Data Input Object # 4'!I16","v":0},{"$f":"'26. Data Input Object # 4'!J16","v":0},{"$f":"'26. Data Input Object # 4'!K16","v":0},{"$f":"'26. Data Input Object # 4'!L16","v":0},{"$f":"'26. Data Input Object # 4'!M16","v":0},{"$f":"'26. Data Input Object # 4'!N16","v":0},{"$f":"'26. Data Input Object # 4'!O16","v":0},{"$f":"'26. Data Input Object # 4'!P16","v":0},{"$f":"'26. Data Input Object # 4'!Q16","v":0},{"$f":"'26. Data Input Object # 4'!R16","v":0},{"$f":"'26. Data Input Object # 4'!S16","v":0},{"$f":"'26. Data Input Object # 4'!T16","v":0},{"$f":"'26. Data Input Object # 4'!U16","v":0},{"$f":"'26. Data Input Object # 4'!V16","v":0},{"$f":"'26. Data Input Object # 4'!W16","v":0},{"$f":"'26. Data Input Object # 4'!X16","v":0},{"$f":"'26. Data Input Object # 4'!Y16","v":0},{"$f":"'26. Data Input Object # 4'!Z16","v":0},{"$f":"'26. Data Input Object # 4'!AA16","v":0},{"$f":"'26. Data Input Object # 4'!AB16","v":0},{"$f":"'26. Data Input Object # 4'!AC16","v":0},{"$f":"'26. Data Input Object # 4'!AD16","v":0},{"$f":"'26. Data Input Object # 4'!AE16","v":0},{"$f":"'26. Data Input Object # 4'!AF16","v":0},{"$f":"'26. Data Input Object # 4'!AG16","v":0},{"$f":"'26. Data Input Object # 4'!AH16","v":0},{"$f":"'26. Data Input Object # 4'!AI16","v":0},{"$f":"'26. Data Input Object # 4'!AJ16","v":0},{"$f":"'26. Data Input Object # 4'!AK16","v":0},{"$f":"'26. Data Input Object # 4'!AL16","v":0},{"$f":"'26. Data Input Object # 4'!AM16","v":0},{"$f":"'26. Data Input Object # 4'!AN16","v":0},{"$f":"'26. Data Input Object # 4'!AO16","v":0},{"$f":"'26. Data Input Object # 4'!AP16","v":0},{"$f":"'26. Data Input Object # 4'!AQ16","v":0},{"$f":"'26. Data Input Object # 4'!AR16","v":0},{"$f":"'26. Data Input Object # 4'!AS16","v":0},{"$f":"'26. Data Input Object # 4'!AT16","v":0},{"$f":"'26. Data Input Object # 4'!AU16","v":0},{"$f":"'26. Data Input Object # 4'!AV16","v":0},{"$f":"'26. Data Input Object # 4'!AW16","v":0},{"$f":"'26. Data Input Object # 4'!AX16","v":0},{"$f":"'26. Data Input Object # 4'!AY16","v":0},{"$f":"'26. Data Input Object # 4'!AZ16","v":0},{"$f":"'26. Data Input Object # 4'!BA16","v":0},{"$f":"'26. Data Input Object # 4'!BB16","v":0},{"$f":"'26. Data Input Object # 4'!BC16","v":0},{"$f":"'26. Data Input Object # 4'!BD16","v":0},{"$f":"'26. Data Input Object # 4'!BE16","v":0},{"$f":"'26. Data Input Object # 4'!BF16","v":0},{"$f":"'26. Data Input Object # 4'!BG16","v":0},{"$f":"'26. Data Input Object # 4'!BH16","v":0},{"$f":"'26. Data Input Object # 4'!BI16","v":0},{"$f":"'26. Data Input Object # 4'!BJ16","v":0},{"$f":"'26. Data Input Object # 4'!BK16","v":0},{"$f":"'26. Data Input Object # 4'!BL16","v":0},{"$f":"'26. Data Input Object # 4'!BM16","v":0},{"$f":"'26. Data Input Object # 4'!BN16","v":0},{"$f":"'26. Data Input Object # 4'!BO16","v":0},{"$f":"'26. Data Input Object # 4'!BP16","v":0},{"$f":"'26. Data Input Object # 4'!BQ16","v":0},{"$f":"'26. Data Input Object # 4'!BR16","v":0},{"$f":"'26. Data Input Object # 4'!BS16","v":0},{"$f":"'26. Data Input Object # 4'!BT16","v":0},{"$f":"'26. Data Input Object # 4'!BU16","v":0},{"$f":"'26. Data Input Object # 4'!BV16","v":0},{"$f":"'26. Data Input Object # 4'!BW16","v":0},{"$f":"'26. Data Input Object # 4'!BX16","v":0},{"$f":"'26. Data Input Object # 4'!BY16","v":0},{"$f":"'26. Data Input Object # 4'!BZ16","v":0},{"$f":"'26. Data Input Object # 4'!CA16","v":0}]
[{"$f":"'26. Data Input Object # 4'!A17","v":0},{"$f":"'26. Data Input Object # 4'!B17","v":0},{"$f":"'26. Data Input Object # 4'!C17","v":0},{"$f":"'26. Data Input Object # 4'!D17","v":0},{"$f":"'26. Data Input Object # 4'!E17","v":0},{"$f":"'26. Data Input Object # 4'!F17","v":0},{"$f":"'26. Data Input Object # 4'!G17","v":0},{"$f":"'26. Data Input Object # 4'!H17","v":0},{"$f":"'26. Data Input Object # 4'!I17","v":0},{"$f":"'26. Data Input Object # 4'!J17","v":0},{"$f":"'26. Data Input Object # 4'!K17","v":0},{"$f":"'26. Data Input Object # 4'!L17","v":0},{"$f":"'26. Data Input Object # 4'!M17","v":0},{"$f":"'26. Data Input Object # 4'!N17","v":0},{"$f":"'26. Data Input Object # 4'!O17","v":0},{"$f":"'26. Data Input Object # 4'!P17","v":0},{"$f":"'26. Data Input Object # 4'!Q17","v":0},{"$f":"'26. Data Input Object # 4'!R17","v":0},{"$f":"'26. Data Input Object # 4'!S17","v":0},{"$f":"'26. Data Input Object # 4'!T17","v":0},{"$f":"'26. Data Input Object # 4'!U17","v":0},{"$f":"'26. Data Input Object # 4'!V17","v":0},{"$f":"'26. Data Input Object # 4'!W17","v":0},{"$f":"'26. Data Input Object # 4'!X17","v":0},{"$f":"'26. Data Input Object # 4'!Y17","v":0},{"$f":"'26. Data Input Object # 4'!Z17","v":0},{"$f":"'26. Data Input Object # 4'!AA17","v":0},{"$f":"'26. Data Input Object # 4'!AB17","v":0},{"$f":"'26. Data Input Object # 4'!AC17","v":0},{"$f":"'26. Data Input Object # 4'!AD17","v":0},{"$f":"'26. Data Input Object # 4'!AE17","v":0},{"$f":"'26. Data Input Object # 4'!AF17","v":0},{"$f":"'26. Data Input Object # 4'!AG17","v":0},{"$f":"'26. Data Input Object # 4'!AH17","v":0},{"$f":"'26. Data Input Object # 4'!AI17","v":0},{"$f":"'26. Data Input Object # 4'!AJ17","v":0},{"$f":"'26. Data Input Object # 4'!AK17","v":0},{"$f":"'26. Data Input Object # 4'!AL17","v":0},{"$f":"'26. Data Input Object # 4'!AM17","v":0},{"$f":"'26. Data Input Object # 4'!AN17","v":0},{"$f":"'26. Data Input Object # 4'!AO17","v":0},{"$f":"'26. Data Input Object # 4'!AP17","v":0},{"$f":"'26. Data Input Object # 4'!AQ17","v":0},{"$f":"'26. Data Input Object # 4'!AR17","v":0},{"$f":"'26. Data Input Object # 4'!AS17","v":0},{"$f":"'26. Data Input Object # 4'!AT17","v":0},{"$f":"'26. Data Input Object # 4'!AU17","v":0},{"$f":"'26. Data Input Object # 4'!AV17","v":0},{"$f":"'26. Data Input Object # 4'!AW17","v":0},{"$f":"'26. Data Input Object # 4'!AX17","v":0},{"$f":"'26. Data Input Object # 4'!AY17","v":0},{"$f":"'26. Data Input Object # 4'!AZ17","v":0},{"$f":"'26. Data Input Object # 4'!BA17","v":0},{"$f":"'26. Data Input Object # 4'!BB17","v":0},{"$f":"'26. Data Input Object # 4'!BC17","v":0},{"$f":"'26. Data Input Object # 4'!BD17","v":0},{"$f":"'26. Data Input Object # 4'!BE17","v":0},{"$f":"'26. Data Input Object # 4'!BF17","v":0},{"$f":"'26. Data Input Object # 4'!BG17","v":0},{"$f":"'26. Data Input Object # 4'!BH17","v":0},{"$f":"'26. Data Input Object # 4'!BI17","v":0},{"$f":"'26. Data Input Object # 4'!BJ17","v":0},{"$f":"'26. Data Input Object # 4'!BK17","v":0},{"$f":"'26. Data Input Object # 4'!BL17","v":0},{"$f":"'26. Data Input Object # 4'!BM17","v":0},{"$f":"'26. Data Input Object # 4'!BN17","v":0},{"$f":"'26. Data Input Object # 4'!BO17","v":0},{"$f":"'26. Data Input Object # 4'!BP17","v":0},{"$f":"'26. Data Input Object # 4'!BQ17","v":0},{"$f":"'26. Data Input Object # 4'!BR17","v":0},{"$f":"'26. Data Input Object # 4'!BS17","v":0},{"$f":"'26. Data Input Object # 4'!BT17","v":0},{"$f":"'26. Data Input Object # 4'!BU17","v":0},{"$f":"'26. Data Input Object # 4'!BV17","v":0},{"$f":"'26. Data Input Object # 4'!BW17","v":0},{"$f":"'26. Data Input Object # 4'!BX17","v":0},{"$f":"'26. Data Input Object # 4'!BY17","v":0},{"$f":"'26. Data Input Object # 4'!BZ17","v":0},{"$f":"'26. Data Input Object # 4'!CA17","v":0}]
[{"$f":"'26. Data Input Object # 4'!A18","v":0},{"$f":"'26. Data Input Object # 4'!B18","v":0},{"$f":"'26. Data Input Object # 4'!C18","v":0},{"$f":"'26. Data Input Object # 4'!D18","v":0},{"$f":"'26. Data Input Object # 4'!E18","v":0},{"$f":"'26. Data Input Object # 4'!F18","v":0},{"$f":"'26. Data Input Object # 4'!G18","v":0},{"$f":"'26. Data Input Object # 4'!H18","v":0},{"$f":"'26. Data Input Object # 4'!I18","v":0},{"$f":"'26. Data Input Object # 4'!J18","v":0},{"$f":"'26. Data Input Object # 4'!K18","v":0},{"$f":"'26. Data Input Object # 4'!L18","v":0},{"$f":"'26. Data Input Object # 4'!M18","v":0},{"$f":"'26. Data Input Object # 4'!N18","v":0},{"$f":"'26. Data Input Object # 4'!O18","v":0},{"$f":"'26. Data Input Object # 4'!P18","v":0},{"$f":"'26. Data Input Object # 4'!Q18","v":0},{"$f":"'26. Data Input Object # 4'!R18","v":0},{"$f":"'26. Data Input Object # 4'!S18","v":0},{"$f":"'26. Data Input Object # 4'!T18","v":0},{"$f":"'26. Data Input Object # 4'!U18","v":0},{"$f":"'26. Data Input Object # 4'!V18","v":0},{"$f":"'26. Data Input Object # 4'!W18","v":0},{"$f":"'26. Data Input Object # 4'!X18","v":0},{"$f":"'26. Data Input Object # 4'!Y18","v":0},{"$f":"'26. Data Input Object # 4'!Z18","v":0},{"$f":"'26. Data Input Object # 4'!AA18","v":0},{"$f":"'26. Data Input Object # 4'!AB18","v":0},{"$f":"'26. Data Input Object # 4'!AC18","v":0},{"$f":"'26. Data Input Object # 4'!AD18","v":0},{"$f":"'26. Data Input Object # 4'!AE18","v":0},{"$f":"'26. Data Input Object # 4'!AF18","v":0},{"$f":"'26. Data Input Object # 4'!AG18","v":0},{"$f":"'26. Data Input Object # 4'!AH18","v":0},{"$f":"'26. Data Input Object # 4'!AI18","v":0},{"$f":"'26. Data Input Object # 4'!AJ18","v":0},{"$f":"'26. Data Input Object # 4'!AK18","v":0},{"$f":"'26. Data Input Object # 4'!AL18","v":0},{"$f":"'26. Data Input Object # 4'!AM18","v":0},{"$f":"'26. Data Input Object # 4'!AN18","v":0},{"$f":"'26. Data Input Object # 4'!AO18","v":0},{"$f":"'26. Data Input Object # 4'!AP18","v":0},{"$f":"'26. Data Input Object # 4'!AQ18","v":0},{"$f":"'26. Data Input Object # 4'!AR18","v":0},{"$f":"'26. Data Input Object # 4'!AS18","v":0},{"$f":"'26. Data Input Object # 4'!AT18","v":0},{"$f":"'26. Data Input Object # 4'!AU18","v":0},{"$f":"'26. Data Input Object # 4'!AV18","v":0},{"$f":"'26. Data Input Object # 4'!AW18","v":0},{"$f":"'26. Data Input Object # 4'!AX18","v":0},{"$f":"'26. Data Input Object # 4'!AY18","v":0},{"$f":"'26. Data Input Object # 4'!AZ18","v":0},{"$f":"'26. Data Input Object # 4'!BA18","v":0},{"$f":"'26. Data Input Object # 4'!BB18","v":0},{"$f":"'26. Data Input Object # 4'!BC18","v":0},{"$f":"'26. Data Input Object # 4'!BD18","v":0},{"$f":"'26. Data Input Object # 4'!BE18","v":0},{"$f":"'26. Data Input Object # 4'!BF18","v":0},{"$f":"'26. Data Input Object # 4'!BG18","v":0},{"$f":"'26. Data Input Object # 4'!BH18","v":0},{"$f":"'26. Data Input Object # 4'!BI18","v":0},{"$f":"'26. Data Input Object # 4'!BJ18","v":0},{"$f":"'26. Data Input Object # 4'!BK18","v":0},{"$f":"'26. Data Input Object # 4'!BL18","v":0},{"$f":"'26. Data Input Object # 4'!BM18","v":0},{"$f":"'26. Data Input Object # 4'!BN18","v":0},{"$f":"'26. Data Input Object # 4'!BO18","v":0},{"$f":"'26. Data Input Object # 4'!BP18","v":0},{"$f":"'26. Data Input Object # 4'!BQ18","v":0},{"$f":"'26. Data Input Object # 4'!BR18","v":0},{"$f":"'26. Data Input Object # 4'!BS18","v":0},{"$f":"'26. Data Input Object # 4'!BT18","v":0},{"$f":"'26. Data Input Object # 4'!BU18","v":0},{"$f":"'26. Data Input Object # 4'!BV18","v":0},{"$f":"'26. Data Input Object # 4'!BW18","v":0},{"$f":"'26. Data Input Object # 4'!BX18","v":0},{"$f":"'26. Data Input Object # 4'!BY18","v":0},{"$f":"'26. Data Input Object # 4'!BZ18","v":0},{"$f":"'26. Data Input Object # 4'!CA18","v":0}]
[{"$f":"'26. Data Input Object # 4'!A19","v":0},{"$f":"'26. Data Input Object # 4'!B19","v":0},{"$f":"'26. Data Input Object # 4'!C19","v":0},{"$f":"'26. Data Input Object # 4'!D19","v":0},{"$f":"'26. Data Input Object # 4'!E19","v":0},{"$f":"'26. Data Input Object # 4'!F19","v":0},{"$f":"'26. Data Input Object # 4'!G19","v":0},{"$f":"'26. Data Input Object # 4'!H19","v":0},{"$f":"'26. Data Input Object # 4'!I19","v":0},{"$f":"'26. Data Input Object # 4'!J19","v":0},{"$f":"'26. Data Input Object # 4'!K19","v":0},{"$f":"'26. Data Input Object # 4'!L19","v":0},{"$f":"'26. Data Input Object # 4'!M19","v":0},{"$f":"'26. Data Input Object # 4'!N19","v":0},{"$f":"'26. Data Input Object # 4'!O19","v":0},{"$f":"'26. Data Input Object # 4'!P19","v":0},{"$f":"'26. Data Input Object # 4'!Q19","v":0},{"$f":"'26. Data Input Object # 4'!R19","v":0},{"$f":"'26. Data Input Object # 4'!S19","v":0},{"$f":"'26. Data Input Object # 4'!T19","v":0},{"$f":"'26. Data Input Object # 4'!U19","v":0},{"$f":"'26. Data Input Object # 4'!V19","v":0},{"$f":"'26. Data Input Object # 4'!W19","v":0},{"$f":"'26. Data Input Object # 4'!X19","v":0},{"$f":"'26. Data Input Object # 4'!Y19","v":0},{"$f":"'26. Data Input Object # 4'!Z19","v":0},{"$f":"'26. Data Input Object # 4'!AA19","v":0},{"$f":"'26. Data Input Object # 4'!AB19","v":0},{"$f":"'26. Data Input Object # 4'!AC19","v":0},{"$f":"'26. Data Input Object # 4'!AD19","v":0},{"$f":"'26. Data Input Object # 4'!AE19","v":0},{"$f":"'26. Data Input Object # 4'!AF19","v":0},{"$f":"'26. Data Input Object # 4'!AG19","v":0},{"$f":"'26. Data Input Object # 4'!AH19","v":0},{"$f":"'26. Data Input Object # 4'!AI19","v":0},{"$f":"'26. Data Input Object # 4'!AJ19","v":0},{"$f":"'26. Data Input Object # 4'!AK19","v":0},{"$f":"'26. Data Input Object # 4'!AL19","v":0},{"$f":"'26. Data Input Object # 4'!AM19","v":0},{"$f":"'26. Data Input Object # 4'!AN19","v":0},{"$f":"'26. Data Input Object # 4'!AO19","v":0},{"$f":"'26. Data Input Object # 4'!AP19","v":0},{"$f":"'26. Data Input Object # 4'!AQ19","v":0},{"$f":"'26. Data Input Object # 4'!AR19","v":0},{"$f":"'26. Data Input Object # 4'!AS19","v":0},{"$f":"'26. Data Input Object # 4'!AT19","v":0},{"$f":"'26. Data Input Object # 4'!AU19","v":0},{"$f":"'26. Data Input Object # 4'!AV19","v":0},{"$f":"'26. Data Input Object # 4'!AW19","v":0},{"$f":"'26. Data Input Object # 4'!AX19","v":0},{"$f":"'26. Data Input Object # 4'!AY19","v":0},{"$f":"'26. Data Input Object # 4'!AZ19","v":0},{"$f":"'26. Data Input Object # 4'!BA19","v":0},{"$f":"'26. Data Input Object # 4'!BB19","v":0},{"$f":"'26. Data Input Object # 4'!BC19","v":0},{"$f":"'26. Data Input Object # 4'!BD19","v":0},{"$f":"'26. Data Input Object # 4'!BE19","v":0},{"$f":"'26. Data Input Object # 4'!BF19","v":0},{"$f":"'26. Data Input Object # 4'!BG19","v":0},{"$f":"'26. Data Input Object # 4'!BH19","v":0},{"$f":"'26. Data Input Object # 4'!BI19","v":0},{"$f":"'26. Data Input Object # 4'!BJ19","v":0},{"$f":"'26. Data Input Object # 4'!BK19","v":0},{"$f":"'26. Data Input Object # 4'!BL19","v":0},{"$f":"'26. Data Input Object # 4'!BM19","v":0},{"$f":"'26. Data Input Object # 4'!BN19","v":0},{"$f":"'26. Data Input Object # 4'!BO19","v":0},{"$f":"'26. Data Input Object # 4'!BP19","v":0},{"$f":"'26. Data Input Object # 4'!BQ19","v":0},{"$f":"'26. Data Input Object # 4'!BR19","v":0},{"$f":"'26. Data Input Object # 4'!BS19","v":0},{"$f":"'26. Data Input Object # 4'!BT19","v":0},{"$f":"'26. Data Input Object # 4'!BU19","v":0},{"$f":"'26. Data Input Object # 4'!BV19","v":0},{"$f":"'26. Data Input Object # 4'!BW19","v":0},{"$f":"'26. Data Input Object # 4'!BX19","v":0},{"$f":"'26. Data Input Object # 4'!BY19","v":0},{"$f":"'26. Data Input Object # 4'!BZ19","v":0},{"$f":"'26. Data Input Object # 4'!CA19","v":0}]
[{"$f":"'26. Data Input Object # 4'!A20","v":0},{"$f":"'26. Data Input Object # 4'!B20","v":0},{"$f":"'26. Data Input Object # 4'!C20","v":0},{"$f":"'26. Data Input Object # 4'!D20","v":0},{"$f":"'26. Data Input Object # 4'!E20","v":0},{"$f":"'26. Data Input Object # 4'!F20","v":0},{"$f":"'26. Data Input Object # 4'!G20","v":0},{"$f":"'26. Data Input Object # 4'!H20","v":0},{"$f":"'26. Data Input Object # 4'!I20","v":0},{"$f":"'26. Data Input Object # 4'!J20","v":0},{"$f":"'26. Data Input Object # 4'!K20","v":0},{"$f":"'26. Data Input Object # 4'!L20","v":0},{"$f":"'26. Data Input Object # 4'!M20","v":0},{"$f":"'26. Data Input Object # 4'!N20","v":0},{"$f":"'26. Data Input Object # 4'!O20","v":0},{"$f":"'26. Data Input Object # 4'!P20","v":0},{"$f":"'26. Data Input Object # 4'!Q20","v":0},{"$f":"'26. Data Input Object # 4'!R20","v":0},{"$f":"'26. Data Input Object # 4'!S20","v":0},{"$f":"'26. Data Input Object # 4'!T20","v":0},{"$f":"'26. Data Input Object # 4'!U20","v":0},{"$f":"'26. Data Input Object # 4'!V20","v":0},{"$f":"'26. Data Input Object # 4'!W20","v":0},{"$f":"'26. Data Input Object # 4'!X20","v":0},{"$f":"'26. Data Input Object # 4'!Y20","v":0},{"$f":"'26. Data Input Object # 4'!Z20","v":0},{"$f":"'26. Data Input Object # 4'!AA20","v":0},{"$f":"'26. Data Input Object # 4'!AB20","v":0},{"$f":"'26. Data Input Object # 4'!AC20","v":0},{"$f":"'26. Data Input Object # 4'!AD20","v":0},{"$f":"'26. Data Input Object # 4'!AE20","v":0},{"$f":"'26. Data Input Object # 4'!AF20","v":0},{"$f":"'26. Data Input Object # 4'!AG20","v":0},{"$f":"'26. Data Input Object # 4'!AH20","v":0},{"$f":"'26. Data Input Object # 4'!AI20","v":0},{"$f":"'26. Data Input Object # 4'!AJ20","v":0},{"$f":"'26. Data Input Object # 4'!AK20","v":0},{"$f":"'26. Data Input Object # 4'!AL20","v":0},{"$f":"'26. Data Input Object # 4'!AM20","v":0},{"$f":"'26. Data Input Object # 4'!AN20","v":0},{"$f":"'26. Data Input Object # 4'!AO20","v":0},{"$f":"'26. Data Input Object # 4'!AP20","v":0},{"$f":"'26. Data Input Object # 4'!AQ20","v":0},{"$f":"'26. Data Input Object # 4'!AR20","v":0},{"$f":"'26. Data Input Object # 4'!AS20","v":0},{"$f":"'26. Data Input Object # 4'!AT20","v":0},{"$f":"'26. Data Input Object # 4'!AU20","v":0},{"$f":"'26. Data Input Object # 4'!AV20","v":0},{"$f":"'26. Data Input Object # 4'!AW20","v":0},{"$f":"'26. Data Input Object # 4'!AX20","v":0},{"$f":"'26. Data Input Object # 4'!AY20","v":0},{"$f":"'26. Data Input Object # 4'!AZ20","v":0},{"$f":"'26. Data Input Object # 4'!BA20","v":0},{"$f":"'26. Data Input Object # 4'!BB20","v":0},{"$f":"'26. Data Input Object # 4'!BC20","v":0},{"$f":"'26. Data Input Object # 4'!BD20","v":0},{"$f":"'26. Data Input Object # 4'!BE20","v":0},{"$f":"'26. Data Input Object # 4'!BF20","v":0},{"$f":"'26. Data Input Object # 4'!BG20","v":0},{"$f":"'26. Data Input Object # 4'!BH20","v":0},{"$f":"'26. Data Input Object # 4'!BI20","v":0},{"$f":"'26. Data Input Object # 4'!BJ20","v":0},{"$f":"'26. Data Input Object # 4'!BK20","v":0},{"$f":"'26. Data Input Object # 4'!BL20","v":0},{"$f":"'26. Data Input Object # 4'!BM20","v":0},{"$f":"'26. Data Input Object # 4'!BN20","v":0},{"$f":"'26. Data Input Object # 4'!BO20","v":0},{"$f":"'26. Data Input Object # 4'!BP20","v":0},{"$f":"'26. Data Input Object # 4'!BQ20","v":0},{"$f":"'26. Data Input Object # 4'!BR20","v":0},{"$f":"'26. Data Input Object # 4'!BS20","v":0},{"$f":"'26. Data Input Object # 4'!BT20","v":0},{"$f":"'26. Data Input Object # 4'!BU20","v":0},{"$f":"'26. Data Input Object # 4'!BV20","v":0},{"$f":"'26. Data Input Object # 4'!BW20","v":0},{"$f":"'26. Data Input Object # 4'!BX20","v":0},{"$f":"'26. Data Input Object # 4'!BY20","v":0},{"$f":"'26. Data Input Object # 4'!BZ20","v":0},{"$f":"'26. Data Input Object # 4'!CA20","v":0}]
[{"$f":"'26. Data Input Object # 4'!A21","v":0},{"$f":"'26. Data Input Object # 4'!B21","v":0},{"$f":"'26. Data Input Object # 4'!C21","v":0},{"$f":"'26. Data Input Object # 4'!D21","v":0},{"$f":"'26. Data Input Object # 4'!E21","v":0},{"$f":"'26. Data Input Object # 4'!F21","v":0},{"$f":"'26. Data Input Object # 4'!G21","v":0},{"$f":"'26. Data Input Object # 4'!H21","v":0},{"$f":"'26. Data Input Object # 4'!I21","v":0},{"$f":"'26. Data Input Object # 4'!J21","v":0},{"$f":"'26. Data Input Object # 4'!K21","v":0},{"$f":"'26. Data Input Object # 4'!L21","v":0},{"$f":"'26. Data Input Object # 4'!M21","v":0},{"$f":"'26. Data Input Object # 4'!N21","v":0},{"$f":"'26. Data Input Object # 4'!O21","v":0},{"$f":"'26. Data Input Object # 4'!P21","v":0},{"$f":"'26. Data Input Object # 4'!Q21","v":0},{"$f":"'26. Data Input Object # 4'!R21","v":0},{"$f":"'26. Data Input Object # 4'!S21","v":0},{"$f":"'26. Data Input Object # 4'!T21","v":0},{"$f":"'26. Data Input Object # 4'!U21","v":0},{"$f":"'26. Data Input Object # 4'!V21","v":0},{"$f":"'26. Data Input Object # 4'!W21","v":0},{"$f":"'26. Data Input Object # 4'!X21","v":0},{"$f":"'26. Data Input Object # 4'!Y21","v":0},{"$f":"'26. Data Input Object # 4'!Z21","v":0},{"$f":"'26. Data Input Object # 4'!AA21","v":0},{"$f":"'26. Data Input Object # 4'!AB21","v":0},{"$f":"'26. Data Input Object # 4'!AC21","v":0},{"$f":"'26. Data Input Object # 4'!AD21","v":0},{"$f":"'26. Data Input Object # 4'!AE21","v":0},{"$f":"'26. Data Input Object # 4'!AF21","v":0},{"$f":"'26. Data Input Object # 4'!AG21","v":0},{"$f":"'26. Data Input Object # 4'!AH21","v":0},{"$f":"'26. Data Input Object # 4'!AI21","v":0},{"$f":"'26. Data Input Object # 4'!AJ21","v":0},{"$f":"'26. Data Input Object # 4'!AK21","v":0},{"$f":"'26. Data Input Object # 4'!AL21","v":0},{"$f":"'26. Data Input Object # 4'!AM21","v":0},{"$f":"'26. Data Input Object # 4'!AN21","v":0},{"$f":"'26. Data Input Object # 4'!AO21","v":0},{"$f":"'26. Data Input Object # 4'!AP21","v":0},{"$f":"'26. Data Input Object # 4'!AQ21","v":0},{"$f":"'26. Data Input Object # 4'!AR21","v":0},{"$f":"'26. Data Input Object # 4'!AS21","v":0},{"$f":"'26. Data Input Object # 4'!AT21","v":0},{"$f":"'26. Data Input Object # 4'!AU21","v":0},{"$f":"'26. Data Input Object # 4'!AV21","v":0},{"$f":"'26. Data Input Object # 4'!AW21","v":0},{"$f":"'26. Data Input Object # 4'!AX21","v":0},{"$f":"'26. Data Input Object # 4'!AY21","v":0},{"$f":"'26. Data Input Object # 4'!AZ21","v":0},{"$f":"'26. Data Input Object # 4'!BA21","v":0},{"$f":"'26. Data Input Object # 4'!BB21","v":0},{"$f":"'26. Data Input Object # 4'!BC21","v":0},{"$f":"'26. Data Input Object # 4'!BD21","v":0},{"$f":"'26. Data Input Object # 4'!BE21","v":0},{"$f":"'26. Data Input Object # 4'!BF21","v":0},{"$f":"'26. Data Input Object # 4'!BG21","v":0},{"$f":"'26. Data Input Object # 4'!BH21","v":0},{"$f":"'26. Data Input Object # 4'!BI21","v":0},{"$f":"'26. Data Input Object # 4'!BJ21","v":0},{"$f":"'26. Data Input Object # 4'!BK21","v":0},{"$f":"'26. Data Input Object # 4'!BL21","v":0},{"$f":"'26. Data Input Object # 4'!BM21","v":0},{"$f":"'26. Data Input Object # 4'!BN21","v":0},{"$f":"'26. Data Input Object # 4'!BO21","v":0},{"$f":"'26. Data Input Object # 4'!BP21","v":0},{"$f":"'26. Data Input Object # 4'!BQ21","v":0},{"$f":"'26. Data Input Object # 4'!BR21","v":0},{"$f":"'26. Data Input Object # 4'!BS21","v":0},{"$f":"'26. Data Input Object # 4'!BT21","v":0},{"$f":"'26. Data Input Object # 4'!BU21","v":0},{"$f":"'26. Data Input Object # 4'!BV21","v":0},{"$f":"'26. Data Input Object # 4'!BW21","v":0},{"$f":"'26. Data Input Object # 4'!BX21","v":0},{"$f":"'26. Data Input Object # 4'!BY21","v":0},{"$f":"'26. Data Input Object # 4'!BZ21","v":0},{"$f":"'26. Data Input Object # 4'!CA21","v":0}]
[{"$f":"'26. Data Input Object # 4'!A22","v":0},{"$f":"'26. Data Input Object # 4'!B22","v":0},{"$f":"'26. Data Input Object # 4'!C22","v":0},{"$f":"'26. Data Input Object # 4'!D22","v":0},{"$f":"'26. Data Input Object # 4'!E22","v":0},{"$f":"'26. Data Input Object # 4'!F22","v":0},{"$f":"'26. Data Input Object # 4'!G22","v":0},{"$f":"'26. Data Input Object # 4'!H22","v":0},{"$f":"'26. Data Input Object # 4'!I22","v":0},{"$f":"'26. Data Input Object # 4'!J22","v":0},{"$f":"'26. Data Input Object # 4'!K22","v":0},{"$f":"'26. Data Input Object # 4'!L22","v":0},{"$f":"'26. Data Input Object # 4'!M22","v":0},{"$f":"'26. Data Input Object # 4'!N22","v":0},{"$f":"'26. Data Input Object # 4'!O22","v":0},{"$f":"'26. Data Input Object # 4'!P22","v":0},{"$f":"'26. Data Input Object # 4'!Q22","v":0},{"$f":"'26. Data Input Object # 4'!R22","v":0},{"$f":"'26. Data Input Object # 4'!S22","v":0},{"$f":"'26. Data Input Object # 4'!T22","v":0},{"$f":"'26. Data Input Object # 4'!U22","v":0},{"$f":"'26. Data Input Object # 4'!V22","v":0},{"$f":"'26. Data Input Object # 4'!W22","v":0},{"$f":"'26. Data Input Object # 4'!X22","v":0},{"$f":"'26. Data Input Object # 4'!Y22","v":0},{"$f":"'26. Data Input Object # 4'!Z22","v":0},{"$f":"'26. Data Input Object # 4'!AA22","v":0},{"$f":"'26. Data Input Object # 4'!AB22","v":0},{"$f":"'26. Data Input Object # 4'!AC22","v":0},{"$f":"'26. Data Input Object # 4'!AD22","v":0},{"$f":"'26. Data Input Object # 4'!AE22","v":0},{"$f":"'26. Data Input Object # 4'!AF22","v":0},{"$f":"'26. Data Input Object # 4'!AG22","v":0},{"$f":"'26. Data Input Object # 4'!AH22","v":0},{"$f":"'26. Data Input Object # 4'!AI22","v":0},{"$f":"'26. Data Input Object # 4'!AJ22","v":0},{"$f":"'26. Data Input Object # 4'!AK22","v":0},{"$f":"'26. Data Input Object # 4'!AL22","v":0},{"$f":"'26. Data Input Object # 4'!AM22","v":0},{"$f":"'26. Data Input Object # 4'!AN22","v":0},{"$f":"'26. Data Input Object # 4'!AO22","v":0},{"$f":"'26. Data Input Object # 4'!AP22","v":0},{"$f":"'26. Data Input Object # 4'!AQ22","v":0},{"$f":"'26. Data Input Object # 4'!AR22","v":0},{"$f":"'26. Data Input Object # 4'!AS22","v":0},{"$f":"'26. Data Input Object # 4'!AT22","v":0},{"$f":"'26. Data Input Object # 4'!AU22","v":0},{"$f":"'26. Data Input Object # 4'!AV22","v":0},{"$f":"'26. Data Input Object # 4'!AW22","v":0},{"$f":"'26. Data Input Object # 4'!AX22","v":0},{"$f":"'26. Data Input Object # 4'!AY22","v":0},{"$f":"'26. Data Input Object # 4'!AZ22","v":0},{"$f":"'26. Data Input Object # 4'!BA22","v":0},{"$f":"'26. Data Input Object # 4'!BB22","v":0},{"$f":"'26. Data Input Object # 4'!BC22","v":0},{"$f":"'26. Data Input Object # 4'!BD22","v":0},{"$f":"'26. Data Input Object # 4'!BE22","v":0},{"$f":"'26. Data Input Object # 4'!BF22","v":0},{"$f":"'26. Data Input Object # 4'!BG22","v":0},{"$f":"'26. Data Input Object # 4'!BH22","v":0},{"$f":"'26. Data Input Object # 4'!BI22","v":0},{"$f":"'26. Data Input Object # 4'!BJ22","v":0},{"$f":"'26. Data Input Object # 4'!BK22","v":0},{"$f":"'26. Data Input Object # 4'!BL22","v":0},{"$f":"'26. Data Input Object # 4'!BM22","v":0},{"$f":"'26. Data Input Object # 4'!BN22","v":0},{"$f":"'26. Data Input Object # 4'!BO22","v":0},{"$f":"'26. Data Input Object # 4'!BP22","v":0},{"$f":"'26. Data Input Object # 4'!BQ22","v":0},{"$f":"'26. Data Input Object # 4'!BR22","v":0},{"$f":"'26. Data Input Object # 4'!BS22","v":0},{"$f":"'26. Data Input Object # 4'!BT22","v":0},{"$f":"'26. Data Input Object # 4'!BU22","v":0},{"$f":"'26. Data Input Object # 4'!BV22","v":0},{"$f":"'26. Data Input Object # 4'!BW22","v":0},{"$f":"'26. Data Input Object # 4'!BX22","v":0},{"$f":"'26. Data Input Object # 4'!BY22","v":0},{"$f":"'26. Data Input Object # 4'!BZ22","v":0},{"$f":"'26. Data Input Object # 4'!CA22","v":0}]
[{"$f":"'26. Data Input Object # 4'!A23","v":0},{"$f":"'26. Data Input Object # 4'!B23","v":0},{"$f":"'26. Data Input Object # 4'!C23","v":0},{"$f":"'26. Data Input Object # 4'!D23","v":0},{"$f":"'26. Data Input Object # 4'!E23","v":0},{"$f":"'26. Data Input Object # 4'!F23","v":0},{"$f":"'26. Data Input Object # 4'!G23","v":0},{"$f":"'26. Data Input Object # 4'!H23","v":0},{"$f":"'26. Data Input Object # 4'!I23","v":0},{"$f":"'26. Data Input Object # 4'!J23","v":0},{"$f":"'26. Data Input Object # 4'!K23","v":0},{"$f":"'26. Data Input Object # 4'!L23","v":0},{"$f":"'26. Data Input Object # 4'!M23","v":0},{"$f":"'26. Data Input Object # 4'!N23","v":0},{"$f":"'26. Data Input Object # 4'!O23","v":0},{"$f":"'26. Data Input Object # 4'!P23","v":0},{"$f":"'26. Data Input Object # 4'!Q23","v":0},{"$f":"'26. Data Input Object # 4'!R23","v":0},{"$f":"'26. Data Input Object # 4'!S23","v":0},{"$f":"'26. Data Input Object # 4'!T23","v":0},{"$f":"'26. Data Input Object # 4'!U23","v":0},{"$f":"'26. Data Input Object # 4'!V23","v":0},{"$f":"'26. Data Input Object # 4'!W23","v":0},{"$f":"'26. Data Input Object # 4'!X23","v":0},{"$f":"'26. Data Input Object # 4'!Y23","v":0},{"$f":"'26. Data Input Object # 4'!Z23","v":0},{"$f":"'26. Data Input Object # 4'!AA23","v":0},{"$f":"'26. Data Input Object # 4'!AB23","v":0},{"$f":"'26. Data Input Object # 4'!AC23","v":0},{"$f":"'26. Data Input Object # 4'!AD23","v":0},{"$f":"'26. Data Input Object # 4'!AE23","v":0},{"$f":"'26. Data Input Object # 4'!AF23","v":0},{"$f":"'26. Data Input Object # 4'!AG23","v":0},{"$f":"'26. Data Input Object # 4'!AH23","v":0},{"$f":"'26. Data Input Object # 4'!AI23","v":0},{"$f":"'26. Data Input Object # 4'!AJ23","v":0},{"$f":"'26. Data Input Object # 4'!AK23","v":0},{"$f":"'26. Data Input Object # 4'!AL23","v":0},{"$f":"'26. Data Input Object # 4'!AM23","v":0},{"$f":"'26. Data Input Object # 4'!AN23","v":0},{"$f":"'26. Data Input Object # 4'!AO23","v":0},{"$f":"'26. Data Input Object # 4'!AP23","v":0},{"$f":"'26. Data Input Object # 4'!AQ23","v":0},{"$f":"'26. Data Input Object # 4'!AR23","v":0},{"$f":"'26. Data Input Object # 4'!AS23","v":0},{"$f":"'26. Data Input Object # 4'!AT23","v":0},{"$f":"'26. Data Input Object # 4'!AU23","v":0},{"$f":"'26. Data Input Object # 4'!AV23","v":0},{"$f":"'26. Data Input Object # 4'!AW23","v":0},{"$f":"'26. Data Input Object # 4'!AX23","v":0},{"$f":"'26. Data Input Object # 4'!AY23","v":0},{"$f":"'26. Data Input Object # 4'!AZ23","v":0},{"$f":"'26. Data Input Object # 4'!BA23","v":0},{"$f":"'26. Data Input Object # 4'!BB23","v":0},{"$f":"'26. Data Input Object # 4'!BC23","v":0},{"$f":"'26. Data Input Object # 4'!BD23","v":0},{"$f":"'26. Data Input Object # 4'!BE23","v":0},{"$f":"'26. Data Input Object # 4'!BF23","v":0},{"$f":"'26. Data Input Object # 4'!BG23","v":0},{"$f":"'26. Data Input Object # 4'!BH23","v":0},{"$f":"'26. Data Input Object # 4'!BI23","v":0},{"$f":"'26. Data Input Object # 4'!BJ23","v":0},{"$f":"'26. Data Input Object # 4'!BK23","v":0},{"$f":"'26. Data Input Object # 4'!BL23","v":0},{"$f":"'26. Data Input Object # 4'!BM23","v":0},{"$f":"'26. Data Input Object # 4'!BN23","v":0},{"$f":"'26. Data Input Object # 4'!BO23","v":0},{"$f":"'26. Data Input Object # 4'!BP23","v":0},{"$f":"'26. Data Input Object # 4'!BQ23","v":0},{"$f":"'26. Data Input Object # 4'!BR23","v":0},{"$f":"'26. Data Input Object # 4'!BS23","v":0},{"$f":"'26. Data Input Object # 4'!BT23","v":0},{"$f":"'26. Data Input Object # 4'!BU23","v":0},{"$f":"'26. Data Input Object # 4'!BV23","v":0},{"$f":"'26. Data Input Object # 4'!BW23","v":0},{"$f":"'26. Data Input Object # 4'!BX23","v":0},{"$f":"'26. Data Input Object # 4'!BY23","v":0},{"$f":"'26. Data Input Object # 4'!BZ23","v":0},{"$f":"'26. Data Input Object # 4'!CA23","v":0}]
[{"$f":"'26. Data Input Object # 4'!A24","v":0},{"$f":"'26. Data Input Object # 4'!B24","v":0},{"$f":"'26. Data Input Object # 4'!C24","v":0},{"$f":"'26. Data Input Object # 4'!D24","v":0},{"$f":"'26. Data Input Object # 4'!E24","v":0},{"$f":"'26. Data Input Object # 4'!F24","v":0},{"$f":"'26. Data Input Object # 4'!G24","v":0},{"$f":"'26. Data Input Object # 4'!H24","v":0},{"$f":"'26. Data Input Object # 4'!I24","v":0},{"$f":"'26. Data Input Object # 4'!J24","v":0},{"$f":"'26. Data Input Object # 4'!K24","v":0},{"$f":"'26. Data Input Object # 4'!L24","v":0},{"$f":"'26. Data Input Object # 4'!M24","v":0},{"$f":"'26. Data Input Object # 4'!N24","v":0},{"$f":"'26. Data Input Object # 4'!O24","v":0},{"$f":"'26. Data Input Object # 4'!P24","v":0},{"$f":"'26. Data Input Object # 4'!Q24","v":0},{"$f":"'26. Data Input Object # 4'!R24","v":0},{"$f":"'26. Data Input Object # 4'!S24","v":0},{"$f":"'26. Data Input Object # 4'!T24","v":0},{"$f":"'26. Data Input Object # 4'!U24","v":0},{"$f":"'26. Data Input Object # 4'!V24","v":0},{"$f":"'26. Data Input Object # 4'!W24","v":0},{"$f":"'26. Data Input Object # 4'!X24","v":0},{"$f":"'26. Data Input Object # 4'!Y24","v":0},{"$f":"'26. Data Input Object # 4'!Z24","v":0},{"$f":"'26. Data Input Object # 4'!AA24","v":0},{"$f":"'26. Data Input Object # 4'!AB24","v":0},{"$f":"'26. Data Input Object # 4'!AC24","v":0},{"$f":"'26. Data Input Object # 4'!AD24","v":0},{"$f":"'26. Data Input Object # 4'!AE24","v":0},{"$f":"'26. Data Input Object # 4'!AF24","v":0},{"$f":"'26. Data Input Object # 4'!AG24","v":0},{"$f":"'26. Data Input Object # 4'!AH24","v":0},{"$f":"'26. Data Input Object # 4'!AI24","v":0},{"$f":"'26. Data Input Object # 4'!AJ24","v":0},{"$f":"'26. Data Input Object # 4'!AK24","v":0},{"$f":"'26. Data Input Object # 4'!AL24","v":0},{"$f":"'26. Data Input Object # 4'!AM24","v":0},{"$f":"'26. Data Input Object # 4'!AN24","v":0},{"$f":"'26. Data Input Object # 4'!AO24","v":0},{"$f":"'26. Data Input Object # 4'!AP24","v":0},{"$f":"'26. Data Input Object # 4'!AQ24","v":0},{"$f":"'26. Data Input Object # 4'!AR24","v":0},{"$f":"'26. Data Input Object # 4'!AS24","v":0},{"$f":"'26. Data Input Object # 4'!AT24","v":0},{"$f":"'26. Data Input Object # 4'!AU24","v":0},{"$f":"'26. Data Input Object # 4'!AV24","v":0},{"$f":"'26. Data Input Object # 4'!AW24","v":0},{"$f":"'26. Data Input Object # 4'!AX24","v":0},{"$f":"'26. Data Input Object # 4'!AY24","v":0},{"$f":"'26. Data Input Object # 4'!AZ24","v":0},{"$f":"'26. Data Input Object # 4'!BA24","v":0},{"$f":"'26. Data Input Object # 4'!BB24","v":0},{"$f":"'26. Data Input Object # 4'!BC24","v":0},{"$f":"'26. Data Input Object # 4'!BD24","v":0},{"$f":"'26. Data Input Object # 4'!BE24","v":0},{"$f":"'26. Data Input Object # 4'!BF24","v":0},{"$f":"'26. Data Input Object # 4'!BG24","v":0},{"$f":"'26. Data Input Object # 4'!BH24","v":0},{"$f":"'26. Data Input Object # 4'!BI24","v":0},{"$f":"'26. Data Input Object # 4'!BJ24","v":0},{"$f":"'26. Data Input Object # 4'!BK24","v":0},{"$f":"'26. Data Input Object # 4'!BL24","v":0},{"$f":"'26. Data Input Object # 4'!BM24","v":0},{"$f":"'26. Data Input Object # 4'!BN24","v":0},{"$f":"'26. Data Input Object # 4'!BO24","v":0},{"$f":"'26. Data Input Object # 4'!BP24","v":0},{"$f":"'26. Data Input Object # 4'!BQ24","v":0},{"$f":"'26. Data Input Object # 4'!BR24","v":0},{"$f":"'26. Data Input Object # 4'!BS24","v":0},{"$f":"'26. Data Input Object # 4'!BT24","v":0},{"$f":"'26. Data Input Object # 4'!BU24","v":0},{"$f":"'26. Data Input Object # 4'!BV24","v":0},{"$f":"'26. Data Input Object # 4'!BW24","v":0},{"$f":"'26. Data Input Object # 4'!BX24","v":0},{"$f":"'26. Data Input Object # 4'!BY24","v":0},{"$f":"'26. Data Input Object # 4'!BZ24","v":0},{"$f":"'26. Data Input Object # 4'!CA24","v":0}]
[{"$f":"'26. Data Input Object # 4'!A25","v":0},{"$f":"'26. Data Input Object # 4'!B25","v":0},{"$f":"'26. Data Input Object # 4'!C25","v":0},{"$f":"'26. Data Input Object # 4'!D25","v":0},{"$f":"'26. Data Input Object # 4'!E25","v":0},{"$f":"'26. Data Input Object # 4'!F25","v":0},{"$f":"'26. Data Input Object # 4'!G25","v":0},{"$f":"'26. Data Input Object # 4'!H25","v":0},{"$f":"'26. Data Input Object # 4'!I25","v":0},{"$f":"'26. Data Input Object # 4'!J25","v":0},{"$f":"'26. Data Input Object # 4'!K25","v":0},{"$f":"'26. Data Input Object # 4'!L25","v":0},{"$f":"'26. Data Input Object # 4'!M25","v":0},{"$f":"'26. Data Input Object # 4'!N25","v":0},{"$f":"'26. Data Input Object # 4'!O25","v":0},{"$f":"'26. Data Input Object # 4'!P25","v":0},{"$f":"'26. Data Input Object # 4'!Q25","v":0},{"$f":"'26. Data Input Object # 4'!R25","v":0},{"$f":"'26. Data Input Object # 4'!S25","v":0},{"$f":"'26. Data Input Object # 4'!T25","v":0},{"$f":"'26. Data Input Object # 4'!U25","v":0},{"$f":"'26. Data Input Object # 4'!V25","v":0},{"$f":"'26. Data Input Object # 4'!W25","v":0},{"$f":"'26. Data Input Object # 4'!X25","v":0},{"$f":"'26. Data Input Object # 4'!Y25","v":0},{"$f":"'26. Data Input Object # 4'!Z25","v":0},{"$f":"'26. Data Input Object # 4'!AA25","v":0},{"$f":"'26. Data Input Object # 4'!AB25","v":0},{"$f":"'26. Data Input Object # 4'!AC25","v":0},{"$f":"'26. Data Input Object # 4'!AD25","v":0},{"$f":"'26. Data Input Object # 4'!AE25","v":0},{"$f":"'26. Data Input Object # 4'!AF25","v":0},{"$f":"'26. Data Input Object # 4'!AG25","v":0},{"$f":"'26. Data Input Object # 4'!AH25","v":0},{"$f":"'26. Data Input Object # 4'!AI25","v":0},{"$f":"'26. Data Input Object # 4'!AJ25","v":0},{"$f":"'26. Data Input Object # 4'!AK25","v":0},{"$f":"'26. Data Input Object # 4'!AL25","v":0},{"$f":"'26. Data Input Object # 4'!AM25","v":0},{"$f":"'26. Data Input Object # 4'!AN25","v":0},{"$f":"'26. Data Input Object # 4'!AO25","v":0},{"$f":"'26. Data Input Object # 4'!AP25","v":0},{"$f":"'26. Data Input Object # 4'!AQ25","v":0},{"$f":"'26. Data Input Object # 4'!AR25","v":0},{"$f":"'26. Data Input Object # 4'!AS25","v":0},{"$f":"'26. Data Input Object # 4'!AT25","v":0},{"$f":"'26. Data Input Object # 4'!AU25","v":0},{"$f":"'26. Data Input Object # 4'!AV25","v":0},{"$f":"'26. Data Input Object # 4'!AW25","v":0},{"$f":"'26. Data Input Object # 4'!AX25","v":0},{"$f":"'26. Data Input Object # 4'!AY25","v":0},{"$f":"'26. Data Input Object # 4'!AZ25","v":0},{"$f":"'26. Data Input Object # 4'!BA25","v":0},{"$f":"'26. Data Input Object # 4'!BB25","v":0},{"$f":"'26. Data Input Object # 4'!BC25","v":0},{"$f":"'26. Data Input Object # 4'!BD25","v":0},{"$f":"'26. Data Input Object # 4'!BE25","v":0},{"$f":"'26. Data Input Object # 4'!BF25","v":0},{"$f":"'26. Data Input Object # 4'!BG25","v":0},{"$f":"'26. Data Input Object # 4'!BH25","v":0},{"$f":"'26. Data Input Object # 4'!BI25","v":0},{"$f":"'26. Data Input Object # 4'!BJ25","v":0},{"$f":"'26. Data Input Object # 4'!BK25","v":0},{"$f":"'26. Data Input Object # 4'!BL25","v":0},{"$f":"'26. Data Input Object # 4'!BM25","v":0},{"$f":"'26. Data Input Object # 4'!BN25","v":0},{"$f":"'26. Data Input Object # 4'!BO25","v":0},{"$f":"'26. Data Input Object # 4'!BP25","v":0},{"$f":"'26. Data Input Object # 4'!BQ25","v":0},{"$f":"'26. Data Input Object # 4'!BR25","v":0},{"$f":"'26. Data Input Object # 4'!BS25","v":0},{"$f":"'26. Data Input Object # 4'!BT25","v":0},{"$f":"'26. Data Input Object # 4'!BU25","v":0},{"$f":"'26. Data Input Object # 4'!BV25","v":0},{"$f":"'26. Data Input Object # 4'!BW25","v":0},{"$f":"'26. Data Input Object # 4'!BX25","v":0},{"$f":"'26. Data Input Object # 4'!BY25","v":0},{"$f":"'26. Data Input Object # 4'!BZ25","v":0},{"$f":"'26. Data Input Object # 4'!CA25","v":0}]
[{"$f":"'26. Data Input Object # 4'!A26","v":0},{"$f":"'26. Data Input Object # 4'!B26","v":0},{"$f":"'26. Data Input Object # 4'!C26","v":0},{"$f":"'26. Data Input Object # 4'!D26","v":0},{"$f":"'26. Data Input Object # 4'!E26","v":0},{"$f":"'26. Data Input Object # 4'!F26","v":0},{"$f":"'26. Data Input Object # 4'!G26","v":0},{"$f":"'26. Data Input Object # 4'!H26","v":0},{"$f":"'26. Data Input Object # 4'!I26","v":0},{"$f":"'26. Data Input Object # 4'!J26","v":0},{"$f":"'26. Data Input Object # 4'!K26","v":0},{"$f":"'26. Data Input Object # 4'!L26","v":0},{"$f":"'26. Data Input Object # 4'!M26","v":0},{"$f":"'26. Data Input Object # 4'!N26","v":0},{"$f":"'26. Data Input Object # 4'!O26","v":0},{"$f":"'26. Data Input Object # 4'!P26","v":0},{"$f":"'26. Data Input Object # 4'!Q26","v":0},{"$f":"'26. Data Input Object # 4'!R26","v":0},{"$f":"'26. Data Input Object # 4'!S26","v":0},{"$f":"'26. Data Input Object # 4'!T26","v":0},{"$f":"'26. Data Input Object # 4'!U26","v":0},{"$f":"'26. Data Input Object # 4'!V26","v":0},{"$f":"'26. Data Input Object # 4'!W26","v":0},{"$f":"'26. Data Input Object # 4'!X26","v":0},{"$f":"'26. Data Input Object # 4'!Y26","v":0},{"$f":"'26. Data Input Object # 4'!Z26","v":0},{"$f":"'26. Data Input Object # 4'!AA26","v":0},{"$f":"'26. Data Input Object # 4'!AB26","v":0},{"$f":"'26. Data Input Object # 4'!AC26","v":0},{"$f":"'26. Data Input Object # 4'!AD26","v":0},{"$f":"'26. Data Input Object # 4'!AE26","v":0},{"$f":"'26. Data Input Object # 4'!AF26","v":0},{"$f":"'26. Data Input Object # 4'!AG26","v":0},{"$f":"'26. Data Input Object # 4'!AH26","v":0},{"$f":"'26. Data Input Object # 4'!AI26","v":0},{"$f":"'26. Data Input Object # 4'!AJ26","v":0},{"$f":"'26. Data Input Object # 4'!AK26","v":0},{"$f":"'26. Data Input Object # 4'!AL26","v":0},{"$f":"'26. Data Input Object # 4'!AM26","v":0},{"$f":"'26. Data Input Object # 4'!AN26","v":0},{"$f":"'26. Data Input Object # 4'!AO26","v":0},{"$f":"'26. Data Input Object # 4'!AP26","v":0},{"$f":"'26. Data Input Object # 4'!AQ26","v":0},{"$f":"'26. Data Input Object # 4'!AR26","v":0},{"$f":"'26. Data Input Object # 4'!AS26","v":0},{"$f":"'26. Data Input Object # 4'!AT26","v":0},{"$f":"'26. Data Input Object # 4'!AU26","v":0},{"$f":"'26. Data Input Object # 4'!AV26","v":0},{"$f":"'26. Data Input Object # 4'!AW26","v":0},{"$f":"'26. Data Input Object # 4'!AX26","v":0},{"$f":"'26. Data Input Object # 4'!AY26","v":0},{"$f":"'26. Data Input Object # 4'!AZ26","v":0},{"$f":"'26. Data Input Object # 4'!BA26","v":0},{"$f":"'26. Data Input Object # 4'!BB26","v":0},{"$f":"'26. Data Input Object # 4'!BC26","v":0},{"$f":"'26. Data Input Object # 4'!BD26","v":0},{"$f":"'26. Data Input Object # 4'!BE26","v":0},{"$f":"'26. Data Input Object # 4'!BF26","v":0},{"$f":"'26. Data Input Object # 4'!BG26","v":0},{"$f":"'26. Data Input Object # 4'!BH26","v":0},{"$f":"'26. Data Input Object # 4'!BI26","v":0},{"$f":"'26. Data Input Object # 4'!BJ26","v":0},{"$f":"'26. Data Input Object # 4'!BK26","v":0},{"$f":"'26. Data Input Object # 4'!BL26","v":0},{"$f":"'26. Data Input Object # 4'!BM26","v":0},{"$f":"'26. Data Input Object # 4'!BN26","v":0},{"$f":"'26. Data Input Object # 4'!BO26","v":0},{"$f":"'26. Data Input Object # 4'!BP26","v":0},{"$f":"'26. Data Input Object # 4'!BQ26","v":0},{"$f":"'26. Data Input Object # 4'!BR26","v":0},{"$f":"'26. Data Input Object # 4'!BS26","v":0},{"$f":"'26. Data Input Object # 4'!BT26","v":0},{"$f":"'26. Data Input Object # 4'!BU26","v":0},{"$f":"'26. Data Input Object # 4'!BV26","v":0},{"$f":"'26. Data Input Object # 4'!BW26","v":0},{"$f":"'26. Data Input Object # 4'!BX26","v":0},{"$f":"'26. Data Input Object # 4'!BY26","v":0},{"$f":"'26. Data Input Object # 4'!BZ26","v":0},{"$f":"'26. Data Input Object # 4'!CA26","v":0}]
[{"$f":"'26. Data Input Object # 4'!A27","v":0},{"$f":"'26. Data Input Object # 4'!B27","v":0},{"$f":"'26. Data Input Object # 4'!C27","v":0},{"$f":"'26. Data Input Object # 4'!D27","v":0},{"$f":"'26. Data Input Object # 4'!E27","v":0},{"$f":"'26. Data Input Object # 4'!F27","v":0},{"$f":"'26. Data Input Object # 4'!G27","v":0},{"$f":"'26. Data Input Object # 4'!H27","v":0},{"$f":"'26. Data Input Object # 4'!I27","v":0},{"$f":"'26. Data Input Object # 4'!J27","v":0},{"$f":"'26. Data Input Object # 4'!K27","v":0},{"$f":"'26. Data Input Object # 4'!L27","v":0},{"$f":"'26. Data Input Object # 4'!M27","v":0},{"$f":"'26. Data Input Object # 4'!N27","v":0},{"$f":"'26. Data Input Object # 4'!O27","v":0},{"$f":"'26. Data Input Object # 4'!P27","v":0},{"$f":"'26. Data Input Object # 4'!Q27","v":0},{"$f":"'26. Data Input Object # 4'!R27","v":0},{"$f":"'26. Data Input Object # 4'!S27","v":0},{"$f":"'26. Data Input Object # 4'!T27","v":0},{"$f":"'26. Data Input Object # 4'!U27","v":0},{"$f":"'26. Data Input Object # 4'!V27","v":0},{"$f":"'26. Data Input Object # 4'!W27","v":0},{"$f":"'26. Data Input Object # 4'!X27","v":0},{"$f":"'26. Data Input Object # 4'!Y27","v":0},{"$f":"'26. Data Input Object # 4'!Z27","v":0},{"$f":"'26. Data Input Object # 4'!AA27","v":0},{"$f":"'26. Data Input Object # 4'!AB27","v":0},{"$f":"'26. Data Input Object # 4'!AC27","v":0},{"$f":"'26. Data Input Object # 4'!AD27","v":0},{"$f":"'26. Data Input Object # 4'!AE27","v":0},{"$f":"'26. Data Input Object # 4'!AF27","v":0},{"$f":"'26. Data Input Object # 4'!AG27","v":0},{"$f":"'26. Data Input Object # 4'!AH27","v":0},{"$f":"'26. Data Input Object # 4'!AI27","v":0},{"$f":"'26. Data Input Object # 4'!AJ27","v":0},{"$f":"'26. Data Input Object # 4'!AK27","v":0},{"$f":"'26. Data Input Object # 4'!AL27","v":0},{"$f":"'26. Data Input Object # 4'!AM27","v":0},{"$f":"'26. Data Input Object # 4'!AN27","v":0},{"$f":"'26. Data Input Object # 4'!AO27","v":0},{"$f":"'26. Data Input Object # 4'!AP27","v":0},{"$f":"'26. Data Input Object # 4'!AQ27","v":0},{"$f":"'26. Data Input Object # 4'!AR27","v":0},{"$f":"'26. Data Input Object # 4'!AS27","v":0},{"$f":"'26. Data Input Object # 4'!AT27","v":0},{"$f":"'26. Data Input Object # 4'!AU27","v":0},{"$f":"'26. Data Input Object # 4'!AV27","v":0},{"$f":"'26. Data Input Object # 4'!AW27","v":0},{"$f":"'26. Data Input Object # 4'!AX27","v":0},{"$f":"'26. Data Input Object # 4'!AY27","v":0},{"$f":"'26. Data Input Object # 4'!AZ27","v":0},{"$f":"'26. Data Input Object # 4'!BA27","v":0},{"$f":"'26. Data Input Object # 4'!BB27","v":0},{"$f":"'26. Data Input Object # 4'!BC27","v":0},{"$f":"'26. Data Input Object # 4'!BD27","v":0},{"$f":"'26. Data Input Object # 4'!BE27","v":0},{"$f":"'26. Data Input Object # 4'!BF27","v":0},{"$f":"'26. Data Input Object # 4'!BG27","v":0},{"$f":"'26. Data Input Object # 4'!BH27","v":0},{"$f":"'26. Data Input Object # 4'!BI27","v":0},{"$f":"'26. Data Input Object # 4'!BJ27","v":0},{"$f":"'26. Data Input Object # 4'!BK27","v":0},{"$f":"'26. Data Input Object # 4'!BL27","v":0},{"$f":"'26. Data Input Object # 4'!BM27","v":0},{"$f":"'26. Data Input Object # 4'!BN27","v":0},{"$f":"'26. Data Input Object # 4'!BO27","v":0},{"$f":"'26. Data Input Object # 4'!BP27","v":0},{"$f":"'26. Data Input Object # 4'!BQ27","v":0},{"$f":"'26. Data Input Object # 4'!BR27","v":0},{"$f":"'26. Data Input Object # 4'!BS27","v":0},{"$f":"'26. Data Input Object # 4'!BT27","v":0},{"$f":"'26. Data Input Object # 4'!BU27","v":0},{"$f":"'26. Data Input Object # 4'!BV27","v":0},{"$f":"'26. Data Input Object # 4'!BW27","v":0},{"$f":"'26. Data Input Object # 4'!BX27","v":0},{"$f":"'26. Data Input Object # 4'!BY27","v":0},{"$f":"'26. Data Input Object # 4'!BZ27","v":0},{"$f":"'26. Data Input Object # 4'!CA27","v":0}]
[{"$f":"'26. Data Input Object # 4'!A28","v":0},{"$f":"'26. Data Input Object # 4'!B28","v":0},{"$f":"'26. Data Input Object # 4'!C28","v":0},{"$f":"'26. Data Input Object # 4'!D28","v":0},{"$f":"'26. Data Input Object # 4'!E28","v":0},{"$f":"'26. Data Input Object # 4'!F28","v":0},{"$f":"'26. Data Input Object # 4'!G28","v":0},{"$f":"'26. Data Input Object # 4'!H28","v":0},{"$f":"'26. Data Input Object # 4'!I28","v":0},{"$f":"'26. Data Input Object # 4'!J28","v":0},{"$f":"'26. Data Input Object # 4'!K28","v":0},{"$f":"'26. Data Input Object # 4'!L28","v":0},{"$f":"'26. Data Input Object # 4'!M28","v":0},{"$f":"'26. Data Input Object # 4'!N28","v":0},{"$f":"'26. Data Input Object # 4'!O28","v":0},{"$f":"'26. Data Input Object # 4'!P28","v":0},{"$f":"'26. Data Input Object # 4'!Q28","v":0},{"$f":"'26. Data Input Object # 4'!R28","v":0},{"$f":"'26. Data Input Object # 4'!S28","v":0},{"$f":"'26. Data Input Object # 4'!T28","v":0},{"$f":"'26. Data Input Object # 4'!U28","v":0},{"$f":"'26. Data Input Object # 4'!V28","v":0},{"$f":"'26. Data Input Object # 4'!W28","v":0},{"$f":"'26. Data Input Object # 4'!X28","v":0},{"$f":"'26. Data Input Object # 4'!Y28","v":0},{"$f":"'26. Data Input Object # 4'!Z28","v":0},{"$f":"'26. Data Input Object # 4'!AA28","v":0},{"$f":"'26. Data Input Object # 4'!AB28","v":0},{"$f":"'26. Data Input Object # 4'!AC28","v":0},{"$f":"'26. Data Input Object # 4'!AD28","v":0},{"$f":"'26. Data Input Object # 4'!AE28","v":0},{"$f":"'26. Data Input Object # 4'!AF28","v":0},{"$f":"'26. Data Input Object # 4'!AG28","v":0},{"$f":"'26. Data Input Object # 4'!AH28","v":0},{"$f":"'26. Data Input Object # 4'!AI28","v":0},{"$f":"'26. Data Input Object # 4'!AJ28","v":0},{"$f":"'26. Data Input Object # 4'!AK28","v":0},{"$f":"'26. Data Input Object # 4'!AL28","v":0},{"$f":"'26. Data Input Object # 4'!AM28","v":0},{"$f":"'26. Data Input Object # 4'!AN28","v":0},{"$f":"'26. Data Input Object # 4'!AO28","v":0},{"$f":"'26. Data Input Object # 4'!AP28","v":0},{"$f":"'26. Data Input Object # 4'!AQ28","v":0},{"$f":"'26. Data Input Object # 4'!AR28","v":0},{"$f":"'26. Data Input Object # 4'!AS28","v":0},{"$f":"'26. Data Input Object # 4'!AT28","v":0},{"$f":"'26. Data Input Object # 4'!AU28","v":0},{"$f":"'26. Data Input Object # 4'!AV28","v":0},{"$f":"'26. Data Input Object # 4'!AW28","v":0},{"$f":"'26. Data Input Object # 4'!AX28","v":0},{"$f":"'26. Data Input Object # 4'!AY28","v":0},{"$f":"'26. Data Input Object # 4'!AZ28","v":0},{"$f":"'26. Data Input Object # 4'!BA28","v":0},{"$f":"'26. Data Input Object # 4'!BB28","v":0},{"$f":"'26. Data Input Object # 4'!BC28","v":0},{"$f":"'26. Data Input Object # 4'!BD28","v":0},{"$f":"'26. Data Input Object # 4'!BE28","v":0},{"$f":"'26. Data Input Object # 4'!BF28","v":0},{"$f":"'26. Data Input Object # 4'!BG28","v":0},{"$f":"'26. Data Input Object # 4'!BH28","v":0},{"$f":"'26. Data Input Object # 4'!BI28","v":0},{"$f":"'26. Data Input Object # 4'!BJ28","v":0},{"$f":"'26. Data Input Object # 4'!BK28","v":0},{"$f":"'26. Data Input Object # 4'!BL28","v":0},{"$f":"'26. Data Input Object # 4'!BM28","v":0},{"$f":"'26. Data Input Object # 4'!BN28","v":0},{"$f":"'26. Data Input Object # 4'!BO28","v":0},{"$f":"'26. Data Input Object # 4'!BP28","v":0},{"$f":"'26. Data Input Object # 4'!BQ28","v":0},{"$f":"'26. Data Input Object # 4'!BR28","v":0},{"$f":"'26. Data Input Object # 4'!BS28","v":0},{"$f":"'26. Data Input Object # 4'!BT28","v":0},{"$f":"'26. Data Input Object # 4'!BU28","v":0},{"$f":"'26. Data Input Object # 4'!BV28","v":0},{"$f":"'26. Data Input Object # 4'!BW28","v":0},{"$f":"'26. Data Input Object # 4'!BX28","v":0},{"$f":"'26. Data Input Object # 4'!BY28","v":0},{"$f":"'26. Data Input Object # 4'!BZ28","v":0},{"$f":"'26. Data Input Object # 4'!CA28","v":0}]
[{"$f":"'26. Data Input Object # 4'!A29","v":0},{"$f":"'26. Data Input Object # 4'!B29","v":0},{"$f":"'26. Data Input Object # 4'!C29","v":0},{"$f":"'26. Data Input Object # 4'!D29","v":0},{"$f":"'26. Data Input Object # 4'!E29","v":0},{"$f":"'26. Data Input Object # 4'!F29","v":0},{"$f":"'26. Data Input Object # 4'!G29","v":0},{"$f":"'26. Data Input Object # 4'!H29","v":0},{"$f":"'26. Data Input Object # 4'!I29","v":0},{"$f":"'26. Data Input Object # 4'!J29","v":0},{"$f":"'26. Data Input Object # 4'!K29","v":0},{"$f":"'26. Data Input Object # 4'!L29","v":0},{"$f":"'26. Data Input Object # 4'!M29","v":0},{"$f":"'26. Data Input Object # 4'!N29","v":0},{"$f":"'26. Data Input Object # 4'!O29","v":0},{"$f":"'26. Data Input Object # 4'!P29","v":0},{"$f":"'26. Data Input Object # 4'!Q29","v":0},{"$f":"'26. Data Input Object # 4'!R29","v":0},{"$f":"'26. Data Input Object # 4'!S29","v":0},{"$f":"'26. Data Input Object # 4'!T29","v":0},{"$f":"'26. Data Input Object # 4'!U29","v":0},{"$f":"'26. Data Input Object # 4'!V29","v":0},{"$f":"'26. Data Input Object # 4'!W29","v":0},{"$f":"'26. Data Input Object # 4'!X29","v":0},{"$f":"'26. Data Input Object # 4'!Y29","v":0},{"$f":"'26. Data Input Object # 4'!Z29","v":0},{"$f":"'26. Data Input Object # 4'!AA29","v":0},{"$f":"'26. Data Input Object # 4'!AB29","v":0},{"$f":"'26. Data Input Object # 4'!AC29","v":0},{"$f":"'26. Data Input Object # 4'!AD29","v":0},{"$f":"'26. Data Input Object # 4'!AE29","v":0},{"$f":"'26. Data Input Object # 4'!AF29","v":0},{"$f":"'26. Data Input Object # 4'!AG29","v":0},{"$f":"'26. Data Input Object # 4'!AH29","v":0},{"$f":"'26. Data Input Object # 4'!AI29","v":0},{"$f":"'26. Data Input Object # 4'!AJ29","v":0},{"$f":"'26. Data Input Object # 4'!AK29","v":0},{"$f":"'26. Data Input Object # 4'!AL29","v":0},{"$f":"'26. Data Input Object # 4'!AM29","v":0},{"$f":"'26. Data Input Object # 4'!AN29","v":0},{"$f":"'26. Data Input Object # 4'!AO29","v":0},{"$f":"'26. Data Input Object # 4'!AP29","v":0},{"$f":"'26. Data Input Object # 4'!AQ29","v":0},{"$f":"'26. Data Input Object # 4'!AR29","v":0},{"$f":"'26. Data Input Object # 4'!AS29","v":0},{"$f":"'26. Data Input Object # 4'!AT29","v":0},{"$f":"'26. Data Input Object # 4'!AU29","v":0},{"$f":"'26. Data Input Object # 4'!AV29","v":0},{"$f":"'26. Data Input Object # 4'!AW29","v":0},{"$f":"'26. Data Input Object # 4'!AX29","v":0},{"$f":"'26. Data Input Object # 4'!AY29","v":0},{"$f":"'26. Data Input Object # 4'!AZ29","v":0},{"$f":"'26. Data Input Object # 4'!BA29","v":0},{"$f":"'26. Data Input Object # 4'!BB29","v":0},{"$f":"'26. Data Input Object # 4'!BC29","v":0},{"$f":"'26. Data Input Object # 4'!BD29","v":0},{"$f":"'26. Data Input Object # 4'!BE29","v":0},{"$f":"'26. Data Input Object # 4'!BF29","v":0},{"$f":"'26. Data Input Object # 4'!BG29","v":0},{"$f":"'26. Data Input Object # 4'!BH29","v":0},{"$f":"'26. Data Input Object # 4'!BI29","v":0},{"$f":"'26. Data Input Object # 4'!BJ29","v":0},{"$f":"'26. Data Input Object # 4'!BK29","v":0},{"$f":"'26. Data Input Object # 4'!BL29","v":0},{"$f":"'26. Data Input Object # 4'!BM29","v":0},{"$f":"'26. Data Input Object # 4'!BN29","v":0},{"$f":"'26. Data Input Object # 4'!BO29","v":0},{"$f":"'26. Data Input Object # 4'!BP29","v":0},{"$f":"'26. Data Input Object # 4'!BQ29","v":0},{"$f":"'26. Data Input Object # 4'!BR29","v":0},{"$f":"'26. Data Input Object # 4'!BS29","v":0},{"$f":"'26. Data Input Object # 4'!BT29","v":0},{"$f":"'26. Data Input Object # 4'!BU29","v":0},{"$f":"'26. Data Input Object # 4'!BV29","v":0},{"$f":"'26. Data Input Object # 4'!BW29","v":0},{"$f":"'26. Data Input Object # 4'!BX29","v":0},{"$f":"'26. Data Input Object # 4'!BY29","v":0},{"$f":"'26. Data Input Object # 4'!BZ29","v":0},{"$f":"'26. Data Input Object # 4'!CA29","v":0}]
[{"$f":"'26. Data Input Object # 4'!A30","v":0},{"$f":"'26. Data Input Object # 4'!B30","v":0},{"$f":"'26. Data Input Object # 4'!C30","v":0},{"$f":"'26. Data Input Object # 4'!D30","v":0},{"$f":"'26. Data Input Object # 4'!E30","v":0},{"$f":"'26. Data Input Object # 4'!F30","v":0},{"$f":"'26. Data Input Object # 4'!G30","v":0},{"$f":"'26. Data Input Object # 4'!H30","v":0},{"$f":"'26. Data Input Object # 4'!I30","v":0},{"$f":"'26. Data Input Object # 4'!J30","v":0},{"$f":"'26. Data Input Object # 4'!K30","v":0},{"$f":"'26. Data Input Object # 4'!L30","v":0},{"$f":"'26. Data Input Object # 4'!M30","v":0},{"$f":"'26. Data Input Object # 4'!N30","v":0},{"$f":"'26. Data Input Object # 4'!O30","v":0},{"$f":"'26. Data Input Object # 4'!P30","v":0},{"$f":"'26. Data Input Object # 4'!Q30","v":0},{"$f":"'26. Data Input Object # 4'!R30","v":0},{"$f":"'26. Data Input Object # 4'!S30","v":0},{"$f":"'26. Data Input Object # 4'!T30","v":0},{"$f":"'26. Data Input Object # 4'!U30","v":0},{"$f":"'26. Data Input Object # 4'!V30","v":0},{"$f":"'26. Data Input Object # 4'!W30","v":0},{"$f":"'26. Data Input Object # 4'!X30","v":0},{"$f":"'26. Data Input Object # 4'!Y30","v":0},{"$f":"'26. Data Input Object # 4'!Z30","v":0},{"$f":"'26. Data Input Object # 4'!AA30","v":0},{"$f":"'26. Data Input Object # 4'!AB30","v":0},{"$f":"'26. Data Input Object # 4'!AC30","v":0},{"$f":"'26. Data Input Object # 4'!AD30","v":0},{"$f":"'26. Data Input Object # 4'!AE30","v":0},{"$f":"'26. Data Input Object # 4'!AF30","v":0},{"$f":"'26. Data Input Object # 4'!AG30","v":0},{"$f":"'26. Data Input Object # 4'!AH30","v":0},{"$f":"'26. Data Input Object # 4'!AI30","v":0},{"$f":"'26. Data Input Object # 4'!AJ30","v":0},{"$f":"'26. Data Input Object # 4'!AK30","v":0},{"$f":"'26. Data Input Object # 4'!AL30","v":0},{"$f":"'26. Data Input Object # 4'!AM30","v":0},{"$f":"'26. Data Input Object # 4'!AN30","v":0},{"$f":"'26. Data Input Object # 4'!AO30","v":0},{"$f":"'26. Data Input Object # 4'!AP30","v":0},{"$f":"'26. Data Input Object # 4'!AQ30","v":0},{"$f":"'26. Data Input Object # 4'!AR30","v":0},{"$f":"'26. Data Input Object # 4'!AS30","v":0},{"$f":"'26. Data Input Object # 4'!AT30","v":0},{"$f":"'26. Data Input Object # 4'!AU30","v":0},{"$f":"'26. Data Input Object # 4'!AV30","v":0},{"$f":"'26. Data Input Object # 4'!AW30","v":0},{"$f":"'26. Data Input Object # 4'!AX30","v":0},{"$f":"'26. Data Input Object # 4'!AY30","v":0},{"$f":"'26. Data Input Object # 4'!AZ30","v":0},{"$f":"'26. Data Input Object # 4'!BA30","v":0},{"$f":"'26. Data Input Object # 4'!BB30","v":0},{"$f":"'26. Data Input Object # 4'!BC30","v":0},{"$f":"'26. Data Input Object # 4'!BD30","v":0},{"$f":"'26. Data Input Object # 4'!BE30","v":0},{"$f":"'26. Data Input Object # 4'!BF30","v":0},{"$f":"'26. Data Input Object # 4'!BG30","v":0},{"$f":"'26. Data Input Object # 4'!BH30","v":0},{"$f":"'26. Data Input Object # 4'!BI30","v":0},{"$f":"'26. Data Input Object # 4'!BJ30","v":0},{"$f":"'26. Data Input Object # 4'!BK30","v":0},{"$f":"'26. Data Input Object # 4'!BL30","v":0},{"$f":"'26. Data Input Object # 4'!BM30","v":0},{"$f":"'26. Data Input Object # 4'!BN30","v":0},{"$f":"'26. Data Input Object # 4'!BO30","v":0},{"$f":"'26. Data Input Object # 4'!BP30","v":0},{"$f":"'26. Data Input Object # 4'!BQ30","v":0},{"$f":"'26. Data Input Object # 4'!BR30","v":0},{"$f":"'26. Data Input Object # 4'!BS30","v":0},{"$f":"'26. Data Input Object # 4'!BT30","v":0},{"$f":"'26. Data Input Object # 4'!BU30","v":0},{"$f":"'26. Data Input Object # 4'!BV30","v":0},{"$f":"'26. Data Input Object # 4'!BW30","v":0},{"$f":"'26. Data Input Object # 4'!BX30","v":0},{"$f":"'26. Data Input Object # 4'!BY30","v":0},{"$f":"'26. Data Input Object # 4'!BZ30","v":0},{"$f":"'26. Data Input Object # 4'!CA30","v":0}]
[{"$f":"'26. Data Input Object # 4'!A31","v":0},{"$f":"'26. Data Input Object # 4'!B31","v":0},{"$f":"'26. Data Input Object # 4'!C31","v":0},{"$f":"'26. Data Input Object # 4'!D31","v":0},{"$f":"'26. Data Input Object # 4'!E31","v":0},{"$f":"'26. Data Input Object # 4'!F31","v":0},{"$f":"'26. Data Input Object # 4'!G31","v":0},{"$f":"'26. Data Input Object # 4'!H31","v":0},{"$f":"'26. Data Input Object # 4'!I31","v":0},{"$f":"'26. Data Input Object # 4'!J31","v":0},{"$f":"'26. Data Input Object # 4'!K31","v":0},{"$f":"'26. Data Input Object # 4'!L31","v":0},{"$f":"'26. Data Input Object # 4'!M31","v":0},{"$f":"'26. Data Input Object # 4'!N31","v":0},{"$f":"'26. Data Input Object # 4'!O31","v":0},{"$f":"'26. Data Input Object # 4'!P31","v":0},{"$f":"'26. Data Input Object # 4'!Q31","v":0},{"$f":"'26. Data Input Object # 4'!R31","v":0},{"$f":"'26. Data Input Object # 4'!S31","v":0},{"$f":"'26. Data Input Object # 4'!T31","v":0},{"$f":"'26. Data Input Object # 4'!U31","v":0},{"$f":"'26. Data Input Object # 4'!V31","v":0},{"$f":"'26. Data Input Object # 4'!W31","v":0},{"$f":"'26. Data Input Object # 4'!X31","v":0},{"$f":"'26. Data Input Object # 4'!Y31","v":0},{"$f":"'26. Data Input Object # 4'!Z31","v":0},{"$f":"'26. Data Input Object # 4'!AA31","v":0},{"$f":"'26. Data Input Object # 4'!AB31","v":0},{"$f":"'26. Data Input Object # 4'!AC31","v":0},{"$f":"'26. Data Input Object # 4'!AD31","v":0},{"$f":"'26. Data Input Object # 4'!AE31","v":0},{"$f":"'26. Data Input Object # 4'!AF31","v":0},{"$f":"'26. Data Input Object # 4'!AG31","v":0},{"$f":"'26. Data Input Object # 4'!AH31","v":0},{"$f":"'26. Data Input Object # 4'!AI31","v":0},{"$f":"'26. Data Input Object # 4'!AJ31","v":0},{"$f":"'26. Data Input Object # 4'!AK31","v":0},{"$f":"'26. Data Input Object # 4'!AL31","v":0},{"$f":"'26. Data Input Object # 4'!AM31","v":0},{"$f":"'26. Data Input Object # 4'!AN31","v":0},{"$f":"'26. Data Input Object # 4'!AO31","v":0},{"$f":"'26. Data Input Object # 4'!AP31","v":0},{"$f":"'26. Data Input Object # 4'!AQ31","v":0},{"$f":"'26. Data Input Object # 4'!AR31","v":0},{"$f":"'26. Data Input Object # 4'!AS31","v":0},{"$f":"'26. Data Input Object # 4'!AT31","v":0},{"$f":"'26. Data Input Object # 4'!AU31","v":0},{"$f":"'26. Data Input Object # 4'!AV31","v":0},{"$f":"'26. Data Input Object # 4'!AW31","v":0},{"$f":"'26. Data Input Object # 4'!AX31","v":0},{"$f":"'26. Data Input Object # 4'!AY31","v":0},{"$f":"'26. Data Input Object # 4'!AZ31","v":0},{"$f":"'26. Data Input Object # 4'!BA31","v":0},{"$f":"'26. Data Input Object # 4'!BB31","v":0},{"$f":"'26. Data Input Object # 4'!BC31","v":0},{"$f":"'26. Data Input Object # 4'!BD31","v":0},{"$f":"'26. Data Input Object # 4'!BE31","v":0},{"$f":"'26. Data Input Object # 4'!BF31","v":0},{"$f":"'26. Data Input Object # 4'!BG31","v":0},{"$f":"'26. Data Input Object # 4'!BH31","v":0},{"$f":"'26. Data Input Object # 4'!BI31","v":0},{"$f":"'26. Data Input Object # 4'!BJ31","v":0},{"$f":"'26. Data Input Object # 4'!BK31","v":0},{"$f":"'26. Data Input Object # 4'!BL31","v":0},{"$f":"'26. Data Input Object # 4'!BM31","v":0},{"$f":"'26. Data Input Object # 4'!BN31","v":0},{"$f":"'26. Data Input Object # 4'!BO31","v":0},{"$f":"'26. Data Input Object # 4'!BP31","v":0},{"$f":"'26. Data Input Object # 4'!BQ31","v":0},{"$f":"'26. Data Input Object # 4'!BR31","v":0},{"$f":"'26. Data Input Object # 4'!BS31","v":0},{"$f":"'26. Data Input Object # 4'!BT31","v":0},{"$f":"'26. Data Input Object # 4'!BU31","v":0},{"$f":"'26. Data Input Object # 4'!BV31","v":0},{"$f":"'26. Data Input Object # 4'!BW31","v":0},{"$f":"'26. Data Input Object # 4'!BX31","v":0},{"$f":"'26. Data Input Object # 4'!BY31","v":0},{"$f":"'26. Data Input Object # 4'!BZ31","v":0},{"$f":"'26. Data Input Object # 4'!CA31","v":0}]
[{"$f":"'26. Data Input Object # 4'!A32","v":0},{"$f":"'26. Data Input Object # 4'!B32","v":0},{"$f":"'26. Data Input Object # 4'!C32","v":0},{"$f":"'26. Data Input Object # 4'!D32","v":0},{"$f":"'26. Data Input Object # 4'!E32","v":0},{"$f":"'26. Data Input Object # 4'!F32","v":0},{"$f":"'26. Data Input Object # 4'!G32","v":0},{"$f":"'26. Data Input Object # 4'!H32","v":0},{"$f":"'26. Data Input Object # 4'!I32","v":0},{"$f":"'26. Data Input Object # 4'!J32","v":0},{"$f":"'26. Data Input Object # 4'!K32","v":0},{"$f":"'26. Data Input Object # 4'!L32","v":0},{"$f":"'26. Data Input Object # 4'!M32","v":0},{"$f":"'26. Data Input Object # 4'!N32","v":0},{"$f":"'26. Data Input Object # 4'!O32","v":0},{"$f":"'26. Data Input Object # 4'!P32","v":0},{"$f":"'26. Data Input Object # 4'!Q32","v":0},{"$f":"'26. Data Input Object # 4'!R32","v":0},{"$f":"'26. Data Input Object # 4'!S32","v":0},{"$f":"'26. Data Input Object # 4'!T32","v":0},{"$f":"'26. Data Input Object # 4'!U32","v":0},{"$f":"'26. Data Input Object # 4'!V32","v":0},{"$f":"'26. Data Input Object # 4'!W32","v":0},{"$f":"'26. Data Input Object # 4'!X32","v":0},{"$f":"'26. Data Input Object # 4'!Y32","v":0},{"$f":"'26. Data Input Object # 4'!Z32","v":0},{"$f":"'26. Data Input Object # 4'!AA32","v":0},{"$f":"'26. Data Input Object # 4'!AB32","v":0},{"$f":"'26. Data Input Object # 4'!AC32","v":0},{"$f":"'26. Data Input Object # 4'!AD32","v":0},{"$f":"'26. Data Input Object # 4'!AE32","v":0},{"$f":"'26. Data Input Object # 4'!AF32","v":0},{"$f":"'26. Data Input Object # 4'!AG32","v":0},{"$f":"'26. Data Input Object # 4'!AH32","v":0},{"$f":"'26. Data Input Object # 4'!AI32","v":0},{"$f":"'26. Data Input Object # 4'!AJ32","v":0},{"$f":"'26. Data Input Object # 4'!AK32","v":0},{"$f":"'26. Data Input Object # 4'!AL32","v":0},{"$f":"'26. Data Input Object # 4'!AM32","v":0},{"$f":"'26. Data Input Object # 4'!AN32","v":0},{"$f":"'26. Data Input Object # 4'!AO32","v":0},{"$f":"'26. Data Input Object # 4'!AP32","v":0},{"$f":"'26. Data Input Object # 4'!AQ32","v":0},{"$f":"'26. Data Input Object # 4'!AR32","v":0},{"$f":"'26. Data Input Object # 4'!AS32","v":0},{"$f":"'26. Data Input Object # 4'!AT32","v":0},{"$f":"'26. Data Input Object # 4'!AU32","v":0},{"$f":"'26. Data Input Object # 4'!AV32","v":0},{"$f":"'26. Data Input Object # 4'!AW32","v":0},{"$f":"'26. Data Input Object # 4'!AX32","v":0},{"$f":"'26. Data Input Object # 4'!AY32","v":0},{"$f":"'26. Data Input Object # 4'!AZ32","v":0},{"$f":"'26. Data Input Object # 4'!BA32","v":0},{"$f":"'26. Data Input Object # 4'!BB32","v":0},{"$f":"'26. Data Input Object # 4'!BC32","v":0},{"$f":"'26. Data Input Object # 4'!BD32","v":0},{"$f":"'26. Data Input Object # 4'!BE32","v":0},{"$f":"'26. Data Input Object # 4'!BF32","v":0},{"$f":"'26. Data Input Object # 4'!BG32","v":0},{"$f":"'26. Data Input Object # 4'!BH32","v":0},{"$f":"'26. Data Input Object # 4'!BI32","v":0},{"$f":"'26. Data Input Object # 4'!BJ32","v":0},{"$f":"'26. Data Input Object # 4'!BK32","v":0},{"$f":"'26. Data Input Object # 4'!BL32","v":0},{"$f":"'26. Data Input Object # 4'!BM32","v":0},{"$f":"'26. Data Input Object # 4'!BN32","v":0},{"$f":"'26. Data Input Object # 4'!BO32","v":0},{"$f":"'26. Data Input Object # 4'!BP32","v":0},{"$f":"'26. Data Input Object # 4'!BQ32","v":0},{"$f":"'26. Data Input Object # 4'!BR32","v":0},{"$f":"'26. Data Input Object # 4'!BS32","v":0},{"$f":"'26. Data Input Object # 4'!BT32","v":0},{"$f":"'26. Data Input Object # 4'!BU32","v":0},{"$f":"'26. Data Input Object # 4'!BV32","v":0},{"$f":"'26. Data Input Object # 4'!BW32","v":0},{"$f":"'26. Data Input Object # 4'!BX32","v":0},{"$f":"'26. Data Input Object # 4'!BY32","v":0},{"$f":"'26. Data Input Object # 4'!BZ32","v":0},{"$f":"'26. Data Input Object # 4'!CA32","v":0}]
[{"$f":"'26. Data Input Object # 4'!A33","v":0},{"$f":"'26. Data Input Object # 4'!B33","v":0},{"$f":"'26. Data Input Object # 4'!C33","v":0},{"$f":"'26. Data Input Object # 4'!D33","v":0},{"$f":"'26. Data Input Object # 4'!E33","v":0},{"$f":"'26. Data Input Object # 4'!F33","v":0},{"$f":"'26. Data Input Object # 4'!G33","v":0},{"$f":"'26. Data Input Object # 4'!H33","v":0},{"$f":"'26. Data Input Object # 4'!I33","v":0},{"$f":"'26. Data Input Object # 4'!J33","v":0},{"$f":"'26. Data Input Object # 4'!K33","v":0},{"$f":"'26. Data Input Object # 4'!L33","v":0},{"$f":"'26. Data Input Object # 4'!M33","v":0},{"$f":"'26. Data Input Object # 4'!N33","v":0},{"$f":"'26. Data Input Object # 4'!O33","v":0},{"$f":"'26. Data Input Object # 4'!P33","v":0},{"$f":"'26. Data Input Object # 4'!Q33","v":0},{"$f":"'26. Data Input Object # 4'!R33","v":0},{"$f":"'26. Data Input Object # 4'!S33","v":0},{"$f":"'26. Data Input Object # 4'!T33","v":0},{"$f":"'26. Data Input Object # 4'!U33","v":0},{"$f":"'26. Data Input Object # 4'!V33","v":0},{"$f":"'26. Data Input Object # 4'!W33","v":0},{"$f":"'26. Data Input Object # 4'!X33","v":0},{"$f":"'26. Data Input Object # 4'!Y33","v":0},{"$f":"'26. Data Input Object # 4'!Z33","v":0},{"$f":"'26. Data Input Object # 4'!AA33","v":0},{"$f":"'26. Data Input Object # 4'!AB33","v":0},{"$f":"'26. Data Input Object # 4'!AC33","v":0},{"$f":"'26. Data Input Object # 4'!AD33","v":0},{"$f":"'26. Data Input Object # 4'!AE33","v":0},{"$f":"'26. Data Input Object # 4'!AF33","v":0},{"$f":"'26. Data Input Object # 4'!AG33","v":0},{"$f":"'26. Data Input Object # 4'!AH33","v":0},{"$f":"'26. Data Input Object # 4'!AI33","v":0},{"$f":"'26. Data Input Object # 4'!AJ33","v":0},{"$f":"'26. Data Input Object # 4'!AK33","v":0},{"$f":"'26. Data Input Object # 4'!AL33","v":0},{"$f":"'26. Data Input Object # 4'!AM33","v":0},{"$f":"'26. Data Input Object # 4'!AN33","v":0},{"$f":"'26. Data Input Object # 4'!AO33","v":0},{"$f":"'26. Data Input Object # 4'!AP33","v":0},{"$f":"'26. Data Input Object # 4'!AQ33","v":0},{"$f":"'26. Data Input Object # 4'!AR33","v":0},{"$f":"'26. Data Input Object # 4'!AS33","v":0},{"$f":"'26. Data Input Object # 4'!AT33","v":0},{"$f":"'26. Data Input Object # 4'!AU33","v":0},{"$f":"'26. Data Input Object # 4'!AV33","v":0},{"$f":"'26. Data Input Object # 4'!AW33","v":0},{"$f":"'26. Data Input Object # 4'!AX33","v":0},{"$f":"'26. Data Input Object # 4'!AY33","v":0},{"$f":"'26. Data Input Object # 4'!AZ33","v":0},{"$f":"'26. Data Input Object # 4'!BA33","v":0},{"$f":"'26. Data Input Object # 4'!BB33","v":0},{"$f":"'26. Data Input Object # 4'!BC33","v":0},{"$f":"'26. Data Input Object # 4'!BD33","v":0},{"$f":"'26. Data Input Object # 4'!BE33","v":0},{"$f":"'26. Data Input Object # 4'!BF33","v":0},{"$f":"'26. Data Input Object # 4'!BG33","v":0},{"$f":"'26. Data Input Object # 4'!BH33","v":0},{"$f":"'26. Data Input Object # 4'!BI33","v":0},{"$f":"'26. Data Input Object # 4'!BJ33","v":0},{"$f":"'26. Data Input Object # 4'!BK33","v":0},{"$f":"'26. Data Input Object # 4'!BL33","v":0},{"$f":"'26. Data Input Object # 4'!BM33","v":0},{"$f":"'26. Data Input Object # 4'!BN33","v":0},{"$f":"'26. Data Input Object # 4'!BO33","v":0},{"$f":"'26. Data Input Object # 4'!BP33","v":0},{"$f":"'26. Data Input Object # 4'!BQ33","v":0},{"$f":"'26. Data Input Object # 4'!BR33","v":0},{"$f":"'26. Data Input Object # 4'!BS33","v":0},{"$f":"'26. Data Input Object # 4'!BT33","v":0},{"$f":"'26. Data Input Object # 4'!BU33","v":0},{"$f":"'26. Data Input Object # 4'!BV33","v":0},{"$f":"'26. Data Input Object # 4'!BW33","v":0},{"$f":"'26. Data Input Object # 4'!BX33","v":0},{"$f":"'26. Data Input Object # 4'!BY33","v":0},{"$f":"'26. Data Input Object # 4'!BZ33","v":0},{"$f":"'26. Data Input Object # 4'!CA33","v":0}]
[{"$f":"'26. Data Input Object # 4'!A34","v":0},{"$f":"'26. Data Input Object # 4'!B34","v":0},{"$f":"'26. Data Input Object # 4'!C34","v":0},{"$f":"'26. Data Input Object # 4'!D34","v":0},{"$f":"'26. Data Input Object # 4'!E34","v":0},{"$f":"'26. Data Input Object # 4'!F34","v":0},{"$f":"'26. Data Input Object # 4'!G34","v":0},{"$f":"'26. Data Input Object # 4'!H34","v":0},{"$f":"'26. Data Input Object # 4'!I34","v":0},{"$f":"'26. Data Input Object # 4'!J34","v":0},{"$f":"'26. Data Input Object # 4'!K34","v":0},{"$f":"'26. Data Input Object # 4'!L34","v":0},{"$f":"'26. Data Input Object # 4'!M34","v":0},{"$f":"'26. Data Input Object # 4'!N34","v":0},{"$f":"'26. Data Input Object # 4'!O34","v":0},{"$f":"'26. Data Input Object # 4'!P34","v":0},{"$f":"'26. Data Input Object # 4'!Q34","v":0},{"$f":"'26. Data Input Object # 4'!R34","v":0},{"$f":"'26. Data Input Object # 4'!S34","v":0},{"$f":"'26. Data Input Object # 4'!T34","v":0},{"$f":"'26. Data Input Object # 4'!U34","v":0},{"$f":"'26. Data Input Object # 4'!V34","v":0},{"$f":"'26. Data Input Object # 4'!W34","v":0},{"$f":"'26. Data Input Object # 4'!X34","v":0},{"$f":"'26. Data Input Object # 4'!Y34","v":0},{"$f":"'26. Data Input Object # 4'!Z34","v":0},{"$f":"'26. Data Input Object # 4'!AA34","v":0},{"$f":"'26. Data Input Object # 4'!AB34","v":0},{"$f":"'26. Data Input Object # 4'!AC34","v":0},{"$f":"'26. Data Input Object # 4'!AD34","v":0},{"$f":"'26. Data Input Object # 4'!AE34","v":0},{"$f":"'26. Data Input Object # 4'!AF34","v":0},{"$f":"'26. Data Input Object # 4'!AG34","v":0},{"$f":"'26. Data Input Object # 4'!AH34","v":0},{"$f":"'26. Data Input Object # 4'!AI34","v":0},{"$f":"'26. Data Input Object # 4'!AJ34","v":0},{"$f":"'26. Data Input Object # 4'!AK34","v":0},{"$f":"'26. Data Input Object # 4'!AL34","v":0},{"$f":"'26. Data Input Object # 4'!AM34","v":0},{"$f":"'26. Data Input Object # 4'!AN34","v":0},{"$f":"'26. Data Input Object # 4'!AO34","v":0},{"$f":"'26. Data Input Object # 4'!AP34","v":0},{"$f":"'26. Data Input Object # 4'!AQ34","v":0},{"$f":"'26. Data Input Object # 4'!AR34","v":0},{"$f":"'26. Data Input Object # 4'!AS34","v":0},{"$f":"'26. Data Input Object # 4'!AT34","v":0},{"$f":"'26. Data Input Object # 4'!AU34","v":0},{"$f":"'26. Data Input Object # 4'!AV34","v":0},{"$f":"'26. Data Input Object # 4'!AW34","v":0},{"$f":"'26. Data Input Object # 4'!AX34","v":0},{"$f":"'26. Data Input Object # 4'!AY34","v":0},{"$f":"'26. Data Input Object # 4'!AZ34","v":0},{"$f":"'26. Data Input Object # 4'!BA34","v":0},{"$f":"'26. Data Input Object # 4'!BB34","v":0},{"$f":"'26. Data Input Object # 4'!BC34","v":0},{"$f":"'26. Data Input Object # 4'!BD34","v":0},{"$f":"'26. Data Input Object # 4'!BE34","v":0},{"$f":"'26. Data Input Object # 4'!BF34","v":0},{"$f":"'26. Data Input Object # 4'!BG34","v":0},{"$f":"'26. Data Input Object # 4'!BH34","v":0},{"$f":"'26. Data Input Object # 4'!BI34","v":0},{"$f":"'26. Data Input Object # 4'!BJ34","v":0},{"$f":"'26. Data Input Object # 4'!BK34","v":0},{"$f":"'26. Data Input Object # 4'!BL34","v":0},{"$f":"'26. Data Input Object # 4'!BM34","v":0},{"$f":"'26. Data Input Object # 4'!BN34","v":0},{"$f":"'26. Data Input Object # 4'!BO34","v":0},{"$f":"'26. Data Input Object # 4'!BP34","v":0},{"$f":"'26. Data Input Object # 4'!BQ34","v":0},{"$f":"'26. Data Input Object # 4'!BR34","v":0},{"$f":"'26. Data Input Object # 4'!BS34","v":0},{"$f":"'26. Data Input Object # 4'!BT34","v":0},{"$f":"'26. Data Input Object # 4'!BU34","v":0},{"$f":"'26. Data Input Object # 4'!BV34","v":0},{"$f":"'26. Data Input Object # 4'!BW34","v":0},{"$f":"'26. Data Input Object # 4'!BX34","v":0},{"$f":"'26. Data Input Object # 4'!BY34","v":0},{"$f":"'26. Data Input Object # 4'!BZ34","v":0},{"$f":"'26. Data Input Object # 4'!CA34","v":0}]

{"sheet":"41. Summary Report","index":41,"n_rows":51,"n_cols":10,"rows_kept":51,"cut":false,"hidden":false,"merged":[[12,4,12,5],[12,2,12,3],[18,6,18,7],[19,6,19,7],[0,0,0,9],[5,0,5,1],[5,2,5,3],[5,4,5,5],[20,0,20,1],[20,4,20,5],[21,0,21,1],[21,4,21,5],[6,0,6,9],[9,0,9,9],[17,0,17,9],[19,0,19,1],[19,4,19,5],[12,8,12,9],[51,3,51,4],[51,5,51,9],[22,0,22,1],[22,4,22,5],[23,0,23,9],[25,0,28,9],[20,6,20,7],[21,6,21,7],[22,6,22,7],[52,0,52,2],[52,3,52,4],[52,5,52,9],[31,0,34,9],[37,0,40,9],[43,0,48,9],[51,0,51,2]]}
["Summary Report"]
["The Summary Report allows the researcher to share important summary results and observations"]
["in a concise one-page report. This will facilitate sharing results with other searchers interested in sweep widths."]
[]
["1. Date",null,"2. Time",null,"3. Location",null,"4. Researcher's Name"]
[{"$f":"'1. Experiment Setup'!K6","v":"17-07-06"},null,null,null,{"$f":"'46. Calculations'!P5","v":"Mt. Greylock, MA"},null,{"$f":"'4. Env. Measurements'!G6","v":"Charles Twardy"}]
["Weather"]
["5. Temp","6. Wind","7. Lux","8. Weather",null,"9. Visibility","10. Light level",null,"11. Snow Depth"]
[{"$f":"'4. Env. Measurements'!A10","v":"26 c"},{"$f":"'4. Env. Measurements'!B10","v":0},{"$f":"'4. Env. Measurements'!C10","v":0},{"$f":"'4. Env. Measurements'!D10","v":"Clear"},null,{"$f":"'4. Env. Measurements'!E10","v":"Good"},{"$f":"'4. Env. Measurements'!F10","v":"Clear"},null,{"$f":"'4. Env. Measurements'!J10","v":0}]
["General Characteristics"]
["General characteristics are automatically carried over from the setup page."]
["12. Season (color)",null,"13. Eco-Region",null,"14. NLCD Classification",null,"15. Gap Classification",null,"16. Forest Cover"]
[{"$f":"'46. Calculations'!P6","v":"Green"},null,{"$f":"'46. Calculations'!P11","v":"M210 Warm Continental Regime Mountains"},null,{"$f":"'46. Calculations'!P13","v":"Deciduous Broadleaf Forest"},null,null,null,{"$f":"'46. Calculations'!P12","v":"Eastern Forest -- Maple - Beech - Birch"}]
["17. Ground Cover (hgt)",null,"18. Slope","19. # Obs","20. Ground Visibility",null,"21. Vegetation Description"]
[{"$f":"'4. Env. Measurements'!J32:J33","v":{"$error":"#VALUE!"}},null,{"$f":"'4. Env. Measurements'!J34:J35","v":{"$error":"#VALUE!"}},{"$f":"'4. Env. Measurements'!J36:J38","v":{"$error":"#VALUE!"}}]
["22. Course length",null,"23. Avg time","24. Max time","25. Min time","26. Avg rate","27.Max rate","28.Min rate"]
[{"$f":"'9. Actual Experiment Design'!E32","v":1850},{"$f":"'46. Calculations'!P9","v":"Yards"},{"$f":"AVERAGE('27. Searcher Profile Data'!B21:BZ21)","v":{"$error":"#DIV/0!"}},{"$f":"MAX('27. Searcher Profile Data'!B21:BZ21)","v":0},{"$f":"MIN('27. Searcher Profile Data'!B21:BZ21)","v":0},{"$f":"AVERAGE('27. Searcher Profile Data'!B22:BZ22)","v":{"$error":"#DIV/0!"}},{"$f":"MAX('27. Searcher Profile Data'!B22:BZ22)","v":0},{"$f":"MIN('27. Searcher Profile Data'!B22:BZ22)","v":0}]
["Search Objects"]
["29. Search Object",null,"30. AMDR","31. # S.O","32. # Searchers",null,"33. Detection Opportunities",null,"34. ESW","35. Unit"]
[{"$f":"'23. Data Input Object # 1'!K1","v":"Adult High-Visibility"},null,43,{"$f":"'23. Data Input Object # 1'!B35","v":17},{"$f":"'23. Data Input Object # 1'!B38","v":34},null,{"$f":"'28. Data Summary Object # 1'!C41","v":578},null,{"$f":"'28. Data Summary Object # 1'!E42","v":43.5},{"$f":"B17","v":"Yards"}]
[{"$f":"'31. Data Summary Object # 2'!F1","v":"Clue High-Visibility"},null,{"$f":"'10. Obj. Placement Tabl & Chart'!L185","v":0},{"$f":"'24. Data Input Object # 2'!B35","v":15},{"$f":"'24. Data Input Object # 2'!B38","v":34},null,{"$f":"'31. Data Summary Object # 2'!C41","v":476},null,{"$f":"'31. Data Summary Object # 2'!D42","v":24},{"$f":"B17","v":"Yards"}]
[{"$f":"'25. Data Input Object # 3'!K1","v":"Clue Low-Visibility"},null,18,{"$f":"'25. Data Input Object # 3'!B35","v":16},{"$f":"'25. Data Input Object # 3'!B38","v":34},null,{"$f":"'34. Data Summary Object # 3'!C41","v":510},null,{"$f":"'34. Data Summary Object # 3'!D42","v":12},{"$f":"B17","v":"Yards"}]
[{"$f":"'26. Data Input Object # 4'!K1","v":"Not applicable"},null,{"$f":"'10. Obj. Placement Tabl & Chart'!L193","v":0},{"$f":"'26. Data Input Object # 4'!B35","v":0},{"$f":"'26. Data Input Object # 4'!B38","v":0},null,{"$f":"'37. Data Summary Object # 4'!C41","v":0},null,{"$f":"'37. Data Summary Object # 4'!D42","v":0},{"$f":"B17","v":"Yards"}]
["General Comments"]
["36. Briefly Describe the experiment, location, type of event, types of searchers, etc."]
[]
[]
[]
[]
[]
["37. Describe any modifications or changes to methodology; especially if non-standard search objects used."]
[]
[]
[]
[]
[]
["38. Describe what went well during the experiment"]
[]
[]
[]
[]
[]
["39. Describe difficulties, how the experiment could be improved, or learning points."]
[]
[]
[]
[]
[]
[]
[]
["Contact Person",null,null,"Contact #",null,"Contact E-mail"]

{"sheet":"42.  POD calculation","index":42,"n_rows":3003,"n_cols":26,"rows_kept":3003,"cut":false,"hidden":false,"merged":[]}
["Probability of Detection (POD) Calculation"]
[]
[null,null,null,null,null,null,null,null,null,null,null,null,null,null,null,null,null,null,null,null,null,null,null,null,{"$f":"0","v":0},{"$f":"1-EXP(-Y3)","v":0}]
["Corrected Sweep Width",null,null,142,"Meters",null,null,null,null,null,null,null,null,null,null,null,null,null,null,null,null,null,null,null,1E-3,{"$f":"1-EXP(-Y4)","v":9.9950016662497809E-4}]
[null,null,null,null,null,null,null,null,null,null,null,null,null,null,null,null,null,null,null,null,null,null,null,null,2E-3,1.998001332666921E-3]
["Number on Team",null,null,6,null,null,null,null,null,null,null,null,null,null,null,null,null,null,null,null,null,null,null,null,3.0000000000000001E-3,2.9955044966269995E-3]
[null,null,null,null,null,null,null,null,null,null,null,null,null,null,null,null,null,null,null,null,null,null,null,null,4.0000000000000001E-3,3.9920106560085156E-3]
["Time on Task",null,null,2,"hr",null,null,null,null,null,null,null,null,null,null,null,null,null,null,null,null,null,null,null,5.0000000000000001E-3,4.9875208073176802E-3]
["Average Speed",null,null,1.5,"km/hr",null,null,null,null,null,null,null,null,null,null,null,null,null,null,null,null,null,null,null,6.0000000000000001E-3,5.9820359460647232E-3]
[null,null,null,null,null,null,null,null,null,null,null,null,null,null,null,null,null,null,null,null,null,null,null,null,7.0000000000000001E-3,6.9755570667648925E-3]
["Total Track Length",null,null,{"$f":"D8*D9*1000","v":3000},"Meters",null,null,null,null,null,null,null,null,null,null,null,null,null,null,null,null,null,null,null,8.0000000000000002E-3,7.9680851629393423E-3]
[null,null,null,null,null,null,null,null,null,null,null,null,null,null,null,null,null,null,null,null,null,null,null,null,8.9999999999999993E-3,8.9596212271163544E-3]
["Effective Area",null,null,{"$f":"D11*D6*D4","v":2556000},"sq Meters",null,null,null,null,null,null,null,null,null,null,null,null,null,null,null,null,null,null,null,0.01,9.9501662508318933E-3]
["Search Area",null,null,5000000,"sq Meters",null,null,null,null,null,null,null,null,null,null,null,null,null,null,null,null,null,null,null,1.0999999999999999E-2,1.0939721224631271E-2]
[null,null,null,null,null,null,null,null,null,null,null,null,null,null,null,null,null,null,null,null,null,null,null,null,1.2E-2,1.1928287138069482E-2]
["Coverage",null,null,{"$f":"D13/D14","v":0.51119999999999999},null,null,null,null,null,null,null,null,null,null,null,null,null,null,null,null,null,null,null,null,1.2999999999999999E-2,1.2915864979712421E-2]
[null,null,null,null,null,null,null,null,null,null,null,null,null,null,null,null,null,null,null,null,null,null,null,null,1.4E-2,1.3902455737138109E-2]
["POD",null,null,{"$f":"1-EXP(-D16)","v":0.40022458369838287},null,null,null,null,null,null,null,null,null,null,null,null,null,null,null,null,null,null,null,null,1.4999999999999999E-2,1.4888060396937353E-2]
[null,null,null,null,null,null,null,null,null,null,null,null,null,null,null,null,null,null,null,null,null,null,null,null,1.6E-2,1.5872679944714863E-2]
[null,null,null,null,null,null,null,null,null,null,null,null,null,null,null,null,null,null,null,null,null,null,null,null,1.7000000000000001E-2,1.6856315365090357E-2]
[null,null,null,null,null,null,null,null,null,null,null,null,null,null,null,null,null,null,null,null,null,null,null,null,1.7999999999999999E-2,1.7838967641699233E-2]
[null,null,null,null,null,null,null,null,null,null,null,null,null,null,null,null,null,null,null,null,null,null,null,null,1.9E-2,1.8820637757194003E-2]
[null,null,null,null,null,null,null,null,null,null,null,null,null,null,null,null,null,null,null,null,null,null,null,null,0.02,1.9801326693244747E-2]
[null,null,null,null,null,null,null,null,null,null,null,null,null,null,null,null,null,null,null,null,null,null,null,null,2.1000000000000001E-2,2.078103543054044E-2]
[null,null,null,null,null,null,null,null,null,null,null,null,null,null,null,null,null,null,null,null,null,null,null,null,2.1999999999999999E-2,2.175976494878995E-2]
[null,null,null,null,null,null,null,null,null,null,null,null,null,null,null,null,null,null,null,null,null,null,null,null,2.3E-2,2.2737516226722931E-2]
[null,null,null,null,null,null,null,null,null,null,null,null,null,null,null,null,null,null,null,null,null,null,null,null,2.4E-2,2.3714290242090708E-2]
[null,null,null,null,null,null,null,null,null,null,null,null,null,null,null,null,null,null,null,null,null,null,null,null,2.5000000000000001E-2,2.4690087971667385E-2]
[null,null,null,null,null,null,null,null,null,null,null,null,null,null,null,null,null,null,null,null,null,null,null,null,2.5999999999999999E-2,2.5664910391250628E-2]
[null,null,null,null,null,null,null,null,null,null,null,null,null,null,null,null,null,null,null,null,null,null,null,null,2.7E-2,2.6638758475663216E-2]
[null,null,null,null,null,null,null,null,null,null,null,null,null,null,null,null,null,null,null,null,null,null,null,null,2.8000000000000001E-2,2.7611633198753149E-2]
[null,null,null,null,null,null,null,null,null,null,null,null,null,null,null,null,null,null,null,null,null,null,null,null,2.9000000000000001E-2,2.858353553339521E-2]
[null,null,null,null,null,null,null,null,null,null,null,null,null,null,null,null,null,null,null,null,null,null,null,null,0.03,2.9554466451491845E-2]
[null,null,null,null,null,null,null,null,null,null,null,null,null,null,null,null,null,null,null,null,null,null,null,null,3.1E-2,3.0524426923974057E-2]
[null,null,null,null,null,null,null,null,null,null,null,null,null,null,null,null,null,null,null,null,null,null,null,null,3.2000000000000001E-2,3.1493417920802402E-2]
[null,null,null,null,null,null,null,null,null,null,null,null,null,null,null,null,null,null,null,null,null,null,null,null,3.3000000000000002E-2,3.246144041096799E-2]
[null,null,null,null,null,null,null,null,null,null,null,null,null,null,null,null,null,null,null,null,null,null,null,null,3.4000000000000002E-2,3.3428495362493371E-2]
[null,null,null,null,null,null,null,null,null,null,null,null,null,null,null,null,null,null,null,null,null,null,null,null,3.5000000000000003E-2,3.4394583742433538E-2]
[null,null,null,null,null,null,null,null,null,null,null,null,null,null,null,null,null,null,null,null,null,null,null,null,3.5999999999999997E-2,3.5359706516876921E-2]
[null,null,null,null,null,null,null,null,null,null,null,null,null,null,null,null,null,null,null,null,null,null,null,null,3.6999999999999998E-2,3.6323864650946502E-2]
[null,null,null,null,null,null,null,null,null,null,null,null,null,null,null,null,null,null,null,null,null,null,null,null,3.7999999999999999E-2,3.728705910880048E-2]
[null,null,null,null,null,null,null,null,null,null,null,null,null,null,null,null,null,null,null,null,null,null,null,null,3.9E-2,3.8249290853633267E-2]
[null,null,null,null,null,null,null,null,null,null,null,null,null,null,null,null,null,null,null,null,null,null,null,null,0.04,3.9210560847676823E-2]
[null,null,null,null,null,null,null,null,null,null,null,null,null,null,null,null,null,null,null,null,null,null,null,null,4.1000000000000002E-2,4.0170870052201102E-2]
[null,null,null,null,null,null,null,null,null,null,null,null,null,null,null,null,null,null,null,null,null,null,null,null,4.2000000000000003E-2,4.1130219427515491E-2]
[null,null,null,null,null,null,null,null,null,null,null,null,null,null,null,null,null,null,null,null,null,null,null,null,4.2999999999999997E-2,4.2088609932969367E-2]
[null,null,null,null,null,null,null,null,null,null,null,null,null,null,null,null,null,null,null,null,null,null,null,null,4.3999999999999997E-2,4.3046042526953321E-2]
[null,null,null,null,null,null,null,null,null,null,null,null,null,null,null,null,null,null,null,null,null,null,null,null,4.4999999999999998E-2,4.400251816690004E-2]
[null,null,null,null,null,null,null,null,null,null,null,null,null,null,null,null,null,null,null,null,null,null,null,null,4.5999999999999999E-2,4.4958037809285312E-2]
[null,null,null,null,null,null,null,null,null,null,null,null,null,null,null,null,null,null,null,null,null,null,null,null,4.7E-2,4.5912602409628911E-2]
[null,null,null,null,null,null,null,null,null,null,null,null,null,null,null,null,null,null,null,null,null,null,null,null,4.8000000000000001E-2,4.6866212922495265E-2]
[null,null,null,null,null,null,null,null,null,null,null,null,null,null,null,null,null,null,null,null,null,null,null,null,4.9000000000000002E-2,4.781887030149512E-2]
[null,null,null,null,null,null,null,null,null,null,null,null,null,null,null,null,null,null,null,null,null,null,null,null,0.05,4.8770575499285984E-2]
[null,null,null,null,null,null,null,null,null,null,null,null,null,null,null,null,null,null,null,null,null,null,null,null,5.0999999999999997E-2,4.9721329467573017E-2]
[null,null,null,null,null,null,null,null,null,null,null,null,null,null,null,null,null,null,null,null,null,null,null,null,5.1999999999999998E-2,5.0671133157110471E-2]
[null,null,null,null,null,null,null,null,null,null,null,null,null,null,null,null,null,null,null,null,null,null,null,null,5.2999999999999999E-2,5.1619987517701804E-2]
[null,null,null,null,null,null,null,null,null,null,null,null,null,null,null,null,null,null,null,null,null,null,null,null,5.3999999999999999E-2,5.2567893498201679E-2]
[null,null,null,null,null,null,null,null,null,null,null,null,null,null,null,null,null,null,null,null,null,null,null,null,5.5E-2,5.3514852046516181E-2]
[null,null,null,null,null,null,null,null,null,null,null,null,null,null,null,null,null,null,null,null,null,null,null,null,5.6000000000000001E-2,5.4460864109603713E-2]
[null,null,null,null,null,null,null,null,null,null,null,null,null,null,null,null,null,null,null,null,null,null,null,null,5.7000000000000002E-2,5.5405930633476652E-2]
[null,null,null,null,null,null,null,null,null,null,null,null,null,null,null,null,null,null,null,null,null,null,null,null,5.8000000000000003E-2,5.6350052563201469E-2]
[null,null,null,null,null,null,null,null,null,null,null,null,null,null,null,null,null,null,null,null,null,null,null,null,5.8999999999999997E-2,5.7293230842900278E-2]
[null,null,null,null,null,null,null,null,null,null,null,null,null,null,null,null,null,null,null,null,null,null,null,null,0.06,5.823546641575128E-2]
[null,null,null,null,null,null,null,null,null,null,null,null,null,null,null,null,null,null,null,null,null,null,null,null,6.0999999999999999E-2,5.9176760223990321E-2]
[null,null,null,null,null,null,null,null,null,null,null,null,null,null,null,null,null,null,null,null,null,null,null,null,6.2E-2,6.011711320891111E-2]
[null,null,null,null,null,null,null,null,null,null,null,null,null,null,null,null,null,null,null,null,null,null,null,null,6.3E-2,6.1056526310866777E-2]
[null,null,null,null,null,null,null,null,null,null,null,null,null,null,null,null,null,null,null,null,null,null,null,null,6.4000000000000001E-2,6.1995000469270534E-2]
[null,null,null,null,null,null,null,null,null,null,null,null,null,null,null,null,null,null,null,null,null,null,null,null,6.5000000000000002E-2,{"$f":"1-EXP(-Y68)","v":6.2932536622596569E-2}]
[null,null,null,null,null,null,null,null,null,null,null,null,null,null,null,null,null,null,null,null,null,null,null,null,6.6000000000000003E-2,6.3869135708381153E-2]
[null,null,null,null,null,null,null,null,null,null,null,null,null,null,null,null,null,null,null,null,null,null,null,null,6.7000000000000004E-2,6.4804798663223417E-2]
[null,null,null,null,null,null,null,null,null,null,null,null,null,null,null,null,null,null,null,null,null,null,null,null,6.8000000000000005E-2,6.5739526422786465E-2]
[null,null,null,null,null,null,null,null,null,null,null,null,null,null,null,null,null,null,null,null,null,null,null,null,6.9000000000000006E-2,6.6673319921798035E-2]
[null,null,null,null,null,null,null,null,null,null,null,null,null,null,null,null,null,null,null,null,null,null,null,null,7.0000000000000007E-2,6.7606180094051727E-2]
[null,null,null,null,null,null,null,null,null,null,null,null,null,null,null,null,null,null,null,null,null,null,null,null,7.0999999999999994E-2,6.8538107872407883E-2]
[null,null,null,null,null,null,null,null,null,null,null,null,null,null,null,null,null,null,null,null,null,null,null,null,7.1999999999999995E-2,6.9469104188794262E-2]
[null,null,null,null,null,null,null,null,null,null,null,null,null,null,null,null,null,null,null,null,null,null,null,null,7.2999999999999995E-2,7.0399169974207254E-2]
[null,null,null,null,null,null,null,null,null,null,null,null,null,null,null,null,null,null,null,null,null,null,null,null,7.3999999999999996E-2,7.1328306158712773E-2]
[null,null,null,null,null,null,null,null,null,null,null,null,null,null,null,null,null,null,null,null,null,null,null,null,7.4999999999999997E-2,7.2256513671447142E-2]
[null,null,null,null,null,null,null,null,null,null,null,null,null,null,null,null,null,null,null,null,null,null,null,null,7.5999999999999998E-2,7.3183793440617761E-2]
[null,null,null,null,null,null,null,null,null,null,null,null,null,null,null,null,null,null,null,null,null,null,null,null,7.6999999999999999E-2,7.4110146393504661E-2]
[null,null,null,null,null,null,null,null,null,null,null,null,null,null,null,null,null,null,null,null,null,null,null,null,7.8E-2,7.5035573456460725E-2]
[null,null,null,null,null,null,null,null,null,null,null,null,null,null,null,null,null,null,null,null,null,null,null,null,7.9000000000000001E-2,7.5960075554913242E-2]
[null,null,null,null,null,null,null,null,null,null,null,null,null,null,null,null,null,null,null,null,null,null,null,null,0.08,7.6883653613364245E-2]
[null,null,null,null,null,null,null,null,null,null,null,null,null,null,null,null,null,null,null,null,null,null,null,null,8.1000000000000003E-2,7.7806308555391945E-2]
[null,null,null,null,null,null,null,null,null,null,null,null,null,null,null,null,null,null,null,null,null,null,null,null,8.2000000000000003E-2,7.8728041303651297E-2]
[null,null,null,null,null,null,null,null,null,null,null,null,null,null,null,null,null,null,null,null,null,null,null,null,8.3000000000000004E-2,7.9648852779875323E-2]
[null,null,null,null,null,null,null,null,null,null,null,null,null,null,null,null,null,null,null,null,null,null,null,null,8.4000000000000005E-2,8.056874390487534E-2]
[null,null,null,null,null,null,null,null,null,null,null,null,null,null,null,null,null,null,null,null,null,null,null,null,8.5000000000000006E-2,8.148771559854262E-2]
[null,null,null,null,null,null,null,null,null,null,null,null,null,null,null,null,null,null,null,null,null,null,null,null,8.5999999999999993E-2,8.2405768779849065E-2]
[null,null,null,null,null,null,null,null,null,null,null,null,null,null,null,null,null,null,null,null,null,null,null,null,8.6999999999999994E-2,8.332290436684775E-2]
[null,null,null,null,null,null,null,null,null,null,null,null,null,null,null,null,null,null,null,null,null,null,null,null,8.7999999999999995E-2,8.4239123276674377E-2]
[null,null,null,null,null,null,null,null,null,null,null,null,null,null,null,null,null,null,null,null,null,null,null,null,8.8999999999999996E-2,8.5154426425548047E-2]
[null,null,null,null,null,null,null,null,null,null,null,null,null,null,null,null,null,null,null,null,null,null,null,null,0.09,8.6068814728771814E-2]
[null,null,null,null,null,null,null,null,null,null,null,null,null,null,null,null,null,null,null,null,null,null,null,null,9.0999999999999998E-2,8.6982289100734245E-2]
[null,null,null,null,null,null,null,null,null,null,null,null,null,null,null,null,null,null,null,null,null,null,null,null,9.1999999999999998E-2,8.7894850454909634E-2]
[null,null,null,null,null,null,null,null,null,null,null,null,null,null,null,null,null,null,null,null,null,null,null,null,9.2999999999999999E-2,8.8806499703859454E-2]
[null,null,null,null,null,null,null,null,null,null,null,null,null,null,null,null,null,null,null,null,null,null,null,null,9.4E-2,8.9717237759233015E-2]
[null,null,null,null,null,null,null,null,null,null,null,null,null,null,null,null,null,null,null,null,null,null,null,null,9.5000000000000001E-2,9.062706553176858E-2]
[null,null,null,null,null,null,null,null,null,null,null,null,null,null,null,null,null,null,null,null,null,null,null,null,9.6000000000000002E-2,9.1535983931293807E-2]
[null,null,null,null,null,null,null,null,null,null,null,null,null,null,null,null,null,null,null,null,null,null,null,null,9.7000000000000003E-2,9.2443993866727303E-2]
[null,null,null,null,null,null,null,null,null,null,null,null,null,null,null,null,null,null,null,null,null,null,null,null,9.8000000000000004E-2,9.3351096246079068E-2]
[null,null,null,null,null,null,null,null,null,null,null,null,null,null,null,null,null,null,null,null,null,null,null,null,9.9000000000000005E-2,9.4257291976451496E-2]
[null,null,null,null,null,null,null,null,null,null,null,null,null,null,null,null,null,null,null,null,null,null,null,null,0.1,9.5162581964040482E-2]
[null,null,null,null,null,null,null,null,null,null,null,null,null,null,null,null,null,null,null,null,null,null,null,null,0.10100000000000001,9.6066967114135871E-2]
[null,null,null,null,null,null,null,null,null,null,null,null,null,null,null,null,null,null,null,null,null,null,null,null,0.10199999999999999,9.6970448331123227E-2]
[null,null,null,null,null,null,null,null,null,null,null,null,null,null,null,null,null,null,null,null,null,null,null,null,0.10299999999999999,9.7873026518483508E-2]
[null,null,null,null,null,null,null,null,null,null,null,null,null,null,null,null,null,null,null,null,null,null,null,null,0.104,9.877470257879517E-2]
[null,null,null,null,null,null,null,null,null,null,null,null,null,null,null,null,null,null,null,null,null,null,null,null,0.105,9.9675477413734392E-2]
[null,null,null,null,null,null,null,null,null,null,null,null,null,null,null,null,null,null,null,null,null,null,null,null,0.106,0.10057535192407596]
[null,null,null,null,null,null,null,null,null,null,null,null,null,null,null,null,null,null,null,null,null,null,null,null,0.107,0.1014743270096945]
[null,null,null,null,null,null,null,null,null,null,null,null,null,null,null,null,null,null,null,null,null,null,null,null,0.108,0.10237240356956512]
[null,null,null,null,null,null,null,null,null,null,null,null,null,null,null,null,null,null,null,null,null,null,null,null,0.109,0.10326958250176455]
[null,null,null,null,null,null,null,null,null,null,null,null,null,null,null,null,null,null,null,null,null,null,null,null,0.11,0.10416586470347178]
[null,null,null,null,null,null,null,null,null,null,null,null,null,null,null,null,null,null,null,null,null,null,null,null,0.111,0.10506125107096898]
[null,null,null,null,null,null,null,null,null,null,null,null,null,null,null,null,null,null,null,null,null,null,null,null,0.112,0.10595574249964279]
[null,null,null,null,null,null,null,null,null,null,null,null,null,null,null,null,null,null,null,null,null,null,null,null,0.113,0.10684933988398448]
[null,null,null,null,null,null,null,null,null,null,null,null,null,null,null,null,null,null,null,null,null,null,null,null,0.114,0.1077420441175917]
[null,null,null,null,null,null,null,null,null,null,null,null,null,null,null,null,null,null,null,null,null,null,null,null,0.115,0.10863385609316867]
[null,null,null,null,null,null,null,null,null,null,null,null,null,null,null,null,null,null,null,null,null,null,null,null,0.11600000000000001,0.10952477670252736]
[null,null,null,null,null,null,null,null,null,null,null,null,null,null,null,null,null,null,null,null,null,null,null,null,0.11700000000000001,0.11041480683658866]
[null,null,null,null,null,null,null,null,null,null,null,null,null,null,null,null,null,null,null,null,null,null,null,null,0.11799999999999999,0.11130394738538263]
[null,null,null,null,null,null,null,null,null,null,null,null,null,null,null,null,null,null,null,null,null,null,null,null,0.11899999999999999,0.11219219923804991]
[null,null,null,null,null,null,null,null,null,null,null,null,null,null,null,null,null,null,null,null,null,null,null,null,0.12,0.11307956328284252]
[null,null,null,null,null,null,null,null,null,null,null,null,null,null,null,null,null,null,null,null,null,null,null,null,0.121,0.11396604040712444]
[null,null,null,null,null,null,null,null,null,null,null,null,null,null,null,null,null,null,null,null,null,null,null,null,0.122,0.11485163149737287]
[null,null,null,null,null,null,null,null,null,null,null,null,null,null,null,null,null,null,null,null,null,null,null,null,0.123,0.1157363374391791]
[null,null,null,null,null,null,null,null,null,null,null,null,null,null,null,null,null,null,null,null,null,null,null,null,0.124,0.1166201591172491]
[null,null,null,null,null,null,null,null,null,null,null,null,null,null,null,null,null,null,null,null,null,null,null,null,0.125,0.11750309741540454]
[null,null,null,null,null,null,null,null,null,null,null,null,null,null,null,null,null,null,null,null,null,null,null,null,0.126,0.11838515321658394]
[null,null,null,null,null,null,null,null,null,null,null,null,null,null,null,null,null,null,null,null,null,null,null,null,0.127,0.11926632740284304]
[null,null,null,null,null,null,null,null,null,null,null,null,null,null,null,null,null,null,null,null,null,null,null,null,0.128,0.12014662085535621]
[null,null,null,null,null,null,null,null,null,null,null,null,null,null,null,null,null,null,null,null,null,null,null,null,0.129,{"$f":"1-EXP(-Y132)","v":0.12102603445441684}]
[null,null,null,null,null,null,null,null,null,null,null,null,null,null,null,null,null,null,null,null,null,null,null,null,0.13,0.1219045690794387]
[null,null,null,null,null,null,null,null,null,null,null,null,null,null,null,null,null,null,null,null,null,null,null,null,0.13100000000000001,0.12278222560895646]
[null,null,null,null,null,null,null,null,null,null,null,null,null,null,null,null,null,null,null,null,null,null,null,null,0.13200000000000001,0.12365900492062676]
[null,null,null,null,null,null,null,null,null,null,null,null,null,null,null,null,null,null,null,null,null,null,null,null,0.13300000000000001,0.1245349078912289]
[null,null,null,null,null,null,null,null,null,null,null,null,null,null,null,null,null,null,null,null,null,null,null,null,0.13400000000000001,0.12540993539666601]
[null,null,null,null,null,null,null,null,null,null,null,null,null,null,null,null,null,null,null,null,null,null,null,null,0.13500000000000001,0.12628408831196558]
[null,null,null,null,null,null,null,null,null,null,null,null,null,null,null,null,null,null,null,null,null,null,null,null,0.13600000000000001,0.12715736751128071]
[null,null,null,null,null,null,null,null,null,null,null,null,null,null,null,null,null,null,null,null,null,null,null,null,0.13700000000000001,0.12802977386789061]
[null,null,null,null,null,null,null,null,null,null,null,null,null,null,null,null,null,null,null,null,null,null,null,null,0.13800000000000001,0.12890130825420165]
[null,null,null,null,null,null,null,null,null,null,null,null,null,null,null,null,null,null,null,null,null,null,null,null,0.13900000000000001,0.12977197154174847]
[null,null,null,null,null,null,null,null,null,null,null,null,null,null,null,null,null,null,null,null,null,null,null,null,0.14000000000000001,0.13064176460119414]
[null,null,null,null,null,null,null,null,null,null,null,null,null,null,null,null,null,null,null,null,null,null,null,null,0.14099999999999999,0.13151068830233215]
[null,null,null,null,null,null,null,null,null,null,null,null,null,null,null,null,null,null,null,null,null,null,null,null,0.14199999999999999,0.13237874351408596]
[null,null,null,null,null,null,null,null,null,null,null,null,null,null,null,null,null,null,null,null,null,null,null,null,0.14299999999999999,0.133245931104511]
[null,null,null,null,null,null,null,null,null,null,null,null,null,null,null,null,null,null,null,null,null,null,null,null,0.14399999999999999,0.13411225194079501]
[null,null,null,null,null,null,null,null,null,null,null,null,null,null,null,null,null,null,null,null,null,null,null,null,0.14499999999999999,0.1349777068892587]
[null,null,null,null,null,null,null,null,null,null,null,null,null,null,null,null,null,null,null,null,null,null,null,null,0.14599999999999999,0.1358422968153572]
[null,null,null,null,null,null,null,null,null,null,null,null,null,null,null,null,null,null,null,null,null,null,null,null,0.14699999999999999,0.13670602258368059]
[null,null,null,null,null,null,null,null,null,null,null,null,null,null,null,null,null,null,null,null,null,null,null,null,0.14799999999999999,0.1375688850579545]
[null,null,null,null,null,null,null,null,null,null,null,null,null,null,null,null,null,null,null,null,null,null,null,null,0.14899999999999999,0.13843088510104173]
[null,null,null,null,null,null,null,null,null,null,null,null,null,null,null,null,null,null,null,null,null,null,null,null,0.15,0.13929202357494219]
[null,null,null,null,null,null,null,null,null,null,null,null,null,null,null,null,null,null,null,null,null,null,null,null,0.151,0.14015230134079448]
[null,null,null,null,null,null,null,null,null,null,null,null,null,null,null,null,null,null,null,null,null,null,null,null,0.152,0.14101171925887657]
[null,null,null,null,null,null,null,null,null,null,null,null,null,null,null,null,null,null,null,null,null,null,null,null,0.153,0.1418702781886062]
[null,null,null,null,null,null,null,null,null,null,null,null,null,null,null,null,null,null,null,null,null,null,null,null,0.154,0.1427279789885425]
[null,null,null,null,null,null,null,null,null,null,null,null,null,null,null,null,null,null,null,null,null,null,null,null,0.155,0.14358482251638649]
[null,null,null,null,null,null,null,null,null,null,null,null,null,null,null,null,null,null,null,null,null,null,null,null,0.156,0.14444080962898154]
[null,null,null,null,null,null,null,null,null,null,null,null,null,null,null,null,null,null,null,null,null,null,null,null,0.157,0.14529594118231492]
[null,null,null,null,null,null,null,null,null,null,null,null,null,null,null,null,null,null,null,null,null,null,null,null,0.158,0.14615021803151829]
[null,null,null,null,null,null,null,null,null,null,null,null,null,null,null,null,null,null,null,null,null,null,null,null,0.159,0.14700364103086849]
[null,null,null,null,null,null,null,null,null,null,null,null,null,null,null,null,null,null,null,null,null,null,null,null,0.16,0.14785621103378865]
[null,null,null,null,null,null,null,null,null,null,null,null,null,null,null,null,null,null,null,null,null,null,null,null,0.161,0.1487079288928489]
[null,null,null,null,null,null,null,null,null,null,null,null,null,null,null,null,null,null,null,null,null,null,null,null,0.16200000000000001,0.14955879545976702]
[null,null,null,null,null,null,null,null,null,null,null,null,null,null,null,null,null,null,null,null,null,null,null,null,0.16300000000000001,0.15040881158540975]
[null,null,null,null,null,null,null,null,null,null,null,null,null,null,null,null,null,null,null,null,null,null,null,null,0.16400000000000001,0.15125797811979325]
[null,null,null,null,null,null,null,null,null,null,null,null,null,null,null,null,null,null,null,null,null,null,null,null,0.16500000000000001,0.15210629591208413]
[null,null,null,null,null,null,null,null,null,null,null,null,null,null,null,null,null,null,null,null,null,null,null,null,0.16600000000000001,0.15295376581060038]
[null,null,null,null,null,null,null,null,null,null,null,null,null,null,null,null,null,null,null,null,null,null,null,null,0.16700000000000001,0.15380038866281176]
[null,null,null,null,null,null,null,null,null,null,null,null,null,null,null,null,null,null,null,null,null,null,null,null,0.16800000000000001,0.15464616531534126]
[null,null,null,null,null,null,null,null,null,null,null,null,null,null,null,null,null,null,null,null,null,null,null,null,0.16900000000000001,0.15549109661396565]
[null,null,null,null,null,null,null,null,null,null,null,null,null,null,null,null,null,null,null,null,null,null,null,null,0.17,0.1563351834036163]
[null,null,null,null,null,null,null,null,null,null,null,null,null,null,null,null,null,null,null,null,null,null,null,null,0.17100000000000001,0.1571784265283801]
[null,null,null,null,null,null,null,null,null,null,null,null,null,null,null,null,null,null,null,null,null,null,null,null,0.17199999999999999,0.15802082683150009]
[null,null,null,null,null,null,null,null,null,null,null,null,null,null,null,null,null,null,null,null,null,null,null,null,0.17299999999999999,0.15886238515537676]
[null,null,null,null,null,null,null,null,null,null,null,null,null,null,null,null,null,null,null,null,null,null,null,null,0.17399999999999999,0.15970310234156859]
[null,null,null,null,null,null,null,null,null,null,null,null,null,null,null,null,null,null,null,null,null,null,null,null,0.17499999999999999,0.16054297923079264]
[null,null,null,null,null,null,null,null,null,null,null,null,null,null,null,null,null,null,null,null,null,null,null,null,0.17599999999999999,0.16138201666292595]
[null,null,null,null,null,null,null,null,null,null,null,null,null,null,null,null,null,null,null,null,null,null,null,null,0.17699999999999999,0.16222021547700616]
[null,null,null,null,null,null,null,null,null,null,null,null,null,null,null,null,null,null,null,null,null,null,null,null,0.17799999999999999,0.16305757651123187]
[null,null,null,null,null,null,null,null,null,null,null,null,null,null,null,null,null,null,null,null,null,null,null,null,0.17899999999999999,0.1638941006029645]
[null,null,null,null,null,null,null,null,null,null,null,null,null,null,null,null,null,null,null,null,null,null,null,null,0.18,0.164729788588728]
[null,null,null,null,null,null,null,null,null,null,null,null,null,null,null,null,null,null,null,null,null,null,null,null,0.18099999999999999,0.16556464130421045]
[null,null,null,null,null,null,null,null,null,null,null,null,null,null,null,null,null,null,null,null,null,null,null,null,0.182,0.1663986595842647]
[null,null,null,null,null,null,null,null,null,null,null,null,null,null,null,null,null,null,null,null,null,null,null,null,0.183,0.16723184426290905]
[null,null,null,null,null,null,null,null,null,null,null,null,null,null,null,null,null,null,null,null,null,null,null,null,0.184,0.16806419617332824]
[null,null,null,null,null,null,null,null,null,null,null,null,null,null,null,null,null,null,null,null,null,null,null,null,0.185,0.16889571614787435]
[null,null,null,null,null,null,null,null,null,null,null,null,null,null,null,null,null,null,null,null,null,null,null,null,0.186,0.16972640501806735]
[null,null,null,null,null,null,null,null,null,null,null,null,null,null,null,null,null,null,null,null,null,null,null,null,0.187,0.17055626361459608]
[null,null,null,null,null,null,null,null,null,null,null,null,null,null,null,null,null,null,null,null,null,null,null,null,0.188,0.1713852927673194]
[null,null,null,null,null,null,null,null,null,null,null,null,null,null,null,null,null,null,null,null,null,null,null,null,0.189,0.17221349330526636]
[null,null,null,null,null,null,null,null,null,null,null,null,null,null,null,null,null,null,null,null,null,null,null,null,0.19,0.17304086605663771]
[null,null,null,null,null,null,null,null,null,null,null,null,null,null,null,null,null,null,null,null,null,null,null,null,0.191,0.17386741184880616]
[null,null,null,null,null,null,null,null,null,null,null,null,null,null,null,null,null,null,null,null,null,null,null,null,0.192,0.17469313150831767]
[null,null,null,null,null,null,null,null,null,null,null,null,null,null,null,null,null,null,null,null,null,null,null,null,0.193,{"$f":"1-EXP(-Y196)","v":0.17551802586089182}]
[null,null,null,null,null,null,null,null,null,null,null,null,null,null,null,null,null,null,null,null,null,null,null,null,0.19400000000000001,0.17634209573142312]
[null,null,null,null,null,null,null,null,null,null,null,null,null,null,null,null,null,null,null,null,null,null,null,null,0.19500000000000001,0.17716534194398159]
[null,null,null,null,null,null,null,null,null,null,null,null,null,null,null,null,null,null,null,null,null,null,null,null,0.19600000000000001,0.17798776532181348]
[null,null,null,null,null,null,null,null,null,null,null,null,null,null,null,null,null,null,null,null,null,null,null,null,0.19700000000000001,0.17880936668734204]
[null,null,null,null,null,null,null,null,null,null,null,null,null,null,null,null,null,null,null,null,null,null,null,null,0.19800000000000001,0.17963014686216894]
[null,null,null,null,null,null,null,null,null,null,null,null,null,null,null,null,null,null,null,null,null,null,null,null,0.19900000000000001,0.18045010666707439]
[null,null,null,null,null,null,null,null,null,null,null,null,null,null,null,null,null,null,null,null,null,null,null,null,0.2,0.18126924692201818]
[null,null,null,null,null,null,null,null,null,null,null,null,null,null,null,null,null,null,null,null,null,null,null,null,0.20100000000000001,0.1820875684461406]
[null,null,null,null,null,null,null,null,null,null,null,null,null,null,null,null,null,null,null,null,null,null,null,null,0.20200000000000001,0.18290507205776341]
[null,null,null,null,null,null,null,null,null,null,null,null,null,null,null,null,null,null,null,null,null,null,null,null,0.20300000000000001,0.1837217585743901]
[null,null,null,null,null,null,null,null,null,null,null,null,null,null,null,null,null,null,null,null,null,null,null,null,0.20399999999999999,0.1845376288127073]
[null,null,null,null,null,null,null,null,null,null,null,null,null,null,null,null,null,null,null,null,null,null,null,null,0.20499999999999999,0.18535268358858548]
[null,null,null,null,null,null,null,null,null,null,null,null,null,null,null,null,null,null,null,null,null,null,null,null,0.20599999999999999,0.18616692371707932]
[null,null,null,null,null,null,null,null,null,null,null,null,null,null,null,null,null,null,null,null,null,null,null,null,0.20699999999999999,0.18698035001242896]
[null,null,null,null,null,null,null,null,null,null,null,null,null,null,null,null,null,null,null,null,null,null,null,null,0.20799999999999999,0.18779296328806094]
[null,null,null,null,null,null,null,null,null,null,null,null,null,null,null,null,null,null,null,null,null,null,null,null,0.20899999999999999,0.18860476435658857]
[null,null,null,null,null,null,null,null,null,null,null,null,null,null,null,null,null,null,null,null,null,null,null,null,0.21,0.18941575402981292]
[null,null,null,null,null,null,null,null,null,null,null,null,null,null,null,null,null,null,null,null,null,null,null,null,0.21099999999999999,0.19022593311872371]
[null,null,null,null,null,null,null,null,null,null,null,null,null,null,null,null,null,null,null,null,null,null,null,null,0.21199999999999999,0.1910353024335002]
[null,null,null,null,null,null,null,null,null,null,null,null,null,null,null,null,null,null,null,null,null,null,null,null,0.21299999999999999,0.19184386278351162]
[null,null,null,null,null,null,null,null,null,null,null,null,null,null,null,null,null,null,null,null,null,null,null,null,0.214,0.19265161497731853]
[null,null,null,null,null,null,null,null,null,null,null,null,null,null,null,null,null,null,null,null,null,null,null,null,0.215,0.19345855982267313]
[null,null,null,null,null,null,null,null,null,null,null,null,null,null,null,null,null,null,null,null,null,null,null,null,0.216,0.19426469812652036]
[null,null,null,null,null,null,null,null,null,null,null,null,null,null,null,null,null,null,null,null,null,null,null,null,0.217,0.19507003069499851]
[null,null,null,null,null,null,null,null,null,null,null,null,null,null,null,null,null,null,null,null,null,null,null,null,0.218,0.19587455833344036]
[null,null,null,null,null,null,null,null,null,null,null,null,null,null,null,null,null,null,null,null,null,null,null,null,0.219,0.19667828184637348]
[null,null,null,null,null,null,null,null,null,null,null,null,null,null,null,null,null,null,null,null,null,null,null,null,0.22,0.19748120203752151]
[null,null,null,null,null,null,null,null,null,null,null,null,null,null,null,null,null,null,null,null,null,null,null,null,0.221,0.19828331970980473]
[null,null,null,null,null,null,null,null,null,null,null,null,null,null,null,null,null,null,null,null,null,null,null,null,0.222,0.19908463566534085]
[null,null,null,null,null,null,null,null,null,null,null,null,null,null,null,null,null,null,null,null,null,null,null,null,0.223,0.19988515070544588]
[null,null,null,null,null,null,null,null,null,null,null,null,null,null,null,null,null,null,null,null,null,null,null,null,0.224,0.20068486563063492]
[null,null,null,null,null,null,null,null,null,null,null,null,null,null,null,null,null,null,null,null,null,null,null,null,0.22500000000000001,0.20148378124062294]
[null,null,null,null,null,null,null,null,null,null,null,null,null,null,null,null,null,null,null,null,null,null,null,null,0.22600000000000001,0.20228189833432575]
[null,null,null,null,null,null,null,null,null,null,null,null,null,null,null,null,null,null,null,null,null,null,null,null,0.22700000000000001,0.20307921770986037]
[null,null,null,null,null,null,null,null,null,null,null,null,null,null,null,null,null,null,null,null,null,null,null,null,0.22800000000000001,0.20387574016454624]
[null,null,null,null,null,null,null,null,null,null,null,null,null,null,null,null,null,null,null,null,null,null,null,null,0.22900000000000001,0.20467146649490608]
[null,null,null,null,null,null,null,null,null,null,null,null,null,null,null,null,null,null,null,null,null,null,null,null,0.23,0.20546639749666595]
[null,null,null,null,null,null,null,null,null,null,null,null,null,null,null,null,null,null,null,null,null,null,null,null,0.23100000000000001,0.2062605339647573]
[null,null,null,null,null,null,null,null,null,null,null,null,null,null,null,null,null,null,null,null,null,null,null,null,0.23200000000000001,0.20705387669331632]
[null,null,null,null,null,null,null,null,null,null,null,null,null,null,null,null,null,null,null,null,null,null,null,null,0.23300000000000001,0.20784642647568596]
[null,null,null,null,null,null,null,null,null,null,null,null,null,null,null,null,null,null,null,null,null,null,null,null,0.23400000000000001,0.20863818410441615]
[null,null,null,null,null,null,null,null,null,null,null,null,null,null,null,null,null,null,null,null,null,null,null,null,0.23499999999999999,0.20942915037126442]
[null,null,null,null,null,null,null,null,null,null,null,null,null,null,null,null,null,null,null,null,null,null,null,null,0.23599999999999999,0.21021932606719729]
[null,null,null,null,null,null,null,null,null,null,null,null,null,null,null,null,null,null,null,null,null,null,null,null,0.23699999999999999,0.21100871198239024]
[null,null,null,null,null,null,null,null,null,null,null,null,null,null,null,null,null,null,null,null,null,null,null,null,0.23799999999999999,0.21179730890622961]
[null,null,null,null,null,null,null,null,null,null,null,null,null,null,null,null,null,null,null,null,null,null,null,null,0.23899999999999999,0.21258511762731203]
[null,null,null,null,null,null,null,null,null,null,null,null,null,null,null,null,null,null,null,null,null,null,null,null,0.24,0.21337213893344653]
[null,null,null,null,null,null,null,null,null,null,null,null,null,null,null,null,null,null,null,null,null,null,null,null,0.24099999999999999,0.21415837361165446]
[null,null,null,null,null,null,null,null,null,null,null,null,null,null,null,null,null,null,null,null,null,null,null,null,0.24199999999999999,0.21494382244817045]
[null,null,null,null,null,null,null,null,null,null,null,null,null,null,null,null,null,null,null,null,null,null,null,null,0.24299999999999999,0.21572848622844354]
[null,null,null,null,null,null,null,null,null,null,null,null,null,null,null,null,null,null,null,null,null,null,null,null,0.24399999999999999,0.2165123657371375]
[null,null,null,null,null,null,null,null,null,null,null,null,null,null,null,null,null,null,null,null,null,null,null,null,0.245,0.21729546175813186]
[null,null,null,null,null,null,null,null,null,null,null,null,null,null,null,null,null,null,null,null,null,null,null,null,0.246,0.21807777507452275]
[null,null,null,null,null,null,null,null,null,null,null,null,null,null,null,null,null,null,null,null,null,null,null,null,0.247,0.2188593064686235]
[null,null,null,null,null,null,null,null,null,null,null,null,null,null,null,null,null,null,null,null,null,null,null,null,0.248,0.21964005672196574]
[null,null,null,null,null,null,null,null,null,null,null,null,null,null,null,null,null,null,null,null,null,null,null,null,0.249,0.22042002661529958]
[null,null,null,null,null,null,null,null,null,null,null,null,null,null,null,null,null,null,null,null,null,null,null,null,0.25,0.22119921692859512]
[null,null,null,null,null,null,null,null,null,null,null,null,null,null,null,null,null,null,null,null,null,null,null,null,0.251,0.22197762844104274]
[null,null,null,null,null,null,null,null,null,null,null,null,null,null,null,null,null,null,null,null,null,null,null,null,0.252,0.22275526193105388]
[null,null,null,null,null,null,null,null,null,null,null,null,null,null,null,null,null,null,null,null,null,null,null,null,0.253,0.22353211817626217]
[null,null,null,null,null,null,null,null,null,null,null,null,null,null,null,null,null,null,null,null,null,null,null,null,0.254,0.22430819795352397]
[null,null,null,null,null,null,null,null,null,null,null,null,null,null,null,null,null,null,null,null,null,null,null,null,0.255,0.22508350203891903]
[null,null,null,null,null,null,null,null,null,null,null,null,null,null,null,null,null,null,null,null,null,null,null,null,0.25600000000000001,0.22585803120775161]
[null,null,null,null,null,null,null,null,null,null,null,null,null,null,null,null,null,null,null,null,null,null,null,null,0.25700000000000001,{"$f":"1-EXP(-Y260)","v":0.22663178623455094}]
[null,null,null,null,null,null,null,null,null,null,null,null,null,null,null,null,null,null,null,null,null,null,null,null,0.25800000000000001,0.22740476789307196]
[null,null,null,null,null,null,null,null,null,null,null,null,null,null,null,null,null,null,null,null,null,null,null,null,0.25900000000000001,0.22817697695629657]
[null,null,null,null,null,null,null,null,null,null,null,null,null,null,null,null,null,null,null,null,null,null,null,null,0.26,0.22894841419643375]
[null,null,null,null,null,null,null,null,null,null,null,null,null,null,null,null,null,null,null,null,null,null,null,null,0.26100000000000001,0.22971908038492084]
[null,null,null,null,null,null,null,null,null,null,null,null,null,null,null,null,null,null,null,null,null,null,null,null,0.26200000000000001,0.23048897629242415]
[null,null,null,null,null,null,null,null,null,null,null,null,null,null,null,null,null,null,null,null,null,null,null,null,0.26300000000000001,0.23125810268883973]
[null,null,null,null,null,null,null,null,null,null,null,null,null,null,null,null,null,null,null,null,null,null,null,null,0.26400000000000001,0.23202646034329388]
[null,null,null,null,null,null,null,null,null,null,null,null,null,null,null,null,null,null,null,null,null,null,null,null,0.26500000000000001,0.23279405002414433]
[null,null,null,null,null,null,null,null,null,null,null,null,null,null,null,null,null,null,null,null,null,null,null,null,0.26600000000000001,0.23356087249898083]
[null,null,null,null,null,null,null,null,null,null,null,null,null,null,null,null,null,null,null,null,null,null,null,null,0.26700000000000002,0.23432692853462611]
[null,null,null,null,null,null,null,null,null,null,null,null,null,null,null,null,null,null,null,null,null,null,null,null,0.26800000000000002,0.23509221889713605]
[null,null,null,null,null,null,null,null,null,null,null,null,null,null,null,null,null,null,null,null,null,null,null,null,0.26900000000000002,0.23585674435180104]
[null,null,null,null,null,null,null,null,null,null,null,null,null,null,null,null,null,null,null,null,null,null,null,null,0.27,0.23662050566314685]
[null,null,null,null,null,null,null,null,null,null,null,null,null,null,null,null,null,null,null,null,null,null,null,null,0.27100000000000002,0.23738350359493465]
[null,null,null,null,null,null,null,null,null,null,null,null,null,null,null,null,null,null,null,null,null,null,null,null,0.27200000000000002,0.23814573891016244]
[null,null,null,null,null,null,null,null,null,null,null,null,null,null,null,null,null,null,null,null,null,null,null,null,0.27300000000000002,0.23890721237106571]
[null,null,null,null,null,null,null,null,null,null,null,null,null,null,null,null,null,null,null,null,null,null,null,null,0.27400000000000002,0.23966792473911791]
[null,null,null,null,null,null,null,null,null,null,null,null,null,null,null,null,null,null,null,null,null,null,null,null,0.27500000000000002,0.24042787677503152]
[null,null,null,null,null,null,null,null,null,null,null,null,null,null,null,null,null,null,null,null,null,null,null,null,0.27600000000000002,0.24118706923875866]
[null,null,null,null,null,null,null,null,null,null,null,null,null,null,null,null,null,null,null,null,null,null,null,null,0.27700000000000002,0.24194550288949168]
[null,null,null,null,null,null,null,null,null,null,null,null,null,null,null,null,null,null,null,null,null,null,null,null,0.27800000000000002,0.24270317848566447]
[null,null,null,null,null,null,null,null,null,null,null,null,null,null,null,null,null,null,null,null,null,null,null,null,0.27900000000000003,0.24346009678495262]
[null,null,null,null,null,null,null,null,null,null,null,null,null,null,null,null,null,null,null,null,null,null,null,null,0.28000000000000003,0.24421625854427453]
[null,null,null,null,null,null,null,null,null,null,null,null,null,null,null,null,null,null,null,null,null,null,null,null,0.28100000000000003,0.24497166451979202]
[null,null,null,null,null,null,null,null,null,null,null,null,null,null,null,null,null,null,null,null,null,null,null,null,0.28199999999999997,0.24572631546691104]
[null,null,null,null,null,null,null,null,null,null,null,null,null,null,null,null,null,null,null,null,null,null,null,null,0.28299999999999997,0.24648021214028271]
[null,null,null,null,null,null,null,null,null,null,null,null,null,null,null,null,null,null,null,null,null,null,null,null,0.28399999999999997,0.24723335529380375]
[null,null,null,null,null,null,null,null,null,null,null,null,null,null,null,null,null,null,null,null,null,null,null,null,0.28499999999999998,0.24798574568061738]
[null,null,null,null,null,null,null,null,null,null,null,null,null,null,null,null,null,null,null,null,null,null,null,null,0.28599999999999998,0.24873738405311396]
[null,null,null,null,null,null,null,null,null,null,null,null,null,null,null,null,null,null,null,null,null,null,null,null,0.28699999999999998,0.24948827116293204]
[null,null,null,null,null,null,null,null,null,null,null,null,null,null,null,null,null,null,null,null,null,null,null,null,0.28799999999999998,0.25023840776095874]
[null,null,null,null,null,null,null,null,null,null,null,null,null,null,null,null,null,null,null,null,null,null,null,null,0.28899999999999998,0.25098779459733067]
[null,null,null,null,null,null,null,null,null,null,null,null,null,null,null,null,null,null,null,null,null,null,null,null,0.28999999999999998,0.25173643242143473]
[null,null,null,null,null,null,null,null,null,null,null,null,null,null,null,null,null,null,null,null,null,null,null,null,0.29099999999999998,0.25248432198190895]
[null,null,null,null,null,null,null,null,null,null,null,null,null,null,null,null,null,null,null,null,null,null,null,null,0.29199999999999998,0.25323146402664287]
[null,null,null,null,null,null,null,null,null,null,null,null,null,null,null,null,null,null,null,null,null,null,null,null,0.29299999999999998,0.2539778593027785]
[null,null,null,null,null,null,null,null,null,null,null,null,null,null,null,null,null,null,null,null,null,null,null,null,0.29399999999999998,0.25472350855671133]
[null,null,null,null,null,null,null,null,null,null,null,null,null,null,null,null,null,null,null,null,null,null,null,null,0.29499999999999998,0.25546841253409058]
[null,null,null,null,null,null,null,null,null,null,null,null,null,null,null,null,null,null,null,null,null,null,null,null,0.29599999999999999,0.25621257197982039]
[null,null,null,null,null,null,null,null,null,null,null,null,null,null,null,null,null,null,null,null,null,null,null,null,0.29699999999999999,0.25695598763806016]
[null,null,null,null,null,null,null,null,null,null,null,null,null,null,null,null,null,null,null,null,null,null,null,null,0.29799999999999999,0.25769866025222565]
[null,null,null,null,null,null,null,null,null,null,null,null,null,null,null,null,null,null,null,null,null,null,null,null,0.29899999999999999,0.25844059056498947]
[null,null,null,null,null,null,null,null,null,null,null,null,null,null,null,null,null,null,null,null,null,null,null,null,0.3,0.25918177931828212]
[null,null,null,null,null,null,null,null,null,null,null,null,null,null,null,null,null,null,null,null,null,null,null,null,0.30099999999999999,0.25992222725329239]
[null,null,null,null,null,null,null,null,null,null,null,null,null,null,null,null,null,null,null,null,null,null,null,null,0.30199999999999999,0.26066193511046809]
[null,null,null,null,null,null,null,null,null,null,null,null,null,null,null,null,null,null,null,null,null,null,null,null,0.30299999999999999,0.2614009036295174]
[null,null,null,null,null,null,null,null,null,null,null,null,null,null,null,null,null,null,null,null,null,null,null,null,0.30399999999999999,0.26213913354940888]
[null,null,null,null,null,null,null,null,null,null,null,null,null,null,null,null,null,null,null,null,null,null,null,null,0.30499999999999999,0.26287662560837222]
[null,null,null,null,null,null,null,null,null,null,null,null,null,null,null,null,null,null,null,null,null,null,null,null,0.30599999999999999,0.26361338054389993]
[null,null,null,null,null,null,null,null,null,null,null,null,null,null,null,null,null,null,null,null,null,null,null,null,0.307,0.26434939909274668]
[null,null,null,null,null,null,null,null,null,null,null,null,null,null,null,null,null,null,null,null,null,null,null,null,0.308,0.26508468199093127]
[null,null,null,null,null,null,null,null,null,null,null,null,null,null,null,null,null,null,null,null,null,null,null,null,0.309,0.26581922997373664]
[null,null,null,null,null,null,null,null,null,null,null,null,null,null,null,null,null,null,null,null,null,null,null,null,0.31,0.26655304377571076]
[null,null,null,null,null,null,null,null,null,null,null,null,null,null,null,null,null,null,null,null,null,null,null,null,0.311,0.26728612413066755]
[null,null,null,null,null,null,null,null,null,null,null,null,null,null,null,null,null,null,null,null,null,null,null,null,0.312,0.26801847177168736]
[null,null,null,null,null,null,null,null,null,null,null,null,null,null,null,null,null,null,null,null,null,null,null,null,0.313,0.26875008743111795]
[null,null,null,null,null,null,null,null,null,null,null,null,null,null,null,null,null,null,null,null,null,null,null,null,0.314,0.26948097184057507]
[null,null,null,null,null,null,null,null,null,null,null,null,null,null,null,null,null,null,null,null,null,null,null,null,0.315,0.27021112573094319]
[null,null,null,null,null,null,null,null,null,null,null,null,null,null,null,null,null,null,null,null,null,null,null,null,0.316,0.27094054983237625]
[null,null,null,null,null,null,null,null,null,null,null,null,null,null,null,null,null,null,null,null,null,null,null,null,0.317,0.27166924487429833]
[null,null,null,null,null,null,null,null,null,null,null,null,null,null,null,null,null,null,null,null,null,null,null,null,0.318,0.27239721158540453]
[null,null,null,null,null,null,null,null,null,null,null,null,null,null,null,null,null,null,null,null,null,null,null,null,0.31900000000000001,0.27312445069366176]
[null,null,null,null,null,null,null,null,null,null,null,null,null,null,null,null,null,null,null,null,null,null,null,null,0.32,0.27385096292630906]
[null,null,null,null,null,null,null,null,null,null,null,null,null,null,null,null,null,null,null,null,null,null,null,null,0.32100000000000001,{"$f":"1-EXP(-Y324)","v":0.27457674900985884}]
[null,null,null,null,null,null,null,null,null,null,null,null,null,null,null,null,null,null,null,null,null,null,null,null,0.32200000000000001,0.2753018096700971]
[null,null,null,null,null,null,null,null,null,null,null,null,null,null,null,null,null,null,null,null,null,null,null,null,0.32300000000000001,0.27602614563208472]
[null,null,null,null,null,null,null,null,null,null,null,null,null,null,null,null,null,null,null,null,null,null,null,null,0.32400000000000001,0.27674975762015763]
[null,null,null,null,null,null,null,null,null,null,null,null,null,null,null,null,null,null,null,null,null,null,null,null,0.32500000000000001,0.27747264635792779]
[null,null,null,null,null,null,null,null,null,null,null,null,null,null,null,null,null,null,null,null,null,null,null,null,0.32600000000000001,0.27819481256828416]
[null,null,null,null,null,null,null,null,null,null,null,null,null,null,null,null,null,null,null,null,null,null,null,null,0.32700000000000001,0.27891625697339295]
[null,null,null,null,null,null,null,null,null,null,null,null,null,null,null,null,null,null,null,null,null,null,null,null,0.32800000000000001,0.27963698029469863]
[null,null,null,null,null,null,null,null,null,null,null,null,null,null,null,null,null,null,null,null,null,null,null,null,0.32900000000000001,0.28035698325292457]
[null,null,null,null,null,null,null,null,null,null,null,null,null,null,null,null,null,null,null,null,null,null,null,null,0.33,0.28107626656807383]
[null,null,null,null,null,null,null,null,null,null,null,null,null,null,null,null,null,null,null,null,null,null,null,null,0.33100000000000002,0.2817948309594297]
[null,null,null,null,null,null,null,null,null,null,null,null,null,null,null,null,null,null,null,null,null,null,null,null,0.33200000000000002,0.28251267714555672]
[null,null,null,null,null,null,null,null,null,null,null,null,null,null,null,null,null,null,null,null,null,null,null,null,0.33300000000000002,0.28322980584430102]
[null,null,null,null,null,null,null,null,null,null,null,null,null,null,null,null,null,null,null,null,null,null,null,null,0.33400000000000002,0.2839462177727915]
[null,null,null,null,null,null,null,null,null,null,null,null,null,null,null,null,null,null,null,null,null,null,null,null,0.33500000000000002,0.28466191364744009]
[null,null,null,null,null,null,null,null,null,null,null,null,null,null,null,null,null,null,null,null,null,null,null,null,0.33600000000000002,0.28537689418394274]
[null,null,null,null,null,null,null,null,null,null,null,null,null,null,null,null,null,null,null,null,null,null,null,null,0.33700000000000002,0.28609116009727997]
[null,null,null,null,null,null,null,null,null,null,null,null,null,null,null,null,null,null,null,null,null,null,null,null,0.33800000000000002,0.28680471210171776]
[null,null,null,null,null,null,null,null,null,null,null,null,null,null,null,null,null,null,null,null,null,null,null,null,0.33900000000000002,0.28751755091080822]
[null,null,null,null,null,null,null,null,null,null,null,null,null,null,null,null,null,null,null,null,null,null,null,null,0.34,0.28822967723739035]
[null,null,null,null,null,null,null,null,null,null,null,null,null,null,null,null,null,null,null,null,null,null,null,null,0.34100000000000003,0.28894109179359029]
[null,null,null,null,null,null,null,null,null,null,null,null,null,null,null,null,null,null,null,null,null,null,null,null,0.34200000000000003,0.28965179529082274]
[null,null,null,null,null,null,null,null,null,null,null,null,null,null,null,null,null,null,null,null,null,null,null,null,0.34300000000000003,0.29036178843979132]
[null,null,null,null,null,null,null,null,null,null,null,null,null,null,null,null,null,null,null,null,null,null,null,null,0.34399999999999997,0.2910710719504892]
[null,null,null,null,null,null,null,null,null,null,null,null,null,null,null,null,null,null,null,null,null,null,null,null,0.34499999999999997,0.29177964653220001]
[null,null,null,null,null,null,null,null,null,null,null,null,null,null,null,null,null,null,null,null,null,null,null,null,0.34599999999999997,0.29248751289349828]
[null,null,null,null,null,null,null,null,null,null,null,null,null,null,null,null,null,null,null,null,null,null,null,null,0.34699999999999998,0.29319467174225056]
[null,null,null,null,null,null,null,null,null,null,null,null,null,null,null,null,null,null,null,null,null,null,null,null,0.34799999999999998,0.29390112378561561]
[null,null,null,null,null,null,null,null,null,null,null,null,null,null,null,null,null,null,null,null,null,null,null,null,0.34899999999999998,0.29460686973004557]
[null,null,null,null,null,null,null,null,null,null,null,null,null,null,null,null,null,null,null,null,null,null,null,null,0.35,0.29531191028128656]
[null,null,null,null,null,null,null,null,null,null,null,null,null,null,null,null,null,null,null,null,null,null,null,null,0.35099999999999998,0.29601624614437905]
[null,null,null,null,null,null,null,null,null,null,null,null,null,null,null,null,null,null,null,null,null,null,null,null,0.35199999999999998,0.29671987802365907]
[null,null,null,null,null,null,null,null,null,null,null,null,null,null,null,null,null,null,null,null,null,null,null,null,0.35299999999999998,0.29742280662275844]
[null,null,null,null,null,null,null,null,null,null,null,null,null,null,null,null,null,null,null,null,null,null,null,null,0.35399999999999998,0.29812503264460599]
[null,null,null,null,null,null,null,null,null,null,null,null,null,null,null,null,null,null,null,null,null,null,null,null,0.35499999999999998,0.29882655679142756]
[null,null,null,null,null,null,null,null,null,null,null,null,null,null,null,null,null,null,null,null,null,null,null,null,0.35599999999999998,0.29952737976474764]
[null,null,null,null,null,null,null,null,null,null,null,null,null,null,null,null,null,null,null,null,null,null,null,null,0.35699999999999998,0.30022750226538897]
[null,null,null,null,null,null,null,null,null,null,null,null,null,null,null,null,null,null,null,null,null,null,null,null,0.35799999999999998,0.30092692499347429]
[null,null,null,null,null,null,null,null,null,null,null,null,null,null,null,null,null,null,null,null,null,null,null,null,0.35899999999999999,0.30162564864842645]
[null,null,null,null,null,null,null,null,null,null,null,null,null,null,null,null,null,null,null,null,null,null,null,null,0.36,0.30232367392896897]
[null,null,null,null,null,null,null,null,null,null,null,null,null,null,null,null,null,null,null,null,null,null,null,null,0.36099999999999999,0.30302100153312728]
[null,null,null,null,null,null,null,null,null,null,null,null,null,null,null,null,null,null,null,null,null,null,null,null,0.36199999999999999,0.303717632158229]
[null,null,null,null,null,null,null,null,null,null,null,null,null,null,null,null,null,null,null,null,null,null,null,null,0.36299999999999999,0.3044135665009049]
[null,null,null,null,null,null,null,null,null,null,null,null,null,null,null,null,null,null,null,null,null,null,null,null,0.36399999999999999,0.30510880525708939]
[null,null,null,null,null,null,null,null,null,null,null,null,null,null,null,null,null,null,null,null,null,null,null,null,0.36499999999999999,0.30580334912202112]
[null,null,null,null,null,null,null,null,null,null,null,null,null,null,null,null,null,null,null,null,null,null,null,null,0.36599999999999999,0.30649719879024417]
[null,null,null,null,null,null,null,null,null,null,null,null,null,null,null,null,null,null,null,null,null,null,null,null,0.36699999999999999,0.30719035495560831]
[null,null,null,null,null,null,null,null,null,null,null,null,null,null,null,null,null,null,null,null,null,null,null,null,0.36799999999999999,0.30788281831126962]
[null,null,null,null,null,null,null,null,null,null,null,null,null,null,null,null,null,null,null,null,null,null,null,null,0.36899999999999999,0.30857458954969152]
[null,null,null,null,null,null,null,null,null,null,null,null,null,null,null,null,null,null,null,null,null,null,null,null,0.37,0.30926566936264532]
[null,null,null,null,null,null,null,null,null,null,null,null,null,null,null,null,null,null,null,null,null,null,null,null,0.371,0.30995605844121099]
[null,null,null,null,null,null,null,null,null,null,null,null,null,null,null,null,null,null,null,null,null,null,null,null,0.372,0.31064575747577761]
[null,null,null,null,null,null,null,null,null,null,null,null,null,null,null,null,null,null,null,null,null,null,null,null,0.373,0.31133476715604425]
[null,null,null,null,null,null,null,null,null,null,null,null,null,null,null,null,null,null,null,null,null,null,null,null,0.374,0.31202308817102054]
[null,null,null,null,null,null,null,null,null,null,null,null,null,null,null,null,null,null,null,null,null,null,null,null,0.375,0.31271072120902776]
[null,null,null,null,null,null,null,null,null,null,null,null,null,null,null,null,null,null,null,null,null,null,null,null,0.376,0.31339766695769899]
[null,null,null,null,null,null,null,null,null,null,null,null,null,null,null,null,null,null,null,null,null,null,null,null,0.377,0.31408392610397984]
[null,null,null,null,null,null,null,null,null,null,null,null,null,null,null,null,null,null,null,null,null,null,null,null,0.378,0.31476949933412968]
[null,null,null,null,null,null,null,null,null,null,null,null,null,null,null,null,null,null,null,null,null,null,null,null,0.379,0.31545438733372178]
[null,null,null,null,null,null,null,null,null,null,null,null,null,null,null,null,null,null,null,null,null,null,null,null,0.38,0.31613859078764417]
[null,null,null,null,null,null,null,null,null,null,null,null,null,null,null,null,null,null,null,null,null,null,null,null,0.38100000000000001,0.31682211038010033]
[null,null,null,null,null,null,null,null,null,null,null,null,null,null,null,null,null,null,null,null,null,null,null,null,0.38200000000000001,0.31750494679460994]
[null,null,null,null,null,null,null,null,null,null,null,null,null,null,null,null,null,null,null,null,null,null,null,null,0.38300000000000001,0.31818710071400946]
[null,null,null,null,null,null,null,null,null,null,null,null,null,null,null,null,null,null,null,null,null,null,null,null,0.38400000000000001,0.31886857282045289]
[null,null,null,null,null,null,null,null,null,null,null,null,null,null,null,null,null,null,null,null,null,null,null,null,0.38500000000000001,{"$f":"1-EXP(-Y388)","v":0.31954936379541232}]
[null,null,null,null,null,null,null,null,null,null,null,null,null,null,null,null,null,null,null,null,null,null,null,null,0.38600000000000001,0.32022947431967896]
[null,null,null,null,null,null,null,null,null,null,null,null,null,null,null,null,null,null,null,null,null,null,null,null,0.38700000000000001,0.32090890507336323]
[null,null,null,null,null,null,null,null,null,null,null,null,null,null,null,null,null,null,null,null,null,null,null,null,0.38800000000000001,0.32158765673589595]
[null,null,null,null,null,null,null,null,null,null,null,null,null,null,null,null,null,null,null,null,null,null,null,null,0.38900000000000001,0.32226572998602887]
[null,null,null,null,null,null,null,null,null,null,null,null,null,null,null,null,null,null,null,null,null,null,null,null,0.39,0.32294312550183535]
[null,null,null,null,null,null,null,null,null,null,null,null,null,null,null,null,null,null,null,null,null,null,null,null,0.39100000000000001,0.32361984396071086]
[null,null,null,null,null,null,null,null,null,null,null,null,null,null,null,null,null,null,null,null,null,null,null,null,0.39200000000000002,0.32429588603937398]
[null,null,null,null,null,null,null,null,null,null,null,null,null,null,null,null,null,null,null,null,null,null,null,null,0.39300000000000002,0.32497125241386682]
[null,null,null,null,null,null,null,null,null,null,null,null,null,null,null,null,null,null,null,null,null,null,null,null,0.39400000000000002,0.3256459437595558]
[null,null,null,null,null,null,null,null,null,null,null,null,null,null,null,null,null,null,null,null,null,null,null,null,0.39500000000000002,0.32631996075113234]
[null,null,null,null,null,null,null,null,null,null,null,null,null,null,null,null,null,null,null,null,null,null,null,null,0.39600000000000002,0.32699330406261362]
[null,null,null,null,null,null,null,null,null,null,null,null,null,null,null,null,null,null,null,null,null,null,null,null,0.39700000000000002,0.32766597436734279]
[null,null,null,null,null,null,null,null,null,null,null,null,null,null,null,null,null,null,null,null,null,null,null,null,0.39800000000000002,0.32833797233799022]
[null,null,null,null,null,null,null,null,null,null,null,null,null,null,null,null,null,null,null,null,null,null,null,null,0.39900000000000002,0.32900929864655415]
[null,null,null,null,null,null,null,null,null,null,null,null,null,null,null,null,null,null,null,null,null,null,null,null,0.4,0.32967995396436067]
[null,null,null,null,null,null,null,null,null,null,null,null,null,null,null,null,null,null,null,null,null,null,null,null,0.40100000000000002,0.33034993896206544]
[null,null,null,null,null,null,null,null,null,null,null,null,null,null,null,null,null,null,null,null,null,null,null,null,0.40200000000000002,0.33101925430965329]
[null,null,null,null,null,null,null,null,null,null,null,null,null,null,null,null,null,null,null,null,null,null,null,null,0.40300000000000002,0.33168790067643972]
[null,null,null,null,null,null,null,null,null,null,null,null,null,null,null,null,null,null,null,null,null,null,null,null,0.40400000000000003,0.33235587873107109]
[null,null,null,null,null,null,null,null,null,null,null,null,null,null,null,null,null,null,null,null,null,null,null,null,0.40500000000000003,0.33302318914152562]
[null,null,null,null,null,null,null,null,null,null,null,null,null,null,null,null,null,null,null,null,null,null,null,null,0.40600000000000003,0.33368983257511364]
[null,null,null,null,null,null,null,null,null,null,null,null,null,null,null,null,null,null,null,null,null,null,null,null,0.40699999999999997,0.33435580969847878]
[null,null,null,null,null,null,null,null,null,null,null,null,null,null,null,null,null,null,null,null,null,null,null,null,0.40799999999999997,0.33502112117759808]
[null,null,null,null,null,null,null,null,null,null,null,null,null,null,null,null,null,null,null,null,null,null,null,null,0.40899999999999997,0.33568576767778324]
[null,null,null,null,null,null,null,null,null,null,null,null,null,null,null,null,null,null,null,null,null,null,null,null,0.41,0.3363497498636806]
[null,null,null,null,null,null,null,null,null,null,null,null,null,null,null,null,null,null,null,null,null,null,null,null,0.41099999999999998,0.33701306839927259]
[null,null,null,null,null,null,null,null,null,null,null,null,null,null,null,null,null,null,null,null,null,null,null,null,0.41199999999999998,0.3376757239478777]
[null,null,null,null,null,null,null,null,null,null,null,null,null,null,null,null,null,null,null,null,null,null,null,null,0.41299999999999998,0.33833771717215166]
[null,null,null,null,null,null,null,null,null,null,null,null,null,null,null,null,null,null,null,null,null,null,null,null,0.41399999999999998,0.33899904873408748]
[null,null,null,null,null,null,null,null,null,null,null,null,null,null,null,null,null,null,null,null,null,null,null,null,0.41499999999999998,0.33965971929501715]
[null,null,null,null,null,null,null,null,null,null,null,null,null,null,null,null,null,null,null,null,null,null,null,null,0.41599999999999998,0.34031972951561096]
[null,null,null,null,null,null,null,null,null,null,null,null,null,null,null,null,null,null,null,null,null,null,null,null,0.41699999999999998,0.34097908005587929]
[null,null,null,null,null,null,null,null,null,null,null,null,null,null,null,null,null,null,null,null,null,null,null,null,0.41799999999999998,0.34163777157517283]
[null,null,null,null,null,null,null,null,null,null,null,null,null,null,null,null,null,null,null,null,null,null,null,null,0.41899999999999998,0.34229580473218302]
[null,null,null,null,null,null,null,null,null,null,null,null,null,null,null,null,null,null,null,null,null,null,null,null,0.42,0.34295318018494325]
[null,null,null,null,null,null,null,null,null,null,null,null,null,null,null,null,null,null,null,null,null,null,null,null,0.42099999999999999,0.3436098985908288]
[null,null,null,null,null,null,null,null,null,null,null,null,null,null,null,null,null,null,null,null,null,null,null,null,0.42199999999999999,0.34426596060655823]
[null,null,null,null,null,null,null,null,null,null,null,null,null,null,null,null,null,null,null,null,null,null,null,null,0.42299999999999999,0.34492136688819375]
[null,null,null,null,null,null,null,null,null,null,null,null,null,null,null,null,null,null,null,null,null,null,null,null,0.42399999999999999,0.34557611809114142]
[null,null,null,null,null,null,null,null,null,null,null,null,null,null,null,null,null,null,null,null,null,null,null,null,0.42499999999999999,0.34623021487015271]
[null,null,null,null,null,null,null,null,null,null,null,null,null,null,null,null,null,null,null,null,null,null,null,null,0.42599999999999999,0.3468836578793244]
[null,null,null,null,null,null,null,null,null,null,null,null,null,null,null,null,null,null,null,null,null,null,null,null,0.42699999999999999,0.34753644777209958]
[null,null,null,null,null,null,null,null,null,null,null,null,null,null,null,null,null,null,null,null,null,null,null,null,0.42799999999999999,0.34818858520126805]
[null,null,null,null,null,null,null,null,null,null,null,null,null,null,null,null,null,null,null,null,null,null,null,null,0.42899999999999999,0.34884007081896751]
[null,null,null,null,null,null,null,null,null,null,null,null,null,null,null,null,null,null,null,null,null,null,null,null,0.43,0.34949090527668347]
[null,null,null,null,null,null,null,null,null,null,null,null,null,null,null,null,null,null,null,null,null,null,null,null,0.43099999999999999,0.35014108922525045]
[null,null,null,null,null,null,null,null,null,null,null,null,null,null,null,null,null,null,null,null,null,null,null,null,0.432,0.35079062331485256]
[null,null,null,null,null,null,null,null,null,null,null,null,null,null,null,null,null,null,null,null,null,null,null,null,0.433,0.3514395081950239]
[null,null,null,null,null,null,null,null,null,null,null,null,null,null,null,null,null,null,null,null,null,null,null,null,0.434,0.35208774451464941]
[null,null,null,null,null,null,null,null,null,null,null,null,null,null,null,null,null,null,null,null,null,null,null,null,0.435,0.35273533292196535]
[null,null,null,null,null,null,null,null,null,null,null,null,null,null,null,null,null,null,null,null,null,null,null,null,0.436,0.35338227406456035]
[null,null,null,null,null,null,null,null,null,null,null,null,null,null,null,null,null,null,null,null,null,null,null,null,0.437,0.35402856858937548]
[null,null,null,null,null,null,null,null,null,null,null,null,null,null,null,null,null,null,null,null,null,null,null,null,0.438,0.35467421714270542]
[null,null,null,null,null,null,null,null,null,null,null,null,null,null,null,null,null,null,null,null,null,null,null,null,0.439,0.3553192203701987]
[null,null,null,null,null,null,null,null,null,null,null,null,null,null,null,null,null,null,null,null,null,null,null,null,0.44,0.35596357891685859]
[null,null,null,null,null,null,null,null,null,null,null,null,null,null,null,null,null,null,null,null,null,null,null,null,0.441,0.35660729342704378]
[null,null,null,null,null,null,null,null,null,null,null,null,null,null,null,null,null,null,null,null,null,null,null,null,0.442,0.35725036454446879]
[null,null,null,null,null,null,null,null,null,null,null,null,null,null,null,null,null,null,null,null,null,null,null,null,0.443,0.35789279291220477]
[null,null,null,null,null,null,null,null,null,null,null,null,null,null,null,null,null,null,null,null,null,null,null,null,0.44400000000000001,0.35853457917268017]
[null,null,null,null,null,null,null,null,null,null,null,null,null,null,null,null,null,null,null,null,null,null,null,null,0.44500000000000001,0.35917572396768127]
[null,null,null,null,null,null,null,null,null,null,null,null,null,null,null,null,null,null,null,null,null,null,null,null,0.44600000000000001,0.35981622793835288]
[null,null,null,null,null,null,null,null,null,null,null,null,null,null,null,null,null,null,null,null,null,null,null,null,0.44700000000000001,0.3604560917251991]
[null,null,null,null,null,null,null,null,null,null,null,null,null,null,null,null,null,null,null,null,null,null,null,null,0.44800000000000001,0.36109531596808375]
[null,null,null,null,null,null,null,null,null,null,null,null,null,null,null,null,null,null,null,null,null,null,null,null,0.44900000000000001,{"$f":"1-EXP(-Y452)","v":0.36173390130623118}]
[null,null,null,null,null,null,null,null,null,null,null,null,null,null,null,null,null,null,null,null,null,null,null,null,0.45,0.36237184837822667]
[null,null,null,null,null,null,null,null,null,null,null,null,null,null,null,null,null,null,null,null,null,null,null,null,0.45100000000000001,0.36300915782201748]
[null,null,null,null,null,null,null,null,null,null,null,null,null,null,null,null,null,null,null,null,null,null,null,null,0.45200000000000001,0.36364583027491293]
[null,null,null,null,null,null,null,null,null,null,null,null,null,null,null,null,null,null,null,null,null,null,null,null,0.45300000000000001,0.36428186637358573]
[null,null,null,null,null,null,null,null,null,null,null,null,null,null,null,null,null,null,null,null,null,null,null,null,0.45400000000000001,0.36491726675407188]
[null,null,null,null,null,null,null,null,null,null,null,null,null,null,null,null,null,null,null,null,null,null,null,null,0.45500000000000002,0.36555203205177178]
[null,null,null,null,null,null,null,null,null,null,null,null,null,null,null,null,null,null,null,null,null,null,null,null,0.45600000000000002,0.36618616290145101]
[null,null,null,null,null,null,null,null,null,null,null,null,null,null,null,null,null,null,null,null,null,null,null,null,0.45700000000000002,0.36681965993724019]
[null,null,null,null,null,null,null,null,null,null,null,null,null,null,null,null,null,null,null,null,null,null,null,null,0.45800000000000002,0.3674525237926366]
[null,null,null,null,null,null,null,null,null,null,null,null,null,null,null,null,null,null,null,null,null,null,null,null,0.45900000000000002,0.36808475510050409]
[null,null,null,null,null,null,null,null,null,null,null,null,null,null,null,null,null,null,null,null,null,null,null,null,0.46,0.36871635449307405]
[null,null,null,null,null,null,null,null,null,null,null,null,null,null,null,null,null,null,null,null,null,null,null,null,0.46100000000000002,0.3693473226019458]
[null,null,null,null,null,null,null,null,null,null,null,null,null,null,null,null,null,null,null,null,null,null,null,null,0.46200000000000002,0.36997766005808774]
[null,null,null,null,null,null,null,null,null,null,null,null,null,null,null,null,null,null,null,null,null,null,null,null,0.46300000000000002,0.37060736749183709]
[null,null,null,null,null,null,null,null,null,null,null,null,null,null,null,null,null,null,null,null,null,null,null,null,0.46400000000000002,0.37123644553290158]
[null,null,null,null,null,null,null,null,null,null,null,null,null,null,null,null,null,null,null,null,null,null,null,null,0.46500000000000002,0.37186489481035923]
[null,null,null,null,null,null,null,null,null,null,null,null,null,null,null,null,null,null,null,null,null,null,null,null,0.46600000000000003,0.37249271595265931]
[null,null,null,null,null,null,null,null,null,null,null,null,null,null,null,null,null,null,null,null,null,null,null,null,0.46700000000000003,0.37311990958762298]
[null,null,null,null,null,null,null,null,null,null,null,null,null,null,null,null,null,null,null,null,null,null,null,null,0.46800000000000003,0.37374647634244407]
[null,null,null,null,null,null,null,null,null,null,null,null,null,null,null,null,null,null,null,null,null,null,null,null,0.46899999999999997,0.37437241684368927]
[null,null,null,null,null,null,null,null,null,null,null,null,null,null,null,null,null,null,null,null,null,null,null,null,0.47,0.37499773171729922]
[null,null,null,null,null,null,null,null,null,null,null,null,null,null,null,null,null,null,null,null,null,null,null,null,0.47099999999999997,0.37562242158858872]
[null,null,null,null,null,null,null,null,null,null,null,null,null,null,null,null,null,null,null,null,null,null,null,null,0.47199999999999998,0.37624648708224784]
[null,null,null,null,null,null,null,null,null,null,null,null,null,null,null,null,null,null,null,null,null,null,null,null,0.47299999999999998,0.37686992882234216]
[null,null,null,null,null,null,null,null,null,null,null,null,null,null,null,null,null,null,null,null,null,null,null,null,0.47399999999999998,0.3774927474323132]
[null,null,null,null,null,null,null,null,null,null,null,null,null,null,null,null,null,null,null,null,null,null,null,null,0.47499999999999998,0.37811494353497987]
[null,null,null,null,null,null,null,null,null,null,null,null,null,null,null,null,null,null,null,null,null,null,null,null,0.47599999999999998,0.37873651775253825]
[null,null,null,null,null,null,null,null,null,null,null,null,null,null,null,null,null,null,null,null,null,null,null,null,0.47699999999999998,0.37935747070656267]
[null,null,null,null,null,null,null,null,null,null,null,null,null,null,null,null,null,null,null,null,null,null,null,null,0.47799999999999998,0.37997780301800599]
[null,null,null,null,null,null,null,null,null,null,null,null,null,null,null,null,null,null,null,null,null,null,null,null,0.47899999999999998,0.38059751530720076]
[null,null,null,null,null,null,null,null,null,null,null,null,null,null,null,null,null,null,null,null,null,null,null,null,0.48,0.38121660819385916]
[null,null,null,null,null,null,null,null,null,null,null,null,null,null,null,null,null,null,null,null,null,null,null,null,0.48099999999999998,0.38183508229707419]
[null,null,null,null,null,null,null,null,null,null,null,null,null,null,null,null,null,null,null,null,null,null,null,null,0.48199999999999998,0.38245293823532001]
[null,null,null,null,null,null,null,null,null,null,null,null,null,null,null,null,null,null,null,null,null,null,null,null,0.48299999999999998,0.3830701766264526]
[null,null,null,null,null,null,null,null,null,null,null,null,null,null,null,null,null,null,null,null,null,null,null,null,0.48399999999999999,0.38368679808771033]
[null,null,null,null,null,null,null,null,null,null,null,null,null,null,null,null,null,null,null,null,null,null,null,null,0.48499999999999999,0.38430280323571486]
[null,null,null,null,null,null,null,null,null,null,null,null,null,null,null,null,null,null,null,null,null,null,null,null,0.48599999999999999,0.38491819268647132]
[null,null,null,null,null,null,null,null,null,null,null,null,null,null,null,null,null,null,null,null,null,null,null,null,0.48699999999999999,0.38553296705536921]
[null,null,null,null,null,null,null,null,null,null,null,null,null,null,null,null,null,null,null,null,null,null,null,null,0.48799999999999999,0.3861471269571829]
[null,null,null,null,null,null,null,null,null,null,null,null,null,null,null,null,null,null,null,null,null,null,null,null,0.48899999999999999,0.38676067300607253]
[null,null,null,null,null,null,null,null,null,null,null,null,null,null,null,null,null,null,null,null,null,null,null,null,0.49,0.38737360581558389]
[null,null,null,null,null,null,null,null,null,null,null,null,null,null,null,null,null,null,null,null,null,null,null,null,0.49099999999999999,0.38798592599865012]
[null,null,null,null,null,null,null,null,null,null,null,null,null,null,null,null,null,null,null,null,null,null,null,null,0.49199999999999999,0.3885976341675913]
[null,null,null,null,null,null,null,null,null,null,null,null,null,null,null,null,null,null,null,null,null,null,null,null,0.49299999999999999,0.38920873093411579]
[null,null,null,null,null,null,null,null,null,null,null,null,null,null,null,null,null,null,null,null,null,null,null,null,0.49399999999999999,0.3898192169093202]
[null,null,null,null,null,null,null,null,null,null,null,null,null,null,null,null,null,null,null,null,null,null,null,null,0.495,0.39042909270369075]
[null,null,null,null,null,null,null,null,null,null,null,null,null,null,null,null,null,null,null,null,null,null,null,null,0.496,0.39103835892710315]
[null,null,null,null,null,null,null,null,null,null,null,null,null,null,null,null,null,null,null,null,null,null,null,null,0.497,0.39164701618882369]
[null,null,null,null,null,null,null,null,null,null,null,null,null,null,null,null,null,null,null,null,null,null,null,null,0.498,0.39225506509750985]
[null,null,null,null,null,null,null,null,null,null,null,null,null,null,null,null,null,null,null,null,null,null,null,null,0.499,0.39286250626121033]
[null,null,null,null,null,null,null,null,null,null,null,null,null,null,null,null,null,null,null,null,null,null,null,null,0.5,0.39346934028736658]
[null,null,null,null,null,null,null,null,null,null,null,null,null,null,null,null,null,null,null,null,null,null,null,null,0.501,0.3940755677828125]
[null,null,null,null,null,null,null,null,null,null,null,null,null,null,null,null,null,null,null,null,null,null,null,null,0.502,0.39468118935377572]
[null,null,null,null,null,null,null,null,null,null,null,null,null,null,null,null,null,null,null,null,null,null,null,null,0.503,0.39528620560587791]
[null,null,null,null,null,null,null,null,null,null,null,null,null,null,null,null,null,null,null,null,null,null,null,null,0.504,0.39589061714413532]
[null,null,null,null,null,null,null,null,null,null,null,null,null,null,null,null,null,null,null,null,null,null,null,null,0.505,0.39649442457295947]
[null,null,null,null,null,null,null,null,null,null,null,null,null,null,null,null,null,null,null,null,null,null,null,null,0.50600000000000001,0.39709762849615793]
[null,null,null,null,null,null,null,null,null,null,null,null,null,null,null,null,null,null,null,null,null,null,null,null,0.50700000000000001,0.39770022951693462]
[null,null,null,null,null,null,null,null,null,null,null,null,null,null,null,null,null,null,null,null,null,null,null,null,0.50800000000000001,0.39830222823789063]
[null,null,null,null,null,null,null,null,null,null,null,null,null,null,null,null,null,null,null,null,null,null,null,null,0.50900000000000001,0.39890362526102474]
[null,null,null,null,null,null,null,null,null,null,null,null,null,null,null,null,null,null,null,null,null,null,null,null,0.51,0.3995044211877341]
[null,null,null,null,null,null,null,null,null,null,null,null,null,null,null,null,null,null,null,null,null,null,null,null,0.51100000000000001,0.40010461661881447]
[null,null,null,null,null,null,null,null,null,null,null,null,null,null,null,null,null,null,null,null,null,null,null,null,0.51200000000000001,0.40070421215446161]
[null,null,null,null,null,null,null,null,null,null,null,null,null,null,null,null,null,null,null,null,null,null,null,null,0.51300000000000001,{"$f":"1-EXP(-Y516)","v":0.40130320839427081}]
[null,null,null,null,null,null,null,null,null,null,null,null,null,null,null,null,null,null,null,null,null,null,null,null,0.51400000000000001,0.40190160593723867]
[null,null,null,null,null,null,null,null,null,null,null,null,null,null,null,null,null,null,null,null,null,null,null,null,0.51500000000000001,0.40249940538176254]
[null,null,null,null,null,null,null,null,null,null,null,null,null,null,null,null,null,null,null,null,null,null,null,null,0.51600000000000001,0.40309660732564201]
[null,null,null,null,null,null,null,null,null,null,null,null,null,null,null,null,null,null,null,null,null,null,null,null,0.51700000000000002,0.40369321236607902]
[null,null,null,null,null,null,null,null,null,null,null,null,null,null,null,null,null,null,null,null,null,null,null,null,0.51800000000000002,0.4042892210996788]
[null,null,null,null,null,null,null,null,null,null,null,null,null,null,null,null,null,null,null,null,null,null,null,null,0.51900000000000002,0.4048846341224499]
[null,null,null,null,null,null,null,null,null,null,null,null,null,null,null,null,null,null,null,null,null,null,null,null,0.52,0.40547945202980562]
[null,null,null,null,null,null,null,null,null,null,null,null,null,null,null,null,null,null,null,null,null,null,null,null,0.52100000000000002,0.40607367541656392]
[null,null,null,null,null,null,null,null,null,null,null,null,null,null,null,null,null,null,null,null,null,null,null,null,0.52200000000000002,0.40666730487694802]
[null,null,null,null,null,null,null,null,null,null,null,null,null,null,null,null,null,null,null,null,null,null,null,null,0.52300000000000002,0.40726034100458752]
[null,null,null,null,null,null,null,null,null,null,null,null,null,null,null,null,null,null,null,null,null,null,null,null,0.52400000000000002,0.40785278439251871]
[null,null,null,null,null,null,null,null,null,null,null,null,null,null,null,null,null,null,null,null,null,null,null,null,0.52500000000000002,0.40844463563318489]
[null,null,null,null,null,null,null,null,null,null,null,null,null,null,null,null,null,null,null,null,null,null,null,null,0.52600000000000002,0.40903589531843743]
[null,null,null,null,null,null,null,null,null,null,null,null,null,null,null,null,null,null,null,null,null,null,null,null,0.52700000000000002,0.40962656403953612]
[null,null,null,null,null,null,null,null,null,null,null,null,null,null,null,null,null,null,null,null,null,null,null,null,0.52800000000000002,0.41021664238714961]
[null,null,null,null,null,null,null,null,null,null,null,null,null,null,null,null,null,null,null,null,null,null,null,null,0.52900000000000003,0.41080613095135632]
[null,null,null,null,null,null,null,null,null,null,null,null,null,null,null,null,null,null,null,null,null,null,null,null,0.53,0.41139503032164482]
[null,null,null,null,null,null,null,null,null,null,null,null,null,null,null,null,null,null,null,null,null,null,null,null,0.53100000000000003,0.41198334108691459]
[null,null,null,null,null,null,null,null,null,null,null,null,null,null,null,null,null,null,null,null,null,null,null,null,0.53200000000000003,0.41257106383547659]
[null,null,null,null,null,null,null,null,null,null,null,null,null,null,null,null,null,null,null,null,null,null,null,null,0.53300000000000003,0.41315819915505336]
[null,null,null,null,null,null,null,null,null,null,null,null,null,null,null,null,null,null,null,null,null,null,null,null,0.53400000000000003,0.41374474763278035]
[null,null,null,null,null,null,null,null,null,null,null,null,null,null,null,null,null,null,null,null,null,null,null,null,0.53500000000000003,0.41433070985520626]
[null,null,null,null,null,null,null,null,null,null,null,null,null,null,null,null,null,null,null,null,null,null,null,null,0.53600000000000003,0.41491608640829314]
[null,null,null,null,null,null,null,null,null,null,null,null,null,null,null,null,null,null,null,null,null,null,null,null,0.53700000000000003,0.41550087787741763]
[null,null,null,null,null,null,null,null,null,null,null,null,null,null,null,null,null,null,null,null,null,null,null,null,0.53800000000000003,0.41608508484737128]
[null,null,null,null,null,null,null,null,null,null,null,null,null,null,null,null,null,null,null,null,null,null,null,null,0.53900000000000003,0.41666870790236121]
[null,null,null,null,null,null,null,null,null,null,null,null,null,null,null,null,null,null,null,null,null,null,null,null,0.54,0.41725174762601036]
[null,null,null,null,null,null,null,null,null,null,null,null,null,null,null,null,null,null,null,null,null,null,null,null,0.54100000000000004,0.41783420460135856]
[null,null,null,null,null,null,null,null,null,null,null,null,null,null,null,null,null,null,null,null,null,null,null,null,0.54200000000000004,0.4184160794108629]
[null,null,null,null,null,null,null,null,null,null,null,null,null,null,null,null,null,null,null,null,null,null,null,null,0.54300000000000004,0.41899737263639814]
[null,null,null,null,null,null,null,null,null,null,null,null,null,null,null,null,null,null,null,null,null,null,null,null,0.54400000000000004,0.41957808485925763]
[null,null,null,null,null,null,null,null,null,null,null,null,null,null,null,null,null,null,null,null,null,null,null,null,0.54500000000000004,0.42015821666015363]
[null,null,null,null,null,null,null,null,null,null,null,null,null,null,null,null,null,null,null,null,null,null,null,null,0.54600000000000004,0.42073776861921797]
[null,null,null,null,null,null,null,null,null,null,null,null,null,null,null,null,null,null,null,null,null,null,null,null,0.54700000000000004,0.42131674131600261]
[null,null,null,null,null,null,null,null,null,null,null,null,null,null,null,null,null,null,null,null,null,null,null,null,0.54800000000000004,0.42189513532948042]
[null,null,null,null,null,null,null,null,null,null,null,null,null,null,null,null,null,null,null,null,null,null,null,null,0.54900000000000004,0.42247295123804529]
[null,null,null,null,null,null,null,null,null,null,null,null,null,null,null,null,null,null,null,null,null,null,null,null,0.55000000000000004,0.42305018961951335]
[null,null,null,null,null,null,null,null,null,null,null,null,null,null,null,null,null,null,null,null,null,null,null,null,0.55100000000000005,0.42362685105112285]
[null,null,null,null,null,null,null,null,null,null,null,null,null,null,null,null,null,null,null,null,null,null,null,null,0.55200000000000005,0.42420293610953552]
[null,null,null,null,null,null,null,null,null,null,null,null,null,null,null,null,null,null,null,null,null,null,null,null,0.55300000000000005,0.4247784453708362]
[null,null,null,null,null,null,null,null,null,null,null,null,null,null,null,null,null,null,null,null,null,null,null,null,0.55400000000000005,0.4253533794105343]
[null,null,null,null,null,null,null,null,null,null,null,null,null,null,null,null,null,null,null,null,null,null,null,null,0.55500000000000005,0.42592773880356405]
[null,null,null,null,null,null,null,null,null,null,null,null,null,null,null,null,null,null,null,null,null,null,null,null,0.55600000000000005,0.42650152412428466]
[null,null,null,null,null,null,null,null,null,null,null,null,null,null,null,null,null,null,null,null,null,null,null,null,0.55700000000000005,0.4270747359464816]
[null,null,null,null,null,null,null,null,null,null,null,null,null,null,null,null,null,null,null,null,null,null,null,null,0.55800000000000005,0.42764737484336679]
[null,null,null,null,null,null,null,null,null,null,null,null,null,null,null,null,null,null,null,null,null,null,null,null,0.55900000000000005,0.42821944138757906]
[null,null,null,null,null,null,null,null,null,null,null,null,null,null,null,null,null,null,null,null,null,null,null,null,0.56000000000000005,0.42879093615118513]
[null,null,null,null,null,null,null,null,null,null,null,null,null,null,null,null,null,null,null,null,null,null,null,null,0.56100000000000005,0.42936185970567975]
[null,null,null,null,null,null,null,null,null,null,null,null,null,null,null,null,null,null,null,null,null,null,null,null,0.56200000000000006,0.42993221262198655]
[null,null,null,null,null,null,null,null,null,null,null,null,null,null,null,null,null,null,null,null,null,null,null,null,0.56299999999999994,0.43050199547045831]
[null,null,null,null,null,null,null,null,null,null,null,null,null,null,null,null,null,null,null,null,null,null,null,null,0.56399999999999995,0.43107120882087824]
[null,null,null,null,null,null,null,null,null,null,null,null,null,null,null,null,null,null,null,null,null,null,null,null,0.56499999999999995,0.43163985324245946]
[null,null,null,null,null,null,null,null,null,null,null,null,null,null,null,null,null,null,null,null,null,null,null,null,0.56599999999999995,0.43220792930384666]
[null,null,null,null,null,null,null,null,null,null,null,null,null,null,null,null,null,null,null,null,null,null,null,null,0.56699999999999995,0.43277543757311587]
[null,null,null,null,null,null,null,null,null,null,null,null,null,null,null,null,null,null,null,null,null,null,null,null,0.56799999999999995,0.43334237861777536]
[null,null,null,null,null,null,null,null,null,null,null,null,null,null,null,null,null,null,null,null,null,null,null,null,0.56899999999999995,0.43390875300476617]
[null,null,null,null,null,null,null,null,null,null,null,null,null,null,null,null,null,null,null,null,null,null,null,null,0.56999999999999995,0.43447456130046291]
[null,null,null,null,null,null,null,null,null,null,null,null,null,null,null,null,null,null,null,null,null,null,null,null,0.57099999999999995,0.43503980407067377]
[null,null,null,null,null,null,null,null,null,null,null,null,null,null,null,null,null,null,null,null,null,null,null,null,0.57199999999999995,0.4356044818806416]
[null,null,null,null,null,null,null,null,null,null,null,null,null,null,null,null,null,null,null,null,null,null,null,null,0.57299999999999995,0.43616859529504426]
[null,null,null,null,null,null,null,null,null,null,null,null,null,null,null,null,null,null,null,null,null,null,null,null,0.57399999999999995,0.43673214487799528]
[null,null,null,null,null,null,null,null,null,null,null,null,null,null,null,null,null,null,null,null,null,null,null,null,0.57499999999999996,0.43729513119304431]
[null,null,null,null,null,null,null,null,null,null,null,null,null,null,null,null,null,null,null,null,null,null,null,null,0.57599999999999996,0.43785755480317756]
[null,null,null,null,null,null,null,null,null,null,null,null,null,null,null,null,null,null,null,null,null,null,null,null,0.57699999999999996,{"$f":"1-EXP(-Y580)","v":0.43841941627081871}]
[null,null,null,null,null,null,null,null,null,null,null,null,null,null,null,null,null,null,null,null,null,null,null,null,0.57799999999999996,0.43898071615782941]
[null,null,null,null,null,null,null,null,null,null,null,null,null,null,null,null,null,null,null,null,null,null,null,null,0.57899999999999996,0.43954145502550956]
[null,null,null,null,null,null,null,null,null,null,null,null,null,null,null,null,null,null,null,null,null,null,null,null,0.57999999999999996,0.44010163343459796]
[null,null,null,null,null,null,null,null,null,null,null,null,null,null,null,null,null,null,null,null,null,null,null,null,0.58099999999999996,0.44066125194527317]
[null,null,null,null,null,null,null,null,null,null,null,null,null,null,null,null,null,null,null,null,null,null,null,null,0.58199999999999996,0.44122031111715365]
[null,null,null,null,null,null,null,null,null,null,null,null,null,null,null,null,null,null,null,null,null,null,null,null,0.58299999999999996,0.44177881150929876]
[null,null,null,null,null,null,null,null,null,null,null,null,null,null,null,null,null,null,null,null,null,null,null,null,0.58399999999999996,0.44233675368020875]
[null,null,null,null,null,null,null,null,null,null,null,null,null,null,null,null,null,null,null,null,null,null,null,null,0.58499999999999996,0.44289413818782608]
[null,null,null,null,null,null,null,null,null,null,null,null,null,null,null,null,null,null,null,null,null,null,null,null,0.58599999999999997,0.44345096558953512]
[null,null,null,null,null,null,null,null,null,null,null,null,null,null,null,null,null,null,null,null,null,null,null,null,0.58699999999999997,0.44400723644216333]
[null,null,null,null,null,null,null,null,null,null,null,null,null,null,null,null,null,null,null,null,null,null,null,null,0.58799999999999997,0.44456295130198176]
[null,null,null,null,null,null,null,null,null,null,null,null,null,null,null,null,null,null,null,null,null,null,null,null,0.58899999999999997,0.44511811072470508]
[null,null,null,null,null,null,null,null,null,null,null,null,null,null,null,null,null,null,null,null,null,null,null,null,0.59,0.4456727152654929]
[null,null,null,null,null,null,null,null,null,null,null,null,null,null,null,null,null,null,null,null,null,null,null,null,0.59099999999999997,0.4462267654789499]
[null,null,null,null,null,null,null,null,null,null,null,null,null,null,null,null,null,null,null,null,null,null,null,null,0.59199999999999997,0.44678026191912612]
[null,null,null,null,null,null,null,null,null,null,null,null,null,null,null,null,null,null,null,null,null,null,null,null,0.59299999999999997,0.44733320513951824]
[null,null,null,null,null,null,null,null,null,null,null,null,null,null,null,null,null,null,null,null,null,null,null,null,0.59399999999999997,0.4478855956930694]
[null,null,null,null,null,null,null,null,null,null,null,null,null,null,null,null,null,null,null,null,null,null,null,null,0.59499999999999997,0.44843743413217019]
[null,null,null,null,null,null,null,null,null,null,null,null,null,null,null,null,null,null,null,null,null,null,null,null,0.59599999999999997,0.44898872100865928]
[null,null,null,null,null,null,null,null,null,null,null,null,null,null,null,null,null,null,null,null,null,null,null,null,0.59699999999999998,0.44953945687382335]
[null,null,null,null,null,null,null,null,null,null,null,null,null,null,null,null,null,null,null,null,null,null,null,null,0.59799999999999998,0.45008964227839843]
[null,null,null,null,null,null,null,null,null,null,null,null,null,null,null,null,null,null,null,null,null,null,null,null,0.59899999999999998,0.45063927777256996]
[null,null,null,null,null,null,null,null,null,null,null,null,null,null,null,null,null,null,null,null,null,null,null,null,0.6,0.45118836390597361]
[null,null,null,null,null,null,null,null,null,null,null,null,null,null,null,null,null,null,null,null,null,null,null,null,0.60099999999999998,0.45173690122769528]
[null,null,null,null,null,null,null,null,null,null,null,null,null,null,null,null,null,null,null,null,null,null,null,null,0.60199999999999998,0.4522848902862725]
[null,null,null,null,null,null,null,null,null,null,null,null,null,null,null,null,null,null,null,null,null,null,null,null,0.60299999999999998,0.4528323316296945]
[null,null,null,null,null,null,null,null,null,null,null,null,null,null,null,null,null,null,null,null,null,null,null,null,0.60399999999999998,0.45337922580540235]
[null,null,null,null,null,null,null,null,null,null,null,null,null,null,null,null,null,null,null,null,null,null,null,null,0.60499999999999998,0.4539255733602906]
[null,null,null,null,null,null,null,null,null,null,null,null,null,null,null,null,null,null,null,null,null,null,null,null,0.60599999999999998,0.45447137484070665]
[null,null,null,null,null,null,null,null,null,null,null,null,null,null,null,null,null,null,null,null,null,null,null,null,0.60699999999999998,0.45501663079245203]
[null,null,null,null,null,null,null,null,null,null,null,null,null,null,null,null,null,null,null,null,null,null,null,null,0.60799999999999998,0.45556134176078289]
[null,null,null,null,null,null,null,null,null,null,null,null,null,null,null,null,null,null,null,null,null,null,null,null,0.60899999999999999,0.45610550829041008]
[null,null,null,null,null,null,null,null,null,null,null,null,null,null,null,null,null,null,null,null,null,null,null,null,0.61,0.45664913092550019]
[null,null,null,null,null,null,null,null,null,null,null,null,null,null,null,null,null,null,null,null,null,null,null,null,0.61099999999999999,0.45719221020967604]
[null,null,null,null,null,null,null,null,null,null,null,null,null,null,null,null,null,null,null,null,null,null,null,null,0.61199999999999999,0.45773474668601677]
[null,null,null,null,null,null,null,null,null,null,null,null,null,null,null,null,null,null,null,null,null,null,null,null,0.61299999999999999,0.45827674089705905]
[null,null,null,null,null,null,null,null,null,null,null,null,null,null,null,null,null,null,null,null,null,null,null,null,0.61399999999999999,0.45881819338479712]
[null,null,null,null,null,null,null,null,null,null,null,null,null,null,null,null,null,null,null,null,null,null,null,null,0.61499999999999999,0.45935910469068342]
[null,null,null,null,null,null,null,null,null,null,null,null,null,null,null,null,null,null,null,null,null,null,null,null,0.61599999999999999,0.45989947535562936]
[null,null,null,null,null,null,null,null,null,null,null,null,null,null,null,null,null,null,null,null,null,null,null,null,0.61699999999999999,0.4604393059200057]
[null,null,null,null,null,null,null,null,null,null,null,null,null,null,null,null,null,null,null,null,null,null,null,null,0.61799999999999999,0.46097859692364296]
[null,null,null,null,null,null,null,null,null,null,null,null,null,null,null,null,null,null,null,null,null,null,null,null,0.61899999999999999,0.46151734890583218]
[null,null,null,null,null,null,null,null,null,null,null,null,null,null,null,null,null,null,null,null,null,null,null,null,0.62,0.46205556240532553]
[null,null,null,null,null,null,null,null,null,null,null,null,null,null,null,null,null,null,null,null,null,null,null,null,0.621,0.46259323796033636]
[null,null,null,null,null,null,null,null,null,null,null,null,null,null,null,null,null,null,null,null,null,null,null,null,0.622,0.46313037610854046]
[null,null,null,null,null,null,null,null,null,null,null,null,null,null,null,null,null,null,null,null,null,null,null,null,0.623,0.46366697738707585]
[null,null,null,null,null,null,null,null,null,null,null,null,null,null,null,null,null,null,null,null,null,null,null,null,0.624,0.46420304233254395]
[null,null,null,null,null,null,null,null,null,null,null,null,null,null,null,null,null,null,null,null,null,null,null,null,0.625,0.46473857148100972]
[null,null,null,null,null,null,null,null,null,null,null,null,null,null,null,null,null,null,null,null,null,null,null,null,0.626,0.46527356536800246]
[null,null,null,null,null,null,null,null,null,null,null,null,null,null,null,null,null,null,null,null,null,null,null,null,0.627,0.46580802452851588]
[null,null,null,null,null,null,null,null,null,null,null,null,null,null,null,null,null,null,null,null,null,null,null,null,0.628,0.46634194949700936]
[null,null,null,null,null,null,null,null,null,null,null,null,null,null,null,null,null,null,null,null,null,null,null,null,0.629,0.46687534080740789]
[null,null,null,null,null,null,null,null,null,null,null,null,null,null,null,null,null,null,null,null,null,null,null,null,0.63,0.46740819899310282]
[null,null,null,null,null,null,null,null,null,null,null,null,null,null,null,null,null,null,null,null,null,null,null,null,0.63100000000000001,0.46794052458695234]
[null,null,null,null,null,null,null,null,null,null,null,null,null,null,null,null,null,null,null,null,null,null,null,null,0.63200000000000001,0.46847231812128209]
[null,null,null,null,null,null,null,null,null,null,null,null,null,null,null,null,null,null,null,null,null,null,null,null,0.63300000000000001,0.46900358012788568]
[null,null,null,null,null,null,null,null,null,null,null,null,null,null,null,null,null,null,null,null,null,null,null,null,0.63400000000000001,0.46953431113802513]
[null,null,null,null,null,null,null,null,null,null,null,null,null,null,null,null,null,null,null,null,null,null,null,null,0.63500000000000001,0.47006451168243146]
[null,null,null,null,null,null,null,null,null,null,null,null,null,null,null,null,null,null,null,null,null,null,null,null,0.63600000000000001,0.47059418229130545]
[null,null,null,null,null,null,null,null,null,null,null,null,null,null,null,null,null,null,null,null,null,null,null,null,0.63700000000000001,0.47112332349431751]
[null,null,null,null,null,null,null,null,null,null,null,null,null,null,null,null,null,null,null,null,null,null,null,null,0.63800000000000001,0.47165193582060905]
[null,null,null,null,null,null,null,null,null,null,null,null,null,null,null,null,null,null,null,null,null,null,null,null,0.63900000000000001,0.47218001979879232]
[null,null,null,null,null,null,null,null,null,null,null,null,null,null,null,null,null,null,null,null,null,null,null,null,0.64,0.47270757595695145]
[null,null,null,null,null,null,null,null,null,null,null,null,null,null,null,null,null,null,null,null,null,null,null,null,0.64100000000000001,{"$f":"1-EXP(-Y644)","v":0.47323460482264257}]
[null,null,null,null,null,null,null,null,null,null,null,null,null,null,null,null,null,null,null,null,null,null,null,null,0.64200000000000002,0.47376110692289464]
[null,null,null,null,null,null,null,null,null,null,null,null,null,null,null,null,null,null,null,null,null,null,null,null,0.64300000000000002,0.47428708278420972]
[null,null,null,null,null,null,null,null,null,null,null,null,null,null,null,null,null,null,null,null,null,null,null,null,0.64400000000000002,0.47481253293256387]
[null,null,null,null,null,null,null,null,null,null,null,null,null,null,null,null,null,null,null,null,null,null,null,null,0.64500000000000002,0.47533745789340709]
[null,null,null,null,null,null,null,null,null,null,null,null,null,null,null,null,null,null,null,null,null,null,null,null,0.64600000000000002,0.4758618581916646]
[null,null,null,null,null,null,null,null,null,null,null,null,null,null,null,null,null,null,null,null,null,null,null,null,0.64700000000000002,0.47638573435173648]
[null,null,null,null,null,null,null,null,null,null,null,null,null,null,null,null,null,null,null,null,null,null,null,null,0.64800000000000002,0.47690908689749922]
[null,null,null,null,null,null,null,null,null,null,null,null,null,null,null,null,null,null,null,null,null,null,null,null,0.64900000000000002,0.4774319163523052]
[null,null,null,null,null,null,null,null,null,null,null,null,null,null,null,null,null,null,null,null,null,null,null,null,0.65,0.47795422323898396]
[null,null,null,null,null,null,null,null,null,null,null,null,null,null,null,null,null,null,null,null,null,null,null,null,0.65100000000000002,0.47847600807984247]
[null,null,null,null,null,null,null,null,null,null,null,null,null,null,null,null,null,null,null,null,null,null,null,null,0.65200000000000002,0.47899727139666559]
[null,null,null,null,null,null,null,null,null,null,null,null,null,null,null,null,null,null,null,null,null,null,null,null,0.65300000000000002,0.47951801371071678]
[null,null,null,null,null,null,null,null,null,null,null,null,null,null,null,null,null,null,null,null,null,null,null,null,0.65400000000000003,0.48003823554273817]
[null,null,null,null,null,null,null,null,null,null,null,null,null,null,null,null,null,null,null,null,null,null,null,null,0.65500000000000003,0.48055793741295183]
[null,null,null,null,null,null,null,null,null,null,null,null,null,null,null,null,null,null,null,null,null,null,null,null,0.65600000000000003,0.48107711984105961]
[null,null,null,null,null,null,null,null,null,null,null,null,null,null,null,null,null,null,null,null,null,null,null,null,0.65700000000000003,0.48159578334624409]
[null,null,null,null,null,null,null,null,null,null,null,null,null,null,null,null,null,null,null,null,null,null,null,null,0.65800000000000003,0.4821139284471686]
[null,null,null,null,null,null,null,null,null,null,null,null,null,null,null,null,null,null,null,null,null,null,null,null,0.65900000000000003,0.48263155566197835]
[null,null,null,null,null,null,null,null,null,null,null,null,null,null,null,null,null,null,null,null,null,null,null,null,0.66,0.48314866550830082]
[null,null,null,null,null,null,null,null,null,null,null,null,null,null,null,null,null,null,null,null,null,null,null,null,0.66100000000000003,0.4836652585032456]
[null,null,null,null,null,null,null,null,null,null,null,null,null,null,null,null,null,null,null,null,null,null,null,null,0.66200000000000003,0.48418133516340589]
[null,null,null,null,null,null,null,null,null,null,null,null,null,null,null,null,null,null,null,null,null,null,null,null,0.66300000000000003,0.48469689600485832]
[null,null,null,null,null,null,null,null,null,null,null,null,null,null,null,null,null,null,null,null,null,null,null,null,0.66400000000000003,0.48521194154316383]
[null,null,null,null,null,null,null,null,null,null,null,null,null,null,null,null,null,null,null,null,null,null,null,null,0.66500000000000004,0.48572647229336807]
[null,null,null,null,null,null,null,null,null,null,null,null,null,null,null,null,null,null,null,null,null,null,null,null,0.66600000000000004,0.4862404887700017]
[null,null,null,null,null,null,null,null,null,null,null,null,null,null,null,null,null,null,null,null,null,null,null,null,0.66700000000000004,0.48675399148708121]
[null,null,null,null,null,null,null,null,null,null,null,null,null,null,null,null,null,null,null,null,null,null,null,null,0.66800000000000004,0.4872669809581095]
[null,null,null,null,null,null,null,null,null,null,null,null,null,null,null,null,null,null,null,null,null,null,null,null,0.66900000000000004,0.487779457696076]
[null,null,null,null,null,null,null,null,null,null,null,null,null,null,null,null,null,null,null,null,null,null,null,null,0.67,0.48829142221345756]
[null,null,null,null,null,null,null,null,null,null,null,null,null,null,null,null,null,null,null,null,null,null,null,null,0.67100000000000004,0.48880287502221864]
[null,null,null,null,null,null,null,null,null,null,null,null,null,null,null,null,null,null,null,null,null,null,null,null,0.67200000000000004,0.48931381663381213]
[null,null,null,null,null,null,null,null,null,null,null,null,null,null,null,null,null,null,null,null,null,null,null,null,0.67300000000000004,0.48982424755917975]
[null,null,null,null,null,null,null,null,null,null,null,null,null,null,null,null,null,null,null,null,null,null,null,null,0.67400000000000004,0.49033416830875243]
[null,null,null,null,null,null,null,null,null,null,null,null,null,null,null,null,null,null,null,null,null,null,null,null,0.67500000000000004,0.49084357939245082]
[null,null,null,null,null,null,null,null,null,null,null,null,null,null,null,null,null,null,null,null,null,null,null,null,0.67600000000000005,0.49135248131968634]
[null,null,null,null,null,null,null,null,null,null,null,null,null,null,null,null,null,null,null,null,null,null,null,null,0.67700000000000005,0.49186087459936068]
[null,null,null,null,null,null,null,null,null,null,null,null,null,null,null,null,null,null,null,null,null,null,null,null,0.67800000000000005,0.49236875973986727]
[null,null,null,null,null,null,null,null,null,null,null,null,null,null,null,null,null,null,null,null,null,null,null,null,0.67900000000000005,0.49287613724909141]
[null,null,null,null,null,null,null,null,null,null,null,null,null,null,null,null,null,null,null,null,null,null,null,null,0.68,0.49338300763441045]
[null,null,null,null,null,null,null,null,null,null,null,null,null,null,null,null,null,null,null,null,null,null,null,null,0.68100000000000005,0.49388937140269484]
[null,null,null,null,null,null,null,null,null,null,null,null,null,null,null,null,null,null,null,null,null,null,null,null,0.68200000000000005,0.49439522906030853]
[null,null,null,null,null,null,null,null,null,null,null,null,null,null,null,null,null,null,null,null,null,null,null,null,0.68300000000000005,0.49490058111310919]
[null,null,null,null,null,null,null,null,null,null,null,null,null,null,null,null,null,null,null,null,null,null,null,null,0.68400000000000005,0.49540542806644883]
[null,null,null,null,null,null,null,null,null,null,null,null,null,null,null,null,null,null,null,null,null,null,null,null,0.68500000000000005,0.49590977042517448]
[null,null,null,null,null,null,null,null,null,null,null,null,null,null,null,null,null,null,null,null,null,null,null,null,0.68600000000000005,0.49641360869362861]
[null,null,null,null,null,null,null,null,null,null,null,null,null,null,null,null,null,null,null,null,null,null,null,null,0.68700000000000006,0.4969169433756494]
[null,null,null,null,null,null,null,null,null,null,null,null,null,null,null,null,null,null,null,null,null,null,null,null,0.68799999999999994,0.49741977497457157]
[null,null,null,null,null,null,null,null,null,null,null,null,null,null,null,null,null,null,null,null,null,null,null,null,0.68899999999999995,0.49792210399322689]
[null,null,null,null,null,null,null,null,null,null,null,null,null,null,null,null,null,null,null,null,null,null,null,null,0.69,0.49842393093394444]
[null,null,null,null,null,null,null,null,null,null,null,null,null,null,null,null,null,null,null,null,null,null,null,null,0.69099999999999995,0.49892525629855111]
[null,null,null,null,null,null,null,null,null,null,null,null,null,null,null,null,null,null,null,null,null,null,null,null,0.69199999999999995,0.49942608058837223]
[null,null,null,null,null,null,null,null,null,null,null,null,null,null,null,null,null,null,null,null,null,null,null,null,0.69299999999999995,0.4999264043042323]
[null,null,null,null,null,null,null,null,null,null,null,null,null,null,null,null,null,null,null,null,null,null,null,null,0.69399999999999995,0.50042622794645508]
[null,null,null,null,null,null,null,null,null,null,null,null,null,null,null,null,null,null,null,null,null,null,null,null,0.69499999999999995,0.500925552014864]
[null,null,null,null,null,null,null,null,null,null,null,null,null,null,null,null,null,null,null,null,null,null,null,null,0.69599999999999995,0.5014243770087834]
[null,null,null,null,null,null,null,null,null,null,null,null,null,null,null,null,null,null,null,null,null,null,null,null,0.69699999999999995,0.50192270342703837]
[null,null,null,null,null,null,null,null,null,null,null,null,null,null,null,null,null,null,null,null,null,null,null,null,0.69799999999999995,0.50242053176795509]
[null,null,null,null,null,null,null,null,null,null,null,null,null,null,null,null,null,null,null,null,null,null,null,null,0.69899999999999995,0.50291786252936221]
[null,null,null,null,null,null,null,null,null,null,null,null,null,null,null,null,null,null,null,null,null,null,null,null,0.7,0.50341469620859047]
[null,null,null,null,null,null,null,null,null,null,null,null,null,null,null,null,null,null,null,null,null,null,null,null,0.70099999999999996,0.50391103330247344]
[null,null,null,null,null,null,null,null,null,null,null,null,null,null,null,null,null,null,null,null,null,null,null,null,0.70199999999999996,0.50440687430734854]
[null,null,null,null,null,null,null,null,null,null,null,null,null,null,null,null,null,null,null,null,null,null,null,null,0.70299999999999996,0.50490221971905647]
[null,null,null,null,null,null,null,null,null,null,null,null,null,null,null,null,null,null,null,null,null,null,null,null,0.70399999999999996,0.50539707003294299]
[null,null,null,null,null,null,null,null,null,null,null,null,null,null,null,null,null,null,null,null,null,null,null,null,0.70499999999999996,{"$f":"1-EXP(-Y708)","v":0.50589142574385826}]
[null,null,null,null,null,null,null,null,null,null,null,null,null,null,null,null,null,null,null,null,null,null,null,null,0.70599999999999996,0.50638528734615817]
[null,null,null,null,null,null,null,null,null,null,null,null,null,null,null,null,null,null,null,null,null,null,null,null,0.70699999999999996,0.50687865533370424]
[null,null,null,null,null,null,null,null,null,null,null,null,null,null,null,null,null,null,null,null,null,null,null,null,0.70799999999999996,0.50737153019986447]
[null,null,null,null,null,null,null,null,null,null,null,null,null,null,null,null,null,null,null,null,null,null,null,null,0.70899999999999996,0.50786391243751394]
[null,null,null,null,null,null,null,null,null,null,null,null,null,null,null,null,null,null,null,null,null,null,null,null,0.71,0.5083558025390349]
[null,null,null,null,null,null,null,null,null,null,null,null,null,null,null,null,null,null,null,null,null,null,null,null,0.71099999999999997,0.50884720099631742]
[null,null,null,null,null,null,null,null,null,null,null,null,null,null,null,null,null,null,null,null,null,null,null,null,0.71199999999999997,0.50933810830075987]
[null,null,null,null,null,null,null,null,null,null,null,null,null,null,null,null,null,null,null,null,null,null,null,null,0.71299999999999997,0.5098285249432698]
[null,null,null,null,null,null,null,null,null,null,null,null,null,null,null,null,null,null,null,null,null,null,null,null,0.71399999999999997,0.5103184514142638]
[null,null,null,null,null,null,null,null,null,null,null,null,null,null,null,null,null,null,null,null,null,null,null,null,0.71499999999999997,0.5108078882036684]
[null,null,null,null,null,null,null,null,null,null,null,null,null,null,null,null,null,null,null,null,null,null,null,null,0.71599999999999997,0.51129683580092045]
[null,null,null,null,null,null,null,null,null,null,null,null,null,null,null,null,null,null,null,null,null,null,null,null,0.71699999999999997,0.5117852946949677]
[null,null,null,null,null,null,null,null,null,null,null,null,null,null,null,null,null,null,null,null,null,null,null,null,0.71799999999999997,0.51227326537426876]
[null,null,null,null,null,null,null,null,null,null,null,null,null,null,null,null,null,null,null,null,null,null,null,null,0.71899999999999997,0.51276074832679475]
[null,null,null,null,null,null,null,null,null,null,null,null,null,null,null,null,null,null,null,null,null,null,null,null,0.72,0.51324774404002826]
[null,null,null,null,null,null,null,null,null,null,null,null,null,null,null,null,null,null,null,null,null,null,null,null,0.72099999999999997,0.51373425300096542]
[null,null,null,null,null,null,null,null,null,null,null,null,null,null,null,null,null,null,null,null,null,null,null,null,0.72199999999999998,0.51422027569611495]
[null,null,null,null,null,null,null,null,null,null,null,null,null,null,null,null,null,null,null,null,null,null,null,null,0.72299999999999998,0.51470581261149984]
[null,null,null,null,null,null,null,null,null,null,null,null,null,null,null,null,null,null,null,null,null,null,null,null,0.72399999999999998,0.51519086423265681]
[null,null,null,null,null,null,null,null,null,null,null,null,null,null,null,null,null,null,null,null,null,null,null,null,0.72499999999999998,0.51567543104463753]
[null,null,null,null,null,null,null,null,null,null,null,null,null,null,null,null,null,null,null,null,null,null,null,null,0.72599999999999998,0.51615951353200895]
[null,null,null,null,null,null,null,null,null,null,null,null,null,null,null,null,null,null,null,null,null,null,null,null,0.72699999999999998,0.51664311217885373]
[null,null,null,null,null,null,null,null,null,null,null,null,null,null,null,null,null,null,null,null,null,null,null,null,0.72799999999999998,0.51712622746877024]
[null,null,null,null,null,null,null,null,null,null,null,null,null,null,null,null,null,null,null,null,null,null,null,null,0.72899999999999998,0.51760885988487404]
[null,null,null,null,null,null,null,null,null,null,null,null,null,null,null,null,null,null,null,null,null,null,null,null,0.73,0.51809100990979751]
[null,null,null,null,null,null,null,null,null,null,null,null,null,null,null,null,null,null,null,null,null,null,null,null,0.73099999999999998,0.51857267802569074]
[null,null,null,null,null,null,null,null,null,null,null,null,null,null,null,null,null,null,null,null,null,null,null,null,0.73199999999999998,0.51905386471422199]
[null,null,null,null,null,null,null,null,null,null,null,null,null,null,null,null,null,null,null,null,null,null,null,null,0.73299999999999998,0.51953457045657769]
[null,null,null,null,null,null,null,null,null,null,null,null,null,null,null,null,null,null,null,null,null,null,null,null,0.73399999999999999,0.52001479573346399]
[null,null,null,null,null,null,null,null,null,null,null,null,null,null,null,null,null,null,null,null,null,null,null,null,0.73499999999999999,0.52049454102510584]
[null,null,null,null,null,null,null,null,null,null,null,null,null,null,null,null,null,null,null,null,null,null,null,null,0.73599999999999999,0.52097380681124883]
[null,null,null,null,null,null,null,null,null,null,null,null,null,null,null,null,null,null,null,null,null,null,null,null,0.73699999999999999,0.52145259357115881]
[null,null,null,null,null,null,null,null,null,null,null,null,null,null,null,null,null,null,null,null,null,null,null,null,0.73799999999999999,0.52193090178362245]
[null,null,null,null,null,null,null,null,null,null,null,null,null,null,null,null,null,null,null,null,null,null,null,null,0.73899999999999999,0.52240873192694792]
[null,null,null,null,null,null,null,null,null,null,null,null,null,null,null,null,null,null,null,null,null,null,null,null,0.74,0.52288608447896556]
[null,null,null,null,null,null,null,null,null,null,null,null,null,null,null,null,null,null,null,null,null,null,null,null,0.74099999999999999,0.52336295991702797]
[null,null,null,null,null,null,null,null,null,null,null,null,null,null,null,null,null,null,null,null,null,null,null,null,0.74199999999999999,0.52383935871801057]
[null,null,null,null,null,null,null,null,null,null,null,null,null,null,null,null,null,null,null,null,null,null,null,null,0.74299999999999999,0.52431528135831218]
[null,null,null,null,null,null,null,null,null,null,null,null,null,null,null,null,null,null,null,null,null,null,null,null,0.74399999999999999,0.52479072831385554]
[null,null,null,null,null,null,null,null,null,null,null,null,null,null,null,null,null,null,null,null,null,null,null,null,0.745,0.52526570006008755]
[null,null,null,null,null,null,null,null,null,null,null,null,null,null,null,null,null,null,null,null,null,null,null,null,0.746,0.52574019707198016]
[null,null,null,null,null,null,null,null,null,null,null,null,null,null,null,null,null,null,null,null,null,null,null,null,0.747,0.52621421982403027]
[null,null,null,null,null,null,null,null,null,null,null,null,null,null,null,null,null,null,null,null,null,null,null,null,0.748,0.52668776879026069]
[null,null,null,null,null,null,null,null,null,null,null,null,null,null,null,null,null,null,null,null,null,null,null,null,0.749,0.5271608444442204]
[null,null,null,null,null,null,null,null,null,null,null,null,null,null,null,null,null,null,null,null,null,null,null,null,0.75,0.52763344725898531]
[null,null,null,null,null,null,null,null,null,null,null,null,null,null,null,null,null,null,null,null,null,null,null,null,0.751,0.52810557770715794]
[null,null,null,null,null,null,null,null,null,null,null,null,null,null,null,null,null,null,null,null,null,null,null,null,0.752,0.52857723626086917]
[null,null,null,null,null,null,null,null,null,null,null,null,null,null,null,null,null,null,null,null,null,null,null,null,0.753,0.52904842339177716]
[null,null,null,null,null,null,null,null,null,null,null,null,null,null,null,null,null,null,null,null,null,null,null,null,0.754,0.52951913957106944]
[null,null,null,null,null,null,null,null,null,null,null,null,null,null,null,null,null,null,null,null,null,null,null,null,0.755,0.52998938526946204]
[null,null,null,null,null,null,null,null,null,null,null,null,null,null,null,null,null,null,null,null,null,null,null,null,0.75600000000000001,0.53045916095720069]
[null,null,null,null,null,null,null,null,null,null,null,null,null,null,null,null,null,null,null,null,null,null,null,null,0.75700000000000001,0.53092846710406127]
[null,null,null,null,null,null,null,null,null,null,null,null,null,null,null,null,null,null,null,null,null,null,null,null,0.75800000000000001,0.53139730417934983]
[null,null,null,null,null,null,null,null,null,null,null,null,null,null,null,null,null,null,null,null,null,null,null,null,0.75900000000000001,0.53186567265190354]
[null,null,null,null,null,null,null,null,null,null,null,null,null,null,null,null,null,null,null,null,null,null,null,null,0.76,0.53233357299009076]
[null,null,null,null,null,null,null,null,null,null,null,null,null,null,null,null,null,null,null,null,null,null,null,null,0.76100000000000001,0.5328010056618121]
[null,null,null,null,null,null,null,null,null,null,null,null,null,null,null,null,null,null,null,null,null,null,null,null,0.76200000000000001,0.53326797113450009]
[null,null,null,null,null,null,null,null,null,null,null,null,null,null,null,null,null,null,null,null,null,null,null,null,0.76300000000000001,0.53373446987512052]
[null,null,null,null,null,null,null,null,null,null,null,null,null,null,null,null,null,null,null,null,null,null,null,null,0.76400000000000001,0.53420050235017169]
[null,null,null,null,null,null,null,null,null,null,null,null,null,null,null,null,null,null,null,null,null,null,null,null,0.76500000000000001,0.53466606902568659]
[null,null,null,null,null,null,null,null,null,null,null,null,null,null,null,null,null,null,null,null,null,null,null,null,0.76600000000000001,0.53513117036723168]
[null,null,null,null,null,null,null,null,null,null,null,null,null,null,null,null,null,null,null,null,null,null,null,null,0.76700000000000002,0.53559580683990848]
[null,null,null,null,null,null,null,null,null,null,null,null,null,null,null,null,null,null,null,null,null,null,null,null,0.76800000000000002,0.53605997890835333]
[null,null,null,null,null,null,null,null,null,null,null,null,null,null,null,null,null,null,null,null,null,null,null,null,0.76900000000000002,{"$f":"1-EXP(-Y772)","v":0.53652368703673847}]
[null,null,null,null,null,null,null,null,null,null,null,null,null,null,null,null,null,null,null,null,null,null,null,null,0.77,0.53698693168877187]
[null,null,null,null,null,null,null,null,null,null,null,null,null,null,null,null,null,null,null,null,null,null,null,null,0.77100000000000002,0.53744971332769853]
[null,null,null,null,null,null,null,null,null,null,null,null,null,null,null,null,null,null,null,null,null,null,null,null,0.77200000000000002,0.53791203241630003]
[null,null,null,null,null,null,null,null,null,null,null,null,null,null,null,null,null,null,null,null,null,null,null,null,0.77300000000000002,0.53837388941689523]
[null,null,null,null,null,null,null,null,null,null,null,null,null,null,null,null,null,null,null,null,null,null,null,null,0.77400000000000002,0.53883528479134157]
[null,null,null,null,null,null,null,null,null,null,null,null,null,null,null,null,null,null,null,null,null,null,null,null,0.77500000000000002,0.53929621900103419]
[null,null,null,null,null,null,null,null,null,null,null,null,null,null,null,null,null,null,null,null,null,null,null,null,0.77600000000000002,0.5397566925069075]
[null,null,null,null,null,null,null,null,null,null,null,null,null,null,null,null,null,null,null,null,null,null,null,null,0.77700000000000002,0.54021670576943481]
[null,null,null,null,null,null,null,null,null,null,null,null,null,null,null,null,null,null,null,null,null,null,null,null,0.77800000000000002,0.54067625924862961]
[null,null,null,null,null,null,null,null,null,null,null,null,null,null,null,null,null,null,null,null,null,null,null,null,0.77900000000000003,0.5411353534040455]
[null,null,null,null,null,null,null,null,null,null,null,null,null,null,null,null,null,null,null,null,null,null,null,null,0.78,0.54159398869477648]
[null,null,null,null,null,null,null,null,null,null,null,null,null,null,null,null,null,null,null,null,null,null,null,null,0.78100000000000003,0.5420521655794579]
[null,null,null,null,null,null,null,null,null,null,null,null,null,null,null,null,null,null,null,null,null,null,null,null,0.78200000000000003,0.5425098845162668]
[null,null,null,null,null,null,null,null,null,null,null,null,null,null,null,null,null,null,null,null,null,null,null,null,0.78300000000000003,0.54296714596292217]
[null,null,null,null,null,null,null,null,null,null,null,null,null,null,null,null,null,null,null,null,null,null,null,null,0.78400000000000003,0.54342395037668534]
[null,null,null,null,null,null,null,null,null,null,null,null,null,null,null,null,null,null,null,null,null,null,null,null,0.78500000000000003,0.54388029821436079]
[null,null,null,null,null,null,null,null,null,null,null,null,null,null,null,null,null,null,null,null,null,null,null,null,0.78600000000000003,0.54433618993229649]
[null,null,null,null,null,null,null,null,null,null,null,null,null,null,null,null,null,null,null,null,null,null,null,null,0.78700000000000003,0.54479162598638409]
[null,null,null,null,null,null,null,null,null,null,null,null,null,null,null,null,null,null,null,null,null,null,null,null,0.78800000000000003,0.54524660683205983]
[null,null,null,null,null,null,null,null,null,null,null,null,null,null,null,null,null,null,null,null,null,null,null,null,0.78900000000000003,0.54570113292430444]
[null,null,null,null,null,null,null,null,null,null,null,null,null,null,null,null,null,null,null,null,null,null,null,null,0.79,0.54615520471764412]
[null,null,null,null,null,null,null,null,null,null,null,null,null,null,null,null,null,null,null,null,null,null,null,null,0.79100000000000004,0.54660882266615074]
[null,null,null,null,null,null,null,null,null,null,null,null,null,null,null,null,null,null,null,null,null,null,null,null,0.79200000000000004,0.54706198722344235]
[null,null,null,null,null,null,null,null,null,null,null,null,null,null,null,null,null,null,null,null,null,null,null,null,0.79300000000000004,0.54751469884268333]
[null,null,null,null,null,null,null,null,null,null,null,null,null,null,null,null,null,null,null,null,null,null,null,null,0.79400000000000004,0.54796695797658534]
[null,null,null,null,null,null,null,null,null,null,null,null,null,null,null,null,null,null,null,null,null,null,null,null,0.79500000000000004,0.54841876507740772]
[null,null,null,null,null,null,null,null,null,null,null,null,null,null,null,null,null,null,null,null,null,null,null,null,0.79600000000000004,0.54887012059695772]
[null,null,null,null,null,null,null,null,null,null,null,null,null,null,null,null,null,null,null,null,null,null,null,null,0.79700000000000004,0.54932102498659052]
[null,null,null,null,null,null,null,null,null,null,null,null,null,null,null,null,null,null,null,null,null,null,null,null,0.79800000000000004,0.54977147869721077]
[null,null,null,null,null,null,null,null,null,null,null,null,null,null,null,null,null,null,null,null,null,null,null,null,0.79900000000000004,0.55022148217927225]
[null,null,null,null,null,null,null,null,null,null,null,null,null,null,null,null,null,null,null,null,null,null,null,null,0.8,0.55067103588277844]
[null,null,null,null,null,null,null,null,null,null,null,null,null,null,null,null,null,null,null,null,null,null,null,null,0.80100000000000005,0.55112014025728295]
[null,null,null,null,null,null,null,null,null,null,null,null,null,null,null,null,null,null,null,null,null,null,null,null,0.80200000000000005,0.55156879575189044]
[null,null,null,null,null,null,null,null,null,null,null,null,null,null,null,null,null,null,null,null,null,null,null,null,0.80300000000000005,0.55201700281525634]
[null,null,null,null,null,null,null,null,null,null,null,null,null,null,null,null,null,null,null,null,null,null,null,null,0.80400000000000005,0.55246476189558757]
[null,null,null,null,null,null,null,null,null,null,null,null,null,null,null,null,null,null,null,null,null,null,null,null,0.80500000000000005,0.55291207344064364]
[null,null,null,null,null,null,null,null,null,null,null,null,null,null,null,null,null,null,null,null,null,null,null,null,0.80600000000000005,0.55335893789773571]
[null,null,null,null,null,null,null,null,null,null,null,null,null,null,null,null,null,null,null,null,null,null,null,null,0.80700000000000005,0.55380535571372846]
[null,null,null,null,null,null,null,null,null,null,null,null,null,null,null,null,null,null,null,null,null,null,null,null,0.80800000000000005,0.55425132733503979]
[null,null,null,null,null,null,null,null,null,null,null,null,null,null,null,null,null,null,null,null,null,null,null,null,0.80900000000000005,0.55469685320764128]
[null,null,null,null,null,null,null,null,null,null,null,null,null,null,null,null,null,null,null,null,null,null,null,null,0.81,0.55514193377705889]
[null,null,null,null,null,null,null,null,null,null,null,null,null,null,null,null,null,null,null,null,null,null,null,null,0.81100000000000005,0.55558656948837326]
[null,null,null,null,null,null,null,null,null,null,null,null,null,null,null,null,null,null,null,null,null,null,null,null,0.81200000000000006,0.55603076078621994]
[null,null,null,null,null,null,null,null,null,null,null,null,null,null,null,null,null,null,null,null,null,null,null,null,0.81299999999999994,0.55647450811479049]
[null,null,null,null,null,null,null,null,null,null,null,null,null,null,null,null,null,null,null,null,null,null,null,null,0.81399999999999995,0.55691781191783218]
[null,null,null,null,null,null,null,null,null,null,null,null,null,null,null,null,null,null,null,null,null,null,null,null,0.81499999999999995,0.55736067263864886]
[null,null,null,null,null,null,null,null,null,null,null,null,null,null,null,null,null,null,null,null,null,null,null,null,0.81599999999999995,0.55780309072010126]
[null,null,null,null,null,null,null,null,null,null,null,null,null,null,null,null,null,null,null,null,null,null,null,null,0.81699999999999995,0.55824506660460771]
[null,null,null,null,null,null,null,null,null,null,null,null,null,null,null,null,null,null,null,null,null,null,null,null,0.81799999999999995,0.55868660073414378]
[null,null,null,null,null,null,null,null,null,null,null,null,null,null,null,null,null,null,null,null,null,null,null,null,0.81899999999999995,0.55912769355024383]
[null,null,null,null,null,null,null,null,null,null,null,null,null,null,null,null,null,null,null,null,null,null,null,null,0.82,0.5595683454940007]
[null,null,null,null,null,null,null,null,null,null,null,null,null,null,null,null,null,null,null,null,null,null,null,null,0.82099999999999995,0.56000855700606644]
[null,null,null,null,null,null,null,null,null,null,null,null,null,null,null,null,null,null,null,null,null,null,null,null,0.82199999999999995,0.56044832852665238]
[null,null,null,null,null,null,null,null,null,null,null,null,null,null,null,null,null,null,null,null,null,null,null,null,0.82299999999999995,0.56088766049553029]
[null,null,null,null,null,null,null,null,null,null,null,null,null,null,null,null,null,null,null,null,null,null,null,null,0.82399999999999995,0.56132655335203219]
[null,null,null,null,null,null,null,null,null,null,null,null,null,null,null,null,null,null,null,null,null,null,null,null,0.82499999999999996,0.56176500753505076]
[null,null,null,null,null,null,null,null,null,null,null,null,null,null,null,null,null,null,null,null,null,null,null,null,0.82599999999999996,0.56220302348304041]
[null,null,null,null,null,null,null,null,null,null,null,null,null,null,null,null,null,null,null,null,null,null,null,null,0.82699999999999996,0.56264060163401708]
[null,null,null,null,null,null,null,null,null,null,null,null,null,null,null,null,null,null,null,null,null,null,null,null,0.82799999999999996,0.56307774242555886]
[null,null,null,null,null,null,null,null,null,null,null,null,null,null,null,null,null,null,null,null,null,null,null,null,0.82899999999999996,0.56351444629480663]
[null,null,null,null,null,null,null,null,null,null,null,null,null,null,null,null,null,null,null,null,null,null,null,null,0.83,0.56395071367846439]
[null,null,null,null,null,null,null,null,null,null,null,null,null,null,null,null,null,null,null,null,null,null,null,null,0.83099999999999996,0.5643865450127995]
[null,null,null,null,null,null,null,null,null,null,null,null,null,null,null,null,null,null,null,null,null,null,null,null,0.83199999999999996,0.56482194073364322]
[null,null,null,null,null,null,null,null,null,null,null,null,null,null,null,null,null,null,null,null,null,null,null,null,0.83299999999999996,{"$f":"1-EXP(-Y836)","v":0.5652569012763915}]
[null,null,null,null,null,null,null,null,null,null,null,null,null,null,null,null,null,null,null,null,null,null,null,null,0.83399999999999996,0.56569142707600495]
[null,null,null,null,null,null,null,null,null,null,null,null,null,null,null,null,null,null,null,null,null,null,null,null,0.83499999999999996,0.5661255185670091]
[null,null,null,null,null,null,null,null,null,null,null,null,null,null,null,null,null,null,null,null,null,null,null,null,0.83599999999999997,0.56655917618349572]
[null,null,null,null,null,null,null,null,null,null,null,null,null,null,null,null,null,null,null,null,null,null,null,null,0.83699999999999997,0.56699240035912235]
[null,null,null,null,null,null,null,null,null,null,null,null,null,null,null,null,null,null,null,null,null,null,null,null,0.83799999999999997,0.56742519152711335]
[null,null,null,null,null,null,null,null,null,null,null,null,null,null,null,null,null,null,null,null,null,null,null,null,0.83899999999999997,0.56785755012025974]
[null,null,null,null,null,null,null,null,null,null,null,null,null,null,null,null,null,null,null,null,null,null,null,null,0.84,0.56828947657092033]
[null,null,null,null,null,null,null,null,null,null,null,null,null,null,null,null,null,null,null,null,null,null,null,null,0.84099999999999997,0.56872097131102151]
[null,null,null,null,null,null,null,null,null,null,null,null,null,null,null,null,null,null,null,null,null,null,null,null,0.84199999999999997,0.569152034772058]
[null,null,null,null,null,null,null,null,null,null,null,null,null,null,null,null,null,null,null,null,null,null,null,null,0.84299999999999997,0.56958266738509333]
[null,null,null,null,null,null,null,null,null,null,null,null,null,null,null,null,null,null,null,null,null,null,null,null,0.84399999999999997,0.57001286958076025]
[null,null,null,null,null,null,null,null,null,null,null,null,null,null,null,null,null,null,null,null,null,null,null,null,0.84499999999999997,0.57044264178926085]
[null,null,null,null,null,null,null,null,null,null,null,null,null,null,null,null,null,null,null,null,null,null,null,null,0.84599999999999997,0.57087198444036746]
[null,null,null,null,null,null,null,null,null,null,null,null,null,null,null,null,null,null,null,null,null,null,null,null,0.84699999999999998,0.57130089796342276]
[null,null,null,null,null,null,null,null,null,null,null,null,null,null,null,null,null,null,null,null,null,null,null,null,0.84799999999999998,0.57172938278734031]
[null,null,null,null,null,null,null,null,null,null,null,null,null,null,null,null,null,null,null,null,null,null,null,null,0.84899999999999998,0.57215743934060503]
[null,null,null,null,null,null,null,null,null,null,null,null,null,null,null,null,null,null,null,null,null,null,null,null,0.85,0.57258506805127329]
[null,null,null,null,null,null,null,null,null,null,null,null,null,null,null,null,null,null,null,null,null,null,null,null,0.85099999999999998,0.57301226934697413]
[null,null,null,null,null,null,null,null,null,null,null,null,null,null,null,null,null,null,null,null,null,null,null,null,0.85199999999999998,0.57343904365490861]
[null,null,null,null,null,null,null,null,null,null,null,null,null,null,null,null,null,null,null,null,null,null,null,null,0.85299999999999998,0.57386539140185122]
[null,null,null,null,null,null,null,null,null,null,null,null,null,null,null,null,null,null,null,null,null,null,null,null,0.85399999999999998,0.57429131301414982]
[null,null,null,null,null,null,null,null,null,null,null,null,null,null,null,null,null,null,null,null,null,null,null,null,0.85499999999999998,0.57471680891772592]
[null,null,null,null,null,null,null,null,null,null,null,null,null,null,null,null,null,null,null,null,null,null,null,null,0.85599999999999998,0.57514187953807538]
[null,null,null,null,null,null,null,null,null,null,null,null,null,null,null,null,null,null,null,null,null,null,null,null,0.85699999999999998,0.57556652530026908]
[null,null,null,null,null,null,null,null,null,null,null,null,null,null,null,null,null,null,null,null,null,null,null,null,0.85799999999999998,0.57599074662895267]
[null,null,null,null,null,null,null,null,null,null,null,null,null,null,null,null,null,null,null,null,null,null,null,null,0.85899999999999999,0.57641454394834768]
[null,null,null,null,null,null,null,null,null,null,null,null,null,null,null,null,null,null,null,null,null,null,null,null,0.86,0.57683791768225112]
[null,null,null,null,null,null,null,null,null,null,null,null,null,null,null,null,null,null,null,null,null,null,null,null,0.86099999999999999,0.57726086825403722]
[null,null,null,null,null,null,null,null,null,null,null,null,null,null,null,null,null,null,null,null,null,null,null,null,0.86199999999999999,0.57768339608665609]
[null,null,null,null,null,null,null,null,null,null,null,null,null,null,null,null,null,null,null,null,null,null,null,null,0.86299999999999999,0.57810550160263607]
[null,null,null,null,null,null,null,null,null,null,null,null,null,null,null,null,null,null,null,null,null,null,null,null,0.86399999999999999,0.57852718522408231]
[null,null,null,null,null,null,null,null,null,null,null,null,null,null,null,null,null,null,null,null,null,null,null,null,0.86499999999999999,0.57894844737267881]
[null,null,null,null,null,null,null,null,null,null,null,null,null,null,null,null,null,null,null,null,null,null,null,null,0.86599999999999999,0.57936928846968749]
[null,null,null,null,null,null,null,null,null,null,null,null,null,null,null,null,null,null,null,null,null,null,null,null,0.86699999999999999,0.57978970893594972]
[null,null,null,null,null,null,null,null,null,null,null,null,null,null,null,null,null,null,null,null,null,null,null,null,0.86799999999999999,0.58020970919188575]
[null,null,null,null,null,null,null,null,null,null,null,null,null,null,null,null,null,null,null,null,null,null,null,null,0.86899999999999999,0.58062928965749605]
[null,null,null,null,null,null,null,null,null,null,null,null,null,null,null,null,null,null,null,null,null,null,null,null,0.87,0.581048450752361]
[null,null,null,null,null,null,null,null,null,null,null,null,null,null,null,null,null,null,null,null,null,null,null,null,0.871,0.58146719289564186]
[null,null,null,null,null,null,null,null,null,null,null,null,null,null,null,null,null,null,null,null,null,null,null,null,0.872,0.58188551650608067]
[null,null,null,null,null,null,null,null,null,null,null,null,null,null,null,null,null,null,null,null,null,null,null,null,0.873,0.58230342200200114]
[null,null,null,null,null,null,null,null,null,null,null,null,null,null,null,null,null,null,null,null,null,null,null,null,0.874,0.58272090980130886]
[null,null,null,null,null,null,null,null,null,null,null,null,null,null,null,null,null,null,null,null,null,null,null,null,0.875,0.58313798032149156]
[null,null,null,null,null,null,null,null,null,null,null,null,null,null,null,null,null,null,null,null,null,null,null,null,0.876,0.58355463397961993]
[null,null,null,null,null,null,null,null,null,null,null,null,null,null,null,null,null,null,null,null,null,null,null,null,0.877,0.58397087119234747]
[null,null,null,null,null,null,null,null,null,null,null,null,null,null,null,null,null,null,null,null,null,null,null,null,0.878,0.58438669237591157]
[null,null,null,null,null,null,null,null,null,null,null,null,null,null,null,null,null,null,null,null,null,null,null,null,0.879,0.58480209794613347]
[null,null,null,null,null,null,null,null,null,null,null,null,null,null,null,null,null,null,null,null,null,null,null,null,0.88,0.58521708831841868]
[null,null,null,null,null,null,null,null,null,null,null,null,null,null,null,null,null,null,null,null,null,null,null,null,0.88100000000000001,0.58563166390775756]
[null,null,null,null,null,null,null,null,null,null,null,null,null,null,null,null,null,null,null,null,null,null,null,null,0.88200000000000001,0.58604582512872594]
[null,null,null,null,null,null,null,null,null,null,null,null,null,null,null,null,null,null,null,null,null,null,null,null,0.88300000000000001,0.58645957239548485]
[null,null,null,null,null,null,null,null,null,null,null,null,null,null,null,null,null,null,null,null,null,null,null,null,0.88400000000000001,0.58687290612178178]
[null,null,null,null,null,null,null,null,null,null,null,null,null,null,null,null,null,null,null,null,null,null,null,null,0.88500000000000001,0.58728582672095042]
[null,null,null,null,null,null,null,null,null,null,null,null,null,null,null,null,null,null,null,null,null,null,null,null,0.88600000000000001,0.58769833460591125]
[null,null,null,null,null,null,null,null,null,null,null,null,null,null,null,null,null,null,null,null,null,null,null,null,0.88700000000000001,0.58811043018917242]
[null,null,null,null,null,null,null,null,null,null,null,null,null,null,null,null,null,null,null,null,null,null,null,null,0.88800000000000001,0.58852211388282938]
[null,null,null,null,null,null,null,null,null,null,null,null,null,null,null,null,null,null,null,null,null,null,null,null,0.88900000000000001,0.58893338609856605]
[null,null,null,null,null,null,null,null,null,null,null,null,null,null,null,null,null,null,null,null,null,null,null,null,0.89,0.58934424724765444]
[null,null,null,null,null,null,null,null,null,null,null,null,null,null,null,null,null,null,null,null,null,null,null,null,0.89100000000000001,0.58975469774095601]
[null,null,null,null,null,null,null,null,null,null,null,null,null,null,null,null,null,null,null,null,null,null,null,null,0.89200000000000002,0.590164737988921]
[null,null,null,null,null,null,null,null,null,null,null,null,null,null,null,null,null,null,null,null,null,null,null,null,0.89300000000000002,0.59057436840158994]
[null,null,null,null,null,null,null,null,null,null,null,null,null,null,null,null,null,null,null,null,null,null,null,null,0.89400000000000002,0.59098358938859308]
[null,null,null,null,null,null,null,null,null,null,null,null,null,null,null,null,null,null,null,null,null,null,null,null,0.89500000000000002,0.59139240135915161]
[null,null,null,null,null,null,null,null,null,null,null,null,null,null,null,null,null,null,null,null,null,null,null,null,0.89600000000000002,0.5918008047220773]
[null,null,null,null,null,null,null,null,null,null,null,null,null,null,null,null,null,null,null,null,null,null,null,null,0.89700000000000002,{"$f":"1-EXP(-Y900)","v":0.5922087998857738}]
[null,null,null,null,null,null,null,null,null,null,null,null,null,null,null,null,null,null,null,null,null,null,null,null,0.89800000000000002,0.59261638725823618]
[null,null,null,null,null,null,null,null,null,null,null,null,null,null,null,null,null,null,null,null,null,null,null,null,0.89900000000000002,0.59302356724705185]
[null,null,null,null,null,null,null,null,null,null,null,null,null,null,null,null,null,null,null,null,null,null,null,null,0.9,0.59343034025940089]
[null,null,null,null,null,null,null,null,null,null,null,null,null,null,null,null,null,null,null,null,null,null,null,null,0.90100000000000002,0.59383670670205624]
[null,null,null,null,null,null,null,null,null,null,null,null,null,null,null,null,null,null,null,null,null,null,null,null,0.90200000000000002,0.5942426669813845]
[null,null,null,null,null,null,null,null,null,null,null,null,null,null,null,null,null,null,null,null,null,null,null,null,0.90300000000000002,0.59464822150334595]
[null,null,null,null,null,null,null,null,null,null,null,null,null,null,null,null,null,null,null,null,null,null,null,null,0.90400000000000003,0.59505337067349506]
[null,null,null,null,null,null,null,null,null,null,null,null,null,null,null,null,null,null,null,null,null,null,null,null,0.90500000000000003,0.59545811489698119]
[null,null,null,null,null,null,null,null,null,null,null,null,null,null,null,null,null,null,null,null,null,null,null,null,0.90600000000000003,0.59586245457854847]
[null,null,null,null,null,null,null,null,null,null,null,null,null,null,null,null,null,null,null,null,null,null,null,null,0.90700000000000003,0.59626639012253668]
[null,null,null,null,null,null,null,null,null,null,null,null,null,null,null,null,null,null,null,null,null,null,null,null,0.90800000000000003,0.59666992193288126]
[null,null,null,null,null,null,null,null,null,null,null,null,null,null,null,null,null,null,null,null,null,null,null,null,0.90900000000000003,0.59707305041311431]
[null,null,null,null,null,null,null,null,null,null,null,null,null,null,null,null,null,null,null,null,null,null,null,null,0.91,0.59747577596636403]
[null,null,null,null,null,null,null,null,null,null,null,null,null,null,null,null,null,null,null,null,null,null,null,null,0.91100000000000003,0.59787809899535627]
[null,null,null,null,null,null,null,null,null,null,null,null,null,null,null,null,null,null,null,null,null,null,null,null,0.91200000000000003,0.59828001990241397]
[null,null,null,null,null,null,null,null,null,null,null,null,null,null,null,null,null,null,null,null,null,null,null,null,0.91300000000000003,0.59868153908945809]
[null,null,null,null,null,null,null,null,null,null,null,null,null,null,null,null,null,null,null,null,null,null,null,null,0.91400000000000003,0.59908265695800789]
[null,null,null,null,null,null,null,null,null,null,null,null,null,null,null,null,null,null,null,null,null,null,null,null,0.91500000000000004,0.59948337390918116]
[null,null,null,null,null,null,null,null,null,null,null,null,null,null,null,null,null,null,null,null,null,null,null,null,0.91600000000000004,0.59988369034369504]
[null,null,null,null,null,null,null,null,null,null,null,null,null,null,null,null,null,null,null,null,null,null,null,null,0.91700000000000004,0.60028360666186598]
[null,null,null,null,null,null,null,null,null,null,null,null,null,null,null,null,null,null,null,null,null,null,null,null,0.91800000000000004,0.60068312326361006]
[null,null,null,null,null,null,null,null,null,null,null,null,null,null,null,null,null,null,null,null,null,null,null,null,0.91900000000000004,0.60108224054844439]
[null,null,null,null,null,null,null,null,null,null,null,null,null,null,null,null,null,null,null,null,null,null,null,null,0.92,0.60148095891548592]
[null,null,null,null,null,null,null,null,null,null,null,null,null,null,null,null,null,null,null,null,null,null,null,null,0.92100000000000004,0.60187927876345304]
[null,null,null,null,null,null,null,null,null,null,null,null,null,null,null,null,null,null,null,null,null,null,null,null,0.92200000000000004,0.6022772004906658]
[null,null,null,null,null,null,null,null,null,null,null,null,null,null,null,null,null,null,null,null,null,null,null,null,0.92300000000000004,0.602674724495046]
[null,null,null,null,null,null,null,null,null,null,null,null,null,null,null,null,null,null,null,null,null,null,null,null,0.92400000000000004,0.60307185117411755]
[null,null,null,null,null,null,null,null,null,null,null,null,null,null,null,null,null,null,null,null,null,null,null,null,0.92500000000000004,0.6034685809250071]
[null,null,null,null,null,null,null,null,null,null,null,null,null,null,null,null,null,null,null,null,null,null,null,null,0.92600000000000005,0.60386491414444465]
[null,null,null,null,null,null,null,null,null,null,null,null,null,null,null,null,null,null,null,null,null,null,null,null,0.92700000000000005,0.60426085122876327]
[null,null,null,null,null,null,null,null,null,null,null,null,null,null,null,null,null,null,null,null,null,null,null,null,0.92800000000000005,0.60465639257390014]
[null,null,null,null,null,null,null,null,null,null,null,null,null,null,null,null,null,null,null,null,null,null,null,null,0.92900000000000005,0.60505153857539673]
[null,null,null,null,null,null,null,null,null,null,null,null,null,null,null,null,null,null,null,null,null,null,null,null,0.93,0.60544628962839897]
[null,null,null,null,null,null,null,null,null,null,null,null,null,null,null,null,null,null,null,null,null,null,null,null,0.93100000000000005,0.60584064612765776]
[null,null,null,null,null,null,null,null,null,null,null,null,null,null,null,null,null,null,null,null,null,null,null,null,0.93200000000000005,0.60623460846753008]
[null,null,null,null,null,null,null,null,null,null,null,null,null,null,null,null,null,null,null,null,null,null,null,null,0.93300000000000005,0.60662817704197791]
[null,null,null,null,null,null,null,null,null,null,null,null,null,null,null,null,null,null,null,null,null,null,null,null,0.93400000000000005,0.60702135224456999]
[null,null,null,null,null,null,null,null,null,null,null,null,null,null,null,null,null,null,null,null,null,null,null,null,0.93500000000000005,0.60741413446848158]
[null,null,null,null,null,null,null,null,null,null,null,null,null,null,null,null,null,null,null,null,null,null,null,null,0.93600000000000005,0.60780652410649505]
[null,null,null,null,null,null,null,null,null,null,null,null,null,null,null,null,null,null,null,null,null,null,null,null,0.93700000000000006,0.60819852155099985]
[null,null,null,null,null,null,null,null,null,null,null,null,null,null,null,null,null,null,null,null,null,null,null,null,0.93799999999999994,0.60859012719399352]
[null,null,null,null,null,null,null,null,null,null,null,null,null,null,null,null,null,null,null,null,null,null,null,null,0.93899999999999995,0.60898134142708171]
[null,null,null,null,null,null,null,null,null,null,null,null,null,null,null,null,null,null,null,null,null,null,null,null,0.94,0.60937216464147892]
[null,null,null,null,null,null,null,null,null,null,null,null,null,null,null,null,null,null,null,null,null,null,null,null,0.94099999999999995,0.60976259722800807]
[null,null,null,null,null,null,null,null,null,null,null,null,null,null,null,null,null,null,null,null,null,null,null,null,0.94199999999999995,0.61015263957710197]
[null,null,null,null,null,null,null,null,null,null,null,null,null,null,null,null,null,null,null,null,null,null,null,null,0.94299999999999995,0.61054229207880306]
[null,null,null,null,null,null,null,null,null,null,null,null,null,null,null,null,null,null,null,null,null,null,null,null,0.94399999999999995,0.61093155512276365]
[null,null,null,null,null,null,null,null,null,null,null,null,null,null,null,null,null,null,null,null,null,null,null,null,0.94499999999999995,0.61132042909824702]
[null,null,null,null,null,null,null,null,null,null,null,null,null,null,null,null,null,null,null,null,null,null,null,null,0.94599999999999995,0.611708914394127]
[null,null,null,null,null,null,null,null,null,null,null,null,null,null,null,null,null,null,null,null,null,null,null,null,0.94699999999999995,0.61209701139888906]
[null,null,null,null,null,null,null,null,null,null,null,null,null,null,null,null,null,null,null,null,null,null,null,null,0.94799999999999995,0.6124847205006303]
[null,null,null,null,null,null,null,null,null,null,null,null,null,null,null,null,null,null,null,null,null,null,null,null,0.94899999999999995,0.61287204208705959]
[null,null,null,null,null,null,null,null,null,null,null,null,null,null,null,null,null,null,null,null,null,null,null,null,0.95,0.61325897654549877]
[null,null,null,null,null,null,null,null,null,null,null,null,null,null,null,null,null,null,null,null,null,null,null,null,0.95099999999999996,0.61364552426288221]
[null,null,null,null,null,null,null,null,null,null,null,null,null,null,null,null,null,null,null,null,null,null,null,null,0.95199999999999996,0.61403168562575783]
[null,null,null,null,null,null,null,null,null,null,null,null,null,null,null,null,null,null,null,null,null,null,null,null,0.95299999999999996,0.61441746102028683]
[null,null,null,null,null,null,null,null,null,null,null,null,null,null,null,null,null,null,null,null,null,null,null,null,0.95399999999999996,0.61480285083224473]
[null,null,null,null,null,null,null,null,null,null,null,null,null,null,null,null,null,null,null,null,null,null,null,null,0.95499999999999996,0.61518785544702137]
[null,null,null,null,null,null,null,null,null,null,null,null,null,null,null,null,null,null,null,null,null,null,null,null,0.95599999999999996,0.61557247524962144]
[null,null,null,null,null,null,null,null,null,null,null,null,null,null,null,null,null,null,null,null,null,null,null,null,0.95699999999999996,0.61595671062466473]
[null,null,null,null,null,null,null,null,null,null,null,null,null,null,null,null,null,null,null,null,null,null,null,null,0.95799999999999996,0.61634056195638665]
[null,null,null,null,null,null,null,null,null,null,null,null,null,null,null,null,null,null,null,null,null,null,null,null,0.95899999999999996,0.61672402962863848]
[null,null,null,null,null,null,null,null,null,null,null,null,null,null,null,null,null,null,null,null,null,null,null,null,0.96,0.61710711402488794]
[null,null,null,null,null,null,null,null,null,null,null,null,null,null,null,null,null,null,null,null,null,null,null,null,0.96099999999999997,{"$f":"1-EXP(-Y964)","v":0.61748981552821958}]
[null,null,null,null,null,null,null,null,null,null,null,null,null,null,null,null,null,null,null,null,null,null,null,null,0.96199999999999997,0.61787213452133494]
[null,null,null,null,null,null,null,null,null,null,null,null,null,null,null,null,null,null,null,null,null,null,null,null,0.96299999999999997,0.61825407138655297]
[null,null,null,null,null,null,null,null,null,null,null,null,null,null,null,null,null,null,null,null,null,null,null,null,0.96399999999999997,0.61863562650581039]
[null,null,null,null,null,null,null,null,null,null,null,null,null,null,null,null,null,null,null,null,null,null,null,null,0.96499999999999997,0.61901680026066275]
[null,null,null,null,null,null,null,null,null,null,null,null,null,null,null,null,null,null,null,null,null,null,null,null,0.96599999999999997,0.61939759303228348]
[null,null,null,null,null,null,null,null,null,null,null,null,null,null,null,null,null,null,null,null,null,null,null,null,0.96699999999999997,0.61977800520146564]
[null,null,null,null,null,null,null,null,null,null,null,null,null,null,null,null,null,null,null,null,null,null,null,null,0.96799999999999997,0.62015803714862128]
[null,null,null,null,null,null,null,null,null,null,null,null,null,null,null,null,null,null,null,null,null,null,null,null,0.96899999999999997,0.62053768925378239]
[null,null,null,null,null,null,null,null,null,null,null,null,null,null,null,null,null,null,null,null,null,null,null,null,0.97,0.62091696189660117]
[null,null,null,null,null,null,null,null,null,null,null,null,null,null,null,null,null,null,null,null,null,null,null,null,0.97099999999999997,0.62129585545635024]
[null,null,null,null,null,null,null,null,null,null,null,null,null,null,null,null,null,null,null,null,null,null,null,null,0.97199999999999998,0.62167437031192319]
[null,null,null,null,null,null,null,null,null,null,null,null,null,null,null,null,null,null,null,null,null,null,null,null,0.97299999999999998,0.622052506841835]
[null,null,null,null,null,null,null,null,null,null,null,null,null,null,null,null,null,null,null,null,null,null,null,null,0.97399999999999998,0.62243026542422197]
[null,null,null,null,null,null,null,null,null,null,null,null,null,null,null,null,null,null,null,null,null,null,null,null,0.97499999999999998,0.62280764643684305]
[null,null,null,null,null,null,null,null,null,null,null,null,null,null,null,null,null,null,null,null,null,null,null,null,0.97599999999999998,0.62318465025707914]
[null,null,null,null,null,null,null,null,null,null,null,null,null,null,null,null,null,null,null,null,null,null,null,null,0.97699999999999998,0.62356127726193411]
[null,null,null,null,null,null,null,null,null,null,null,null,null,null,null,null,null,null,null,null,null,null,null,null,0.97799999999999998,0.6239375278280348]
[null,null,null,null,null,null,null,null,null,null,null,null,null,null,null,null,null,null,null,null,null,null,null,null,0.97899999999999998,0.62431340233163213]
[null,null,null,null,null,null,null,null,null,null,null,null,null,null,null,null,null,null,null,null,null,null,null,null,0.98,0.62468890114860043]
[null,null,null,null,null,null,null,null,null,null,null,null,null,null,null,null,null,null,null,null,null,null,null,null,0.98099999999999998,0.62506402465443867]
[null,null,null,null,null,null,null,null,null,null,null,null,null,null,null,null,null,null,null,null,null,null,null,null,0.98199999999999998,0.62543877322427022]
[null,null,null,null,null,null,null,null,null,null,null,null,null,null,null,null,null,null,null,null,null,null,null,null,0.98299999999999998,0.62581314723284387]
[null,null,null,null,null,null,null,null,null,null,null,null,null,null,null,null,null,null,null,null,null,null,null,null,0.98399999999999999,0.62618714705453349]
[null,null,null,null,null,null,null,null,null,null,null,null,null,null,null,null,null,null,null,null,null,null,null,null,0.98499999999999999,0.62656077306333913]
[null,null,null,null,null,null,null,null,null,null,null,null,null,null,null,null,null,null,null,null,null,null,null,null,0.98599999999999999,0.62693402563288658]
[null,null,null,null,null,null,null,null,null,null,null,null,null,null,null,null,null,null,null,null,null,null,null,null,0.98699999999999999,0.62730690513642862]
[null,null,null,null,null,null,null,null,null,null,null,null,null,null,null,null,null,null,null,null,null,null,null,null,0.98799999999999999,0.62767941194684473]
[null,null,null,null,null,null,null,null,null,null,null,null,null,null,null,null,null,null,null,null,null,null,null,null,0.98899999999999999,0.62805154643664185]
[null,null,null,null,null,null,null,null,null,null,null,null,null,null,null,null,null,null,null,null,null,null,null,null,0.99,0.62842330897795429]
[null,null,null,null,null,null,null,null,null,null,null,null,null,null,null,null,null,null,null,null,null,null,null,null,0.99099999999999999,0.62879469994254489]
[null,null,null,null,null,null,null,null,null,null,null,null,null,null,null,null,null,null,null,null,null,null,null,null,0.99199999999999999,0.62916571970180435]
[null,null,null,null,null,null,null,null,null,null,null,null,null,null,null,null,null,null,null,null,null,null,null,null,0.99299999999999999,0.62953636862675266]
[null,null,null,null,null,null,null,null,null,null,null,null,null,null,null,null,null,null,null,null,null,null,null,null,0.99399999999999999,0.62990664708803878]
[null,null,null,null,null,null,null,null,null,null,null,null,null,null,null,null,null,null,null,null,null,null,null,null,0.995,0.63027655545594108]
[null,null,null,null,null,null,null,null,null,null,null,null,null,null,null,null,null,null,null,null,null,null,null,null,0.996,0.63064609410036798]
[null,null,null,null,null,null,null,null,null,null,null,null,null,null,null,null,null,null,null,null,null,null,null,null,0.997,0.63101526339085823]
[null,null,null,null,null,null,null,null,null,null,null,null,null,null,null,null,null,null,null,null,null,null,null,null,0.998,0.63138406369658118]
[null,null,null,null,null,null,null,null,null,null,null,null,null,null,null,null,null,null,null,null,null,null,null,null,0.999,0.63175249538633715]
[null,null,null,null,null,null,null,null,null,null,null,null,null,null,null,null,null,null,null,null,null,null,null,null,1,0.63212055882855767]
[null,null,null,null,null,null,null,null,null,null,null,null,null,null,null,null,null,null,null,null,null,null,null,null,1.0009999999999999,0.6324882543913064]
[null,null,null,null,null,null,null,null,null,null,null,null,null,null,null,null,null,null,null,null,null,null,null,null,1.002,0.63285558244227902]
[null,null,null,null,null,null,null,null,null,null,null,null,null,null,null,null,null,null,null,null,null,null,null,null,1.0029999999999999,0.63322254334880335]
[null,null,null,null,null,null,null,null,null,null,null,null,null,null,null,null,null,null,null,null,null,null,null,null,1.004,0.63358913747784051]
[null,null,null,null,null,null,null,null,null,null,null,null,null,null,null,null,null,null,null,null,null,null,null,null,1.0049999999999999,0.63395536519598461]
[null,null,null,null,null,null,null,null,null,null,null,null,null,null,null,null,null,null,null,null,null,null,null,null,1.006,0.63432122686946346]
[null,null,null,null,null,null,null,null,null,null,null,null,null,null,null,null,null,null,null,null,null,null,null,null,1.0069999999999999,0.63468672286413863]
[null,null,null,null,null,null,null,null,null,null,null,null,null,null,null,null,null,null,null,null,null,null,null,null,1.008,0.63505185354550631]
[null,null,null,null,null,null,null,null,null,null,null,null,null,null,null,null,null,null,null,null,null,null,null,null,1.0089999999999999,0.63541661927869697]
[null,null,null,null,null,null,null,null,null,null,null,null,null,null,null,null,null,null,null,null,null,null,null,null,1.01,0.63578102042847662]
[null,null,null,null,null,null,null,null,null,null,null,null,null,null,null,null,null,null,null,null,null,null,null,null,1.0109999999999999,0.63614505735924642]
[null,null,null,null,null,null,null,null,null,null,null,null,null,null,null,null,null,null,null,null,null,null,null,null,1.012,0.63650873043504319]
[null,null,null,null,null,null,null,null,null,null,null,null,null,null,null,null,null,null,null,null,null,null,null,null,1.0129999999999999,0.63687204001954001]
[null,null,null,null,null,null,null,null,null,null,null,null,null,null,null,null,null,null,null,null,null,null,null,null,1.014,0.63723498647604671]
[null,null,null,null,null,null,null,null,null,null,null,null,null,null,null,null,null,null,null,null,null,null,null,null,1.0149999999999999,0.63759757016750962]
[null,null,null,null,null,null,null,null,null,null,null,null,null,null,null,null,null,null,null,null,null,null,null,null,1.016,0.63795979145651249]
[null,null,null,null,null,null,null,null,null,null,null,null,null,null,null,null,null,null,null,null,null,null,null,null,1.0169999999999999,0.63832165070527669]
[null,null,null,null,null,null,null,null,null,null,null,null,null,null,null,null,null,null,null,null,null,null,null,null,1.018,0.63868314827566142]
[null,null,null,null,null,null,null,null,null,null,null,null,null,null,null,null,null,null,null,null,null,null,null,null,1.0189999999999999,0.6390442845291644]
[null,null,null,null,null,null,null,null,null,null,null,null,null,null,null,null,null,null,null,null,null,null,null,null,1.02,0.63940505982692164]
[null,null,null,null,null,null,null,null,null,null,null,null,null,null,null,null,null,null,null,null,null,null,null,null,1.0209999999999999,0.63976547452970878]
[null,null,null,null,null,null,null,null,null,null,null,null,null,null,null,null,null,null,null,null,null,null,null,null,1.022,0.6401255289979404]
[null,null,null,null,null,null,null,null,null,null,null,null,null,null,null,null,null,null,null,null,null,null,null,null,1.0229999999999999,0.64048522359167115]
[null,null,null,null,null,null,null,null,null,null,null,null,null,null,null,null,null,null,null,null,null,null,null,null,1.024,0.64084455867059542]
[null,null,null,null,null,null,null,null,null,null,null,null,null,null,null,null,null,null,null,null,null,null,null,null,1.0249999999999999,{"$f":"1-EXP(-Y1028)","v":0.64120353459404833}]
[null,null,null,null,null,null,null,null,null,null,null,null,null,null,null,null,null,null,null,null,null,null,null,null,1.026,0.64156215172100617]
[null,null,null,null,null,null,null,null,null,null,null,null,null,null,null,null,null,null,null,null,null,null,null,null,1.0269999999999999,0.64192041041008563]
[null,null,null,null,null,null,null,null,null,null,null,null,null,null,null,null,null,null,null,null,null,null,null,null,1.028,0.6422783110195458]
[null,null,null,null,null,null,null,null,null,null,null,null,null,null,null,null,null,null,null,null,null,null,null,null,1.0289999999999999,0.64263585390728717]
[null,null,null,null,null,null,null,null,null,null,null,null,null,null,null,null,null,null,null,null,null,null,null,null,1.03,0.64299303943085262]
[null,null,null,null,null,null,null,null,null,null,null,null,null,null,null,null,null,null,null,null,null,null,null,null,1.0309999999999999,0.64334986794742777]
[null,null,null,null,null,null,null,null,null,null,null,null,null,null,null,null,null,null,null,null,null,null,null,null,1.032,0.64370633981384118]
[null,null,null,null,null,null,null,null,null,null,null,null,null,null,null,null,null,null,null,null,null,null,null,null,1.0329999999999999,0.64406245538656459]
[null,null,null,null,null,null,null,null,null,null,null,null,null,null,null,null,null,null,null,null,null,null,null,null,1.034,0.64441821502171392]
[null,null,null,null,null,null,null,null,null,null,null,null,null,null,null,null,null,null,null,null,null,null,null,null,1.0349999999999999,0.64477361907504849]
[null,null,null,null,null,null,null,null,null,null,null,null,null,null,null,null,null,null,null,null,null,null,null,null,1.036,0.64512866790197254]
[null,null,null,null,null,null,null,null,null,null,null,null,null,null,null,null,null,null,null,null,null,null,null,null,1.0369999999999999,0.64548336185753497]
[null,null,null,null,null,null,null,null,null,null,null,null,null,null,null,null,null,null,null,null,null,null,null,null,1.038,0.64583770129642981]
[null,null,null,null,null,null,null,null,null,null,null,null,null,null,null,null,null,null,null,null,null,null,null,null,1.0389999999999999,0.64619168657299619]
[null,null,null,null,null,null,null,null,null,null,null,null,null,null,null,null,null,null,null,null,null,null,null,null,1.04,0.64654531804121984]
[null,null,null,null,null,null,null,null,null,null,null,null,null,null,null,null,null,null,null,null,null,null,null,null,1.0409999999999999,0.64689859605473199]
[null,null,null,null,null,null,null,null,null,null,null,null,null,null,null,null,null,null,null,null,null,null,null,null,1.042,0.64725152096681082]
[null,null,null,null,null,null,null,null,null,null,null,null,null,null,null,null,null,null,null,null,null,null,null,null,1.0429999999999999,0.64760409313038125]
[null,null,null,null,null,null,null,null,null,null,null,null,null,null,null,null,null,null,null,null,null,null,null,null,1.044,0.64795631289801547]
[null,null,null,null,null,null,null,null,null,null,null,null,null,null,null,null,null,null,null,null,null,null,null,null,1.0449999999999999,0.64830818062193307]
[null,null,null,null,null,null,null,null,null,null,null,null,null,null,null,null,null,null,null,null,null,null,null,null,1.046,0.64865969665400214]
[null,null,null,null,null,null,null,null,null,null,null,null,null,null,null,null,null,null,null,null,null,null,null,null,1.0469999999999999,0.6490108613457386]
[null,null,null,null,null,null,null,null,null,null,null,null,null,null,null,null,null,null,null,null,null,null,null,null,1.048,0.64936167504830711]
[null,null,null,null,null,null,null,null,null,null,null,null,null,null,null,null,null,null,null,null,null,null,null,null,1.0489999999999999,0.64971213811252138]
[null,null,null,null,null,null,null,null,null,null,null,null,null,null,null,null,null,null,null,null,null,null,null,null,1.05,0.65006225088884473]
[null,null,null,null,null,null,null,null,null,null,null,null,null,null,null,null,null,null,null,null,null,null,null,null,1.0509999999999999,0.65041201372738966]
[null,null,null,null,null,null,null,null,null,null,null,null,null,null,null,null,null,null,null,null,null,null,null,null,1.052,0.65076142697791917]
[null,null,null,null,null,null,null,null,null,null,null,null,null,null,null,null,null,null,null,null,null,null,null,null,1.0529999999999999,0.65111049098984664]
[null,null,null,null,null,null,null,null,null,null,null,null,null,null,null,null,null,null,null,null,null,null,null,null,1.054,0.65145920611223596]
[null,null,null,null,null,null,null,null,null,null,null,null,null,null,null,null,null,null,null,null,null,null,null,null,1.0549999999999999,0.65180757269380241]
[null,null,null,null,null,null,null,null,null,null,null,null,null,null,null,null,null,null,null,null,null,null,null,null,1.056,0.65215559108291266]
[null,null,null,null,null,null,null,null,null,null,null,null,null,null,null,null,null,null,null,null,null,null,null,null,1.0569999999999999,0.65250326162758476]
[null,null,null,null,null,null,null,null,null,null,null,null,null,null,null,null,null,null,null,null,null,null,null,null,1.0580000000000001,0.65285058467548973]
[null,null,null,null,null,null,null,null,null,null,null,null,null,null,null,null,null,null,null,null,null,null,null,null,1.0589999999999999,0.65319756057395018]
[null,null,null,null,null,null,null,null,null,null,null,null,null,null,null,null,null,null,null,null,null,null,null,null,1.06,0.65354418966994254]
[null,null,null,null,null,null,null,null,null,null,null,null,null,null,null,null,null,null,null,null,null,null,null,null,1.0609999999999999,0.65389047231009556]
[null,null,null,null,null,null,null,null,null,null,null,null,null,null,null,null,null,null,null,null,null,null,null,null,1.0620000000000001,0.65423640884069223]
[null,null,null,null,null,null,null,null,null,null,null,null,null,null,null,null,null,null,null,null,null,null,null,null,1.0629999999999999,0.65458199960766872]
[null,null,null,null,null,null,null,null,null,null,null,null,null,null,null,null,null,null,null,null,null,null,null,null,1.0640000000000001,0.65492724495661625]
[null,null,null,null,null,null,null,null,null,null,null,null,null,null,null,null,null,null,null,null,null,null,null,null,1.0649999999999999,0.65527214523277988]
[null,null,null,null,null,null,null,null,null,null,null,null,null,null,null,null,null,null,null,null,null,null,null,null,1.0660000000000001,0.65561670078106005]
[null,null,null,null,null,null,null,null,null,null,null,null,null,null,null,null,null,null,null,null,null,null,null,null,1.0669999999999999,0.65596091194601214]
[null,null,null,null,null,null,null,null,null,null,null,null,null,null,null,null,null,null,null,null,null,null,null,null,1.0680000000000001,0.6563047790718477]
[null,null,null,null,null,null,null,null,null,null,null,null,null,null,null,null,null,null,null,null,null,null,null,null,1.069,0.65664830250243345]
[null,null,null,null,null,null,null,null,null,null,null,null,null,null,null,null,null,null,null,null,null,null,null,null,1.07,0.65699148258129336]
[null,null,null,null,null,null,null,null,null,null,null,null,null,null,null,null,null,null,null,null,null,null,null,null,1.071,0.65733431965160705]
[null,null,null,null,null,null,null,null,null,null,null,null,null,null,null,null,null,null,null,null,null,null,null,null,1.0720000000000001,0.65767681405621203]
[null,null,null,null,null,null,null,null,null,null,null,null,null,null,null,null,null,null,null,null,null,null,null,null,1.073,0.65801896613760236]
[null,null,null,null,null,null,null,null,null,null,null,null,null,null,null,null,null,null,null,null,null,null,null,null,1.0740000000000001,0.65836077623793055]
[null,null,null,null,null,null,null,null,null,null,null,null,null,null,null,null,null,null,null,null,null,null,null,null,1.075,0.65870224469900629]
[null,null,null,null,null,null,null,null,null,null,null,null,null,null,null,null,null,null,null,null,null,null,null,null,1.0760000000000001,0.65904337186229844]
[null,null,null,null,null,null,null,null,null,null,null,null,null,null,null,null,null,null,null,null,null,null,null,null,1.077,0.65938415806893391]
[null,null,null,null,null,null,null,null,null,null,null,null,null,null,null,null,null,null,null,null,null,null,null,null,1.0780000000000001,0.6597246036596992]
[null,null,null,null,null,null,null,null,null,null,null,null,null,null,null,null,null,null,null,null,null,null,null,null,1.079,0.66006470897503966]
[null,null,null,null,null,null,null,null,null,null,null,null,null,null,null,null,null,null,null,null,null,null,null,null,1.08,0.66040447435506089]
[null,null,null,null,null,null,null,null,null,null,null,null,null,null,null,null,null,null,null,null,null,null,null,null,1.081,0.66074390013952811]
[null,null,null,null,null,null,null,null,null,null,null,null,null,null,null,null,null,null,null,null,null,null,null,null,1.0820000000000001,0.66108298666786713]
[null,null,null,null,null,null,null,null,null,null,null,null,null,null,null,null,null,null,null,null,null,null,null,null,1.083,0.66142173427916462]
[null,null,null,null,null,null,null,null,null,null,null,null,null,null,null,null,null,null,null,null,null,null,null,null,1.0840000000000001,0.66176014331216826]
[null,null,null,null,null,null,null,null,null,null,null,null,null,null,null,null,null,null,null,null,null,null,null,null,1.085,0.66209821410528691]
[null,null,null,null,null,null,null,null,null,null,null,null,null,null,null,null,null,null,null,null,null,null,null,null,1.0860000000000001,0.6624359469965917]
[null,null,null,null,null,null,null,null,null,null,null,null,null,null,null,null,null,null,null,null,null,null,null,null,1.087,0.66277334232381513]
[null,null,null,null,null,null,null,null,null,null,null,null,null,null,null,null,null,null,null,null,null,null,null,null,1.0880000000000001,0.66311040042435287]
[null,null,null,null,null,null,null,null,null,null,null,null,null,null,null,null,null,null,null,null,null,null,null,null,1.089,{"$f":"1-EXP(-Y1092)","v":0.66344712163526298}]
[null,null,null,null,null,null,null,null,null,null,null,null,null,null,null,null,null,null,null,null,null,null,null,null,1.0900000000000001,0.66378350629326666]
[null,null,null,null,null,null,null,null,null,null,null,null,null,null,null,null,null,null,null,null,null,null,null,null,1.091,0.6641195547347486]
[null,null,null,null,null,null,null,null,null,null,null,null,null,null,null,null,null,null,null,null,null,null,null,null,1.0920000000000001,0.66445526729575732]
[null,null,null,null,null,null,null,null,null,null,null,null,null,null,null,null,null,null,null,null,null,null,null,null,1.093,0.6647906443120053]
[null,null,null,null,null,null,null,null,null,null,null,null,null,null,null,null,null,null,null,null,null,null,null,null,1.0940000000000001,0.6651256861188698]
[null,null,null,null,null,null,null,null,null,null,null,null,null,null,null,null,null,null,null,null,null,null,null,null,1.095,0.66546039305139237]
[null,null,null,null,null,null,null,null,null,null,null,null,null,null,null,null,null,null,null,null,null,null,null,null,1.0960000000000001,0.66579476544428018]
[null,null,null,null,null,null,null,null,null,null,null,null,null,null,null,null,null,null,null,null,null,null,null,null,1.097,0.66612880363190552]
[null,null,null,null,null,null,null,null,null,null,null,null,null,null,null,null,null,null,null,null,null,null,null,null,1.0980000000000001,0.66646250794830686]
[null,null,null,null,null,null,null,null,null,null,null,null,null,null,null,null,null,null,null,null,null,null,null,null,1.099,0.66679587872718815]
[null,null,null,null,null,null,null,null,null,null,null,null,null,null,null,null,null,null,null,null,null,null,null,null,1.1000000000000001,0.6671289163019205]
[null,null,null,null,null,null,null,null,null,null,null,null,null,null,null,null,null,null,null,null,null,null,null,null,1.101,0.66746162100554129]
[null,null,null,null,null,null,null,null,null,null,null,null,null,null,null,null,null,null,null,null,null,null,null,null,1.1020000000000001,0.6677939931707555]
[null,null,null,null,null,null,null,null,null,null,null,null,null,null,null,null,null,null,null,null,null,null,null,null,1.103,0.66812603312993513]
[null,null,null,null,null,null,null,null,null,null,null,null,null,null,null,null,null,null,null,null,null,null,null,null,1.1040000000000001,0.66845774121512025]
[null,null,null,null,null,null,null,null,null,null,null,null,null,null,null,null,null,null,null,null,null,null,null,null,1.105,0.66878911775801897]
[null,null,null,null,null,null,null,null,null,null,null,null,null,null,null,null,null,null,null,null,null,null,null,null,1.1060000000000001,0.66912016309000788]
[null,null,null,null,null,null,null,null,null,null,null,null,null,null,null,null,null,null,null,null,null,null,null,null,1.107,0.66945087754213228]
[null,null,null,null,null,null,null,null,null,null,null,null,null,null,null,null,null,null,null,null,null,null,null,null,1.1080000000000001,0.66978126144510663]
[null,null,null,null,null,null,null,null,null,null,null,null,null,null,null,null,null,null,null,null,null,null,null,null,1.109,0.67011131512931499]
[null,null,null,null,null,null,null,null,null,null,null,null,null,null,null,null,null,null,null,null,null,null,null,null,1.1100000000000001,0.67044103892481099]
[null,null,null,null,null,null,null,null,null,null,null,null,null,null,null,null,null,null,null,null,null,null,null,null,1.111,0.67077043316131835]
[null,null,null,null,null,null,null,null,null,null,null,null,null,null,null,null,null,null,null,null,null,null,null,null,1.1120000000000001,0.67109949816823145]
[null,null,null,null,null,null,null,null,null,null,null,null,null,null,null,null,null,null,null,null,null,null,null,null,1.113,0.6714282342746154]
[null,null,null,null,null,null,null,null,null,null,null,null,null,null,null,null,null,null,null,null,null,null,null,null,1.1140000000000001,0.67175664180920625]
[null,null,null,null,null,null,null,null,null,null,null,null,null,null,null,null,null,null,null,null,null,null,null,null,1.115,0.67208472110041151]
[null,null,null,null,null,null,null,null,null,null,null,null,null,null,null,null,null,null,null,null,null,null,null,null,1.1160000000000001,0.67241247247631053]
[null,null,null,null,null,null,null,null,null,null,null,null,null,null,null,null,null,null,null,null,null,null,null,null,1.117,0.67273989626465469]
[null,null,null,null,null,null,null,null,null,null,null,null,null,null,null,null,null,null,null,null,null,null,null,null,1.1180000000000001,0.67306699279286786]
[null,null,null,null,null,null,null,null,null,null,null,null,null,null,null,null,null,null,null,null,null,null,null,null,1.119,0.6733937623880466]
[null,null,null,null,null,null,null,null,null,null,null,null,null,null,null,null,null,null,null,null,null,null,null,null,1.1200000000000001,0.67372020537696053]
[null,null,null,null,null,null,null,null,null,null,null,null,null,null,null,null,null,null,null,null,null,null,null,null,1.121,0.67404632208605264]
[null,null,null,null,null,null,null,null,null,null,null,null,null,null,null,null,null,null,null,null,null,null,null,null,1.1220000000000001,0.67437211284143972]
[null,null,null,null,null,null,null,null,null,null,null,null,null,null,null,null,null,null,null,null,null,null,null,null,1.123,0.67469757796891239]
[null,null,null,null,null,null,null,null,null,null,null,null,null,null,null,null,null,null,null,null,null,null,null,null,1.1240000000000001,0.67502271779393608]
[null,null,null,null,null,null,null,null,null,null,null,null,null,null,null,null,null,null,null,null,null,null,null,null,1.125,0.67534753264165026]
[null,null,null,null,null,null,null,null,null,null,null,null,null,null,null,null,null,null,null,null,null,null,null,null,1.1259999999999999,0.67567202283687011]
[null,null,null,null,null,null,null,null,null,null,null,null,null,null,null,null,null,null,null,null,null,null,null,null,1.127,0.67599618870408584]
[null,null,null,null,null,null,null,null,null,null,null,null,null,null,null,null,null,null,null,null,null,null,null,null,1.1279999999999999,0.67632003056746326]
[null,null,null,null,null,null,null,null,null,null,null,null,null,null,null,null,null,null,null,null,null,null,null,null,1.129,0.6766435487508442]
[null,null,null,null,null,null,null,null,null,null,null,null,null,null,null,null,null,null,null,null,null,null,null,null,1.1299999999999999,0.67696674357774711]
[null,null,null,null,null,null,null,null,null,null,null,null,null,null,null,null,null,null,null,null,null,null,null,null,1.131,0.67728961537136656]
[null,null,null,null,null,null,null,null,null,null,null,null,null,null,null,null,null,null,null,null,null,null,null,null,1.1319999999999999,0.67761216445457451]
[null,null,null,null,null,null,null,null,null,null,null,null,null,null,null,null,null,null,null,null,null,null,null,null,1.133,0.67793439114992005]
[null,null,null,null,null,null,null,null,null,null,null,null,null,null,null,null,null,null,null,null,null,null,null,null,1.1339999999999999,0.67825629577962987]
[null,null,null,null,null,null,null,null,null,null,null,null,null,null,null,null,null,null,null,null,null,null,null,null,1.135,0.6785778786656087]
[null,null,null,null,null,null,null,null,null,null,null,null,null,null,null,null,null,null,null,null,null,null,null,null,1.1359999999999999,0.6788991401294393]
[null,null,null,null,null,null,null,null,null,null,null,null,null,null,null,null,null,null,null,null,null,null,null,null,1.137,0.67922008049238336]
[null,null,null,null,null,null,null,null,null,null,null,null,null,null,null,null,null,null,null,null,null,null,null,null,1.1379999999999999,0.67954070007538125]
[null,null,null,null,null,null,null,null,null,null,null,null,null,null,null,null,null,null,null,null,null,null,null,null,1.139,0.67986099919905241]
[null,null,null,null,null,null,null,null,null,null,null,null,null,null,null,null,null,null,null,null,null,null,null,null,1.1399999999999999,0.68018097818369605]
[null,null,null,null,null,null,null,null,null,null,null,null,null,null,null,null,null,null,null,null,null,null,null,null,1.141,0.68050063734929134]
[null,null,null,null,null,null,null,null,null,null,null,null,null,null,null,null,null,null,null,null,null,null,null,null,1.1419999999999999,0.68081997701549724]
[null,null,null,null,null,null,null,null,null,null,null,null,null,null,null,null,null,null,null,null,null,null,null,null,1.143,0.68113899750165374]
[null,null,null,null,null,null,null,null,null,null,null,null,null,null,null,null,null,null,null,null,null,null,null,null,1.1439999999999999,0.681457699126781]
[null,null,null,null,null,null,null,null,null,null,null,null,null,null,null,null,null,null,null,null,null,null,null,null,1.145,0.68177608220958086]
[null,null,null,null,null,null,null,null,null,null,null,null,null,null,null,null,null,null,null,null,null,null,null,null,1.1459999999999999,0.68209414706843652]
[null,null,null,null,null,null,null,null,null,null,null,null,null,null,null,null,null,null,null,null,null,null,null,null,1.147,0.68241189402141267]
[null,null,null,null,null,null,null,null,null,null,null,null,null,null,null,null,null,null,null,null,null,null,null,null,1.1479999999999999,0.68272932338625636]
[null,null,null,null,null,null,null,null,null,null,null,null,null,null,null,null,null,null,null,null,null,null,null,null,1.149,0.68304643548039712]
[null,null,null,null,null,null,null,null,null,null,null,null,null,null,null,null,null,null,null,null,null,null,null,null,1.1499999999999999,0.68336323062094673]
[null,null,null,null,null,null,null,null,null,null,null,null,null,null,null,null,null,null,null,null,null,null,null,null,1.151,0.68367970912470077]
[null,null,null,null,null,null,null,null,null,null,null,null,null,null,null,null,null,null,null,null,null,null,null,null,1.1519999999999999,0.68399587130813744]
[null,null,null,null,null,null,null,null,null,null,null,null,null,null,null,null,null,null,null,null,null,null,null,null,1.153,{"$f":"1-EXP(-Y1156)","v":0.68431171748741915}]
[null,null,null,null,null,null,null,null,null,null,null,null,null,null,null,null,null,null,null,null,null,null,null,null,1.1539999999999999,0.68462724797839203]
[null,null,null,null,null,null,null,null,null,null,null,null,null,null,null,null,null,null,null,null,null,null,null,null,1.155,0.68494246309658668]
[null,null,null,null,null,null,null,null,null,null,null,null,null,null,null,null,null,null,null,null,null,null,null,null,1.1559999999999999,0.68525736315721808]
[null,null,null,null,null,null,null,null,null,null,null,null,null,null,null,null,null,null,null,null,null,null,null,null,1.157,0.68557194847518643]
[null,null,null,null,null,null,null,null,null,null,null,null,null,null,null,null,null,null,null,null,null,null,null,null,1.1579999999999999,0.68588621936507699]
[null,null,null,null,null,null,null,null,null,null,null,null,null,null,null,null,null,null,null,null,null,null,null,null,1.159,0.68620017614116091]
[null,null,null,null,null,null,null,null,null,null,null,null,null,null,null,null,null,null,null,null,null,null,null,null,1.1599999999999999,0.68651381911739473]
[null,null,null,null,null,null,null,null,null,null,null,null,null,null,null,null,null,null,null,null,null,null,null,null,1.161,0.68682714860742156]
[null,null,null,null,null,null,null,null,null,null,null,null,null,null,null,null,null,null,null,null,null,null,null,null,1.1619999999999999,0.68714016492457075]
[null,null,null,null,null,null,null,null,null,null,null,null,null,null,null,null,null,null,null,null,null,null,null,null,1.163,0.68745286838185904]
[null,null,null,null,null,null,null,null,null,null,null,null,null,null,null,null,null,null,null,null,null,null,null,null,1.1639999999999999,0.68776525929198939]
[null,null,null,null,null,null,null,null,null,null,null,null,null,null,null,null,null,null,null,null,null,null,null,null,1.165,0.68807733796735326]
[null,null,null,null,null,null,null,null,null,null,null,null,null,null,null,null,null,null,null,null,null,null,null,null,1.1659999999999999,0.68838910472002901]
[null,null,null,null,null,null,null,null,null,null,null,null,null,null,null,null,null,null,null,null,null,null,null,null,1.167,0.68870055986178347]
[null,null,null,null,null,null,null,null,null,null,null,null,null,null,null,null,null,null,null,null,null,null,null,null,1.1679999999999999,0.68901170370407194]
[null,null,null,null,null,null,null,null,null,null,null,null,null,null,null,null,null,null,null,null,null,null,null,null,1.169,0.68932253655803821]
[null,null,null,null,null,null,null,null,null,null,null,null,null,null,null,null,null,null,null,null,null,null,null,null,1.17,0.68963305873451497]
[null,null,null,null,null,null,null,null,null,null,null,null,null,null,null,null,null,null,null,null,null,null,null,null,1.171,0.68994327054402471]
[null,null,null,null,null,null,null,null,null,null,null,null,null,null,null,null,null,null,null,null,null,null,null,null,1.1719999999999999,0.69025317229677918]
[null,null,null,null,null,null,null,null,null,null,null,null,null,null,null,null,null,null,null,null,null,null,null,null,1.173,0.69056276430268015]
[null,null,null,null,null,null,null,null,null,null,null,null,null,null,null,null,null,null,null,null,null,null,null,null,1.1739999999999999,0.69087204687131964]
[null,null,null,null,null,null,null,null,null,null,null,null,null,null,null,null,null,null,null,null,null,null,null,null,1.175,0.69118102031198014]
[null,null,null,null,null,null,null,null,null,null,null,null,null,null,null,null,null,null,null,null,null,null,null,null,1.1759999999999999,0.69148968493363527]
[null,null,null,null,null,null,null,null,null,null,null,null,null,null,null,null,null,null,null,null,null,null,null,null,1.177,0.69179804104494969]
[null,null,null,null,null,null,null,null,null,null,null,null,null,null,null,null,null,null,null,null,null,null,null,null,1.1779999999999999,0.69210608895427939]
[null,null,null,null,null,null,null,null,null,null,null,null,null,null,null,null,null,null,null,null,null,null,null,null,1.179,0.69241382896967241]
[null,null,null,null,null,null,null,null,null,null,null,null,null,null,null,null,null,null,null,null,null,null,null,null,1.18,0.69272126139886869]
[null,null,null,null,null,null,null,null,null,null,null,null,null,null,null,null,null,null,null,null,null,null,null,null,1.181,0.69302838654930099]
[null,null,null,null,null,null,null,null,null,null,null,null,null,null,null,null,null,null,null,null,null,null,null,null,1.1819999999999999,0.69333520472809407]
[null,null,null,null,null,null,null,null,null,null,null,null,null,null,null,null,null,null,null,null,null,null,null,null,1.1830000000000001,0.69364171624206628]
[null,null,null,null,null,null,null,null,null,null,null,null,null,null,null,null,null,null,null,null,null,null,null,null,1.1839999999999999,0.69394792139772932]
[null,null,null,null,null,null,null,null,null,null,null,null,null,null,null,null,null,null,null,null,null,null,null,null,1.1850000000000001,0.69425382050128825]
[null,null,null,null,null,null,null,null,null,null,null,null,null,null,null,null,null,null,null,null,null,null,null,null,1.1859999999999999,0.69455941385864217]
[null,null,null,null,null,null,null,null,null,null,null,null,null,null,null,null,null,null,null,null,null,null,null,null,1.1870000000000001,0.69486470177538451]
[null,null,null,null,null,null,null,null,null,null,null,null,null,null,null,null,null,null,null,null,null,null,null,null,1.1879999999999999,0.69516968455680317]
[null,null,null,null,null,null,null,null,null,null,null,null,null,null,null,null,null,null,null,null,null,null,null,null,1.1890000000000001,0.69547436250788097]
[null,null,null,null,null,null,null,null,null,null,null,null,null,null,null,null,null,null,null,null,null,null,null,null,1.19,0.69577873593329587]
[null,null,null,null,null,null,null,null,null,null,null,null,null,null,null,null,null,null,null,null,null,null,null,null,1.1910000000000001,0.69608280513742149]
[null,null,null,null,null,null,null,null,null,null,null,null,null,null,null,null,null,null,null,null,null,null,null,null,1.1919999999999999,0.69638657042432683]
[null,null,null,null,null,null,null,null,null,null,null,null,null,null,null,null,null,null,null,null,null,null,null,null,1.1930000000000001,0.69669003209777736]
[null,null,null,null,null,null,null,null,null,null,null,null,null,null,null,null,null,null,null,null,null,null,null,null,1.194,0.69699319046123454]
[null,null,null,null,null,null,null,null,null,null,null,null,null,null,null,null,null,null,null,null,null,null,null,null,1.1950000000000001,0.6972960458178572]
[null,null,null,null,null,null,null,null,null,null,null,null,null,null,null,null,null,null,null,null,null,null,null,null,1.196,0.69759859847050021]
[null,null,null,null,null,null,null,null,null,null,null,null,null,null,null,null,null,null,null,null,null,null,null,null,1.1970000000000001,0.69790084872171665]
[null,null,null,null,null,null,null,null,null,null,null,null,null,null,null,null,null,null,null,null,null,null,null,null,1.198,0.69820279687375653]
[null,null,null,null,null,null,null,null,null,null,null,null,null,null,null,null,null,null,null,null,null,null,null,null,1.1990000000000001,0.69850444322856819]
[null,null,null,null,null,null,null,null,null,null,null,null,null,null,null,null,null,null,null,null,null,null,null,null,1.2,0.69880578808779781]
[null,null,null,null,null,null,null,null,null,null,null,null,null,null,null,null,null,null,null,null,null,null,null,null,1.2010000000000001,0.69910683175279065]
[null,null,null,null,null,null,null,null,null,null,null,null,null,null,null,null,null,null,null,null,null,null,null,null,1.202,0.69940757452459001]
[null,null,null,null,null,null,null,null,null,null,null,null,null,null,null,null,null,null,null,null,null,null,null,null,1.2030000000000001,0.6997080167039389]
[null,null,null,null,null,null,null,null,null,null,null,null,null,null,null,null,null,null,null,null,null,null,null,null,1.204,0.70000815859127952]
[null,null,null,null,null,null,null,null,null,null,null,null,null,null,null,null,null,null,null,null,null,null,null,null,1.2050000000000001,0.70030800048675368]
[null,null,null,null,null,null,null,null,null,null,null,null,null,null,null,null,null,null,null,null,null,null,null,null,1.206,0.70060754269020331]
[null,null,null,null,null,null,null,null,null,null,null,null,null,null,null,null,null,null,null,null,null,null,null,null,1.2070000000000001,0.7009067855011708]
[null,null,null,null,null,null,null,null,null,null,null,null,null,null,null,null,null,null,null,null,null,null,null,null,1.208,0.70120572921889868]
[null,null,null,null,null,null,null,null,null,null,null,null,null,null,null,null,null,null,null,null,null,null,null,null,1.2090000000000001,0.70150437414233102]
[null,null,null,null,null,null,null,null,null,null,null,null,null,null,null,null,null,null,null,null,null,null,null,null,1.21,0.70180272057011261]
[null,null,null,null,null,null,null,null,null,null,null,null,null,null,null,null,null,null,null,null,null,null,null,null,1.2110000000000001,0.70210076880058991]
[null,null,null,null,null,null,null,null,null,null,null,null,null,null,null,null,null,null,null,null,null,null,null,null,1.212,0.70239851913181117]
[null,null,null,null,null,null,null,null,null,null,null,null,null,null,null,null,null,null,null,null,null,null,null,null,1.2130000000000001,0.70269597186152688]
[null,null,null,null,null,null,null,null,null,null,null,null,null,null,null,null,null,null,null,null,null,null,null,null,1.214,0.70299312728718943]
[null,null,null,null,null,null,null,null,null,null,null,null,null,null,null,null,null,null,null,null,null,null,null,null,1.2150000000000001,0.70328998570595469]
[null,null,null,null,null,null,null,null,null,null,null,null,null,null,null,null,null,null,null,null,null,null,null,null,1.216,0.70358654741468096]
[null,null,null,null,null,null,null,null,null,null,null,null,null,null,null,null,null,null,null,null,null,null,null,null,1.2170000000000001,{"$f":"1-EXP(-Y1220)","v":0.70388281270992992}]
[null,null,null,null,null,null,null,null,null,null,null,null,null,null,null,null,null,null,null,null,null,null,null,null,1.218,0.70417878188796679]
[null,null,null,null,null,null,null,null,null,null,null,null,null,null,null,null,null,null,null,null,null,null,null,null,1.2190000000000001,0.70447445524476104]
[null,null,null,null,null,null,null,null,null,null,null,null,null,null,null,null,null,null,null,null,null,null,null,null,1.22,0.70476983307598573]
[null,null,null,null,null,null,null,null,null,null,null,null,null,null,null,null,null,null,null,null,null,null,null,null,1.2210000000000001,0.70506491567701912]
[null,null,null,null,null,null,null,null,null,null,null,null,null,null,null,null,null,null,null,null,null,null,null,null,1.222,0.70535970334294351]
[null,null,null,null,null,null,null,null,null,null,null,null,null,null,null,null,null,null,null,null,null,null,null,null,1.2230000000000001,0.70565419636854665]
[null,null,null,null,null,null,null,null,null,null,null,null,null,null,null,null,null,null,null,null,null,null,null,null,1.224,0.70594839504832163]
[null,null,null,null,null,null,null,null,null,null,null,null,null,null,null,null,null,null,null,null,null,null,null,null,1.2250000000000001,0.70624229967646723]
[null,null,null,null,null,null,null,null,null,null,null,null,null,null,null,null,null,null,null,null,null,null,null,null,1.226,0.70653591054688791]
[null,null,null,null,null,null,null,null,null,null,null,null,null,null,null,null,null,null,null,null,null,null,null,null,1.2270000000000001,0.70682922795319481]
[null,null,null,null,null,null,null,null,null,null,null,null,null,null,null,null,null,null,null,null,null,null,null,null,1.228,0.70712225218870506]
[null,null,null,null,null,null,null,null,null,null,null,null,null,null,null,null,null,null,null,null,null,null,null,null,1.2290000000000001,0.70741498354644339]
[null,null,null,null,null,null,null,null,null,null,null,null,null,null,null,null,null,null,null,null,null,null,null,null,1.23,0.70770742231914063]
[null,null,null,null,null,null,null,null,null,null,null,null,null,null,null,null,null,null,null,null,null,null,null,null,1.2310000000000001,0.70799956879923598]
[null,null,null,null,null,null,null,null,null,null,null,null,null,null,null,null,null,null,null,null,null,null,null,null,1.232,0.70829142327887562]
[null,null,null,null,null,null,null,null,null,null,null,null,null,null,null,null,null,null,null,null,null,null,null,null,1.2330000000000001,0.70858298604991432]
[null,null,null,null,null,null,null,null,null,null,null,null,null,null,null,null,null,null,null,null,null,null,null,null,1.234,0.70887425740391485]
[null,null,null,null,null,null,null,null,null,null,null,null,null,null,null,null,null,null,null,null,null,null,null,null,1.2350000000000001,0.70916523763214845]
[null,null,null,null,null,null,null,null,null,null,null,null,null,null,null,null,null,null,null,null,null,null,null,null,1.236,0.70945592702559535]
[null,null,null,null,null,null,null,null,null,null,null,null,null,null,null,null,null,null,null,null,null,null,null,null,1.2370000000000001,0.70974632587494524]
[null,null,null,null,null,null,null,null,null,null,null,null,null,null,null,null,null,null,null,null,null,null,null,null,1.238,0.71003643447059672]
[null,null,null,null,null,null,null,null,null,null,null,null,null,null,null,null,null,null,null,null,null,null,null,null,1.2390000000000001,0.71032625310265862]
[null,null,null,null,null,null,null,null,null,null,null,null,null,null,null,null,null,null,null,null,null,null,null,null,1.24,0.71061578206094933]
[null,null,null,null,null,null,null,null,null,null,null,null,null,null,null,null,null,null,null,null,null,null,null,null,1.2410000000000001,0.71090502163499814]
[null,null,null,null,null,null,null,null,null,null,null,null,null,null,null,null,null,null,null,null,null,null,null,null,1.242,0.71119397211404434]
[null,null,null,null,null,null,null,null,null,null,null,null,null,null,null,null,null,null,null,null,null,null,null,null,1.2430000000000001,0.71148263378703869]
[null,null,null,null,null,null,null,null,null,null,null,null,null,null,null,null,null,null,null,null,null,null,null,null,1.244,0.71177100694264273]
[null,null,null,null,null,null,null,null,null,null,null,null,null,null,null,null,null,null,null,null,null,null,null,null,1.2450000000000001,0.71205909186922978]
[null,null,null,null,null,null,null,null,null,null,null,null,null,null,null,null,null,null,null,null,null,null,null,null,1.246,0.71234688885488462]
[null,null,null,null,null,null,null,null,null,null,null,null,null,null,null,null,null,null,null,null,null,null,null,null,1.2470000000000001,0.71263439818740437]
[null,null,null,null,null,null,null,null,null,null,null,null,null,null,null,null,null,null,null,null,null,null,null,null,1.248,0.71292162015429827]
[null,null,null,null,null,null,null,null,null,null,null,null,null,null,null,null,null,null,null,null,null,null,null,null,1.2490000000000001,0.71320855504278857]
[null,null,null,null,null,null,null,null,null,null,null,null,null,null,null,null,null,null,null,null,null,null,null,null,1.25,0.71349520313980985]
[null,null,null,null,null,null,null,null,null,null,null,null,null,null,null,null,null,null,null,null,null,null,null,null,1.2509999999999999,0.71378156473201049]
[null,null,null,null,null,null,null,null,null,null,null,null,null,null,null,null,null,null,null,null,null,null,null,null,1.252,0.71406764010575197]
[null,null,null,null,null,null,null,null,null,null,null,null,null,null,null,null,null,null,null,null,null,null,null,null,1.2529999999999999,0.71435342954710979]
[null,null,null,null,null,null,null,null,null,null,null,null,null,null,null,null,null,null,null,null,null,null,null,null,1.254,0.71463893334187334]
[null,null,null,null,null,null,null,null,null,null,null,null,null,null,null,null,null,null,null,null,null,null,null,null,1.2549999999999999,0.71492415177554647]
[null,null,null,null,null,null,null,null,null,null,null,null,null,null,null,null,null,null,null,null,null,null,null,null,1.256,0.71520908513334747]
[null,null,null,null,null,null,null,null,null,null,null,null,null,null,null,null,null,null,null,null,null,null,null,null,1.2569999999999999,0.71549373370021008]
[null,null,null,null,null,null,null,null,null,null,null,null,null,null,null,null,null,null,null,null,null,null,null,null,1.258,0.71577809776078261]
[null,null,null,null,null,null,null,null,null,null,null,null,null,null,null,null,null,null,null,null,null,null,null,null,1.2589999999999999,0.71606217759942914]
[null,null,null,null,null,null,null,null,null,null,null,null,null,null,null,null,null,null,null,null,null,null,null,null,1.26,0.71634597350022955]
[null,null,null,null,null,null,null,null,null,null,null,null,null,null,null,null,null,null,null,null,null,null,null,null,1.2609999999999999,0.71662948574697993]
[null,null,null,null,null,null,null,null,null,null,null,null,null,null,null,null,null,null,null,null,null,null,null,null,1.262,0.7169127146231925]
[null,null,null,null,null,null,null,null,null,null,null,null,null,null,null,null,null,null,null,null,null,null,null,null,1.2629999999999999,0.71719566041209604]
[null,null,null,null,null,null,null,null,null,null,null,null,null,null,null,null,null,null,null,null,null,null,null,null,1.264,0.71747832339663642]
[null,null,null,null,null,null,null,null,null,null,null,null,null,null,null,null,null,null,null,null,null,null,null,null,1.2649999999999999,0.71776070385947666]
[null,null,null,null,null,null,null,null,null,null,null,null,null,null,null,null,null,null,null,null,null,null,null,null,1.266,0.7180428020829972]
[null,null,null,null,null,null,null,null,null,null,null,null,null,null,null,null,null,null,null,null,null,null,null,null,1.2669999999999999,0.7183246183492964]
[null,null,null,null,null,null,null,null,null,null,null,null,null,null,null,null,null,null,null,null,null,null,null,null,1.268,0.71860615294019048]
[null,null,null,null,null,null,null,null,null,null,null,null,null,null,null,null,null,null,null,null,null,null,null,null,1.2689999999999999,0.71888740613721391]
[null,null,null,null,null,null,null,null,null,null,null,null,null,null,null,null,null,null,null,null,null,null,null,null,1.27,0.71916837822162027]
[null,null,null,null,null,null,null,null,null,null,null,null,null,null,null,null,null,null,null,null,null,null,null,null,1.2709999999999999,0.71944906947438125]
[null,null,null,null,null,null,null,null,null,null,null,null,null,null,null,null,null,null,null,null,null,null,null,null,1.272,0.71972948017618843]
[null,null,null,null,null,null,null,null,null,null,null,null,null,null,null,null,null,null,null,null,null,null,null,null,1.2729999999999999,0.72000961060745239]
[null,null,null,null,null,null,null,null,null,null,null,null,null,null,null,null,null,null,null,null,null,null,null,null,1.274,0.72028946104830371]
[null,null,null,null,null,null,null,null,null,null,null,null,null,null,null,null,null,null,null,null,null,null,null,null,1.2749999999999999,0.72056903177859266]
[null,null,null,null,null,null,null,null,null,null,null,null,null,null,null,null,null,null,null,null,null,null,null,null,1.276,0.72084832307789015]
[null,null,null,null,null,null,null,null,null,null,null,null,null,null,null,null,null,null,null,null,null,null,null,null,1.2769999999999999,0.72112733522548744]
[null,null,null,null,null,null,null,null,null,null,null,null,null,null,null,null,null,null,null,null,null,null,null,null,1.278,0.72140606850039668]
[null,null,null,null,null,null,null,null,null,null,null,null,null,null,null,null,null,null,null,null,null,null,null,null,1.2789999999999999,0.72168452318135135]
[null,null,null,null,null,null,null,null,null,null,null,null,null,null,null,null,null,null,null,null,null,null,null,null,1.28,0.72196269954680581]
[null,null,null,null,null,null,null,null,null,null,null,null,null,null,null,null,null,null,null,null,null,null,null,null,1.2809999999999999,{"$f":"1-EXP(-Y1284)","v":0.72224059787493677}]
[null,null,null,null,null,null,null,null,null,null,null,null,null,null,null,null,null,null,null,null,null,null,null,null,1.282,0.7225182184436425]
[null,null,null,null,null,null,null,null,null,null,null,null,null,null,null,null,null,null,null,null,null,null,null,null,1.2829999999999999,0.72279556153054347]
[null,null,null,null,null,null,null,null,null,null,null,null,null,null,null,null,null,null,null,null,null,null,null,null,1.284,0.72307262741298284]
[null,null,null,null,null,null,null,null,null,null,null,null,null,null,null,null,null,null,null,null,null,null,null,null,1.2849999999999999,0.72334941636802652]
[null,null,null,null,null,null,null,null,null,null,null,null,null,null,null,null,null,null,null,null,null,null,null,null,1.286,0.72362592867246367]
[null,null,null,null,null,null,null,null,null,null,null,null,null,null,null,null,null,null,null,null,null,null,null,null,1.2869999999999999,0.72390216460280632]
[null,null,null,null,null,null,null,null,null,null,null,null,null,null,null,null,null,null,null,null,null,null,null,null,1.288,0.72417812443529073]
[null,null,null,null,null,null,null,null,null,null,null,null,null,null,null,null,null,null,null,null,null,null,null,null,1.2889999999999999,0.72445380844587648]
[null,null,null,null,null,null,null,null,null,null,null,null,null,null,null,null,null,null,null,null,null,null,null,null,1.29,0.72472921691024772]
[null,null,null,null,null,null,null,null,null,null,null,null,null,null,null,null,null,null,null,null,null,null,null,null,1.2909999999999999,0.72500435010381281]
[null,null,null,null,null,null,null,null,null,null,null,null,null,null,null,null,null,null,null,null,null,null,null,null,1.292,0.72527920830170522]
[null,null,null,null,null,null,null,null,null,null,null,null,null,null,null,null,null,null,null,null,null,null,null,null,1.2929999999999999,0.7255537917787831]
[null,null,null,null,null,null,null,null,null,null,null,null,null,null,null,null,null,null,null,null,null,null,null,null,1.294,0.72582810080962978]
[null,null,null,null,null,null,null,null,null,null,null,null,null,null,null,null,null,null,null,null,null,null,null,null,1.2949999999999999,0.72610213566855442]
[null,null,null,null,null,null,null,null,null,null,null,null,null,null,null,null,null,null,null,null,null,null,null,null,1.296,0.7263758966295919]
[null,null,null,null,null,null,null,null,null,null,null,null,null,null,null,null,null,null,null,null,null,null,null,null,1.2969999999999999,0.72664938396650325]
[null,null,null,null,null,null,null,null,null,null,null,null,null,null,null,null,null,null,null,null,null,null,null,null,1.298,0.72692259795277581]
[null,null,null,null,null,null,null,null,null,null,null,null,null,null,null,null,null,null,null,null,null,null,null,null,1.2989999999999999,0.72719553886162358]
[null,null,null,null,null,null,null,null,null,null,null,null,null,null,null,null,null,null,null,null,null,null,null,null,1.3,0.72746820696598746]
[null,null,null,null,null,null,null,null,null,null,null,null,null,null,null,null,null,null,null,null,null,null,null,null,1.3009999999999999,0.72774060253853556]
[null,null,null,null,null,null,null,null,null,null,null,null,null,null,null,null,null,null,null,null,null,null,null,null,1.302,0.72801272585166354]
[null,null,null,null,null,null,null,null,null,null,null,null,null,null,null,null,null,null,null,null,null,null,null,null,1.3029999999999999,0.72828457717749462]
[null,null,null,null,null,null,null,null,null,null,null,null,null,null,null,null,null,null,null,null,null,null,null,null,1.304,0.72855615678788022]
[null,null,null,null,null,null,null,null,null,null,null,null,null,null,null,null,null,null,null,null,null,null,null,null,1.3049999999999999,0.72882746495440009]
[null,null,null,null,null,null,null,null,null,null,null,null,null,null,null,null,null,null,null,null,null,null,null,null,1.306,0.72909850194836234]
[null,null,null,null,null,null,null,null,null,null,null,null,null,null,null,null,null,null,null,null,null,null,null,null,1.3069999999999999,0.72936926804080393]
[null,null,null,null,null,null,null,null,null,null,null,null,null,null,null,null,null,null,null,null,null,null,null,null,1.3080000000000001,0.72963976350249093]
[null,null,null,null,null,null,null,null,null,null,null,null,null,null,null,null,null,null,null,null,null,null,null,null,1.3089999999999999,0.72990998860391898]
[null,null,null,null,null,null,null,null,null,null,null,null,null,null,null,null,null,null,null,null,null,null,null,null,1.31,0.73017994361531313]
[null,null,null,null,null,null,null,null,null,null,null,null,null,null,null,null,null,null,null,null,null,null,null,null,1.3109999999999999,0.73044962880662845]
[null,null,null,null,null,null,null,null,null,null,null,null,null,null,null,null,null,null,null,null,null,null,null,null,1.3120000000000001,0.73071904444754998]
[null,null,null,null,null,null,null,null,null,null,null,null,null,null,null,null,null,null,null,null,null,null,null,null,1.3129999999999999,0.73098819080749355]
[null,null,null,null,null,null,null,null,null,null,null,null,null,null,null,null,null,null,null,null,null,null,null,null,1.3140000000000001,0.73125706815560565]
[null,null,null,null,null,null,null,null,null,null,null,null,null,null,null,null,null,null,null,null,null,null,null,null,1.3149999999999999,0.73152567676076341]
[null,null,null,null,null,null,null,null,null,null,null,null,null,null,null,null,null,null,null,null,null,null,null,null,1.3160000000000001,0.73179401689157553]
[null,null,null,null,null,null,null,null,null,null,null,null,null,null,null,null,null,null,null,null,null,null,null,null,1.3169999999999999,0.73206208881638224]
[null,null,null,null,null,null,null,null,null,null,null,null,null,null,null,null,null,null,null,null,null,null,null,null,1.3180000000000001,0.73232989280325544]
[null,null,null,null,null,null,null,null,null,null,null,null,null,null,null,null,null,null,null,null,null,null,null,null,1.319,0.73259742911999903]
[null,null,null,null,null,null,null,null,null,null,null,null,null,null,null,null,null,null,null,null,null,null,null,null,1.32,0.73286469803414966]
[null,null,null,null,null,null,null,null,null,null,null,null,null,null,null,null,null,null,null,null,null,null,null,null,1.321,0.73313169981297588]
[null,null,null,null,null,null,null,null,null,null,null,null,null,null,null,null,null,null,null,null,null,null,null,null,1.3220000000000001,0.73339843472347988]
[null,null,null,null,null,null,null,null,null,null,null,null,null,null,null,null,null,null,null,null,null,null,null,null,1.323,0.73366490303239607]
[null,null,null,null,null,null,null,null,null,null,null,null,null,null,null,null,null,null,null,null,null,null,null,null,1.3240000000000001,0.73393110500619341]
[null,null,null,null,null,null,null,null,null,null,null,null,null,null,null,null,null,null,null,null,null,null,null,null,1.325,0.73419704091107341]
[null,null,null,null,null,null,null,null,null,null,null,null,null,null,null,null,null,null,null,null,null,null,null,null,1.3260000000000001,0.73446271101297222]
[null,null,null,null,null,null,null,null,null,null,null,null,null,null,null,null,null,null,null,null,null,null,null,null,1.327,0.7347281155775599]
[null,null,null,null,null,null,null,null,null,null,null,null,null,null,null,null,null,null,null,null,null,null,null,null,1.3280000000000001,0.73499325487024114]
[null,null,null,null,null,null,null,null,null,null,null,null,null,null,null,null,null,null,null,null,null,null,null,null,1.329,0.73525812915615496]
[null,null,null,null,null,null,null,null,null,null,null,null,null,null,null,null,null,null,null,null,null,null,null,null,1.33,0.73552273870017604]
[null,null,null,null,null,null,null,null,null,null,null,null,null,null,null,null,null,null,null,null,null,null,null,null,1.331,0.73578708376691371]
[null,null,null,null,null,null,null,null,null,null,null,null,null,null,null,null,null,null,null,null,null,null,null,null,1.3320000000000001,0.73605116462071318]
[null,null,null,null,null,null,null,null,null,null,null,null,null,null,null,null,null,null,null,null,null,null,null,null,1.333,0.73631498152565522]
[null,null,null,null,null,null,null,null,null,null,null,null,null,null,null,null,null,null,null,null,null,null,null,null,1.3340000000000001,0.7365785347455569]
[null,null,null,null,null,null,null,null,null,null,null,null,null,null,null,null,null,null,null,null,null,null,null,null,1.335,0.73684182454397129]
[null,null,null,null,null,null,null,null,null,null,null,null,null,null,null,null,null,null,null,null,null,null,null,null,1.3360000000000001,0.73710485118418834]
[null,null,null,null,null,null,null,null,null,null,null,null,null,null,null,null,null,null,null,null,null,null,null,null,1.337,0.73736761492923464]
[null,null,null,null,null,null,null,null,null,null,null,null,null,null,null,null,null,null,null,null,null,null,null,null,1.3380000000000001,0.73763011604187401]
[null,null,null,null,null,null,null,null,null,null,null,null,null,null,null,null,null,null,null,null,null,null,null,null,1.339,0.73789235478460746]
[null,null,null,null,null,null,null,null,null,null,null,null,null,null,null,null,null,null,null,null,null,null,null,null,1.34,0.73815433141967401]
[null,null,null,null,null,null,null,null,null,null,null,null,null,null,null,null,null,null,null,null,null,null,null,null,1.341,0.7384160462090501]
[null,null,null,null,null,null,null,null,null,null,null,null,null,null,null,null,null,null,null,null,null,null,null,null,1.3420000000000001,0.7386774994144506]
[null,null,null,null,null,null,null,null,null,null,null,null,null,null,null,null,null,null,null,null,null,null,null,null,1.343,0.7389386912973287]
[null,null,null,null,null,null,null,null,null,null,null,null,null,null,null,null,null,null,null,null,null,null,null,null,1.3440000000000001,0.73919962211887635]
[null,null,null,null,null,null,null,null,null,null,null,null,null,null,null,null,null,null,null,null,null,null,null,null,1.345,{"$f":"1-EXP(-Y1348)","v":0.7394602921400244}]
[null,null,null,null,null,null,null,null,null,null,null,null,null,null,null,null,null,null,null,null,null,null,null,null,1.3460000000000001,0.73972070162144288]
[null,null,null,null,null,null,null,null,null,null,null,null,null,null,null,null,null,null,null,null,null,null,null,null,1.347,0.73998085082354126]
[null,null,null,null,null,null,null,null,null,null,null,null,null,null,null,null,null,null,null,null,null,null,null,null,1.3480000000000001,0.74024074000646889]
[null,null,null,null,null,null,null,null,null,null,null,null,null,null,null,null,null,null,null,null,null,null,null,null,1.349,0.74050036943011477]
[null,null,null,null,null,null,null,null,null,null,null,null,null,null,null,null,null,null,null,null,null,null,null,null,1.35,0.74075973935410855]
[null,null,null,null,null,null,null,null,null,null,null,null,null,null,null,null,null,null,null,null,null,null,null,null,1.351,0.74101885003781998]
[null,null,null,null,null,null,null,null,null,null,null,null,null,null,null,null,null,null,null,null,null,null,null,null,1.3520000000000001,0.74127770174036001]
[null,null,null,null,null,null,null,null,null,null,null,null,null,null,null,null,null,null,null,null,null,null,null,null,1.353,0.74153629472058002]
[null,null,null,null,null,null,null,null,null,null,null,null,null,null,null,null,null,null,null,null,null,null,null,null,1.3540000000000001,0.7417946292370734]
[null,null,null,null,null,null,null,null,null,null,null,null,null,null,null,null,null,null,null,null,null,null,null,null,1.355,0.74205270554817426]
[null,null,null,null,null,null,null,null,null,null,null,null,null,null,null,null,null,null,null,null,null,null,null,null,1.3560000000000001,0.7423105239119594]
[null,null,null,null,null,null,null,null,null,null,null,null,null,null,null,null,null,null,null,null,null,null,null,null,1.357,0.7425680845862469]
[null,null,null,null,null,null,null,null,null,null,null,null,null,null,null,null,null,null,null,null,null,null,null,null,1.3580000000000001,0.74282538782859753]
[null,null,null,null,null,null,null,null,null,null,null,null,null,null,null,null,null,null,null,null,null,null,null,null,1.359,0.74308243389631456]
[null,null,null,null,null,null,null,null,null,null,null,null,null,null,null,null,null,null,null,null,null,null,null,null,1.36,0.74333922304644418]
[null,null,null,null,null,null,null,null,null,null,null,null,null,null,null,null,null,null,null,null,null,null,null,null,1.361,0.74359575553577528]
[null,null,null,null,null,null,null,null,null,null,null,null,null,null,null,null,null,null,null,null,null,null,null,null,1.3620000000000001,0.74385203162084068]
[null,null,null,null,null,null,null,null,null,null,null,null,null,null,null,null,null,null,null,null,null,null,null,null,1.363,0.74410805155791626]
[null,null,null,null,null,null,null,null,null,null,null,null,null,null,null,null,null,null,null,null,null,null,null,null,1.3640000000000001,0.74436381560302212]
[null,null,null,null,null,null,null,null,null,null,null,null,null,null,null,null,null,null,null,null,null,null,null,null,1.365,0.74461932401192232]
[null,null,null,null,null,null,null,null,null,null,null,null,null,null,null,null,null,null,null,null,null,null,null,null,1.3660000000000001,0.74487457704012527]
[null,null,null,null,null,null,null,null,null,null,null,null,null,null,null,null,null,null,null,null,null,null,null,null,1.367,0.7451295749428839]
[null,null,null,null,null,null,null,null,null,null,null,null,null,null,null,null,null,null,null,null,null,null,null,null,1.3680000000000001,0.74538431797519622]
[null,null,null,null,null,null,null,null,null,null,null,null,null,null,null,null,null,null,null,null,null,null,null,null,1.369,0.74563880639180535]
[null,null,null,null,null,null,null,null,null,null,null,null,null,null,null,null,null,null,null,null,null,null,null,null,1.37,0.74589304044719973]
[null,null,null,null,null,null,null,null,null,null,null,null,null,null,null,null,null,null,null,null,null,null,null,null,1.371,0.74614702039561331]
[null,null,null,null,null,null,null,null,null,null,null,null,null,null,null,null,null,null,null,null,null,null,null,null,1.3720000000000001,0.74640074649102617]
[null,null,null,null,null,null,null,null,null,null,null,null,null,null,null,null,null,null,null,null,null,null,null,null,1.373,0.74665421898716433]
[null,null,null,null,null,null,null,null,null,null,null,null,null,null,null,null,null,null,null,null,null,null,null,null,1.3740000000000001,0.74690743813750049]
[null,null,null,null,null,null,null,null,null,null,null,null,null,null,null,null,null,null,null,null,null,null,null,null,1.375,0.74716040419525354]
[null,null,null,null,null,null,null,null,null,null,null,null,null,null,null,null,null,null,null,null,null,null,null,null,1.3759999999999999,0.74741311741338978]
[null,null,null,null,null,null,null,null,null,null,null,null,null,null,null,null,null,null,null,null,null,null,null,null,1.377,0.74766557804462241]
[null,null,null,null,null,null,null,null,null,null,null,null,null,null,null,null,null,null,null,null,null,null,null,null,1.3779999999999999,0.74791778634141193]
[null,null,null,null,null,null,null,null,null,null,null,null,null,null,null,null,null,null,null,null,null,null,null,null,1.379,0.74816974255596702]
[null,null,null,null,null,null,null,null,null,null,null,null,null,null,null,null,null,null,null,null,null,null,null,null,1.38,0.74842144694024348]
[null,null,null,null,null,null,null,null,null,null,null,null,null,null,null,null,null,null,null,null,null,null,null,null,1.381,0.74867289974594597]
[null,null,null,null,null,null,null,null,null,null,null,null,null,null,null,null,null,null,null,null,null,null,null,null,1.3819999999999999,0.74892410122452735]
[null,null,null,null,null,null,null,null,null,null,null,null,null,null,null,null,null,null,null,null,null,null,null,null,1.383,0.74917505162718889]
[null,null,null,null,null,null,null,null,null,null,null,null,null,null,null,null,null,null,null,null,null,null,null,null,1.3839999999999999,0.7494257512048812]
[null,null,null,null,null,null,null,null,null,null,null,null,null,null,null,null,null,null,null,null,null,null,null,null,1.385,0.74967620020830394]
[null,null,null,null,null,null,null,null,null,null,null,null,null,null,null,null,null,null,null,null,null,null,null,null,1.3859999999999999,0.74992639888790591]
[null,null,null,null,null,null,null,null,null,null,null,null,null,null,null,null,null,null,null,null,null,null,null,null,1.387,0.75017634749388595]
[null,null,null,null,null,null,null,null,null,null,null,null,null,null,null,null,null,null,null,null,null,null,null,null,1.3879999999999999,0.75042604627619269]
[null,null,null,null,null,null,null,null,null,null,null,null,null,null,null,null,null,null,null,null,null,null,null,null,1.389,0.75067549548452495]
[null,null,null,null,null,null,null,null,null,null,null,null,null,null,null,null,null,null,null,null,null,null,null,null,1.39,0.75092469536833173]
[null,null,null,null,null,null,null,null,null,null,null,null,null,null,null,null,null,null,null,null,null,null,null,null,1.391,0.75117364617681337]
[null,null,null,null,null,null,null,null,null,null,null,null,null,null,null,null,null,null,null,null,null,null,null,null,1.3919999999999999,0.75142234815892028]
[null,null,null,null,null,null,null,null,null,null,null,null,null,null,null,null,null,null,null,null,null,null,null,null,1.393,0.75167080156335475]
[null,null,null,null,null,null,null,null,null,null,null,null,null,null,null,null,null,null,null,null,null,null,null,null,1.3939999999999999,0.75191900663856992]
[null,null,null,null,null,null,null,null,null,null,null,null,null,null,null,null,null,null,null,null,null,null,null,null,1.395,0.75216696363277125]
[null,null,null,null,null,null,null,null,null,null,null,null,null,null,null,null,null,null,null,null,null,null,null,null,1.3959999999999999,0.75241467279391538]
[null,null,null,null,null,null,null,null,null,null,null,null,null,null,null,null,null,null,null,null,null,null,null,null,1.397,0.75266213436971185]
[null,null,null,null,null,null,null,null,null,null,null,null,null,null,null,null,null,null,null,null,null,null,null,null,1.3979999999999999,0.75290934860762193]
[null,null,null,null,null,null,null,null,null,null,null,null,null,null,null,null,null,null,null,null,null,null,null,null,1.399,0.75315631575486019]
[null,null,null,null,null,null,null,null,null,null,null,null,null,null,null,null,null,null,null,null,null,null,null,null,1.4,0.75340303605839354]
[null,null,null,null,null,null,null,null,null,null,null,null,null,null,null,null,null,null,null,null,null,null,null,null,1.401,0.75364950976494238]
[null,null,null,null,null,null,null,null,null,null,null,null,null,null,null,null,null,null,null,null,null,null,null,null,1.4019999999999999,0.75389573712098046]
[null,null,null,null,null,null,null,null,null,null,null,null,null,null,null,null,null,null,null,null,null,null,null,null,1.403,0.75414171837273525]
[null,null,null,null,null,null,null,null,null,null,null,null,null,null,null,null,null,null,null,null,null,null,null,null,1.4039999999999999,0.75438745376618777]
[null,null,null,null,null,null,null,null,null,null,null,null,null,null,null,null,null,null,null,null,null,null,null,null,1.405,0.75463294354707366]
[null,null,null,null,null,null,null,null,null,null,null,null,null,null,null,null,null,null,null,null,null,null,null,null,1.4059999999999999,0.75487818796088257]
[null,null,null,null,null,null,null,null,null,null,null,null,null,null,null,null,null,null,null,null,null,null,null,null,1.407,0.75512318725285921]
[null,null,null,null,null,null,null,null,null,null,null,null,null,null,null,null,null,null,null,null,null,null,null,null,1.4079999999999999,0.75536794166800247]
[null,null,null,null,null,null,null,null,null,null,null,null,null,null,null,null,null,null,null,null,null,null,null,null,1.409,{"$f":"1-EXP(-Y1412)","v":0.75561245145106715}]
[null,null,null,null,null,null,null,null,null,null,null,null,null,null,null,null,null,null,null,null,null,null,null,null,1.41,0.75585671684656286]
[null,null,null,null,null,null,null,null,null,null,null,null,null,null,null,null,null,null,null,null,null,null,null,null,1.411,0.75610073809875522]
[null,null,null,null,null,null,null,null,null,null,null,null,null,null,null,null,null,null,null,null,null,null,null,null,1.4119999999999999,0.75634451545166514]
[null,null,null,null,null,null,null,null,null,null,null,null,null,null,null,null,null,null,null,null,null,null,null,null,1.413,0.7565880491490703]
[null,null,null,null,null,null,null,null,null,null,null,null,null,null,null,null,null,null,null,null,null,null,null,null,1.4139999999999999,0.75683133943450431]
[null,null,null,null,null,null,null,null,null,null,null,null,null,null,null,null,null,null,null,null,null,null,null,null,1.415,0.75707438655125758]
[null,null,null,null,null,null,null,null,null,null,null,null,null,null,null,null,null,null,null,null,null,null,null,null,1.4159999999999999,0.75731719074237702]
[null,null,null,null,null,null,null,null,null,null,null,null,null,null,null,null,null,null,null,null,null,null,null,null,1.417,0.75755975225066707]
[null,null,null,null,null,null,null,null,null,null,null,null,null,null,null,null,null,null,null,null,null,null,null,null,1.4179999999999999,0.75780207131868904]
[null,null,null,null,null,null,null,null,null,null,null,null,null,null,null,null,null,null,null,null,null,null,null,null,1.419,0.75804414818876231]
[null,null,null,null,null,null,null,null,null,null,null,null,null,null,null,null,null,null,null,null,null,null,null,null,1.42,0.75828598310296358]
[null,null,null,null,null,null,null,null,null,null,null,null,null,null,null,null,null,null,null,null,null,null,null,null,1.421,0.75852757630312773]
[null,null,null,null,null,null,null,null,null,null,null,null,null,null,null,null,null,null,null,null,null,null,null,null,1.4219999999999999,0.75876892803084806]
[null,null,null,null,null,null,null,null,null,null,null,null,null,null,null,null,null,null,null,null,null,null,null,null,1.423,0.75901003852747639]
[null,null,null,null,null,null,null,null,null,null,null,null,null,null,null,null,null,null,null,null,null,null,null,null,1.4239999999999999,0.7592509080341231]
[null,null,null,null,null,null,null,null,null,null,null,null,null,null,null,null,null,null,null,null,null,null,null,null,1.425,0.75949153679165793]
[null,null,null,null,null,null,null,null,null,null,null,null,null,null,null,null,null,null,null,null,null,null,null,null,1.4259999999999999,0.7597319250407093]
[null,null,null,null,null,null,null,null,null,null,null,null,null,null,null,null,null,null,null,null,null,null,null,null,1.427,0.75997207302166581]
[null,null,null,null,null,null,null,null,null,null,null,null,null,null,null,null,null,null,null,null,null,null,null,null,1.4279999999999999,0.76021198097467524]
[null,null,null,null,null,null,null,null,null,null,null,null,null,null,null,null,null,null,null,null,null,null,null,null,1.429,0.7604516491396458]
[null,null,null,null,null,null,null,null,null,null,null,null,null,null,null,null,null,null,null,null,null,null,null,null,1.43,0.76069107775624545]
[null,null,null,null,null,null,null,null,null,null,null,null,null,null,null,null,null,null,null,null,null,null,null,null,1.431,0.76093026706390299]
[null,null,null,null,null,null,null,null,null,null,null,null,null,null,null,null,null,null,null,null,null,null,null,null,1.4319999999999999,0.76116921730180753]
[null,null,null,null,null,null,null,null,null,null,null,null,null,null,null,null,null,null,null,null,null,null,null,null,1.4330000000000001,0.76140792870890961]
[null,null,null,null,null,null,null,null,null,null,null,null,null,null,null,null,null,null,null,null,null,null,null,null,1.4339999999999999,0.76164640152392038]
[null,null,null,null,null,null,null,null,null,null,null,null,null,null,null,null,null,null,null,null,null,null,null,null,1.4350000000000001,0.76188463598531297]
[null,null,null,null,null,null,null,null,null,null,null,null,null,null,null,null,null,null,null,null,null,null,null,null,1.4359999999999999,0.7621226323313216]
[null,null,null,null,null,null,null,null,null,null,null,null,null,null,null,null,null,null,null,null,null,null,null,null,1.4370000000000001,0.76236039079994278]
[null,null,null,null,null,null,null,null,null,null,null,null,null,null,null,null,null,null,null,null,null,null,null,null,1.4379999999999999,0.76259791162893498]
[null,null,null,null,null,null,null,null,null,null,null,null,null,null,null,null,null,null,null,null,null,null,null,null,1.4390000000000001,0.76283519505581898]
[null,null,null,null,null,null,null,null,null,null,null,null,null,null,null,null,null,null,null,null,null,null,null,null,1.44,0.76307224131787821]
[null,null,null,null,null,null,null,null,null,null,null,null,null,null,null,null,null,null,null,null,null,null,null,null,1.4410000000000001,0.76330905065215915]
[null,null,null,null,null,null,null,null,null,null,null,null,null,null,null,null,null,null,null,null,null,null,null,null,1.4419999999999999,0.76354562329547093]
[null,null,null,null,null,null,null,null,null,null,null,null,null,null,null,null,null,null,null,null,null,null,null,null,1.4430000000000001,0.76378195948438632]
[null,null,null,null,null,null,null,null,null,null,null,null,null,null,null,null,null,null,null,null,null,null,null,null,1.444,0.76401805945524148]
[null,null,null,null,null,null,null,null,null,null,null,null,null,null,null,null,null,null,null,null,null,null,null,null,1.4450000000000001,0.76425392344413645]
[null,null,null,null,null,null,null,null,null,null,null,null,null,null,null,null,null,null,null,null,null,null,null,null,1.446,0.76448955168693522]
[null,null,null,null,null,null,null,null,null,null,null,null,null,null,null,null,null,null,null,null,null,null,null,null,1.4470000000000001,0.76472494441926608]
[null,null,null,null,null,null,null,null,null,null,null,null,null,null,null,null,null,null,null,null,null,null,null,null,1.448,0.76496010187652175]
[null,null,null,null,null,null,null,null,null,null,null,null,null,null,null,null,null,null,null,null,null,null,null,null,1.4490000000000001,0.76519502429385966]
[null,null,null,null,null,null,null,null,null,null,null,null,null,null,null,null,null,null,null,null,null,null,null,null,1.45,0.76542971190620235]
[null,null,null,null,null,null,null,null,null,null,null,null,null,null,null,null,null,null,null,null,null,null,null,null,1.4510000000000001,0.76566416494823741]
[null,null,null,null,null,null,null,null,null,null,null,null,null,null,null,null,null,null,null,null,null,null,null,null,1.452,0.76589838365441776]
[null,null,null,null,null,null,null,null,null,null,null,null,null,null,null,null,null,null,null,null,null,null,null,null,1.4530000000000001,0.76613236825896247]
[null,null,null,null,null,null,null,null,null,null,null,null,null,null,null,null,null,null,null,null,null,null,null,null,1.454,0.76636611899585572]
[null,null,null,null,null,null,null,null,null,null,null,null,null,null,null,null,null,null,null,null,null,null,null,null,1.4550000000000001,0.76659963609884874]
[null,null,null,null,null,null,null,null,null,null,null,null,null,null,null,null,null,null,null,null,null,null,null,null,1.456,0.76683291980145818]
[null,null,null,null,null,null,null,null,null,null,null,null,null,null,null,null,null,null,null,null,null,null,null,null,1.4570000000000001,0.76706597033696811]
[null,null,null,null,null,null,null,null,null,null,null,null,null,null,null,null,null,null,null,null,null,null,null,null,1.458,0.76729878793842898]
[null,null,null,null,null,null,null,null,null,null,null,null,null,null,null,null,null,null,null,null,null,null,null,null,1.4590000000000001,0.76753137283865835]
[null,null,null,null,null,null,null,null,null,null,null,null,null,null,null,null,null,null,null,null,null,null,null,null,1.46,0.76776372527024117]
[null,null,null,null,null,null,null,null,null,null,null,null,null,null,null,null,null,null,null,null,null,null,null,null,1.4610000000000001,0.76799584546553001]
[null,null,null,null,null,null,null,null,null,null,null,null,null,null,null,null,null,null,null,null,null,null,null,null,1.462,0.76822773365664487]
[null,null,null,null,null,null,null,null,null,null,null,null,null,null,null,null,null,null,null,null,null,null,null,null,1.4630000000000001,0.76845939007547415]
[null,null,null,null,null,null,null,null,null,null,null,null,null,null,null,null,null,null,null,null,null,null,null,null,1.464,0.76869081495367408]
[null,null,null,null,null,null,null,null,null,null,null,null,null,null,null,null,null,null,null,null,null,null,null,null,1.4650000000000001,0.76892200852266979]
[null,null,null,null,null,null,null,null,null,null,null,null,null,null,null,null,null,null,null,null,null,null,null,null,1.466,0.76915297101365476]
[null,null,null,null,null,null,null,null,null,null,null,null,null,null,null,null,null,null,null,null,null,null,null,null,1.4670000000000001,0.76938370265759148]
[null,null,null,null,null,null,null,null,null,null,null,null,null,null,null,null,null,null,null,null,null,null,null,null,1.468,0.76961420368521161]
[null,null,null,null,null,null,null,null,null,null,null,null,null,null,null,null,null,null,null,null,null,null,null,null,1.4690000000000001,0.7698444743270163]
[null,null,null,null,null,null,null,null,null,null,null,null,null,null,null,null,null,null,null,null,null,null,null,null,1.47,0.77007451481327616]
[null,null,null,null,null,null,null,null,null,null,null,null,null,null,null,null,null,null,null,null,null,null,null,null,1.4710000000000001,0.7703043253740316]
[null,null,null,null,null,null,null,null,null,null,null,null,null,null,null,null,null,null,null,null,null,null,null,null,1.472,0.77053390623909335]
[null,null,null,null,null,null,null,null,null,null,null,null,null,null,null,null,null,null,null,null,null,null,null,null,1.4730000000000001,{"$f":"1-EXP(-Y1476)","v":0.7707632576380421}]
[null,null,null,null,null,null,null,null,null,null,null,null,null,null,null,null,null,null,null,null,null,null,null,null,1.474,0.7709923798002295]
[null,null,null,null,null,null,null,null,null,null,null,null,null,null,null,null,null,null,null,null,null,null,null,null,1.4750000000000001,0.7712212729547776]
[null,null,null,null,null,null,null,null,null,null,null,null,null,null,null,null,null,null,null,null,null,null,null,null,1.476,0.77144993733057954]
[null,null,null,null,null,null,null,null,null,null,null,null,null,null,null,null,null,null,null,null,null,null,null,null,1.4770000000000001,0.77167837315629972]
[null,null,null,null,null,null,null,null,null,null,null,null,null,null,null,null,null,null,null,null,null,null,null,null,1.478,0.7719065806603741]
[null,null,null,null,null,null,null,null,null,null,null,null,null,null,null,null,null,null,null,null,null,null,null,null,1.4790000000000001,0.77213456007101011]
[null,null,null,null,null,null,null,null,null,null,null,null,null,null,null,null,null,null,null,null,null,null,null,null,1.48,0.77236231161618729]
[null,null,null,null,null,null,null,null,null,null,null,null,null,null,null,null,null,null,null,null,null,null,null,null,1.4810000000000001,0.77258983552365701]
[null,null,null,null,null,null,null,null,null,null,null,null,null,null,null,null,null,null,null,null,null,null,null,null,1.482,0.77281713202094338]
[null,null,null,null,null,null,null,null,null,null,null,null,null,null,null,null,null,null,null,null,null,null,null,null,1.4830000000000001,0.7730442013353428]
[null,null,null,null,null,null,null,null,null,null,null,null,null,null,null,null,null,null,null,null,null,null,null,null,1.484,0.77327104369392452]
[null,null,null,null,null,null,null,null,null,null,null,null,null,null,null,null,null,null,null,null,null,null,null,null,1.4850000000000001,0.77349765932353121]
[null,null,null,null,null,null,null,null,null,null,null,null,null,null,null,null,null,null,null,null,null,null,null,null,1.486,0.77372404845077836]
[null,null,null,null,null,null,null,null,null,null,null,null,null,null,null,null,null,null,null,null,null,null,null,null,1.4870000000000001,0.77395021130205499]
[null,null,null,null,null,null,null,null,null,null,null,null,null,null,null,null,null,null,null,null,null,null,null,null,1.488,0.77417614810352409]
[null,null,null,null,null,null,null,null,null,null,null,null,null,null,null,null,null,null,null,null,null,null,null,null,1.4890000000000001,0.77440185908112258]
[null,null,null,null,null,null,null,null,null,null,null,null,null,null,null,null,null,null,null,null,null,null,null,null,1.49,0.77462734446056125]
[null,null,null,null,null,null,null,null,null,null,null,null,null,null,null,null,null,null,null,null,null,null,null,null,1.4910000000000001,0.77485260446732562]
[null,null,null,null,null,null,null,null,null,null,null,null,null,null,null,null,null,null,null,null,null,null,null,null,1.492,0.77507763932667573]
[null,null,null,null,null,null,null,null,null,null,null,null,null,null,null,null,null,null,null,null,null,null,null,null,1.4930000000000001,0.77530244926364644]
[null,null,null,null,null,null,null,null,null,null,null,null,null,null,null,null,null,null,null,null,null,null,null,null,1.494,0.77552703450304761]
[null,null,null,null,null,null,null,null,null,null,null,null,null,null,null,null,null,null,null,null,null,null,null,null,1.4950000000000001,0.77575139526946468]
[null,null,null,null,null,null,null,null,null,null,null,null,null,null,null,null,null,null,null,null,null,null,null,null,1.496,0.77597553178725831]
[null,null,null,null,null,null,null,null,null,null,null,null,null,null,null,null,null,null,null,null,null,null,null,null,1.4970000000000001,0.77619944428056498]
[null,null,null,null,null,null,null,null,null,null,null,null,null,null,null,null,null,null,null,null,null,null,null,null,1.498,0.77642313297329735]
[null,null,null,null,null,null,null,null,null,null,null,null,null,null,null,null,null,null,null,null,null,null,null,null,1.4990000000000001,0.77664659808914405]
[null,null,null,null,null,null,null,null,null,null,null,null,null,null,null,null,null,null,null,null,null,null,null,null,1.5,0.77686983985157021]
[null,null,null,null,null,null,null,null,null,null,null,null,null,null,null,null,null,null,null,null,null,null,null,null,1.5009999999999999,0.77709285848381759]
[null,null,null,null,null,null,null,null,null,null,null,null,null,null,null,null,null,null,null,null,null,null,null,null,1.502,0.77731565420890492]
[null,null,null,null,null,null,null,null,null,null,null,null,null,null,null,null,null,null,null,null,null,null,null,null,1.5029999999999999,0.77753822724962784]
[null,null,null,null,null,null,null,null,null,null,null,null,null,null,null,null,null,null,null,null,null,null,null,null,1.504,0.77776057782855956]
[null,null,null,null,null,null,null,null,null,null,null,null,null,null,null,null,null,null,null,null,null,null,null,null,1.5049999999999999,0.77798270616805054]
[null,null,null,null,null,null,null,null,null,null,null,null,null,null,null,null,null,null,null,null,null,null,null,null,1.506,0.77820461249022932]
[null,null,null,null,null,null,null,null,null,null,null,null,null,null,null,null,null,null,null,null,null,null,null,null,1.5069999999999999,0.77842629701700194]
[null,null,null,null,null,null,null,null,null,null,null,null,null,null,null,null,null,null,null,null,null,null,null,null,1.508,0.7786477599700532]
[null,null,null,null,null,null,null,null,null,null,null,null,null,null,null,null,null,null,null,null,null,null,null,null,1.5089999999999999,0.77886900157084593]
[null,null,null,null,null,null,null,null,null,null,null,null,null,null,null,null,null,null,null,null,null,null,null,null,1.51,0.77909002204062183]
[null,null,null,null,null,null,null,null,null,null,null,null,null,null,null,null,null,null,null,null,null,null,null,null,1.5109999999999999,0.77931082160040133]
[null,null,null,null,null,null,null,null,null,null,null,null,null,null,null,null,null,null,null,null,null,null,null,null,1.512,0.77953140047098413]
[null,null,null,null,null,null,null,null,null,null,null,null,null,null,null,null,null,null,null,null,null,null,null,null,1.5129999999999999,0.7797517588729489]
[null,null,null,null,null,null,null,null,null,null,null,null,null,null,null,null,null,null,null,null,null,null,null,null,1.514,0.77997189702665426]
[null,null,null,null,null,null,null,null,null,null,null,null,null,null,null,null,null,null,null,null,null,null,null,null,1.5149999999999999,0.78019181515223823]
[null,null,null,null,null,null,null,null,null,null,null,null,null,null,null,null,null,null,null,null,null,null,null,null,1.516,0.78041151346961923]
[null,null,null,null,null,null,null,null,null,null,null,null,null,null,null,null,null,null,null,null,null,null,null,null,1.5169999999999999,0.78063099219849519]
[null,null,null,null,null,null,null,null,null,null,null,null,null,null,null,null,null,null,null,null,null,null,null,null,1.518,0.7808502515583452]
[null,null,null,null,null,null,null,null,null,null,null,null,null,null,null,null,null,null,null,null,null,null,null,null,1.5189999999999999,0.78106929176842843]
[null,null,null,null,null,null,null,null,null,null,null,null,null,null,null,null,null,null,null,null,null,null,null,null,1.52,0.78128811304778523]
[null,null,null,null,null,null,null,null,null,null,null,null,null,null,null,null,null,null,null,null,null,null,null,null,1.5209999999999999,0.78150671561523688]
[null,null,null,null,null,null,null,null,null,null,null,null,null,null,null,null,null,null,null,null,null,null,null,null,1.522,0.78172509968938586]
[null,null,null,null,null,null,null,null,null,null,null,null,null,null,null,null,null,null,null,null,null,null,null,null,1.5229999999999999,0.78194326548861637]
[null,null,null,null,null,null,null,null,null,null,null,null,null,null,null,null,null,null,null,null,null,null,null,null,1.524,0.78216121323109422]
[null,null,null,null,null,null,null,null,null,null,null,null,null,null,null,null,null,null,null,null,null,null,null,null,1.5249999999999999,0.78237894313476708]
[null,null,null,null,null,null,null,null,null,null,null,null,null,null,null,null,null,null,null,null,null,null,null,null,1.526,0.782596455417365]
[null,null,null,null,null,null,null,null,null,null,null,null,null,null,null,null,null,null,null,null,null,null,null,null,1.5269999999999999,0.78281375029640021]
[null,null,null,null,null,null,null,null,null,null,null,null,null,null,null,null,null,null,null,null,null,null,null,null,1.528,0.78303082798916768]
[null,null,null,null,null,null,null,null,null,null,null,null,null,null,null,null,null,null,null,null,null,null,null,null,1.5289999999999999,0.78324768871274497]
[null,null,null,null,null,null,null,null,null,null,null,null,null,null,null,null,null,null,null,null,null,null,null,null,1.53,0.78346433268399296]
[null,null,null,null,null,null,null,null,null,null,null,null,null,null,null,null,null,null,null,null,null,null,null,null,1.5309999999999999,0.78368076011955556]
[null,null,null,null,null,null,null,null,null,null,null,null,null,null,null,null,null,null,null,null,null,null,null,null,1.532,0.78389697123586022]
[null,null,null,null,null,null,null,null,null,null,null,null,null,null,null,null,null,null,null,null,null,null,null,null,1.5329999999999999,0.78411296624911819]
[null,null,null,null,null,null,null,null,null,null,null,null,null,null,null,null,null,null,null,null,null,null,null,null,1.534,0.78432874537532438]
[null,null,null,null,null,null,null,null,null,null,null,null,null,null,null,null,null,null,null,null,null,null,null,null,1.5349999999999999,0.78454430883025794]
[null,null,null,null,null,null,null,null,null,null,null,null,null,null,null,null,null,null,null,null,null,null,null,null,1.536,0.78475965682948245]
[null,null,null,null,null,null,null,null,null,null,null,null,null,null,null,null,null,null,null,null,null,null,null,null,1.5369999999999999,{"$f":"1-EXP(-Y1540)","v":0.78497478958834577}]
[null,null,null,null,null,null,null,null,null,null,null,null,null,null,null,null,null,null,null,null,null,null,null,null,1.538,0.78518970732198079]
[null,null,null,null,null,null,null,null,null,null,null,null,null,null,null,null,null,null,null,null,null,null,null,null,1.5389999999999999,0.78540441024530527]
[null,null,null,null,null,null,null,null,null,null,null,null,null,null,null,null,null,null,null,null,null,null,null,null,1.54,0.78561889857302203]
[null,null,null,null,null,null,null,null,null,null,null,null,null,null,null,null,null,null,null,null,null,null,null,null,1.5409999999999999,0.78583317251961948]
[null,null,null,null,null,null,null,null,null,null,null,null,null,null,null,null,null,null,null,null,null,null,null,null,1.542,0.78604723229937179]
[null,null,null,null,null,null,null,null,null,null,null,null,null,null,null,null,null,null,null,null,null,null,null,null,1.5429999999999999,0.78626107812633839]
[null,null,null,null,null,null,null,null,null,null,null,null,null,null,null,null,null,null,null,null,null,null,null,null,1.544,0.78647471021436544]
[null,null,null,null,null,null,null,null,null,null,null,null,null,null,null,null,null,null,null,null,null,null,null,null,1.5449999999999999,0.78668812877708483]
[null,null,null,null,null,null,null,null,null,null,null,null,null,null,null,null,null,null,null,null,null,null,null,null,1.546,0.78690133402791518]
[null,null,null,null,null,null,null,null,null,null,null,null,null,null,null,null,null,null,null,null,null,null,null,null,1.5469999999999999,0.78711432618006183]
[null,null,null,null,null,null,null,null,null,null,null,null,null,null,null,null,null,null,null,null,null,null,null,null,1.548,0.78732710544651696]
[null,null,null,null,null,null,null,null,null,null,null,null,null,null,null,null,null,null,null,null,null,null,null,null,1.5489999999999999,0.78753967204005981]
[null,null,null,null,null,null,null,null,null,null,null,null,null,null,null,null,null,null,null,null,null,null,null,null,1.55,0.7877520261732569]
[null,null,null,null,null,null,null,null,null,null,null,null,null,null,null,null,null,null,null,null,null,null,null,null,1.5509999999999999,0.78796416805846259]
[null,null,null,null,null,null,null,null,null,null,null,null,null,null,null,null,null,null,null,null,null,null,null,null,1.552,0.78817609790781862]
[null,null,null,null,null,null,null,null,null,null,null,null,null,null,null,null,null,null,null,null,null,null,null,null,1.5529999999999999,0.78838781593325491]
[null,null,null,null,null,null,null,null,null,null,null,null,null,null,null,null,null,null,null,null,null,null,null,null,1.554,0.78859932234648955]
[null,null,null,null,null,null,null,null,null,null,null,null,null,null,null,null,null,null,null,null,null,null,null,null,1.5549999999999999,0.7888106173590288]
[null,null,null,null,null,null,null,null,null,null,null,null,null,null,null,null,null,null,null,null,null,null,null,null,1.556,0.78902170118216797]
[null,null,null,null,null,null,null,null,null,null,null,null,null,null,null,null,null,null,null,null,null,null,null,null,1.5569999999999999,0.78923257402699054]
[null,null,null,null,null,null,null,null,null,null,null,null,null,null,null,null,null,null,null,null,null,null,null,null,1.5580000000000001,0.78944323610436973]
[null,null,null,null,null,null,null,null,null,null,null,null,null,null,null,null,null,null,null,null,null,null,null,null,1.5589999999999999,0.78965368762496746]
[null,null,null,null,null,null,null,null,null,null,null,null,null,null,null,null,null,null,null,null,null,null,null,null,1.56,0.78986392879923528]
[null,null,null,null,null,null,null,null,null,null,null,null,null,null,null,null,null,null,null,null,null,null,null,null,1.5609999999999999,0.79007395983741435]
[null,null,null,null,null,null,null,null,null,null,null,null,null,null,null,null,null,null,null,null,null,null,null,null,1.5620000000000001,0.79028378094953577]
[null,null,null,null,null,null,null,null,null,null,null,null,null,null,null,null,null,null,null,null,null,null,null,null,1.5629999999999999,0.79049339234542071]
[null,null,null,null,null,null,null,null,null,null,null,null,null,null,null,null,null,null,null,null,null,null,null,null,1.5640000000000001,0.79070279423468048]
[null,null,null,null,null,null,null,null,null,null,null,null,null,null,null,null,null,null,null,null,null,null,null,null,1.5649999999999999,0.79091198682671704]
[null,null,null,null,null,null,null,null,null,null,null,null,null,null,null,null,null,null,null,null,null,null,null,null,1.5660000000000001,0.79112097033072304]
[null,null,null,null,null,null,null,null,null,null,null,null,null,null,null,null,null,null,null,null,null,null,null,null,1.5669999999999999,0.79132974495568198]
[null,null,null,null,null,null,null,null,null,null,null,null,null,null,null,null,null,null,null,null,null,null,null,null,1.5680000000000001,0.79153831091036841]
[null,null,null,null,null,null,null,null,null,null,null,null,null,null,null,null,null,null,null,null,null,null,null,null,1.569,0.79174666840334851]
[null,null,null,null,null,null,null,null,null,null,null,null,null,null,null,null,null,null,null,null,null,null,null,null,1.57,0.79195481764297959]
[null,null,null,null,null,null,null,null,null,null,null,null,null,null,null,null,null,null,null,null,null,null,null,null,1.571,0.79216275883741094]
[null,null,null,null,null,null,null,null,null,null,null,null,null,null,null,null,null,null,null,null,null,null,null,null,1.5720000000000001,0.79237049219458378]
[null,null,null,null,null,null,null,null,null,null,null,null,null,null,null,null,null,null,null,null,null,null,null,null,1.573,0.79257801792223159]
[null,null,null,null,null,null,null,null,null,null,null,null,null,null,null,null,null,null,null,null,null,null,null,null,1.5740000000000001,0.79278533622788006]
[null,null,null,null,null,null,null,null,null,null,null,null,null,null,null,null,null,null,null,null,null,null,null,null,1.575,0.79299244731884733]
[null,null,null,null,null,null,null,null,null,null,null,null,null,null,null,null,null,null,null,null,null,null,null,null,1.5760000000000001,0.79319935140224485]
[null,null,null,null,null,null,null,null,null,null,null,null,null,null,null,null,null,null,null,null,null,null,null,null,1.577,0.79340604868497644]
[null,null,null,null,null,null,null,null,null,null,null,null,null,null,null,null,null,null,null,null,null,null,null,null,1.5780000000000001,0.79361253937373955]
[null,null,null,null,null,null,null,null,null,null,null,null,null,null,null,null,null,null,null,null,null,null,null,null,1.579,0.79381882367502477]
[null,null,null,null,null,null,null,null,null,null,null,null,null,null,null,null,null,null,null,null,null,null,null,null,1.58,0.79402490179511653]
[null,null,null,null,null,null,null,null,null,null,null,null,null,null,null,null,null,null,null,null,null,null,null,null,1.581,0.79423077394009289]
[null,null,null,null,null,null,null,null,null,null,null,null,null,null,null,null,null,null,null,null,null,null,null,null,1.5820000000000001,0.79443644031582616]
[null,null,null,null,null,null,null,null,null,null,null,null,null,null,null,null,null,null,null,null,null,null,null,null,1.583,0.79464190112798239]
[null,null,null,null,null,null,null,null,null,null,null,null,null,null,null,null,null,null,null,null,null,null,null,null,1.5840000000000001,0.79484715658202287]
[null,null,null,null,null,null,null,null,null,null,null,null,null,null,null,null,null,null,null,null,null,null,null,null,1.585,0.79505220688320266]
[null,null,null,null,null,null,null,null,null,null,null,null,null,null,null,null,null,null,null,null,null,null,null,null,1.5860000000000001,0.79525705223657239]
[null,null,null,null,null,null,null,null,null,null,null,null,null,null,null,null,null,null,null,null,null,null,null,null,1.587,0.79546169284697721]
[null,null,null,null,null,null,null,null,null,null,null,null,null,null,null,null,null,null,null,null,null,null,null,null,1.5880000000000001,0.79566612891905786]
[null,null,null,null,null,null,null,null,null,null,null,null,null,null,null,null,null,null,null,null,null,null,null,null,1.589,0.79587036065725036]
[null,null,null,null,null,null,null,null,null,null,null,null,null,null,null,null,null,null,null,null,null,null,null,null,1.59,0.79607438826578658]
[null,null,null,null,null,null,null,null,null,null,null,null,null,null,null,null,null,null,null,null,null,null,null,null,1.591,0.79627821194869397]
[null,null,null,null,null,null,null,null,null,null,null,null,null,null,null,null,null,null,null,null,null,null,null,null,1.5920000000000001,0.79648183190979649]
[null,null,null,null,null,null,null,null,null,null,null,null,null,null,null,null,null,null,null,null,null,null,null,null,1.593,0.79668524835271382]
[null,null,null,null,null,null,null,null,null,null,null,null,null,null,null,null,null,null,null,null,null,null,null,null,1.5940000000000001,0.79688846148086268]
[null,null,null,null,null,null,null,null,null,null,null,null,null,null,null,null,null,null,null,null,null,null,null,null,1.595,0.79709147149745596]
[null,null,null,null,null,null,null,null,null,null,null,null,null,null,null,null,null,null,null,null,null,null,null,null,1.5960000000000001,0.79729427860550395]
[null,null,null,null,null,null,null,null,null,null,null,null,null,null,null,null,null,null,null,null,null,null,null,null,1.597,0.79749688300781352]
[null,null,null,null,null,null,null,null,null,null,null,null,null,null,null,null,null,null,null,null,null,null,null,null,1.5980000000000001,0.79769928490698927]
[null,null,null,null,null,null,null,null,null,null,null,null,null,null,null,null,null,null,null,null,null,null,null,null,1.599,0.79790148450543308]
[null,null,null,null,null,null,null,null,null,null,null,null,null,null,null,null,null,null,null,null,null,null,null,null,1.6,0.79810348200534464]
[null,null,null,null,null,null,null,null,null,null,null,null,null,null,null,null,null,null,null,null,null,null,null,null,1.601,{"$f":"1-EXP(-Y1604)","v":0.79830527760872128}]
[null,null,null,null,null,null,null,null,null,null,null,null,null,null,null,null,null,null,null,null,null,null,null,null,1.6020000000000001,0.79850687151735877]
[null,null,null,null,null,null,null,null,null,null,null,null,null,null,null,null,null,null,null,null,null,null,null,null,1.603,0.79870826393285088]
[null,null,null,null,null,null,null,null,null,null,null,null,null,null,null,null,null,null,null,null,null,null,null,null,1.6040000000000001,0.79890945505659028]
[null,null,null,null,null,null,null,null,null,null,null,null,null,null,null,null,null,null,null,null,null,null,null,null,1.605,0.79911044508976792]
[null,null,null,null,null,null,null,null,null,null,null,null,null,null,null,null,null,null,null,null,null,null,null,null,1.6060000000000001,0.79931123423337391]
[null,null,null,null,null,null,null,null,null,null,null,null,null,null,null,null,null,null,null,null,null,null,null,null,1.607,0.79951182268819743]
[null,null,null,null,null,null,null,null,null,null,null,null,null,null,null,null,null,null,null,null,null,null,null,null,1.6080000000000001,0.79971221065482689]
[null,null,null,null,null,null,null,null,null,null,null,null,null,null,null,null,null,null,null,null,null,null,null,null,1.609,0.79991239833365035]
[null,null,null,null,null,null,null,null,null,null,null,null,null,null,null,null,null,null,null,null,null,null,null,null,1.61,0.80011238592485556]
[null,null,null,null,null,null,null,null,null,null,null,null,null,null,null,null,null,null,null,null,null,null,null,null,1.611,0.80031217362842988]
[null,null,null,null,null,null,null,null,null,null,null,null,null,null,null,null,null,null,null,null,null,null,null,null,1.6120000000000001,0.80051176164416127]
[null,null,null,null,null,null,null,null,null,null,null,null,null,null,null,null,null,null,null,null,null,null,null,null,1.613,0.80071115017163763]
[null,null,null,null,null,null,null,null,null,null,null,null,null,null,null,null,null,null,null,null,null,null,null,null,1.6140000000000001,0.80091033941024758]
[null,null,null,null,null,null,null,null,null,null,null,null,null,null,null,null,null,null,null,null,null,null,null,null,1.615,0.80110932955918035]
[null,null,null,null,null,null,null,null,null,null,null,null,null,null,null,null,null,null,null,null,null,null,null,null,1.6160000000000001,0.80130812081742619]
[null,null,null,null,null,null,null,null,null,null,null,null,null,null,null,null,null,null,null,null,null,null,null,null,1.617,0.8015067133837761]
[null,null,null,null,null,null,null,null,null,null,null,null,null,null,null,null,null,null,null,null,null,null,null,null,1.6180000000000001,0.801705107456823]
[null,null,null,null,null,null,null,null,null,null,null,null,null,null,null,null,null,null,null,null,null,null,null,null,1.619,0.80190330323496073]
[null,null,null,null,null,null,null,null,null,null,null,null,null,null,null,null,null,null,null,null,null,null,null,null,1.62,0.80210130091638532]
[null,null,null,null,null,null,null,null,null,null,null,null,null,null,null,null,null,null,null,null,null,null,null,null,1.621,0.80229910069909427]
[null,null,null,null,null,null,null,null,null,null,null,null,null,null,null,null,null,null,null,null,null,null,null,null,1.6220000000000001,0.80249670278088747]
[null,null,null,null,null,null,null,null,null,null,null,null,null,null,null,null,null,null,null,null,null,null,null,null,1.623,0.80269410735936697]
[null,null,null,null,null,null,null,null,null,null,null,null,null,null,null,null,null,null,null,null,null,null,null,null,1.6240000000000001,0.80289131463193741]
[null,null,null,null,null,null,null,null,null,null,null,null,null,null,null,null,null,null,null,null,null,null,null,null,1.625,0.80308832479580594]
[null,null,null,null,null,null,null,null,null,null,null,null,null,null,null,null,null,null,null,null,null,null,null,null,1.6259999999999999,0.80328513804798296]
[null,null,null,null,null,null,null,null,null,null,null,null,null,null,null,null,null,null,null,null,null,null,null,null,1.627,0.80348175458528159]
[null,null,null,null,null,null,null,null,null,null,null,null,null,null,null,null,null,null,null,null,null,null,null,null,1.6279999999999999,0.80367817460431845]
[null,null,null,null,null,null,null,null,null,null,null,null,null,null,null,null,null,null,null,null,null,null,null,null,1.629,0.80387439830151353]
[null,null,null,null,null,null,null,null,null,null,null,null,null,null,null,null,null,null,null,null,null,null,null,null,1.63,0.80407042587309063]
[null,null,null,null,null,null,null,null,null,null,null,null,null,null,null,null,null,null,null,null,null,null,null,null,1.631,0.8042662575150773]
[null,null,null,null,null,null,null,null,null,null,null,null,null,null,null,null,null,null,null,null,null,null,null,null,1.6319999999999999,0.8044618934233051]
[null,null,null,null,null,null,null,null,null,null,null,null,null,null,null,null,null,null,null,null,null,null,null,null,1.633,0.80465733379340998]
[null,null,null,null,null,null,null,null,null,null,null,null,null,null,null,null,null,null,null,null,null,null,null,null,1.6339999999999999,0.8048525788208325]
[null,null,null,null,null,null,null,null,null,null,null,null,null,null,null,null,null,null,null,null,null,null,null,null,1.635,0.80504762870081747]
[null,null,null,null,null,null,null,null,null,null,null,null,null,null,null,null,null,null,null,null,null,null,null,null,1.6359999999999999,0.805242483628415]
[null,null,null,null,null,null,null,null,null,null,null,null,null,null,null,null,null,null,null,null,null,null,null,null,1.637,0.80543714379847986]
[null,null,null,null,null,null,null,null,null,null,null,null,null,null,null,null,null,null,null,null,null,null,null,null,1.6379999999999999,0.80563160940567236]
[null,null,null,null,null,null,null,null,null,null,null,null,null,null,null,null,null,null,null,null,null,null,null,null,1.639,0.80582588064445804]
[null,null,null,null,null,null,null,null,null,null,null,null,null,null,null,null,null,null,null,null,null,null,null,null,1.64,0.80601995770910806]
[null,null,null,null,null,null,null,null,null,null,null,null,null,null,null,null,null,null,null,null,null,null,null,null,1.641,0.80621384079369984]
[null,null,null,null,null,null,null,null,null,null,null,null,null,null,null,null,null,null,null,null,null,null,null,null,1.6419999999999999,0.80640753009211608]
[null,null,null,null,null,null,null,null,null,null,null,null,null,null,null,null,null,null,null,null,null,null,null,null,1.643,0.80660102579804638]
[null,null,null,null,null,null,null,null,null,null,null,null,null,null,null,null,null,null,null,null,null,null,null,null,1.6439999999999999,0.8067943281049863]
[null,null,null,null,null,null,null,null,null,null,null,null,null,null,null,null,null,null,null,null,null,null,null,null,1.645,0.80698743720623822]
[null,null,null,null,null,null,null,null,null,null,null,null,null,null,null,null,null,null,null,null,null,null,null,null,1.6459999999999999,0.80718035329491133]
[null,null,null,null,null,null,null,null,null,null,null,null,null,null,null,null,null,null,null,null,null,null,null,null,1.647,0.80737307656392165]
[null,null,null,null,null,null,null,null,null,null,null,null,null,null,null,null,null,null,null,null,null,null,null,null,1.6479999999999999,0.80756560720599246]
[null,null,null,null,null,null,null,null,null,null,null,null,null,null,null,null,null,null,null,null,null,null,null,null,1.649,0.80775794541365453]
[null,null,null,null,null,null,null,null,null,null,null,null,null,null,null,null,null,null,null,null,null,null,null,null,1.65,0.80795009137924589]
[null,null,null,null,null,null,null,null,null,null,null,null,null,null,null,null,null,null,null,null,null,null,null,null,1.651,0.80814204529491263]
[null,null,null,null,null,null,null,null,null,null,null,null,null,null,null,null,null,null,null,null,null,null,null,null,1.6519999999999999,0.80833380735260874]
[null,null,null,null,null,null,null,null,null,null,null,null,null,null,null,null,null,null,null,null,null,null,null,null,1.653,0.80852537774409616]
[null,null,null,null,null,null,null,null,null,null,null,null,null,null,null,null,null,null,null,null,null,null,null,null,1.6539999999999999,0.80871675666094545]
[null,null,null,null,null,null,null,null,null,null,null,null,null,null,null,null,null,null,null,null,null,null,null,null,1.655,0.80890794429453539]
[null,null,null,null,null,null,null,null,null,null,null,null,null,null,null,null,null,null,null,null,null,null,null,null,1.6559999999999999,0.8090989408360536]
[null,null,null,null,null,null,null,null,null,null,null,null,null,null,null,null,null,null,null,null,null,null,null,null,1.657,0.80928974647649699]
[null,null,null,null,null,null,null,null,null,null,null,null,null,null,null,null,null,null,null,null,null,null,null,null,1.6579999999999999,0.80948036140667079]
[null,null,null,null,null,null,null,null,null,null,null,null,null,null,null,null,null,null,null,null,null,null,null,null,1.659,0.8096707858171901]
[null,null,null,null,null,null,null,null,null,null,null,null,null,null,null,null,null,null,null,null,null,null,null,null,1.66,0.80986101989847947]
[null,null,null,null,null,null,null,null,null,null,null,null,null,null,null,null,null,null,null,null,null,null,null,null,1.661,0.81005106384077286]
[null,null,null,null,null,null,null,null,null,null,null,null,null,null,null,null,null,null,null,null,null,null,null,null,1.6619999999999999,0.81024091783411423]
[null,null,null,null,null,null,null,null,null,null,null,null,null,null,null,null,null,null,null,null,null,null,null,null,1.663,0.81043058206835772]
[null,null,null,null,null,null,null,null,null,null,null,null,null,null,null,null,null,null,null,null,null,null,null,null,1.6639999999999999,0.81062005673316728]
[null,null,null,null,null,null,null,null,null,null,null,null,null,null,null,null,null,null,null,null,null,null,null,null,1.665,{"$f":"1-EXP(-Y1668)","v":0.81080934201801802}]
[null,null,null,null,null,null,null,null,null,null,null,null,null,null,null,null,null,null,null,null,null,null,null,null,1.6659999999999999,0.81099843811219485]
[null,null,null,null,null,null,null,null,null,null,null,null,null,null,null,null,null,null,null,null,null,null,null,null,1.667,0.81118734520479407]
[null,null,null,null,null,null,null,null,null,null,null,null,null,null,null,null,null,null,null,null,null,null,null,null,1.6679999999999999,0.8113760634847228]
[null,null,null,null,null,null,null,null,null,null,null,null,null,null,null,null,null,null,null,null,null,null,null,null,1.669,0.81156459314069929]
[null,null,null,null,null,null,null,null,null,null,null,null,null,null,null,null,null,null,null,null,null,null,null,null,1.67,0.81175293436125318]
[null,null,null,null,null,null,null,null,null,null,null,null,null,null,null,null,null,null,null,null,null,null,null,null,1.671,0.81194108733472581]
[null,null,null,null,null,null,null,null,null,null,null,null,null,null,null,null,null,null,null,null,null,null,null,null,1.6719999999999999,0.81212905224927012]
[null,null,null,null,null,null,null,null,null,null,null,null,null,null,null,null,null,null,null,null,null,null,null,null,1.673,0.81231682929285098]
[null,null,null,null,null,null,null,null,null,null,null,null,null,null,null,null,null,null,null,null,null,null,null,null,1.6739999999999999,0.81250441865324541]
[null,null,null,null,null,null,null,null,null,null,null,null,null,null,null,null,null,null,null,null,null,null,null,null,1.675,0.81269182051804301]
[null,null,null,null,null,null,null,null,null,null,null,null,null,null,null,null,null,null,null,null,null,null,null,null,1.6759999999999999,0.81287903507464543]
[null,null,null,null,null,null,null,null,null,null,null,null,null,null,null,null,null,null,null,null,null,null,null,null,1.677,0.81306606251026736]
[null,null,null,null,null,null,null,null,null,null,null,null,null,null,null,null,null,null,null,null,null,null,null,null,1.6779999999999999,0.8132529030119362]
[null,null,null,null,null,null,null,null,null,null,null,null,null,null,null,null,null,null,null,null,null,null,null,null,1.679,0.81343955676649249]
[null,null,null,null,null,null,null,null,null,null,null,null,null,null,null,null,null,null,null,null,null,null,null,null,1.68,0.81362602396059003]
[null,null,null,null,null,null,null,null,null,null,null,null,null,null,null,null,null,null,null,null,null,null,null,null,1.681,0.81381230478069599]
[null,null,null,null,null,null,null,null,null,null,null,null,null,null,null,null,null,null,null,null,null,null,null,null,1.6819999999999999,0.81399839941309127]
[null,null,null,null,null,null,null,null,null,null,null,null,null,null,null,null,null,null,null,null,null,null,null,null,1.6830000000000001,0.81418430804387032]
[null,null,null,null,null,null,null,null,null,null,null,null,null,null,null,null,null,null,null,null,null,null,null,null,1.6839999999999999,0.814370030858942]
[null,null,null,null,null,null,null,null,null,null,null,null,null,null,null,null,null,null,null,null,null,null,null,null,1.6850000000000001,0.81455556804402907]
[null,null,null,null,null,null,null,null,null,null,null,null,null,null,null,null,null,null,null,null,null,null,null,null,1.6859999999999999,0.81474091978466878]
[null,null,null,null,null,null,null,null,null,null,null,null,null,null,null,null,null,null,null,null,null,null,null,null,1.6870000000000001,0.81492608626621288]
[null,null,null,null,null,null,null,null,null,null,null,null,null,null,null,null,null,null,null,null,null,null,null,null,1.6879999999999999,0.81511106767382768]
[null,null,null,null,null,null,null,null,null,null,null,null,null,null,null,null,null,null,null,null,null,null,null,null,1.6890000000000001,0.81529586419249478]
[null,null,null,null,null,null,null,null,null,null,null,null,null,null,null,null,null,null,null,null,null,null,null,null,1.69,0.81548047600701068]
[null,null,null,null,null,null,null,null,null,null,null,null,null,null,null,null,null,null,null,null,null,null,null,null,1.6910000000000001,0.81566490330198727]
[null,null,null,null,null,null,null,null,null,null,null,null,null,null,null,null,null,null,null,null,null,null,null,null,1.6919999999999999,0.81584914626185179]
[null,null,null,null,null,null,null,null,null,null,null,null,null,null,null,null,null,null,null,null,null,null,null,null,1.6930000000000001,0.8160332050708472]
[null,null,null,null,null,null,null,null,null,null,null,null,null,null,null,null,null,null,null,null,null,null,null,null,1.694,0.81621707991303238]
[null,null,null,null,null,null,null,null,null,null,null,null,null,null,null,null,null,null,null,null,null,null,null,null,1.6950000000000001,0.81640077097228214]
[null,null,null,null,null,null,null,null,null,null,null,null,null,null,null,null,null,null,null,null,null,null,null,null,1.696,0.81658427843228754]
[null,null,null,null,null,null,null,null,null,null,null,null,null,null,null,null,null,null,null,null,null,null,null,null,1.6970000000000001,0.81676760247655611]
[null,null,null,null,null,null,null,null,null,null,null,null,null,null,null,null,null,null,null,null,null,null,null,null,1.698,0.81695074328841188]
[null,null,null,null,null,null,null,null,null,null,null,null,null,null,null,null,null,null,null,null,null,null,null,null,1.6990000000000001,0.8171337010509957]
[null,null,null,null,null,null,null,null,null,null,null,null,null,null,null,null,null,null,null,null,null,null,null,null,1.7,0.81731647594726531]
[null,null,null,null,null,null,null,null,null,null,null,null,null,null,null,null,null,null,null,null,null,null,null,null,1.7010000000000001,0.81749906815999573]
[null,null,null,null,null,null,null,null,null,null,null,null,null,null,null,null,null,null,null,null,null,null,null,null,1.702,0.81768147787177903]
[null,null,null,null,null,null,null,null,null,null,null,null,null,null,null,null,null,null,null,null,null,null,null,null,1.7030000000000001,0.81786370526502505]
[null,null,null,null,null,null,null,null,null,null,null,null,null,null,null,null,null,null,null,null,null,null,null,null,1.704,0.81804575052196105]
[null,null,null,null,null,null,null,null,null,null,null,null,null,null,null,null,null,null,null,null,null,null,null,null,1.7050000000000001,0.81822761382463249]
[null,null,null,null,null,null,null,null,null,null,null,null,null,null,null,null,null,null,null,null,null,null,null,null,1.706,0.81840929535490259]
[null,null,null,null,null,null,null,null,null,null,null,null,null,null,null,null,null,null,null,null,null,null,null,null,1.7070000000000001,0.81859079529445289]
[null,null,null,null,null,null,null,null,null,null,null,null,null,null,null,null,null,null,null,null,null,null,null,null,1.708,0.81877211382478343]
[null,null,null,null,null,null,null,null,null,null,null,null,null,null,null,null,null,null,null,null,null,null,null,null,1.7090000000000001,0.81895325112721262]
[null,null,null,null,null,null,null,null,null,null,null,null,null,null,null,null,null,null,null,null,null,null,null,null,1.71,0.8191342073828779]
[null,null,null,null,null,null,null,null,null,null,null,null,null,null,null,null,null,null,null,null,null,null,null,null,1.7110000000000001,0.81931498277273551]
[null,null,null,null,null,null,null,null,null,null,null,null,null,null,null,null,null,null,null,null,null,null,null,null,1.712,0.81949557747756074]
[null,null,null,null,null,null,null,null,null,null,null,null,null,null,null,null,null,null,null,null,null,null,null,null,1.7130000000000001,0.81967599167794858]
[null,null,null,null,null,null,null,null,null,null,null,null,null,null,null,null,null,null,null,null,null,null,null,null,1.714,0.81985622555431292]
[null,null,null,null,null,null,null,null,null,null,null,null,null,null,null,null,null,null,null,null,null,null,null,null,1.7150000000000001,0.82003627928688783]
[null,null,null,null,null,null,null,null,null,null,null,null,null,null,null,null,null,null,null,null,null,null,null,null,1.716,0.82021615305572704]
[null,null,null,null,null,null,null,null,null,null,null,null,null,null,null,null,null,null,null,null,null,null,null,null,1.7170000000000001,0.82039584704070434]
[null,null,null,null,null,null,null,null,null,null,null,null,null,null,null,null,null,null,null,null,null,null,null,null,1.718,0.82057536142151366]
[null,null,null,null,null,null,null,null,null,null,null,null,null,null,null,null,null,null,null,null,null,null,null,null,1.7190000000000001,0.82075469637766951]
[null,null,null,null,null,null,null,null,null,null,null,null,null,null,null,null,null,null,null,null,null,null,null,null,1.72,0.82093385208850678]
[null,null,null,null,null,null,null,null,null,null,null,null,null,null,null,null,null,null,null,null,null,null,null,null,1.7210000000000001,0.82111282873318125]
[null,null,null,null,null,null,null,null,null,null,null,null,null,null,null,null,null,null,null,null,null,null,null,null,1.722,0.82129162649066945]
[null,null,null,null,null,null,null,null,null,null,null,null,null,null,null,null,null,null,null,null,null,null,null,null,1.7230000000000001,0.82147024553976933]
[null,null,null,null,null,null,null,null,null,null,null,null,null,null,null,null,null,null,null,null,null,null,null,null,1.724,0.82164868605909991]
[null,null,null,null,null,null,null,null,null,null,null,null,null,null,null,null,null,null,null,null,null,null,null,null,1.7250000000000001,0.82182694822710156]
[null,null,null,null,null,null,null,null,null,null,null,null,null,null,null,null,null,null,null,null,null,null,null,null,1.726,0.82200503222203669]
[null,null,null,null,null,null,null,null,null,null,null,null,null,null,null,null,null,null,null,null,null,null,null,null,1.7270000000000001,0.82218293822198918]
[null,null,null,null,null,null,null,null,null,null,null,null,null,null,null,null,null,null,null,null,null,null,null,null,1.728,0.82236066640486505]
[null,null,null,null,null,null,null,null,null,null,null,null,null,null,null,null,null,null,null,null,null,null,null,null,1.7290000000000001,{"$f":"1-EXP(-Y1732)","v":0.82253821694839258}]
[null,null,null,null,null,null,null,null,null,null,null,null,null,null,null,null,null,null,null,null,null,null,null,null,1.73,0.82271559003012218]
[null,null,null,null,null,null,null,null,null,null,null,null,null,null,null,null,null,null,null,null,null,null,null,null,1.7310000000000001,0.82289278582742709]
[null,null,null,null,null,null,null,null,null,null,null,null,null,null,null,null,null,null,null,null,null,null,null,null,1.732,0.82306980451750311]
[null,null,null,null,null,null,null,null,null,null,null,null,null,null,null,null,null,null,null,null,null,null,null,null,1.7330000000000001,0.82324664627736888]
[null,null,null,null,null,null,null,null,null,null,null,null,null,null,null,null,null,null,null,null,null,null,null,null,1.734,0.82342331128386614]
[null,null,null,null,null,null,null,null,null,null,null,null,null,null,null,null,null,null,null,null,null,null,null,null,1.7350000000000001,0.82359979971366004]
[null,null,null,null,null,null,null,null,null,null,null,null,null,null,null,null,null,null,null,null,null,null,null,null,1.736,0.82377611174323895]
[null,null,null,null,null,null,null,null,null,null,null,null,null,null,null,null,null,null,null,null,null,null,null,null,1.7370000000000001,0.82395224754891483]
[null,null,null,null,null,null,null,null,null,null,null,null,null,null,null,null,null,null,null,null,null,null,null,null,1.738,0.82412820730682368]
[null,null,null,null,null,null,null,null,null,null,null,null,null,null,null,null,null,null,null,null,null,null,null,null,1.7390000000000001,0.82430399119292508]
[null,null,null,null,null,null,null,null,null,null,null,null,null,null,null,null,null,null,null,null,null,null,null,null,1.74,0.82447959938300319]
[null,null,null,null,null,null,null,null,null,null,null,null,null,null,null,null,null,null,null,null,null,null,null,null,1.7410000000000001,0.82465503205266588]
[null,null,null,null,null,null,null,null,null,null,null,null,null,null,null,null,null,null,null,null,null,null,null,null,1.742,0.82483028937734615]
[null,null,null,null,null,null,null,null,null,null,null,null,null,null,null,null,null,null,null,null,null,null,null,null,1.7430000000000001,0.82500537153230113]
[null,null,null,null,null,null,null,null,null,null,null,null,null,null,null,null,null,null,null,null,null,null,null,null,1.744,0.82518027869261301]
[null,null,null,null,null,null,null,null,null,null,null,null,null,null,null,null,null,null,null,null,null,null,null,null,1.7450000000000001,0.82535501103318909]
[null,null,null,null,null,null,null,null,null,null,null,null,null,null,null,null,null,null,null,null,null,null,null,null,1.746,0.82552956872876171]
[null,null,null,null,null,null,null,null,null,null,null,null,null,null,null,null,null,null,null,null,null,null,null,null,1.7470000000000001,0.82570395195388846]
[null,null,null,null,null,null,null,null,null,null,null,null,null,null,null,null,null,null,null,null,null,null,null,null,1.748,0.82587816088295263]
[null,null,null,null,null,null,null,null,null,null,null,null,null,null,null,null,null,null,null,null,null,null,null,null,1.7490000000000001,0.82605219569016319]
[null,null,null,null,null,null,null,null,null,null,null,null,null,null,null,null,null,null,null,null,null,null,null,null,1.75,0.82622605654955483]
[null,null,null,null,null,null,null,null,null,null,null,null,null,null,null,null,null,null,null,null,null,null,null,null,1.7509999999999999,0.82639974363498869]
[null,null,null,null,null,null,null,null,null,null,null,null,null,null,null,null,null,null,null,null,null,null,null,null,1.752,0.82657325712015162]
[null,null,null,null,null,null,null,null,null,null,null,null,null,null,null,null,null,null,null,null,null,null,null,null,1.7529999999999999,0.82674659717855725]
[null,null,null,null,null,null,null,null,null,null,null,null,null,null,null,null,null,null,null,null,null,null,null,null,1.754,0.82691976398354572]
[null,null,null,null,null,null,null,null,null,null,null,null,null,null,null,null,null,null,null,null,null,null,null,null,1.7549999999999999,0.82709275770828361]
[null,null,null,null,null,null,null,null,null,null,null,null,null,null,null,null,null,null,null,null,null,null,null,null,1.756,0.82726557852576488]
[null,null,null,null,null,null,null,null,null,null,null,null,null,null,null,null,null,null,null,null,null,null,null,null,1.7569999999999999,0.82743822660881028]
[null,null,null,null,null,null,null,null,null,null,null,null,null,null,null,null,null,null,null,null,null,null,null,null,1.758,0.82761070213006782]
[null,null,null,null,null,null,null,null,null,null,null,null,null,null,null,null,null,null,null,null,null,null,null,null,1.7589999999999999,0.82778300526201321]
[null,null,null,null,null,null,null,null,null,null,null,null,null,null,null,null,null,null,null,null,null,null,null,null,1.76,0.82795513617694949]
[null,null,null,null,null,null,null,null,null,null,null,null,null,null,null,null,null,null,null,null,null,null,null,null,1.7609999999999999,0.82812709504700754]
[null,null,null,null,null,null,null,null,null,null,null,null,null,null,null,null,null,null,null,null,null,null,null,null,1.762,0.82829888204414637]
[null,null,null,null,null,null,null,null,null,null,null,null,null,null,null,null,null,null,null,null,null,null,null,null,1.7629999999999999,0.82847049734015299]
[null,null,null,null,null,null,null,null,null,null,null,null,null,null,null,null,null,null,null,null,null,null,null,null,1.764,0.82864194110664258]
[null,null,null,null,null,null,null,null,null,null,null,null,null,null,null,null,null,null,null,null,null,null,null,null,1.7649999999999999,0.82881321351505899]
[null,null,null,null,null,null,null,null,null,null,null,null,null,null,null,null,null,null,null,null,null,null,null,null,1.766,0.82898431473667478]
[null,null,null,null,null,null,null,null,null,null,null,null,null,null,null,null,null,null,null,null,null,null,null,null,1.7669999999999999,0.82915524494259096]
[null,null,null,null,null,null,null,null,null,null,null,null,null,null,null,null,null,null,null,null,null,null,null,null,1.768,0.82932600430373782]
[null,null,null,null,null,null,null,null,null,null,null,null,null,null,null,null,null,null,null,null,null,null,null,null,1.7689999999999999,0.82949659299087486]
[null,null,null,null,null,null,null,null,null,null,null,null,null,null,null,null,null,null,null,null,null,null,null,null,1.77,0.82966701117459052]
[null,null,null,null,null,null,null,null,null,null,null,null,null,null,null,null,null,null,null,null,null,null,null,null,1.7709999999999999,0.82983725902530325]
[null,null,null,null,null,null,null,null,null,null,null,null,null,null,null,null,null,null,null,null,null,null,null,null,1.772,0.83000733671326088]
[null,null,null,null,null,null,null,null,null,null,null,null,null,null,null,null,null,null,null,null,null,null,null,null,1.7729999999999999,0.83017724440854102]
[null,null,null,null,null,null,null,null,null,null,null,null,null,null,null,null,null,null,null,null,null,null,null,null,1.774,0.83034698228105142]
[null,null,null,null,null,null,null,null,null,null,null,null,null,null,null,null,null,null,null,null,null,null,null,null,1.7749999999999999,0.83051655050052986]
[null,null,null,null,null,null,null,null,null,null,null,null,null,null,null,null,null,null,null,null,null,null,null,null,1.776,0.83068594923654482]
[null,null,null,null,null,null,null,null,null,null,null,null,null,null,null,null,null,null,null,null,null,null,null,null,1.7769999999999999,0.83085517865849479]
[null,null,null,null,null,null,null,null,null,null,null,null,null,null,null,null,null,null,null,null,null,null,null,null,1.778,0.83102423893560939]
[null,null,null,null,null,null,null,null,null,null,null,null,null,null,null,null,null,null,null,null,null,null,null,null,1.7789999999999999,0.83119313023694885]
[null,null,null,null,null,null,null,null,null,null,null,null,null,null,null,null,null,null,null,null,null,null,null,null,1.78,0.8313618527314045]
[null,null,null,null,null,null,null,null,null,null,null,null,null,null,null,null,null,null,null,null,null,null,null,null,1.7809999999999999,0.83153040658769872]
[null,null,null,null,null,null,null,null,null,null,null,null,null,null,null,null,null,null,null,null,null,null,null,null,1.782,0.83169879197438568]
[null,null,null,null,null,null,null,null,null,null,null,null,null,null,null,null,null,null,null,null,null,null,null,null,1.7829999999999999,0.83186700905985034]
[null,null,null,null,null,null,null,null,null,null,null,null,null,null,null,null,null,null,null,null,null,null,null,null,1.784,0.83203505801231026]
[null,null,null,null,null,null,null,null,null,null,null,null,null,null,null,null,null,null,null,null,null,null,null,null,1.7849999999999999,0.83220293899981412]
[null,null,null,null,null,null,null,null,null,null,null,null,null,null,null,null,null,null,null,null,null,null,null,null,1.786,0.83237065219024298]
[null,null,null,null,null,null,null,null,null,null,null,null,null,null,null,null,null,null,null,null,null,null,null,null,1.7869999999999999,0.83253819775131011]
[null,null,null,null,null,null,null,null,null,null,null,null,null,null,null,null,null,null,null,null,null,null,null,null,1.788,0.83270557585056104]
[null,null,null,null,null,null,null,null,null,null,null,null,null,null,null,null,null,null,null,null,null,null,null,null,1.7889999999999999,0.83287278665537379]
[null,null,null,null,null,null,null,null,null,null,null,null,null,null,null,null,null,null,null,null,null,null,null,null,1.79,0.83303983033295936]
[null,null,null,null,null,null,null,null,null,null,null,null,null,null,null,null,null,null,null,null,null,null,null,null,1.7909999999999999,0.83320670705036126]
[null,null,null,null,null,null,null,null,null,null,null,null,null,null,null,null,null,null,null,null,null,null,null,null,1.792,0.83337341697445633]
[null,null,null,null,null,null,null,null,null,null,null,null,null,null,null,null,null,null,null,null,null,null,null,null,1.7929999999999999,{"$f":"1-EXP(-Y1796)","v":0.83353996027195454}]
[null,null,null,null,null,null,null,null,null,null,null,null,null,null,null,null,null,null,null,null,null,null,null,null,1.794,0.83370633710939912]
[null,null,null,null,null,null,null,null,null,null,null,null,null,null,null,null,null,null,null,null,null,null,null,null,1.7949999999999999,0.83387254765316698]
[null,null,null,null,null,null,null,null,null,null,null,null,null,null,null,null,null,null,null,null,null,null,null,null,1.796,0.83403859206946862]
[null,null,null,null,null,null,null,null,null,null,null,null,null,null,null,null,null,null,null,null,null,null,null,null,1.7969999999999999,0.83420447052434854]
[null,null,null,null,null,null,null,null,null,null,null,null,null,null,null,null,null,null,null,null,null,null,null,null,1.798,0.83437018318368505]
[null,null,null,null,null,null,null,null,null,null,null,null,null,null,null,null,null,null,null,null,null,null,null,null,1.7989999999999999,0.83453573021319105]
[null,null,null,null,null,null,null,null,null,null,null,null,null,null,null,null,null,null,null,null,null,null,null,null,1.8,0.83470111177841344]
[null,null,null,null,null,null,null,null,null,null,null,null,null,null,null,null,null,null,null,null,null,null,null,null,1.8009999999999999,0.83486632804473382]
[null,null,null,null,null,null,null,null,null,null,null,null,null,null,null,null,null,null,null,null,null,null,null,null,1.802,0.83503137917736858]
[null,null,null,null,null,null,null,null,null,null,null,null,null,null,null,null,null,null,null,null,null,null,null,null,1.8029999999999999,0.8351962653413687]
[null,null,null,null,null,null,null,null,null,null,null,null,null,null,null,null,null,null,null,null,null,null,null,null,1.804,0.8353609867016204]
[null,null,null,null,null,null,null,null,null,null,null,null,null,null,null,null,null,null,null,null,null,null,null,null,1.8049999999999999,0.83552554342284513]
[null,null,null,null,null,null,null,null,null,null,null,null,null,null,null,null,null,null,null,null,null,null,null,null,1.806,0.83568993566959948]
[null,null,null,null,null,null,null,null,null,null,null,null,null,null,null,null,null,null,null,null,null,null,null,null,1.8069999999999999,0.83585416360627596]
[null,null,null,null,null,null,null,null,null,null,null,null,null,null,null,null,null,null,null,null,null,null,null,null,1.8080000000000001,0.8360182273971023]
[null,null,null,null,null,null,null,null,null,null,null,null,null,null,null,null,null,null,null,null,null,null,null,null,1.8089999999999999,0.83618212720614227]
[null,null,null,null,null,null,null,null,null,null,null,null,null,null,null,null,null,null,null,null,null,null,null,null,1.81,0.83634586319729598]
[null,null,null,null,null,null,null,null,null,null,null,null,null,null,null,null,null,null,null,null,null,null,null,null,1.8109999999999999,0.83650943553429913]
[null,null,null,null,null,null,null,null,null,null,null,null,null,null,null,null,null,null,null,null,null,null,null,null,1.8120000000000001,0.8366728443807242]
[null,null,null,null,null,null,null,null,null,null,null,null,null,null,null,null,null,null,null,null,null,null,null,null,1.8129999999999999,0.83683608989998004]
[null,null,null,null,null,null,null,null,null,null,null,null,null,null,null,null,null,null,null,null,null,null,null,null,1.8140000000000001,0.83699917225531228]
[null,null,null,null,null,null,null,null,null,null,null,null,null,null,null,null,null,null,null,null,null,null,null,null,1.8149999999999999,0.83716209160980304]
[null,null,null,null,null,null,null,null,null,null,null,null,null,null,null,null,null,null,null,null,null,null,null,null,1.8160000000000001,0.83732484812637198]
[null,null,null,null,null,null,null,null,null,null,null,null,null,null,null,null,null,null,null,null,null,null,null,null,1.8169999999999999,0.83748744196777536]
[null,null,null,null,null,null,null,null,null,null,null,null,null,null,null,null,null,null,null,null,null,null,null,null,1.8180000000000001,0.83764987329660723]
[null,null,null,null,null,null,null,null,null,null,null,null,null,null,null,null,null,null,null,null,null,null,null,null,1.819,0.83781214227529888]
[null,null,null,null,null,null,null,null,null,null,null,null,null,null,null,null,null,null,null,null,null,null,null,null,1.82,0.83797424906611928]
[null,null,null,null,null,null,null,null,null,null,null,null,null,null,null,null,null,null,null,null,null,null,null,null,1.821,0.83813619383117521]
[null,null,null,null,null,null,null,null,null,null,null,null,null,null,null,null,null,null,null,null,null,null,null,null,1.8220000000000001,0.83829797673241147]
[null,null,null,null,null,null,null,null,null,null,null,null,null,null,null,null,null,null,null,null,null,null,null,null,1.823,0.83845959793161107]
[null,null,null,null,null,null,null,null,null,null,null,null,null,null,null,null,null,null,null,null,null,null,null,null,1.8240000000000001,0.83862105759039507]
[null,null,null,null,null,null,null,null,null,null,null,null,null,null,null,null,null,null,null,null,null,null,null,null,1.825,0.83878235587022321]
[null,null,null,null,null,null,null,null,null,null,null,null,null,null,null,null,null,null,null,null,null,null,null,null,1.8260000000000001,0.83894349293239379]
[null,null,null,null,null,null,null,null,null,null,null,null,null,null,null,null,null,null,null,null,null,null,null,null,1.827,0.83910446893804391]
[null,null,null,null,null,null,null,null,null,null,null,null,null,null,null,null,null,null,null,null,null,null,null,null,1.8280000000000001,0.8392652840481496]
[null,null,null,null,null,null,null,null,null,null,null,null,null,null,null,null,null,null,null,null,null,null,null,null,1.829,0.83942593842352586]
[null,null,null,null,null,null,null,null,null,null,null,null,null,null,null,null,null,null,null,null,null,null,null,null,1.83,0.83958643222482721]
[null,null,null,null,null,null,null,null,null,null,null,null,null,null,null,null,null,null,null,null,null,null,null,null,1.831,0.83974676561254746]
[null,null,null,null,null,null,null,null,null,null,null,null,null,null,null,null,null,null,null,null,null,null,null,null,1.8320000000000001,0.83990693874701994]
[null,null,null,null,null,null,null,null,null,null,null,null,null,null,null,null,null,null,null,null,null,null,null,null,1.833,0.84006695178841773]
[null,null,null,null,null,null,null,null,null,null,null,null,null,null,null,null,null,null,null,null,null,null,null,null,1.8340000000000001,0.84022680489675405]
[null,null,null,null,null,null,null,null,null,null,null,null,null,null,null,null,null,null,null,null,null,null,null,null,1.835,0.84038649823188194]
[null,null,null,null,null,null,null,null,null,null,null,null,null,null,null,null,null,null,null,null,null,null,null,null,1.8360000000000001,0.84054603195349487]
[null,null,null,null,null,null,null,null,null,null,null,null,null,null,null,null,null,null,null,null,null,null,null,null,1.837,0.84070540622112633]
[null,null,null,null,null,null,null,null,null,null,null,null,null,null,null,null,null,null,null,null,null,null,null,null,1.8380000000000001,0.84086462119415084]
[null,null,null,null,null,null,null,null,null,null,null,null,null,null,null,null,null,null,null,null,null,null,null,null,1.839,0.84102367703178316]
[null,null,null,null,null,null,null,null,null,null,null,null,null,null,null,null,null,null,null,null,null,null,null,null,1.84,0.84118257389307938]
[null,null,null,null,null,null,null,null,null,null,null,null,null,null,null,null,null,null,null,null,null,null,null,null,1.841,0.84134131193693618]
[null,null,null,null,null,null,null,null,null,null,null,null,null,null,null,null,null,null,null,null,null,null,null,null,1.8420000000000001,0.84149989132209169]
[null,null,null,null,null,null,null,null,null,null,null,null,null,null,null,null,null,null,null,null,null,null,null,null,1.843,0.84165831220712528]
[null,null,null,null,null,null,null,null,null,null,null,null,null,null,null,null,null,null,null,null,null,null,null,null,1.8440000000000001,0.84181657475045801]
[null,null,null,null,null,null,null,null,null,null,null,null,null,null,null,null,null,null,null,null,null,null,null,null,1.845,0.84197467911035218]
[null,null,null,null,null,null,null,null,null,null,null,null,null,null,null,null,null,null,null,null,null,null,null,null,1.8460000000000001,0.84213262544491241]
[null,null,null,null,null,null,null,null,null,null,null,null,null,null,null,null,null,null,null,null,null,null,null,null,1.847,0.84229041391208481]
[null,null,null,null,null,null,null,null,null,null,null,null,null,null,null,null,null,null,null,null,null,null,null,null,1.8480000000000001,0.84244804466965806]
[null,null,null,null,null,null,null,null,null,null,null,null,null,null,null,null,null,null,null,null,null,null,null,null,1.849,0.84260551787526283]
[null,null,null,null,null,null,null,null,null,null,null,null,null,null,null,null,null,null,null,null,null,null,null,null,1.85,0.84276283368637239]
[null,null,null,null,null,null,null,null,null,null,null,null,null,null,null,null,null,null,null,null,null,null,null,null,1.851,0.84291999226030256]
[null,null,null,null,null,null,null,null,null,null,null,null,null,null,null,null,null,null,null,null,null,null,null,null,1.8520000000000001,0.84307699375421175]
[null,null,null,null,null,null,null,null,null,null,null,null,null,null,null,null,null,null,null,null,null,null,null,null,1.853,0.84323383832510168]
[null,null,null,null,null,null,null,null,null,null,null,null,null,null,null,null,null,null,null,null,null,null,null,null,1.8540000000000001,0.84339052612981702]
[null,null,null,null,null,null,null,null,null,null,null,null,null,null,null,null,null,null,null,null,null,null,null,null,1.855,0.8435470573250452]
[null,null,null,null,null,null,null,null,null,null,null,null,null,null,null,null,null,null,null,null,null,null,null,null,1.8560000000000001,0.8437034320673179]
[null,null,null,null,null,null,null,null,null,null,null,null,null,null,null,null,null,null,null,null,null,null,null,null,1.857,{"$f":"1-EXP(-Y1860)","v":0.84385965051300948}]
[null,null,null,null,null,null,null,null,null,null,null,null,null,null,null,null,null,null,null,null,null,null,null,null,1.8580000000000001,0.84401571281833865]
[null,null,null,null,null,null,null,null,null,null,null,null,null,null,null,null,null,null,null,null,null,null,null,null,1.859,0.84417161913936756]
[null,null,null,null,null,null,null,null,null,null,null,null,null,null,null,null,null,null,null,null,null,null,null,null,1.86,0.84432736963200272]
[null,null,null,null,null,null,null,null,null,null,null,null,null,null,null,null,null,null,null,null,null,null,null,null,1.861,0.84448296445199444]
[null,null,null,null,null,null,null,null,null,null,null,null,null,null,null,null,null,null,null,null,null,null,null,null,1.8620000000000001,0.84463840375493771]
[null,null,null,null,null,null,null,null,null,null,null,null,null,null,null,null,null,null,null,null,null,null,null,null,1.863,0.84479368769627183]
[null,null,null,null,null,null,null,null,null,null,null,null,null,null,null,null,null,null,null,null,null,null,null,null,1.8640000000000001,0.84494881643128061]
[null,null,null,null,null,null,null,null,null,null,null,null,null,null,null,null,null,null,null,null,null,null,null,null,1.865,0.84510379011509296]
[null,null,null,null,null,null,null,null,null,null,null,null,null,null,null,null,null,null,null,null,null,null,null,null,1.8660000000000001,0.84525860890268256]
[null,null,null,null,null,null,null,null,null,null,null,null,null,null,null,null,null,null,null,null,null,null,null,null,1.867,0.84541327294886803]
[null,null,null,null,null,null,null,null,null,null,null,null,null,null,null,null,null,null,null,null,null,null,null,null,1.8680000000000001,0.84556778240831365]
[null,null,null,null,null,null,null,null,null,null,null,null,null,null,null,null,null,null,null,null,null,null,null,null,1.869,0.84572213743552882]
[null,null,null,null,null,null,null,null,null,null,null,null,null,null,null,null,null,null,null,null,null,null,null,null,1.87,0.84587633818486863]
[null,null,null,null,null,null,null,null,null,null,null,null,null,null,null,null,null,null,null,null,null,null,null,null,1.871,0.84603038481053372]
[null,null,null,null,null,null,null,null,null,null,null,null,null,null,null,null,null,null,null,null,null,null,null,null,1.8720000000000001,0.84618427746657077]
[null,null,null,null,null,null,null,null,null,null,null,null,null,null,null,null,null,null,null,null,null,null,null,null,1.873,0.84633801630687244]
[null,null,null,null,null,null,null,null,null,null,null,null,null,null,null,null,null,null,null,null,null,null,null,null,1.8740000000000001,0.84649160148517766]
[null,null,null,null,null,null,null,null,null,null,null,null,null,null,null,null,null,null,null,null,null,null,null,null,1.875,0.84664503315507156]
[null,null,null,null,null,null,null,null,null,null,null,null,null,null,null,null,null,null,null,null,null,null,null,null,1.8759999999999999,0.84679831146998574]
[null,null,null,null,null,null,null,null,null,null,null,null,null,null,null,null,null,null,null,null,null,null,null,null,1.877,0.84695143658319882]
[null,null,null,null,null,null,null,null,null,null,null,null,null,null,null,null,null,null,null,null,null,null,null,null,1.8779999999999999,0.84710440864783565]
[null,null,null,null,null,null,null,null,null,null,null,null,null,null,null,null,null,null,null,null,null,null,null,null,1.879,0.8472572278168683]
[null,null,null,null,null,null,null,null,null,null,null,null,null,null,null,null,null,null,null,null,null,null,null,null,1.88,0.84740989424311608]
[null,null,null,null,null,null,null,null,null,null,null,null,null,null,null,null,null,null,null,null,null,null,null,null,1.881,0.84756240807924543]
[null,null,null,null,null,null,null,null,null,null,null,null,null,null,null,null,null,null,null,null,null,null,null,null,1.8819999999999999,0.84771476947777014]
[null,null,null,null,null,null,null,null,null,null,null,null,null,null,null,null,null,null,null,null,null,null,null,null,1.883,0.84786697859105165]
[null,null,null,null,null,null,null,null,null,null,null,null,null,null,null,null,null,null,null,null,null,null,null,null,1.8839999999999999,0.8480190355712991]
[null,null,null,null,null,null,null,null,null,null,null,null,null,null,null,null,null,null,null,null,null,null,null,null,1.885,0.84817094057056941]
[null,null,null,null,null,null,null,null,null,null,null,null,null,null,null,null,null,null,null,null,null,null,null,null,1.8859999999999999,0.84832269374076763]
[null,null,null,null,null,null,null,null,null,null,null,null,null,null,null,null,null,null,null,null,null,null,null,null,1.887,0.84847429523364704]
[null,null,null,null,null,null,null,null,null,null,null,null,null,null,null,null,null,null,null,null,null,null,null,null,1.8879999999999999,0.84862574520080891]
[null,null,null,null,null,null,null,null,null,null,null,null,null,null,null,null,null,null,null,null,null,null,null,null,1.889,0.84877704379370345]
[null,null,null,null,null,null,null,null,null,null,null,null,null,null,null,null,null,null,null,null,null,null,null,null,1.89,0.84892819116362916]
[null,null,null,null,null,null,null,null,null,null,null,null,null,null,null,null,null,null,null,null,null,null,null,null,1.891,0.84907918746173339]
[null,null,null,null,null,null,null,null,null,null,null,null,null,null,null,null,null,null,null,null,null,null,null,null,1.8919999999999999,0.84923003283901255]
[null,null,null,null,null,null,null,null,null,null,null,null,null,null,null,null,null,null,null,null,null,null,null,null,1.893,0.8493807274463121]
[null,null,null,null,null,null,null,null,null,null,null,null,null,null,null,null,null,null,null,null,null,null,null,null,1.8939999999999999,0.84953127143432638]
[null,null,null,null,null,null,null,null,null,null,null,null,null,null,null,null,null,null,null,null,null,null,null,null,1.895,0.84968166495359965]
[null,null,null,null,null,null,null,null,null,null,null,null,null,null,null,null,null,null,null,null,null,null,null,null,1.8959999999999999,0.84983190815452536]
[null,null,null,null,null,null,null,null,null,null,null,null,null,null,null,null,null,null,null,null,null,null,null,null,1.897,0.84998200118734668]
[null,null,null,null,null,null,null,null,null,null,null,null,null,null,null,null,null,null,null,null,null,null,null,null,1.8979999999999999,0.85013194420215665]
[null,null,null,null,null,null,null,null,null,null,null,null,null,null,null,null,null,null,null,null,null,null,null,null,1.899,0.85028173734889834]
[null,null,null,null,null,null,null,null,null,null,null,null,null,null,null,null,null,null,null,null,null,null,null,null,1.9,0.85043138077736491]
[null,null,null,null,null,null,null,null,null,null,null,null,null,null,null,null,null,null,null,null,null,null,null,null,1.901,0.85058087463719989]
[null,null,null,null,null,null,null,null,null,null,null,null,null,null,null,null,null,null,null,null,null,null,null,null,1.9019999999999999,0.85073021907789692]
[null,null,null,null,null,null,null,null,null,null,null,null,null,null,null,null,null,null,null,null,null,null,null,null,1.903,0.85087941424880065]
[null,null,null,null,null,null,null,null,null,null,null,null,null,null,null,null,null,null,null,null,null,null,null,null,1.9039999999999999,0.85102846029910617]
[null,null,null,null,null,null,null,null,null,null,null,null,null,null,null,null,null,null,null,null,null,null,null,null,1.905,0.8511773573778596]
[null,null,null,null,null,null,null,null,null,null,null,null,null,null,null,null,null,null,null,null,null,null,null,null,1.9059999999999999,0.85132610563395805]
[null,null,null,null,null,null,null,null,null,null,null,null,null,null,null,null,null,null,null,null,null,null,null,null,1.907,0.85147470521614965]
[null,null,null,null,null,null,null,null,null,null,null,null,null,null,null,null,null,null,null,null,null,null,null,null,1.9079999999999999,0.85162315627303409]
[null,null,null,null,null,null,null,null,null,null,null,null,null,null,null,null,null,null,null,null,null,null,null,null,1.909,0.8517714589530625]
[null,null,null,null,null,null,null,null,null,null,null,null,null,null,null,null,null,null,null,null,null,null,null,null,1.91,0.85191961340453748]
[null,null,null,null,null,null,null,null,null,null,null,null,null,null,null,null,null,null,null,null,null,null,null,null,1.911,0.85206761977561363]
[null,null,null,null,null,null,null,null,null,null,null,null,null,null,null,null,null,null,null,null,null,null,null,null,1.9119999999999999,0.85221547821429711]
[null,null,null,null,null,null,null,null,null,null,null,null,null,null,null,null,null,null,null,null,null,null,null,null,1.913,0.85236318886844653]
[null,null,null,null,null,null,null,null,null,null,null,null,null,null,null,null,null,null,null,null,null,null,null,null,1.9139999999999999,0.85251075188577252]
[null,null,null,null,null,null,null,null,null,null,null,null,null,null,null,null,null,null,null,null,null,null,null,null,1.915,0.85265816741383804]
[null,null,null,null,null,null,null,null,null,null,null,null,null,null,null,null,null,null,null,null,null,null,null,null,1.9159999999999999,0.85280543560005873]
[null,null,null,null,null,null,null,null,null,null,null,null,null,null,null,null,null,null,null,null,null,null,null,null,1.917,0.85295255659170277]
[null,null,null,null,null,null,null,null,null,null,null,null,null,null,null,null,null,null,null,null,null,null,null,null,1.9179999999999999,0.85309953053589116]
[null,null,null,null,null,null,null,null,null,null,null,null,null,null,null,null,null,null,null,null,null,null,null,null,1.919,0.85324635757959788]
[null,null,null,null,null,null,null,null,null,null,null,null,null,null,null,null,null,null,null,null,null,null,null,null,1.92,0.85339303786964982]
[null,null,null,null,null,null,null,null,null,null,null,null,null,null,null,null,null,null,null,null,null,null,null,null,1.921,{"$f":"1-EXP(-Y1924)","v":0.85353957155272753}]
[null,null,null,null,null,null,null,null,null,null,null,null,null,null,null,null,null,null,null,null,null,null,null,null,1.9219999999999999,0.85368595877536457]
[null,null,null,null,null,null,null,null,null,null,null,null,null,null,null,null,null,null,null,null,null,null,null,null,1.923,0.85383219968394819]
[null,null,null,null,null,null,null,null,null,null,null,null,null,null,null,null,null,null,null,null,null,null,null,null,1.9239999999999999,0.85397829442471929]
[null,null,null,null,null,null,null,null,null,null,null,null,null,null,null,null,null,null,null,null,null,null,null,null,1.925,0.85412424314377267]
[null,null,null,null,null,null,null,null,null,null,null,null,null,null,null,null,null,null,null,null,null,null,null,null,1.9259999999999999,0.85427004598705691]
[null,null,null,null,null,null,null,null,null,null,null,null,null,null,null,null,null,null,null,null,null,null,null,null,1.927,0.85441570310037518]
[null,null,null,null,null,null,null,null,null,null,null,null,null,null,null,null,null,null,null,null,null,null,null,null,1.9279999999999999,0.85456121462938428]
[null,null,null,null,null,null,null,null,null,null,null,null,null,null,null,null,null,null,null,null,null,null,null,null,1.929,0.85470658071959593]
[null,null,null,null,null,null,null,null,null,null,null,null,null,null,null,null,null,null,null,null,null,null,null,null,1.93,0.8548518015163763]
[null,null,null,null,null,null,null,null,null,null,null,null,null,null,null,null,null,null,null,null,null,null,null,null,1.931,0.85499687716494599]
[null,null,null,null,null,null,null,null,null,null,null,null,null,null,null,null,null,null,null,null,null,null,null,null,1.9319999999999999,0.85514180781038074]
[null,null,null,null,null,null,null,null,null,null,null,null,null,null,null,null,null,null,null,null,null,null,null,null,1.9330000000000001,0.85528659359761128]
[null,null,null,null,null,null,null,null,null,null,null,null,null,null,null,null,null,null,null,null,null,null,null,null,1.9339999999999999,0.85543123467142335]
[null,null,null,null,null,null,null,null,null,null,null,null,null,null,null,null,null,null,null,null,null,null,null,null,1.9350000000000001,0.85557573117645802]
[null,null,null,null,null,null,null,null,null,null,null,null,null,null,null,null,null,null,null,null,null,null,null,null,1.9359999999999999,0.85572008325721183]
[null,null,null,null,null,null,null,null,null,null,null,null,null,null,null,null,null,null,null,null,null,null,null,null,1.9370000000000001,0.85586429105803696]
[null,null,null,null,null,null,null,null,null,null,null,null,null,null,null,null,null,null,null,null,null,null,null,null,1.9379999999999999,0.85600835472314096]
[null,null,null,null,null,null,null,null,null,null,null,null,null,null,null,null,null,null,null,null,null,null,null,null,1.9390000000000001,0.85615227439658781]
[null,null,null,null,null,null,null,null,null,null,null,null,null,null,null,null,null,null,null,null,null,null,null,null,1.94,0.85629605022229704]
[null,null,null,null,null,null,null,null,null,null,null,null,null,null,null,null,null,null,null,null,null,null,null,null,1.9410000000000001,0.85643968234404455]
[null,null,null,null,null,null,null,null,null,null,null,null,null,null,null,null,null,null,null,null,null,null,null,null,1.9419999999999999,0.85658317090546243]
[null,null,null,null,null,null,null,null,null,null,null,null,null,null,null,null,null,null,null,null,null,null,null,null,1.9430000000000001,0.85672651605003924]
[null,null,null,null,null,null,null,null,null,null,null,null,null,null,null,null,null,null,null,null,null,null,null,null,1.944,0.85686971792112021]
[null,null,null,null,null,null,null,null,null,null,null,null,null,null,null,null,null,null,null,null,null,null,null,null,1.9450000000000001,0.85701277666190712]
[null,null,null,null,null,null,null,null,null,null,null,null,null,null,null,null,null,null,null,null,null,null,null,null,1.946,0.85715569241545875]
[null,null,null,null,null,null,null,null,null,null,null,null,null,null,null,null,null,null,null,null,null,null,null,null,1.9470000000000001,0.85729846532469101]
[null,null,null,null,null,null,null,null,null,null,null,null,null,null,null,null,null,null,null,null,null,null,null,null,1.948,0.85744109553237657]
[null,null,null,null,null,null,null,null,null,null,null,null,null,null,null,null,null,null,null,null,null,null,null,null,1.9490000000000001,0.8575835831811458]
[null,null,null,null,null,null,null,null,null,null,null,null,null,null,null,null,null,null,null,null,null,null,null,null,1.95,0.85772592841348638]
[null,null,null,null,null,null,null,null,null,null,null,null,null,null,null,null,null,null,null,null,null,null,null,null,1.9510000000000001,0.85786813137174356]
[null,null,null,null,null,null,null,null,null,null,null,null,null,null,null,null,null,null,null,null,null,null,null,null,1.952,0.85801019219812025]
[null,null,null,null,null,null,null,null,null,null,null,null,null,null,null,null,null,null,null,null,null,null,null,null,1.9530000000000001,0.85815211103467726]
[null,null,null,null,null,null,null,null,null,null,null,null,null,null,null,null,null,null,null,null,null,null,null,null,1.954,0.85829388802333351]
[null,null,null,null,null,null,null,null,null,null,null,null,null,null,null,null,null,null,null,null,null,null,null,null,1.9550000000000001,0.85843552330586603]
[null,null,null,null,null,null,null,null,null,null,null,null,null,null,null,null,null,null,null,null,null,null,null,null,1.956,0.85857701702390998]
[null,null,null,null,null,null,null,null,null,null,null,null,null,null,null,null,null,null,null,null,null,null,null,null,1.9570000000000001,0.85871836931895917]
[null,null,null,null,null,null,null,null,null,null,null,null,null,null,null,null,null,null,null,null,null,null,null,null,1.958,0.85885958033236587]
[null,null,null,null,null,null,null,null,null,null,null,null,null,null,null,null,null,null,null,null,null,null,null,null,1.9590000000000001,0.85900065020534122]
[null,null,null,null,null,null,null,null,null,null,null,null,null,null,null,null,null,null,null,null,null,null,null,null,1.96,0.85914157907895494]
[null,null,null,null,null,null,null,null,null,null,null,null,null,null,null,null,null,null,null,null,null,null,null,null,1.9610000000000001,0.85928236709413608]
[null,null,null,null,null,null,null,null,null,null,null,null,null,null,null,null,null,null,null,null,null,null,null,null,1.962,0.85942301439167257]
[null,null,null,null,null,null,null,null,null,null,null,null,null,null,null,null,null,null,null,null,null,null,null,null,1.9630000000000001,0.85956352111221179]
[null,null,null,null,null,null,null,null,null,null,null,null,null,null,null,null,null,null,null,null,null,null,null,null,1.964,0.85970388739626036]
[null,null,null,null,null,null,null,null,null,null,null,null,null,null,null,null,null,null,null,null,null,null,null,null,1.9650000000000001,0.85984411338418465]
[null,null,null,null,null,null,null,null,null,null,null,null,null,null,null,null,null,null,null,null,null,null,null,null,1.966,0.85998419921621061]
[null,null,null,null,null,null,null,null,null,null,null,null,null,null,null,null,null,null,null,null,null,null,null,null,1.9670000000000001,0.86012414503242418]
[null,null,null,null,null,null,null,null,null,null,null,null,null,null,null,null,null,null,null,null,null,null,null,null,1.968,0.86026395097277109]
[null,null,null,null,null,null,null,null,null,null,null,null,null,null,null,null,null,null,null,null,null,null,null,null,1.9690000000000001,0.86040361717705727]
[null,null,null,null,null,null,null,null,null,null,null,null,null,null,null,null,null,null,null,null,null,null,null,null,1.97,0.86054314378494912]
[null,null,null,null,null,null,null,null,null,null,null,null,null,null,null,null,null,null,null,null,null,null,null,null,1.9710000000000001,0.86068253093597302]
[null,null,null,null,null,null,null,null,null,null,null,null,null,null,null,null,null,null,null,null,null,null,null,null,1.972,0.86082177876951627]
[null,null,null,null,null,null,null,null,null,null,null,null,null,null,null,null,null,null,null,null,null,null,null,null,1.9730000000000001,0.86096088742482668]
[null,null,null,null,null,null,null,null,null,null,null,null,null,null,null,null,null,null,null,null,null,null,null,null,1.974,0.86109985704101299]
[null,null,null,null,null,null,null,null,null,null,null,null,null,null,null,null,null,null,null,null,null,null,null,null,1.9750000000000001,0.86123868775704482]
[null,null,null,null,null,null,null,null,null,null,null,null,null,null,null,null,null,null,null,null,null,null,null,null,1.976,0.86137737971175266]
[null,null,null,null,null,null,null,null,null,null,null,null,null,null,null,null,null,null,null,null,null,null,null,null,1.9770000000000001,0.86151593304382879]
[null,null,null,null,null,null,null,null,null,null,null,null,null,null,null,null,null,null,null,null,null,null,null,null,1.978,0.86165434789182638]
[null,null,null,null,null,null,null,null,null,null,null,null,null,null,null,null,null,null,null,null,null,null,null,null,1.9790000000000001,0.86179262439416038]
[null,null,null,null,null,null,null,null,null,null,null,null,null,null,null,null,null,null,null,null,null,null,null,null,1.98,0.86193076268910718]
[null,null,null,null,null,null,null,null,null,null,null,null,null,null,null,null,null,null,null,null,null,null,null,null,1.9810000000000001,0.86206876291480516]
[null,null,null,null,null,null,null,null,null,null,null,null,null,null,null,null,null,null,null,null,null,null,null,null,1.982,0.86220662520925462]
[null,null,null,null,null,null,null,null,null,null,null,null,null,null,null,null,null,null,null,null,null,null,null,null,1.9830000000000001,0.86234434971031781]
[null,null,null,null,null,null,null,null,null,null,null,null,null,null,null,null,null,null,null,null,null,null,null,null,1.984,0.86248193655571925]
[null,null,null,null,null,null,null,null,null,null,null,null,null,null,null,null,null,null,null,null,null,null,null,null,1.9850000000000001,{"$f":"1-EXP(-Y1988)","v":0.86261938588304576}]
[null,null,null,null,null,null,null,null,null,null,null,null,null,null,null,null,null,null,null,null,null,null,null,null,1.986,0.86275669782974673]
[null,null,null,null,null,null,null,null,null,null,null,null,null,null,null,null,null,null,null,null,null,null,null,null,1.9870000000000001,0.8628938725331341]
[null,null,null,null,null,null,null,null,null,null,null,null,null,null,null,null,null,null,null,null,null,null,null,null,1.988,0.86303091013038247]
[null,null,null,null,null,null,null,null,null,null,null,null,null,null,null,null,null,null,null,null,null,null,null,null,1.9890000000000001,0.86316781075852966]
[null,null,null,null,null,null,null,null,null,null,null,null,null,null,null,null,null,null,null,null,null,null,null,null,1.99,0.86330457455447618]
[null,null,null,null,null,null,null,null,null,null,null,null,null,null,null,null,null,null,null,null,null,null,null,null,1.9910000000000001,0.86344120165498583]
[null,null,null,null,null,null,null,null,null,null,null,null,null,null,null,null,null,null,null,null,null,null,null,null,1.992,0.86357769219668579]
[null,null,null,null,null,null,null,null,null,null,null,null,null,null,null,null,null,null,null,null,null,null,null,null,1.9930000000000001,0.86371404631606663]
[null,null,null,null,null,null,null,null,null,null,null,null,null,null,null,null,null,null,null,null,null,null,null,null,1.994,0.86385026414948229]
[null,null,null,null,null,null,null,null,null,null,null,null,null,null,null,null,null,null,null,null,null,null,null,null,1.9950000000000001,0.86398634583315082]
[null,null,null,null,null,null,null,null,null,null,null,null,null,null,null,null,null,null,null,null,null,null,null,null,1.996,0.86412229150315389]
[null,null,null,null,null,null,null,null,null,null,null,null,null,null,null,null,null,null,null,null,null,null,null,null,1.9970000000000001,0.86425810129543712]
[null,null,null,null,null,null,null,null,null,null,null,null,null,null,null,null,null,null,null,null,null,null,null,null,1.998,0.8643937753458103]
[null,null,null,null,null,null,null,null,null,null,null,null,null,null,null,null,null,null,null,null,null,null,null,null,1.9990000000000001,0.86452931378994757]
[null,null,null,null,null,null,null,null,null,null,null,null,null,null,null,null,null,null,null,null,null,null,null,null,2,0.8646647167633873]
[null,null,null,null,null,null,null,null,null,null,null,null,null,null,null,null,null,null,null,null,null,null,null,null,2.0009999999999999,0.8647999844015325]
[null,null,null,null,null,null,null,null,null,null,null,null,null,null,null,null,null,null,null,null,null,null,null,null,2.0019999999999998,0.86493511683965085]
[null,null,null,null,null,null,null,null,null,null,null,null,null,null,null,null,null,null,null,null,null,null,null,null,2.0030000000000001,0.86507011421287494]
[null,null,null,null,null,null,null,null,null,null,null,null,null,null,null,null,null,null,null,null,null,null,null,null,2.004,0.86520497665620177]
[null,null,null,null,null,null,null,null,null,null,null,null,null,null,null,null,null,null,null,null,null,null,null,null,2.0049999999999999,0.86533970430449414]
[null,null,null,null,null,null,null,null,null,null,null,null,null,null,null,null,null,null,null,null,null,null,null,null,2.0059999999999998,0.8654742972924796]
[null,null,null,null,null,null,null,null,null,null,null,null,null,null,null,null,null,null,null,null,null,null,null,null,2.0070000000000001,0.86560875575475116]
[null,null,null,null,null,null,null,null,null,null,null,null,null,null,null,null,null,null,null,null,null,null,null,null,2.008,0.86574307982576715]
[null,null,null,null,null,null,null,null,null,null,null,null,null,null,null,null,null,null,null,null,null,null,null,null,2.0089999999999999,0.86587726963985179]
[null,null,null,null,null,null,null,null,null,null,null,null,null,null,null,null,null,null,null,null,null,null,null,null,2.0099999999999998,0.86601132533119496]
[null,null,null,null,null,null,null,null,null,null,null,null,null,null,null,null,null,null,null,null,null,null,null,null,2.0110000000000001,0.86614524703385243]
[null,null,null,null,null,null,null,null,null,null,null,null,null,null,null,null,null,null,null,null,null,null,null,null,2.012,0.86627903488174562]
[null,null,null,null,null,null,null,null,null,null,null,null,null,null,null,null,null,null,null,null,null,null,null,null,2.0129999999999999,0.86641268900866253]
[null,null,null,null,null,null,null,null,null,null,null,null,null,null,null,null,null,null,null,null,null,null,null,null,2.0139999999999998,0.86654620954825734]
[null,null,null,null,null,null,null,null,null,null,null,null,null,null,null,null,null,null,null,null,null,null,null,null,2.0150000000000001,0.86667959663405059]
[null,null,null,null,null,null,null,null,null,null,null,null,null,null,null,null,null,null,null,null,null,null,null,null,2.016,0.86681285039942946]
[null,null,null,null,null,null,null,null,null,null,null,null,null,null,null,null,null,null,null,null,null,null,null,null,2.0169999999999999,0.86694597097764747]
[null,null,null,null,null,null,null,null,null,null,null,null,null,null,null,null,null,null,null,null,null,null,null,null,2.0179999999999998,0.86707895850182548]
[null,null,null,null,null,null,null,null,null,null,null,null,null,null,null,null,null,null,null,null,null,null,null,null,2.0190000000000001,0.86721181310495088]
[null,null,null,null,null,null,null,null,null,null,null,null,null,null,null,null,null,null,null,null,null,null,null,null,2.02,0.86734453491987828]
[null,null,null,null,null,null,null,null,null,null,null,null,null,null,null,null,null,null,null,null,null,null,null,null,2.0209999999999999,0.86747712407932953]
[null,null,null,null,null,null,null,null,null,null,null,null,null,null,null,null,null,null,null,null,null,null,null,null,2.0219999999999998,0.86760958071589389]
[null,null,null,null,null,null,null,null,null,null,null,null,null,null,null,null,null,null,null,null,null,null,null,null,2.0230000000000001,0.86774190496202797]
[null,null,null,null,null,null,null,null,null,null,null,null,null,null,null,null,null,null,null,null,null,null,null,null,2.024,0.86787409695005591]
[null,null,null,null,null,null,null,null,null,null,null,null,null,null,null,null,null,null,null,null,null,null,null,null,2.0249999999999999,0.86800615681216975]
[null,null,null,null,null,null,null,null,null,null,null,null,null,null,null,null,null,null,null,null,null,null,null,null,2.0259999999999998,0.86813808468042941]
[null,null,null,null,null,null,null,null,null,null,null,null,null,null,null,null,null,null,null,null,null,null,null,null,2.0270000000000001,0.86826988068676292]
[null,null,null,null,null,null,null,null,null,null,null,null,null,null,null,null,null,null,null,null,null,null,null,null,2.028,0.86840154496296607]
[null,null,null,null,null,null,null,null,null,null,null,null,null,null,null,null,null,null,null,null,null,null,null,null,2.0289999999999999,0.86853307764070309]
[null,null,null,null,null,null,null,null,null,null,null,null,null,null,null,null,null,null,null,null,null,null,null,null,2.0299999999999998,0.86866447885150688]
[null,null,null,null,null,null,null,null,null,null,null,null,null,null,null,null,null,null,null,null,null,null,null,null,2.0310000000000001,0.86879574872677867]
[null,null,null,null,null,null,null,null,null,null,null,null,null,null,null,null,null,null,null,null,null,null,null,null,2.032,0.86892688739778812]
[null,null,null,null,null,null,null,null,null,null,null,null,null,null,null,null,null,null,null,null,null,null,null,null,2.0329999999999999,0.8690578949956741]
[null,null,null,null,null,null,null,null,null,null,null,null,null,null,null,null,null,null,null,null,null,null,null,null,2.0339999999999998,0.86918877165144415]
[null,null,null,null,null,null,null,null,null,null,null,null,null,null,null,null,null,null,null,null,null,null,null,null,2.0350000000000001,0.86931951749597491]
[null,null,null,null,null,null,null,null,null,null,null,null,null,null,null,null,null,null,null,null,null,null,null,null,2.036,0.86945013266001236]
[null,null,null,null,null,null,null,null,null,null,null,null,null,null,null,null,null,null,null,null,null,null,null,null,2.0369999999999999,0.86958061727417157]
[null,null,null,null,null,null,null,null,null,null,null,null,null,null,null,null,null,null,null,null,null,null,null,null,2.0379999999999998,0.86971097146893706]
[null,null,null,null,null,null,null,null,null,null,null,null,null,null,null,null,null,null,null,null,null,null,null,null,2.0390000000000001,0.86984119537466342]
[null,null,null,null,null,null,null,null,null,null,null,null,null,null,null,null,null,null,null,null,null,null,null,null,2.04,0.86997128912157407]
[null,null,null,null,null,null,null,null,null,null,null,null,null,null,null,null,null,null,null,null,null,null,null,null,2.0409999999999999,0.87010125283976314]
[null,null,null,null,null,null,null,null,null,null,null,null,null,null,null,null,null,null,null,null,null,null,null,null,2.0419999999999998,0.87023108665919413]
[null,null,null,null,null,null,null,null,null,null,null,null,null,null,null,null,null,null,null,null,null,null,null,null,2.0430000000000001,0.87036079070970107]
[null,null,null,null,null,null,null,null,null,null,null,null,null,null,null,null,null,null,null,null,null,null,null,null,2.044,0.87049036512098787]
[null,null,null,null,null,null,null,null,null,null,null,null,null,null,null,null,null,null,null,null,null,null,null,null,2.0449999999999999,0.87061981002262889]
[null,null,null,null,null,null,null,null,null,null,null,null,null,null,null,null,null,null,null,null,null,null,null,null,2.0459999999999998,0.87074912554406925]
[null,null,null,null,null,null,null,null,null,null,null,null,null,null,null,null,null,null,null,null,null,null,null,null,2.0470000000000002,0.87087831181462438]
[null,null,null,null,null,null,null,null,null,null,null,null,null,null,null,null,null,null,null,null,null,null,null,null,2.048,0.87100736896348063]
[null,null,null,null,null,null,null,null,null,null,null,null,null,null,null,null,null,null,null,null,null,null,null,null,2.0489999999999999,{"$f":"1-EXP(-Y2052)","v":0.87113629711969498}]
[null,null,null,null,null,null,null,null,null,null,null,null,null,null,null,null,null,null,null,null,null,null,null,null,2.0499999999999998,0.87126509641219574]
[null,null,null,null,null,null,null,null,null,null,null,null,null,null,null,null,null,null,null,null,null,null,null,null,2.0510000000000002,0.87139376696978221]
[null,null,null,null,null,null,null,null,null,null,null,null,null,null,null,null,null,null,null,null,null,null,null,null,2.052,0.87152230892112503]
[null,null,null,null,null,null,null,null,null,null,null,null,null,null,null,null,null,null,null,null,null,null,null,null,2.0529999999999999,0.87165072239476582]
[null,null,null,null,null,null,null,null,null,null,null,null,null,null,null,null,null,null,null,null,null,null,null,null,2.0539999999999998,0.87177900751911852]
[null,null,null,null,null,null,null,null,null,null,null,null,null,null,null,null,null,null,null,null,null,null,null,null,2.0550000000000002,0.87190716442246807]
[null,null,null,null,null,null,null,null,null,null,null,null,null,null,null,null,null,null,null,null,null,null,null,null,2.056,0.87203519323297118]
[null,null,null,null,null,null,null,null,null,null,null,null,null,null,null,null,null,null,null,null,null,null,null,null,2.0569999999999999,0.872163094078657]
[null,null,null,null,null,null,null,null,null,null,null,null,null,null,null,null,null,null,null,null,null,null,null,null,2.0579999999999998,0.8722908670874262]
[null,null,null,null,null,null,null,null,null,null,null,null,null,null,null,null,null,null,null,null,null,null,null,null,2.0590000000000002,0.87241851238705181]
[null,null,null,null,null,null,null,null,null,null,null,null,null,null,null,null,null,null,null,null,null,null,null,null,2.06,0.87254603010517928]
[null,null,null,null,null,null,null,null,null,null,null,null,null,null,null,null,null,null,null,null,null,null,null,null,2.0609999999999999,0.87267342036932616]
[null,null,null,null,null,null,null,null,null,null,null,null,null,null,null,null,null,null,null,null,null,null,null,null,2.0619999999999998,0.87280068330688276]
[null,null,null,null,null,null,null,null,null,null,null,null,null,null,null,null,null,null,null,null,null,null,null,null,2.0630000000000002,0.87292781904511219]
[null,null,null,null,null,null,null,null,null,null,null,null,null,null,null,null,null,null,null,null,null,null,null,null,2.0640000000000001,0.87305482771114995]
[null,null,null,null,null,null,null,null,null,null,null,null,null,null,null,null,null,null,null,null,null,null,null,null,2.0649999999999999,0.8731817094320049]
[null,null,null,null,null,null,null,null,null,null,null,null,null,null,null,null,null,null,null,null,null,null,null,null,2.0659999999999998,0.87330846433455867]
[null,null,null,null,null,null,null,null,null,null,null,null,null,null,null,null,null,null,null,null,null,null,null,null,2.0670000000000002,0.87343509254556628]
[null,null,null,null,null,null,null,null,null,null,null,null,null,null,null,null,null,null,null,null,null,null,null,null,2.0680000000000001,0.87356159419165591]
[null,null,null,null,null,null,null,null,null,null,null,null,null,null,null,null,null,null,null,null,null,null,null,null,2.069,0.87368796939932913]
[null,null,null,null,null,null,null,null,null,null,null,null,null,null,null,null,null,null,null,null,null,null,null,null,2.0699999999999998,0.8738142182949612]
[null,null,null,null,null,null,null,null,null,null,null,null,null,null,null,null,null,null,null,null,null,null,null,null,2.0710000000000002,0.87394034100480122]
[null,null,null,null,null,null,null,null,null,null,null,null,null,null,null,null,null,null,null,null,null,null,null,null,2.0720000000000001,0.87406633765497155]
[null,null,null,null,null,null,null,null,null,null,null,null,null,null,null,null,null,null,null,null,null,null,null,null,2.073,0.87419220837146905]
[null,null,null,null,null,null,null,null,null,null,null,null,null,null,null,null,null,null,null,null,null,null,null,null,2.0739999999999998,0.87431795328016448]
[null,null,null,null,null,null,null,null,null,null,null,null,null,null,null,null,null,null,null,null,null,null,null,null,2.0750000000000002,0.87444357250680282]
[null,null,null,null,null,null,null,null,null,null,null,null,null,null,null,null,null,null,null,null,null,null,null,null,2.0760000000000001,0.87456906617700314]
[null,null,null,null,null,null,null,null,null,null,null,null,null,null,null,null,null,null,null,null,null,null,null,null,2.077,0.87469443441625905]
[null,null,null,null,null,null,null,null,null,null,null,null,null,null,null,null,null,null,null,null,null,null,null,null,2.0779999999999998,0.87481967734993904]
[null,null,null,null,null,null,null,null,null,null,null,null,null,null,null,null,null,null,null,null,null,null,null,null,2.0790000000000002,0.87494479510328604]
[null,null,null,null,null,null,null,null,null,null,null,null,null,null,null,null,null,null,null,null,null,null,null,null,2.08,0.87506978780141753]
[null,null,null,null,null,null,null,null,null,null,null,null,null,null,null,null,null,null,null,null,null,null,null,null,2.081,0.87519465556932652]
[null,null,null,null,null,null,null,null,null,null,null,null,null,null,null,null,null,null,null,null,null,null,null,null,2.0819999999999999,0.87531939853188068]
[null,null,null,null,null,null,null,null,null,null,null,null,null,null,null,null,null,null,null,null,null,null,null,null,2.0830000000000002,0.875444016813823]
[null,null,null,null,null,null,null,null,null,null,null,null,null,null,null,null,null,null,null,null,null,null,null,null,2.0840000000000001,0.87556851053977169]
[null,null,null,null,null,null,null,null,null,null,null,null,null,null,null,null,null,null,null,null,null,null,null,null,2.085,0.87569287983422062]
[null,null,null,null,null,null,null,null,null,null,null,null,null,null,null,null,null,null,null,null,null,null,null,null,2.0859999999999999,0.87581712482153895]
[null,null,null,null,null,null,null,null,null,null,null,null,null,null,null,null,null,null,null,null,null,null,null,null,2.0870000000000002,0.87594124562597186]
[null,null,null,null,null,null,null,null,null,null,null,null,null,null,null,null,null,null,null,null,null,null,null,null,2.0880000000000001,0.87606524237163996]
[null,null,null,null,null,null,null,null,null,null,null,null,null,null,null,null,null,null,null,null,null,null,null,null,2.089,0.87618911518254017]
[null,null,null,null,null,null,null,null,null,null,null,null,null,null,null,null,null,null,null,null,null,null,null,null,2.09,0.87631286418254517]
[null,null,null,null,null,null,null,null,null,null,null,null,null,null,null,null,null,null,null,null,null,null,null,null,2.0910000000000002,0.87643648949540409]
[null,null,null,null,null,null,null,null,null,null,null,null,null,null,null,null,null,null,null,null,null,null,null,null,2.0920000000000001,0.87655999124474226]
[null,null,null,null,null,null,null,null,null,null,null,null,null,null,null,null,null,null,null,null,null,null,null,null,2.093,0.87668336955406123]
[null,null,null,null,null,null,null,null,null,null,null,null,null,null,null,null,null,null,null,null,null,null,null,null,2.0939999999999999,0.87680662454673963]
[null,null,null,null,null,null,null,null,null,null,null,null,null,null,null,null,null,null,null,null,null,null,null,null,2.0950000000000002,0.87692975634603232]
[null,null,null,null,null,null,null,null,null,null,null,null,null,null,null,null,null,null,null,null,null,null,null,null,2.0960000000000001,0.87705276507507102]
[null,null,null,null,null,null,null,null,null,null,null,null,null,null,null,null,null,null,null,null,null,null,null,null,2.097,0.87717565085686455]
[null,null,null,null,null,null,null,null,null,null,null,null,null,null,null,null,null,null,null,null,null,null,null,null,2.0979999999999999,0.87729841381429874]
[null,null,null,null,null,null,null,null,null,null,null,null,null,null,null,null,null,null,null,null,null,null,null,null,2.0990000000000002,0.87742105407013649]
[null,null,null,null,null,null,null,null,null,null,null,null,null,null,null,null,null,null,null,null,null,null,null,null,2.1,0.87754357174701814]
[null,null,null,null,null,null,null,null,null,null,null,null,null,null,null,null,null,null,null,null,null,null,null,null,2.101,0.87766596696746124]
[null,null,null,null,null,null,null,null,null,null,null,null,null,null,null,null,null,null,null,null,null,null,null,null,2.1019999999999999,0.87778823985386112]
[null,null,null,null,null,null,null,null,null,null,null,null,null,null,null,null,null,null,null,null,null,null,null,null,2.1030000000000002,0.87791039052849085]
[null,null,null,null,null,null,null,null,null,null,null,null,null,null,null,null,null,null,null,null,null,null,null,null,2.1040000000000001,0.87803241911350072]
[null,null,null,null,null,null,null,null,null,null,null,null,null,null,null,null,null,null,null,null,null,null,null,null,2.105,0.87815432573091967]
[null,null,null,null,null,null,null,null,null,null,null,null,null,null,null,null,null,null,null,null,null,null,null,null,2.1059999999999999,0.87827611050265408]
[null,null,null,null,null,null,null,null,null,null,null,null,null,null,null,null,null,null,null,null,null,null,null,null,2.1070000000000002,0.87839777355048898]
[null,null,null,null,null,null,null,null,null,null,null,null,null,null,null,null,null,null,null,null,null,null,null,null,2.1080000000000001,0.87851931499608726]
[null,null,null,null,null,null,null,null,null,null,null,null,null,null,null,null,null,null,null,null,null,null,null,null,2.109,0.87864073496099038]
[null,null,null,null,null,null,null,null,null,null,null,null,null,null,null,null,null,null,null,null,null,null,null,null,2.11,0.87876203356661831]
[null,null,null,null,null,null,null,null,null,null,null,null,null,null,null,null,null,null,null,null,null,null,null,null,2.1110000000000002,0.8788832109342698]
[null,null,null,null,null,null,null,null,null,null,null,null,null,null,null,null,null,null,null,null,null,null,null,null,2.1120000000000001,0.87900426718512203]
[null,null,null,null,null,null,null,null,null,null,null,null,null,null,null,null,null,null,null,null,null,null,null,null,2.113,{"$f":"1-EXP(-Y2116)","v":0.8791252024402314}]
[null,null,null,null,null,null,null,null,null,null,null,null,null,null,null,null,null,null,null,null,null,null,null,null,2.1139999999999999,0.87924601682053316]
[null,null,null,null,null,null,null,null,null,null,null,null,null,null,null,null,null,null,null,null,null,null,null,null,2.1150000000000002,0.87936671044684178]
[null,null,null,null,null,null,null,null,null,null,null,null,null,null,null,null,null,null,null,null,null,null,null,null,2.1160000000000001,0.87948728343985061]
[null,null,null,null,null,null,null,null,null,null,null,null,null,null,null,null,null,null,null,null,null,null,null,null,2.117,0.87960773592013286]
[null,null,null,null,null,null,null,null,null,null,null,null,null,null,null,null,null,null,null,null,null,null,null,null,2.1179999999999999,0.87972806800814107]
[null,null,null,null,null,null,null,null,null,null,null,null,null,null,null,null,null,null,null,null,null,null,null,null,2.1190000000000002,0.87984827982420732]
[null,null,null,null,null,null,null,null,null,null,null,null,null,null,null,null,null,null,null,null,null,null,null,null,2.12,0.87996837148854323]
[null,null,null,null,null,null,null,null,null,null,null,null,null,null,null,null,null,null,null,null,null,null,null,null,2.121,0.88008834312124073]
[null,null,null,null,null,null,null,null,null,null,null,null,null,null,null,null,null,null,null,null,null,null,null,null,2.1219999999999999,0.88020819484227131]
[null,null,null,null,null,null,null,null,null,null,null,null,null,null,null,null,null,null,null,null,null,null,null,null,2.1230000000000002,0.88032792677148686]
[null,null,null,null,null,null,null,null,null,null,null,null,null,null,null,null,null,null,null,null,null,null,null,null,2.1240000000000001,0.88044753902861905]
[null,null,null,null,null,null,null,null,null,null,null,null,null,null,null,null,null,null,null,null,null,null,null,null,2.125,0.88056703173328033]
[null,null,null,null,null,null,null,null,null,null,null,null,null,null,null,null,null,null,null,null,null,null,null,null,2.1259999999999999,0.88068640500496342]
[null,null,null,null,null,null,null,null,null,null,null,null,null,null,null,null,null,null,null,null,null,null,null,null,2.1269999999999998,0.88080565896304164]
[null,null,null,null,null,null,null,null,null,null,null,null,null,null,null,null,null,null,null,null,null,null,null,null,2.1280000000000001,0.88092479372676891]
[null,null,null,null,null,null,null,null,null,null,null,null,null,null,null,null,null,null,null,null,null,null,null,null,2.129,0.88104380941527982]
[null,null,null,null,null,null,null,null,null,null,null,null,null,null,null,null,null,null,null,null,null,null,null,null,2.13,0.8811627061475904]
[null,null,null,null,null,null,null,null,null,null,null,null,null,null,null,null,null,null,null,null,null,null,null,null,2.1309999999999998,0.8812814840425971]
[null,null,null,null,null,null,null,null,null,null,null,null,null,null,null,null,null,null,null,null,null,null,null,null,2.1320000000000001,0.881400143219078]
[null,null,null,null,null,null,null,null,null,null,null,null,null,null,null,null,null,null,null,null,null,null,null,null,2.133,0.8815186837956922]
[null,null,null,null,null,null,null,null,null,null,null,null,null,null,null,null,null,null,null,null,null,null,null,null,2.1339999999999999,0.88163710589098043]
[null,null,null,null,null,null,null,null,null,null,null,null,null,null,null,null,null,null,null,null,null,null,null,null,2.1349999999999998,0.88175540962336452]
[null,null,null,null,null,null,null,null,null,null,null,null,null,null,null,null,null,null,null,null,null,null,null,null,2.1360000000000001,0.88187359511114849]
[null,null,null,null,null,null,null,null,null,null,null,null,null,null,null,null,null,null,null,null,null,null,null,null,2.137,0.8819916624725177]
[null,null,null,null,null,null,null,null,null,null,null,null,null,null,null,null,null,null,null,null,null,null,null,null,2.1379999999999999,0.8821096118255396]
[null,null,null,null,null,null,null,null,null,null,null,null,null,null,null,null,null,null,null,null,null,null,null,null,2.1389999999999998,0.88222744328816349]
[null,null,null,null,null,null,null,null,null,null,null,null,null,null,null,null,null,null,null,null,null,null,null,null,2.14,0.8823451569782208]
[null,null,null,null,null,null,null,null,null,null,null,null,null,null,null,null,null,null,null,null,null,null,null,null,2.141,0.88246275301342536]
[null,null,null,null,null,null,null,null,null,null,null,null,null,null,null,null,null,null,null,null,null,null,null,null,2.1419999999999999,0.88258023151137299]
[null,null,null,null,null,null,null,null,null,null,null,null,null,null,null,null,null,null,null,null,null,null,null,null,2.1429999999999998,0.8826975925895425]
[null,null,null,null,null,null,null,null,null,null,null,null,null,null,null,null,null,null,null,null,null,null,null,null,2.1440000000000001,0.88281483636529479]
[null,null,null,null,null,null,null,null,null,null,null,null,null,null,null,null,null,null,null,null,null,null,null,null,2.145,0.88293196295587362]
[null,null,null,null,null,null,null,null,null,null,null,null,null,null,null,null,null,null,null,null,null,null,null,null,2.1459999999999999,0.88304897247840564]
[null,null,null,null,null,null,null,null,null,null,null,null,null,null,null,null,null,null,null,null,null,null,null,null,2.1469999999999998,0.88316586504990047]
[null,null,null,null,null,null,null,null,null,null,null,null,null,null,null,null,null,null,null,null,null,null,null,null,2.1480000000000001,0.88328264078725061]
[null,null,null,null,null,null,null,null,null,null,null,null,null,null,null,null,null,null,null,null,null,null,null,null,2.149,0.88339929980723175]
[null,null,null,null,null,null,null,null,null,null,null,null,null,null,null,null,null,null,null,null,null,null,null,null,2.15,0.88351584222650303]
[null,null,null,null,null,null,null,null,null,null,null,null,null,null,null,null,null,null,null,null,null,null,null,null,2.1509999999999998,0.88363226816160678]
[null,null,null,null,null,null,null,null,null,null,null,null,null,null,null,null,null,null,null,null,null,null,null,null,2.1520000000000001,0.88374857772896909]
[null,null,null,null,null,null,null,null,null,null,null,null,null,null,null,null,null,null,null,null,null,null,null,null,2.153,0.88386477104489936]
[null,null,null,null,null,null,null,null,null,null,null,null,null,null,null,null,null,null,null,null,null,null,null,null,2.1539999999999999,0.88398084822559098]
[null,null,null,null,null,null,null,null,null,null,null,null,null,null,null,null,null,null,null,null,null,null,null,null,2.1549999999999998,0.88409680938712121]
[null,null,null,null,null,null,null,null,null,null,null,null,null,null,null,null,null,null,null,null,null,null,null,null,2.1560000000000001,0.88421265464545118]
[null,null,null,null,null,null,null,null,null,null,null,null,null,null,null,null,null,null,null,null,null,null,null,null,2.157,0.88432838411642611]
[null,null,null,null,null,null,null,null,null,null,null,null,null,null,null,null,null,null,null,null,null,null,null,null,2.1579999999999999,0.88444399791577555]
[null,null,null,null,null,null,null,null,null,null,null,null,null,null,null,null,null,null,null,null,null,null,null,null,2.1589999999999998,0.88455949615911322]
[null,null,null,null,null,null,null,null,null,null,null,null,null,null,null,null,null,null,null,null,null,null,null,null,2.16,0.88467487896193753]
[null,null,null,null,null,null,null,null,null,null,null,null,null,null,null,null,null,null,null,null,null,null,null,null,2.161,0.88479014643963105]
[null,null,null,null,null,null,null,null,null,null,null,null,null,null,null,null,null,null,null,null,null,null,null,null,2.1619999999999999,0.88490529870746149]
[null,null,null,null,null,null,null,null,null,null,null,null,null,null,null,null,null,null,null,null,null,null,null,null,2.1629999999999998,0.88502033588058104]
[null,null,null,null,null,null,null,null,null,null,null,null,null,null,null,null,null,null,null,null,null,null,null,null,2.1640000000000001,0.88513525807402693]
[null,null,null,null,null,null,null,null,null,null,null,null,null,null,null,null,null,null,null,null,null,null,null,null,2.165,0.88525006540272122]
[null,null,null,null,null,null,null,null,null,null,null,null,null,null,null,null,null,null,null,null,null,null,null,null,2.1659999999999999,0.88536475798147141]
[null,null,null,null,null,null,null,null,null,null,null,null,null,null,null,null,null,null,null,null,null,null,null,null,2.1669999999999998,0.88547933592496997]
[null,null,null,null,null,null,null,null,null,null,null,null,null,null,null,null,null,null,null,null,null,null,null,null,2.1680000000000001,0.88559379934779503]
[null,null,null,null,null,null,null,null,null,null,null,null,null,null,null,null,null,null,null,null,null,null,null,null,2.169,0.88570814836440981]
[null,null,null,null,null,null,null,null,null,null,null,null,null,null,null,null,null,null,null,null,null,null,null,null,2.17,0.8858223830891635]
[null,null,null,null,null,null,null,null,null,null,null,null,null,null,null,null,null,null,null,null,null,null,null,null,2.1709999999999998,0.88593650363629073]
[null,null,null,null,null,null,null,null,null,null,null,null,null,null,null,null,null,null,null,null,null,null,null,null,2.1720000000000002,0.88605051011991209]
[null,null,null,null,null,null,null,null,null,null,null,null,null,null,null,null,null,null,null,null,null,null,null,null,2.173,0.88616440265403407]
[null,null,null,null,null,null,null,null,null,null,null,null,null,null,null,null,null,null,null,null,null,null,null,null,2.1739999999999999,0.88627818135254921]
[null,null,null,null,null,null,null,null,null,null,null,null,null,null,null,null,null,null,null,null,null,null,null,null,2.1749999999999998,0.88639184632923618]
[null,null,null,null,null,null,null,null,null,null,null,null,null,null,null,null,null,null,null,null,null,null,null,null,2.1760000000000002,0.88650539769776016]
[null,null,null,null,null,null,null,null,null,null,null,null,null,null,null,null,null,null,null,null,null,null,null,null,2.177,{"$f":"1-EXP(-Y2180)","v":0.88661883557167231}]
[null,null,null,null,null,null,null,null,null,null,null,null,null,null,null,null,null,null,null,null,null,null,null,null,2.1779999999999999,0.88673216006441047]
[null,null,null,null,null,null,null,null,null,null,null,null,null,null,null,null,null,null,null,null,null,null,null,null,2.1789999999999998,0.88684537128929941]
[null,null,null,null,null,null,null,null,null,null,null,null,null,null,null,null,null,null,null,null,null,null,null,null,2.1800000000000002,0.88695846935955014]
[null,null,null,null,null,null,null,null,null,null,null,null,null,null,null,null,null,null,null,null,null,null,null,null,2.181,0.88707145438826085]
[null,null,null,null,null,null,null,null,null,null,null,null,null,null,null,null,null,null,null,null,null,null,null,null,2.1819999999999999,0.8871843264884165]
[null,null,null,null,null,null,null,null,null,null,null,null,null,null,null,null,null,null,null,null,null,null,null,null,2.1829999999999998,0.88729708577288924]
[null,null,null,null,null,null,null,null,null,null,null,null,null,null,null,null,null,null,null,null,null,null,null,null,2.1840000000000002,0.88740973235443832]
[null,null,null,null,null,null,null,null,null,null,null,null,null,null,null,null,null,null,null,null,null,null,null,null,2.1850000000000001,0.88752226634571041]
[null,null,null,null,null,null,null,null,null,null,null,null,null,null,null,null,null,null,null,null,null,null,null,null,2.1859999999999999,0.88763468785923949]
[null,null,null,null,null,null,null,null,null,null,null,null,null,null,null,null,null,null,null,null,null,null,null,null,2.1869999999999998,0.88774699700744697]
[null,null,null,null,null,null,null,null,null,null,null,null,null,null,null,null,null,null,null,null,null,null,null,null,2.1880000000000002,0.88785919390264234]
[null,null,null,null,null,null,null,null,null,null,null,null,null,null,null,null,null,null,null,null,null,null,null,null,2.1890000000000001,0.88797127865702208]
[null,null,null,null,null,null,null,null,null,null,null,null,null,null,null,null,null,null,null,null,null,null,null,null,2.19,0.88808325138267108]
[null,null,null,null,null,null,null,null,null,null,null,null,null,null,null,null,null,null,null,null,null,null,null,null,2.1909999999999998,0.88819511219156222]
[null,null,null,null,null,null,null,null,null,null,null,null,null,null,null,null,null,null,null,null,null,null,null,null,2.1920000000000002,0.88830686119555635]
[null,null,null,null,null,null,null,null,null,null,null,null,null,null,null,null,null,null,null,null,null,null,null,null,2.1930000000000001,0.8884184985064022]
[null,null,null,null,null,null,null,null,null,null,null,null,null,null,null,null,null,null,null,null,null,null,null,null,2.194,0.88853002423573735]
[null,null,null,null,null,null,null,null,null,null,null,null,null,null,null,null,null,null,null,null,null,null,null,null,2.1949999999999998,0.88864143849508737]
[null,null,null,null,null,null,null,null,null,null,null,null,null,null,null,null,null,null,null,null,null,null,null,null,2.1960000000000002,0.88875274139586669]
[null,null,null,null,null,null,null,null,null,null,null,null,null,null,null,null,null,null,null,null,null,null,null,null,2.1970000000000001,0.88886393304937805]
[null,null,null,null,null,null,null,null,null,null,null,null,null,null,null,null,null,null,null,null,null,null,null,null,2.198,0.8889750135668133]
[null,null,null,null,null,null,null,null,null,null,null,null,null,null,null,null,null,null,null,null,null,null,null,null,2.1989999999999998,0.88908598305925279]
[null,null,null,null,null,null,null,null,null,null,null,null,null,null,null,null,null,null,null,null,null,null,null,null,2.2000000000000002,0.8891968416376661]
[null,null,null,null,null,null,null,null,null,null,null,null,null,null,null,null,null,null,null,null,null,null,null,null,2.2010000000000001,0.88930758941291188]
[null,null,null,null,null,null,null,null,null,null,null,null,null,null,null,null,null,null,null,null,null,null,null,null,2.202,0.88941822649573776]
[null,null,null,null,null,null,null,null,null,null,null,null,null,null,null,null,null,null,null,null,null,null,null,null,2.2029999999999998,0.88952875299678091]
[null,null,null,null,null,null,null,null,null,null,null,null,null,null,null,null,null,null,null,null,null,null,null,null,2.2040000000000002,0.88963916902656792]
[null,null,null,null,null,null,null,null,null,null,null,null,null,null,null,null,null,null,null,null,null,null,null,null,2.2050000000000001,0.8897494746955148]
[null,null,null,null,null,null,null,null,null,null,null,null,null,null,null,null,null,null,null,null,null,null,null,null,2.206,0.88985967011392708]
[null,null,null,null,null,null,null,null,null,null,null,null,null,null,null,null,null,null,null,null,null,null,null,null,2.2069999999999999,0.88996975539200029]
[null,null,null,null,null,null,null,null,null,null,null,null,null,null,null,null,null,null,null,null,null,null,null,null,2.2080000000000002,0.89007973063981982]
[null,null,null,null,null,null,null,null,null,null,null,null,null,null,null,null,null,null,null,null,null,null,null,null,2.2090000000000001,0.8901895959673608]
[null,null,null,null,null,null,null,null,null,null,null,null,null,null,null,null,null,null,null,null,null,null,null,null,2.21,0.89029935148448858]
[null,null,null,null,null,null,null,null,null,null,null,null,null,null,null,null,null,null,null,null,null,null,null,null,2.2109999999999999,0.89040899730095868]
[null,null,null,null,null,null,null,null,null,null,null,null,null,null,null,null,null,null,null,null,null,null,null,null,2.2120000000000002,0.89051853352641708]
[null,null,null,null,null,null,null,null,null,null,null,null,null,null,null,null,null,null,null,null,null,null,null,null,2.2130000000000001,0.8906279602703997]
[null,null,null,null,null,null,null,null,null,null,null,null,null,null,null,null,null,null,null,null,null,null,null,null,2.214,0.89073727764233357]
[null,null,null,null,null,null,null,null,null,null,null,null,null,null,null,null,null,null,null,null,null,null,null,null,2.2149999999999999,0.89084648575153591]
[null,null,null,null,null,null,null,null,null,null,null,null,null,null,null,null,null,null,null,null,null,null,null,null,2.2160000000000002,0.89095558470721503]
[null,null,null,null,null,null,null,null,null,null,null,null,null,null,null,null,null,null,null,null,null,null,null,null,2.2170000000000001,0.89106457461846966]
[null,null,null,null,null,null,null,null,null,null,null,null,null,null,null,null,null,null,null,null,null,null,null,null,2.218,0.89117345559428984]
[null,null,null,null,null,null,null,null,null,null,null,null,null,null,null,null,null,null,null,null,null,null,null,null,2.2189999999999999,0.89128222774355659]
[null,null,null,null,null,null,null,null,null,null,null,null,null,null,null,null,null,null,null,null,null,null,null,null,2.2200000000000002,0.891390891175042]
[null,null,null,null,null,null,null,null,null,null,null,null,null,null,null,null,null,null,null,null,null,null,null,null,2.2210000000000001,0.8914994459974096]
[null,null,null,null,null,null,null,null,null,null,null,null,null,null,null,null,null,null,null,null,null,null,null,null,2.222,0.891607892319214]
[null,null,null,null,null,null,null,null,null,null,null,null,null,null,null,null,null,null,null,null,null,null,null,null,2.2229999999999999,0.89171623024890179]
[null,null,null,null,null,null,null,null,null,null,null,null,null,null,null,null,null,null,null,null,null,null,null,null,2.2240000000000002,0.89182445989481085]
[null,null,null,null,null,null,null,null,null,null,null,null,null,null,null,null,null,null,null,null,null,null,null,null,2.2250000000000001,0.89193258136517073]
[null,null,null,null,null,null,null,null,null,null,null,null,null,null,null,null,null,null,null,null,null,null,null,null,2.226,0.89204059476810293]
[null,null,null,null,null,null,null,null,null,null,null,null,null,null,null,null,null,null,null,null,null,null,null,null,2.2269999999999999,0.89214850021162095]
[null,null,null,null,null,null,null,null,null,null,null,null,null,null,null,null,null,null,null,null,null,null,null,null,2.2280000000000002,0.89225629780363025]
[null,null,null,null,null,null,null,null,null,null,null,null,null,null,null,null,null,null,null,null,null,null,null,null,2.2290000000000001,0.89236398765192826]
[null,null,null,null,null,null,null,null,null,null,null,null,null,null,null,null,null,null,null,null,null,null,null,null,2.23,0.89247156986420506]
[null,null,null,null,null,null,null,null,null,null,null,null,null,null,null,null,null,null,null,null,null,null,null,null,2.2309999999999999,0.89257904454804271]
[null,null,null,null,null,null,null,null,null,null,null,null,null,null,null,null,null,null,null,null,null,null,null,null,2.2320000000000002,0.89268641181091601]
[null,null,null,null,null,null,null,null,null,null,null,null,null,null,null,null,null,null,null,null,null,null,null,null,2.2330000000000001,0.89279367176019209]
[null,null,null,null,null,null,null,null,null,null,null,null,null,null,null,null,null,null,null,null,null,null,null,null,2.234,0.89290082450313102]
[null,null,null,null,null,null,null,null,null,null,null,null,null,null,null,null,null,null,null,null,null,null,null,null,2.2349999999999999,0.89300787014688554]
[null,null,null,null,null,null,null,null,null,null,null,null,null,null,null,null,null,null,null,null,null,null,null,null,2.2360000000000002,0.89311480879850125]
[null,null,null,null,null,null,null,null,null,null,null,null,null,null,null,null,null,null,null,null,null,null,null,null,2.2370000000000001,0.89322164056491693]
[null,null,null,null,null,null,null,null,null,null,null,null,null,null,null,null,null,null,null,null,null,null,null,null,2.238,0.89332836555296424]
[null,null,null,null,null,null,null,null,null,null,null,null,null,null,null,null,null,null,null,null,null,null,null,null,2.2389999999999999,0.89343498386936826]
[null,null,null,null,null,null,null,null,null,null,null,null,null,null,null,null,null,null,null,null,null,null,null,null,2.2400000000000002,0.89354149562074725]
[null,null,null,null,null,null,null,null,null,null,null,null,null,null,null,null,null,null,null,null,null,null,null,null,2.2410000000000001,{"$f":"1-EXP(-Y2244)","v":0.8936479009136129}]
[null,null,null,null,null,null,null,null,null,null,null,null,null,null,null,null,null,null,null,null,null,null,null,null,2.242,0.89375419985437066]
[null,null,null,null,null,null,null,null,null,null,null,null,null,null,null,null,null,null,null,null,null,null,null,null,2.2429999999999999,0.89386039254931937]
[null,null,null,null,null,null,null,null,null,null,null,null,null,null,null,null,null,null,null,null,null,null,null,null,2.2440000000000002,0.89396647910465188]
[null,null,null,null,null,null,null,null,null,null,null,null,null,null,null,null,null,null,null,null,null,null,null,null,2.2450000000000001,0.89407245962645465]
[null,null,null,null,null,null,null,null,null,null,null,null,null,null,null,null,null,null,null,null,null,null,null,null,2.246,0.89417833422070814]
[null,null,null,null,null,null,null,null,null,null,null,null,null,null,null,null,null,null,null,null,null,null,null,null,2.2469999999999999,0.89428410299328709]
[null,null,null,null,null,null,null,null,null,null,null,null,null,null,null,null,null,null,null,null,null,null,null,null,2.2480000000000002,0.89438976604996023]
[null,null,null,null,null,null,null,null,null,null,null,null,null,null,null,null,null,null,null,null,null,null,null,null,2.2490000000000001,0.8944953234963906]
[null,null,null,null,null,null,null,null,null,null,null,null,null,null,null,null,null,null,null,null,null,null,null,null,2.25,0.89460077543813565]
[null,null,null,null,null,null,null,null,null,null,null,null,null,null,null,null,null,null,null,null,null,null,null,null,2.2509999999999999,0.89470612198064736]
[null,null,null,null,null,null,null,null,null,null,null,null,null,null,null,null,null,null,null,null,null,null,null,null,2.2519999999999998,0.89481136322927235]
[null,null,null,null,null,null,null,null,null,null,null,null,null,null,null,null,null,null,null,null,null,null,null,null,2.2530000000000001,0.89491649928925177]
[null,null,null,null,null,null,null,null,null,null,null,null,null,null,null,null,null,null,null,null,null,null,null,null,2.254,0.89502153026572162]
[null,null,null,null,null,null,null,null,null,null,null,null,null,null,null,null,null,null,null,null,null,null,null,null,2.2549999999999999,0.89512645626371312]
[null,null,null,null,null,null,null,null,null,null,null,null,null,null,null,null,null,null,null,null,null,null,null,null,2.2559999999999998,0.89523127738815211]
[null,null,null,null,null,null,null,null,null,null,null,null,null,null,null,null,null,null,null,null,null,null,null,null,2.2570000000000001,0.89533599374385975]
[null,null,null,null,null,null,null,null,null,null,null,null,null,null,null,null,null,null,null,null,null,null,null,null,2.258,0.89544060543555237]
[null,null,null,null,null,null,null,null,null,null,null,null,null,null,null,null,null,null,null,null,null,null,null,null,2.2589999999999999,0.89554511256784175]
[null,null,null,null,null,null,null,null,null,null,null,null,null,null,null,null,null,null,null,null,null,null,null,null,2.2599999999999998,0.89564951524523495]
[null,null,null,null,null,null,null,null,null,null,null,null,null,null,null,null,null,null,null,null,null,null,null,null,2.2610000000000001,0.89575381357213479]
[null,null,null,null,null,null,null,null,null,null,null,null,null,null,null,null,null,null,null,null,null,null,null,null,2.262,0.89585800765283941]
[null,null,null,null,null,null,null,null,null,null,null,null,null,null,null,null,null,null,null,null,null,null,null,null,2.2629999999999999,0.89596209759154311]
[null,null,null,null,null,null,null,null,null,null,null,null,null,null,null,null,null,null,null,null,null,null,null,null,2.2639999999999998,0.89606608349233563]
[null,null,null,null,null,null,null,null,null,null,null,null,null,null,null,null,null,null,null,null,null,null,null,null,2.2650000000000001,0.89616996545920302]
[null,null,null,null,null,null,null,null,null,null,null,null,null,null,null,null,null,null,null,null,null,null,null,null,2.266,0.89627374359602729]
[null,null,null,null,null,null,null,null,null,null,null,null,null,null,null,null,null,null,null,null,null,null,null,null,2.2669999999999999,0.89637741800658643]
[null,null,null,null,null,null,null,null,null,null,null,null,null,null,null,null,null,null,null,null,null,null,null,null,2.2679999999999998,0.89648098879455496]
[null,null,null,null,null,null,null,null,null,null,null,null,null,null,null,null,null,null,null,null,null,null,null,null,2.2690000000000001,0.89658445606350368]
[null,null,null,null,null,null,null,null,null,null,null,null,null,null,null,null,null,null,null,null,null,null,null,null,2.27,0.89668781991689983]
[null,null,null,null,null,null,null,null,null,null,null,null,null,null,null,null,null,null,null,null,null,null,null,null,2.2709999999999999,0.89679108045810718]
[null,null,null,null,null,null,null,null,null,null,null,null,null,null,null,null,null,null,null,null,null,null,null,null,2.2719999999999998,0.89689423779038657]
[null,null,null,null,null,null,null,null,null,null,null,null,null,null,null,null,null,null,null,null,null,null,null,null,2.2730000000000001,0.89699729201689504]
[null,null,null,null,null,null,null,null,null,null,null,null,null,null,null,null,null,null,null,null,null,null,null,null,2.274,0.89710024324068705]
[null,null,null,null,null,null,null,null,null,null,null,null,null,null,null,null,null,null,null,null,null,null,null,null,2.2749999999999999,0.89720309156471356]
[null,null,null,null,null,null,null,null,null,null,null,null,null,null,null,null,null,null,null,null,null,null,null,null,2.2759999999999998,0.89730583709182321]
[null,null,null,null,null,null,null,null,null,null,null,null,null,null,null,null,null,null,null,null,null,null,null,null,2.2770000000000001,0.89740847992476136]
[null,null,null,null,null,null,null,null,null,null,null,null,null,null,null,null,null,null,null,null,null,null,null,null,2.278,0.8975110201661709]
[null,null,null,null,null,null,null,null,null,null,null,null,null,null,null,null,null,null,null,null,null,null,null,null,2.2789999999999999,0.89761345791859204]
[null,null,null,null,null,null,null,null,null,null,null,null,null,null,null,null,null,null,null,null,null,null,null,null,2.2799999999999998,0.89771579328446249]
[null,null,null,null,null,null,null,null,null,null,null,null,null,null,null,null,null,null,null,null,null,null,null,null,2.2810000000000001,0.89781802636611785]
[null,null,null,null,null,null,null,null,null,null,null,null,null,null,null,null,null,null,null,null,null,null,null,null,2.282,0.897920157265791]
[null,null,null,null,null,null,null,null,null,null,null,null,null,null,null,null,null,null,null,null,null,null,null,null,2.2829999999999999,0.89802218608561279]
[null,null,null,null,null,null,null,null,null,null,null,null,null,null,null,null,null,null,null,null,null,null,null,null,2.2839999999999998,0.89812411292761229]
[null,null,null,null,null,null,null,null,null,null,null,null,null,null,null,null,null,null,null,null,null,null,null,null,2.2850000000000001,0.8982259378937163]
[null,null,null,null,null,null,null,null,null,null,null,null,null,null,null,null,null,null,null,null,null,null,null,null,2.286,0.89832766108574957]
[null,null,null,null,null,null,null,null,null,null,null,null,null,null,null,null,null,null,null,null,null,null,null,null,2.2869999999999999,0.89842928260543553]
[null,null,null,null,null,null,null,null,null,null,null,null,null,null,null,null,null,null,null,null,null,null,null,null,2.2879999999999998,0.89853080255439566]
[null,null,null,null,null,null,null,null,null,null,null,null,null,null,null,null,null,null,null,null,null,null,null,null,2.2890000000000001,0.89863222103414986]
[null,null,null,null,null,null,null,null,null,null,null,null,null,null,null,null,null,null,null,null,null,null,null,null,2.29,0.89873353814611656]
[null,null,null,null,null,null,null,null,null,null,null,null,null,null,null,null,null,null,null,null,null,null,null,null,2.2909999999999999,0.89883475399161306]
[null,null,null,null,null,null,null,null,null,null,null,null,null,null,null,null,null,null,null,null,null,null,null,null,2.2919999999999998,0.89893586867185515]
[null,null,null,null,null,null,null,null,null,null,null,null,null,null,null,null,null,null,null,null,null,null,null,null,2.2930000000000001,0.89903688228795742]
[null,null,null,null,null,null,null,null,null,null,null,null,null,null,null,null,null,null,null,null,null,null,null,null,2.294,0.8991377949409336]
[null,null,null,null,null,null,null,null,null,null,null,null,null,null,null,null,null,null,null,null,null,null,null,null,2.2949999999999999,0.89923860673169631]
[null,null,null,null,null,null,null,null,null,null,null,null,null,null,null,null,null,null,null,null,null,null,null,null,2.2959999999999998,0.89933931776105736]
[null,null,null,null,null,null,null,null,null,null,null,null,null,null,null,null,null,null,null,null,null,null,null,null,2.2970000000000002,0.89943992812972773]
[null,null,null,null,null,null,null,null,null,null,null,null,null,null,null,null,null,null,null,null,null,null,null,null,2.298,0.89954043793831784]
[null,null,null,null,null,null,null,null,null,null,null,null,null,null,null,null,null,null,null,null,null,null,null,null,2.2989999999999999,0.89964084728733762]
[null,null,null,null,null,null,null,null,null,null,null,null,null,null,null,null,null,null,null,null,null,null,null,null,2.2999999999999998,0.8997411562771962]
[null,null,null,null,null,null,null,null,null,null,null,null,null,null,null,null,null,null,null,null,null,null,null,null,2.3010000000000002,0.89984136500820289]
[null,null,null,null,null,null,null,null,null,null,null,null,null,null,null,null,null,null,null,null,null,null,null,null,2.302,0.89994147358056609]
[null,null,null,null,null,null,null,null,null,null,null,null,null,null,null,null,null,null,null,null,null,null,null,null,2.3029999999999999,0.9000414820943945]
[null,null,null,null,null,null,null,null,null,null,null,null,null,null,null,null,null,null,null,null,null,null,null,null,2.3039999999999998,0.90014139064969678]
[null,null,null,null,null,null,null,null,null,null,null,null,null,null,null,null,null,null,null,null,null,null,null,null,2.3050000000000002,{"$f":"1-EXP(-Y2308)","v":0.90024119934638136}]
[null,null,null,null,null,null,null,null,null,null,null,null,null,null,null,null,null,null,null,null,null,null,null,null,2.306,0.90034090828425695]
[null,null,null,null,null,null,null,null,null,null,null,null,null,null,null,null,null,null,null,null,null,null,null,null,2.3069999999999999,0.90044051756303256]
[null,null,null,null,null,null,null,null,null,null,null,null,null,null,null,null,null,null,null,null,null,null,null,null,2.3079999999999998,0.90054002728231741]
[null,null,null,null,null,null,null,null,null,null,null,null,null,null,null,null,null,null,null,null,null,null,null,null,2.3090000000000002,0.90063943754162124]
[null,null,null,null,null,null,null,null,null,null,null,null,null,null,null,null,null,null,null,null,null,null,null,null,2.31,0.9007387484403544]
[null,null,null,null,null,null,null,null,null,null,null,null,null,null,null,null,null,null,null,null,null,null,null,null,2.3109999999999999,0.90083796007782757]
[null,null,null,null,null,null,null,null,null,null,null,null,null,null,null,null,null,null,null,null,null,null,null,null,2.3119999999999998,0.90093707255325273]
[null,null,null,null,null,null,null,null,null,null,null,null,null,null,null,null,null,null,null,null,null,null,null,null,2.3130000000000002,0.90103608596574214]
[null,null,null,null,null,null,null,null,null,null,null,null,null,null,null,null,null,null,null,null,null,null,null,null,2.3140000000000001,0.90113500041430916]
[null,null,null,null,null,null,null,null,null,null,null,null,null,null,null,null,null,null,null,null,null,null,null,null,2.3149999999999999,0.90123381599786845]
[null,null,null,null,null,null,null,null,null,null,null,null,null,null,null,null,null,null,null,null,null,null,null,null,2.3159999999999998,0.90133253281523551]
[null,null,null,null,null,null,null,null,null,null,null,null,null,null,null,null,null,null,null,null,null,null,null,null,2.3170000000000002,0.90143115096512716]
[null,null,null,null,null,null,null,null,null,null,null,null,null,null,null,null,null,null,null,null,null,null,null,null,2.3180000000000001,0.90152967054616151]
[null,null,null,null,null,null,null,null,null,null,null,null,null,null,null,null,null,null,null,null,null,null,null,null,2.319,0.90162809165685831]
[null,null,null,null,null,null,null,null,null,null,null,null,null,null,null,null,null,null,null,null,null,null,null,null,2.3199999999999998,0.9017264143956385]
[null,null,null,null,null,null,null,null,null,null,null,null,null,null,null,null,null,null,null,null,null,null,null,null,2.3210000000000002,0.90182463886082487]
[null,null,null,null,null,null,null,null,null,null,null,null,null,null,null,null,null,null,null,null,null,null,null,null,2.3220000000000001,0.90192276515064196]
[null,null,null,null,null,null,null,null,null,null,null,null,null,null,null,null,null,null,null,null,null,null,null,null,2.323,0.90202079336321594]
[null,null,null,null,null,null,null,null,null,null,null,null,null,null,null,null,null,null,null,null,null,null,null,null,2.3239999999999998,0.90211872359657519]
[null,null,null,null,null,null,null,null,null,null,null,null,null,null,null,null,null,null,null,null,null,null,null,null,2.3250000000000002,0.90221655594864991]
[null,null,null,null,null,null,null,null,null,null,null,null,null,null,null,null,null,null,null,null,null,null,null,null,2.3260000000000001,0.90231429051727241]
[null,null,null,null,null,null,null,null,null,null,null,null,null,null,null,null,null,null,null,null,null,null,null,null,2.327,0.90241192740017728]
[null,null,null,null,null,null,null,null,null,null,null,null,null,null,null,null,null,null,null,null,null,null,null,null,2.3279999999999998,0.90250946669500143]
[null,null,null,null,null,null,null,null,null,null,null,null,null,null,null,null,null,null,null,null,null,null,null,null,2.3290000000000002,0.90260690849928416]
[null,null,null,null,null,null,null,null,null,null,null,null,null,null,null,null,null,null,null,null,null,null,null,null,2.33,0.90270425291046719]
[null,null,null,null,null,null,null,null,null,null,null,null,null,null,null,null,null,null,null,null,null,null,null,null,2.331,0.9028015000258951]
[null,null,null,null,null,null,null,null,null,null,null,null,null,null,null,null,null,null,null,null,null,null,null,null,2.3319999999999999,0.90289864994281488]
[null,null,null,null,null,null,null,null,null,null,null,null,null,null,null,null,null,null,null,null,null,null,null,null,2.3330000000000002,0.90299570275837659]
[null,null,null,null,null,null,null,null,null,null,null,null,null,null,null,null,null,null,null,null,null,null,null,null,2.3340000000000001,0.90309265856963294]
[null,null,null,null,null,null,null,null,null,null,null,null,null,null,null,null,null,null,null,null,null,null,null,null,2.335,0.90318951747353982]
[null,null,null,null,null,null,null,null,null,null,null,null,null,null,null,null,null,null,null,null,null,null,null,null,2.3359999999999999,0.90328627956695606]
[null,null,null,null,null,null,null,null,null,null,null,null,null,null,null,null,null,null,null,null,null,null,null,null,2.3370000000000002,0.90338294494664384]
[null,null,null,null,null,null,null,null,null,null,null,null,null,null,null,null,null,null,null,null,null,null,null,null,2.3380000000000001,0.90347951370926849]
[null,null,null,null,null,null,null,null,null,null,null,null,null,null,null,null,null,null,null,null,null,null,null,null,2.339,0.90357598595139876]
[null,null,null,null,null,null,null,null,null,null,null,null,null,null,null,null,null,null,null,null,null,null,null,null,2.34,0.90367236176950694]
[null,null,null,null,null,null,null,null,null,null,null,null,null,null,null,null,null,null,null,null,null,null,null,null,2.3410000000000002,0.90376864125996903]
[null,null,null,null,null,null,null,null,null,null,null,null,null,null,null,null,null,null,null,null,null,null,null,null,2.3420000000000001,0.90386482451906414]
[null,null,null,null,null,null,null,null,null,null,null,null,null,null,null,null,null,null,null,null,null,null,null,null,2.343,0.90396091164297587]
[null,null,null,null,null,null,null,null,null,null,null,null,null,null,null,null,null,null,null,null,null,null,null,null,2.3439999999999999,0.90405690272779127]
[null,null,null,null,null,null,null,null,null,null,null,null,null,null,null,null,null,null,null,null,null,null,null,null,2.3450000000000002,0.90415279786950131]
[null,null,null,null,null,null,null,null,null,null,null,null,null,null,null,null,null,null,null,null,null,null,null,null,2.3460000000000001,0.9042485971640013]
[null,null,null,null,null,null,null,null,null,null,null,null,null,null,null,null,null,null,null,null,null,null,null,null,2.347,0.90434430070709049]
[null,null,null,null,null,null,null,null,null,null,null,null,null,null,null,null,null,null,null,null,null,null,null,null,2.3479999999999999,0.90443990859447232]
[null,null,null,null,null,null,null,null,null,null,null,null,null,null,null,null,null,null,null,null,null,null,null,null,2.3490000000000002,0.90453542092175487]
[null,null,null,null,null,null,null,null,null,null,null,null,null,null,null,null,null,null,null,null,null,null,null,null,2.35,0.90463083778445041]
[null,null,null,null,null,null,null,null,null,null,null,null,null,null,null,null,null,null,null,null,null,null,null,null,2.351,0.90472615927797573]
[null,null,null,null,null,null,null,null,null,null,null,null,null,null,null,null,null,null,null,null,null,null,null,null,2.3519999999999999,0.90482138549765234]
[null,null,null,null,null,null,null,null,null,null,null,null,null,null,null,null,null,null,null,null,null,null,null,null,2.3530000000000002,0.90491651653870664]
[null,null,null,null,null,null,null,null,null,null,null,null,null,null,null,null,null,null,null,null,null,null,null,null,2.3540000000000001,0.90501155249626941]
[null,null,null,null,null,null,null,null,null,null,null,null,null,null,null,null,null,null,null,null,null,null,null,null,2.355,0.90510649346537686]
[null,null,null,null,null,null,null,null,null,null,null,null,null,null,null,null,null,null,null,null,null,null,null,null,2.3559999999999999,0.90520133954096982]
[null,null,null,null,null,null,null,null,null,null,null,null,null,null,null,null,null,null,null,null,null,null,null,null,2.3570000000000002,0.90529609081789453]
[null,null,null,null,null,null,null,null,null,null,null,null,null,null,null,null,null,null,null,null,null,null,null,null,2.3580000000000001,0.90539074739090208]
[null,null,null,null,null,null,null,null,null,null,null,null,null,null,null,null,null,null,null,null,null,null,null,null,2.359,0.9054853093546491]
[null,null,null,null,null,null,null,null,null,null,null,null,null,null,null,null,null,null,null,null,null,null,null,null,2.36,0.90557977680369761]
[null,null,null,null,null,null,null,null,null,null,null,null,null,null,null,null,null,null,null,null,null,null,null,null,2.3610000000000002,0.90567414983251515]
[null,null,null,null,null,null,null,null,null,null,null,null,null,null,null,null,null,null,null,null,null,null,null,null,2.3620000000000001,0.90576842853547457]
[null,null,null,null,null,null,null,null,null,null,null,null,null,null,null,null,null,null,null,null,null,null,null,null,2.363,0.90586261300685467]
[null,null,null,null,null,null,null,null,null,null,null,null,null,null,null,null,null,null,null,null,null,null,null,null,2.3639999999999999,0.90595670334084]
[null,null,null,null,null,null,null,null,null,null,null,null,null,null,null,null,null,null,null,null,null,null,null,null,2.3650000000000002,0.90605069963152085]
[null,null,null,null,null,null,null,null,null,null,null,null,null,null,null,null,null,null,null,null,null,null,null,null,2.3660000000000001,0.90614460197289337]
[null,null,null,null,null,null,null,null,null,null,null,null,null,null,null,null,null,null,null,null,null,null,null,null,2.367,0.90623841045886011]
[null,null,null,null,null,null,null,null,null,null,null,null,null,null,null,null,null,null,null,null,null,null,null,null,2.3679999999999999,0.90633212518322948]
[null,null,null,null,null,null,null,null,null,null,null,null,null,null,null,null,null,null,null,null,null,null,null,null,2.3690000000000002,{"$f":"1-EXP(-Y2372)","v":0.90642574623971628}]
[null,null,null,null,null,null,null,null,null,null,null,null,null,null,null,null,null,null,null,null,null,null,null,null,2.37,0.90651927372194152]
[null,null,null,null,null,null,null,null,null,null,null,null,null,null,null,null,null,null,null,null,null,null,null,null,2.371,0.90661270772343272]
[null,null,null,null,null,null,null,null,null,null,null,null,null,null,null,null,null,null,null,null,null,null,null,null,2.3719999999999999,0.90670604833762369]
[null,null,null,null,null,null,null,null,null,null,null,null,null,null,null,null,null,null,null,null,null,null,null,null,2.3730000000000002,0.90679929565785544]
[null,null,null,null,null,null,null,null,null,null,null,null,null,null,null,null,null,null,null,null,null,null,null,null,2.3740000000000001,0.90689244977737493]
[null,null,null,null,null,null,null,null,null,null,null,null,null,null,null,null,null,null,null,null,null,null,null,null,2.375,0.90698551078933654]
[null,null,null,null,null,null,null,null,null,null,null,null,null,null,null,null,null,null,null,null,null,null,null,null,2.3759999999999999,0.90707847878680115]
[null,null,null,null,null,null,null,null,null,null,null,null,null,null,null,null,null,null,null,null,null,null,null,null,2.3769999999999998,0.90717135386273673]
[null,null,null,null,null,null,null,null,null,null,null,null,null,null,null,null,null,null,null,null,null,null,null,null,2.3780000000000001,0.90726413611001855]
[null,null,null,null,null,null,null,null,null,null,null,null,null,null,null,null,null,null,null,null,null,null,null,null,2.379,0.90735682562142872]
[null,null,null,null,null,null,null,null,null,null,null,null,null,null,null,null,null,null,null,null,null,null,null,null,2.38,0.90744942248965677]
[null,null,null,null,null,null,null,null,null,null,null,null,null,null,null,null,null,null,null,null,null,null,null,null,2.3809999999999998,0.9075419268072995]
[null,null,null,null,null,null,null,null,null,null,null,null,null,null,null,null,null,null,null,null,null,null,null,null,2.3820000000000001,0.9076343386668615]
[null,null,null,null,null,null,null,null,null,null,null,null,null,null,null,null,null,null,null,null,null,null,null,null,2.383,0.90772665816075437]
[null,null,null,null,null,null,null,null,null,null,null,null,null,null,null,null,null,null,null,null,null,null,null,null,2.3839999999999999,0.90781888538129774]
[null,null,null,null,null,null,null,null,null,null,null,null,null,null,null,null,null,null,null,null,null,null,null,null,2.3849999999999998,0.90791102042071881]
[null,null,null,null,null,null,null,null,null,null,null,null,null,null,null,null,null,null,null,null,null,null,null,null,2.3860000000000001,0.90800306337115266]
[null,null,null,null,null,null,null,null,null,null,null,null,null,null,null,null,null,null,null,null,null,null,null,null,2.387,0.90809501432464212]
[null,null,null,null,null,null,null,null,null,null,null,null,null,null,null,null,null,null,null,null,null,null,null,null,2.3879999999999999,0.9081868733731383]
[null,null,null,null,null,null,null,null,null,null,null,null,null,null,null,null,null,null,null,null,null,null,null,null,2.3889999999999998,0.90827864060850028]
[null,null,null,null,null,null,null,null,null,null,null,null,null,null,null,null,null,null,null,null,null,null,null,null,2.39,0.90837031612249519]
[null,null,null,null,null,null,null,null,null,null,null,null,null,null,null,null,null,null,null,null,null,null,null,null,2.391,0.9084619000067985]
[null,null,null,null,null,null,null,null,null,null,null,null,null,null,null,null,null,null,null,null,null,null,null,null,2.3919999999999999,0.90855339235299426]
[null,null,null,null,null,null,null,null,null,null,null,null,null,null,null,null,null,null,null,null,null,null,null,null,2.3929999999999998,0.90864479325257475]
[null,null,null,null,null,null,null,null,null,null,null,null,null,null,null,null,null,null,null,null,null,null,null,null,2.3940000000000001,0.90873610279694084]
[null,null,null,null,null,null,null,null,null,null,null,null,null,null,null,null,null,null,null,null,null,null,null,null,2.395,0.90882732107740216]
[null,null,null,null,null,null,null,null,null,null,null,null,null,null,null,null,null,null,null,null,null,null,null,null,2.3959999999999999,0.90891844818517686]
[null,null,null,null,null,null,null,null,null,null,null,null,null,null,null,null,null,null,null,null,null,null,null,null,2.3969999999999998,0.90900948421139227]
[null,null,null,null,null,null,null,null,null,null,null,null,null,null,null,null,null,null,null,null,null,null,null,null,2.3980000000000001,0.90910042924708434]
[null,null,null,null,null,null,null,null,null,null,null,null,null,null,null,null,null,null,null,null,null,null,null,null,2.399,0.90919128338319799]
[null,null,null,null,null,null,null,null,null,null,null,null,null,null,null,null,null,null,null,null,null,null,null,null,2.4,0.90928204671058754]
[null,null,null,null,null,null,null,null,null,null,null,null,null,null,null,null,null,null,null,null,null,null,null,null,2.4009999999999998,0.90937271932001607]
[null,null,null,null,null,null,null,null,null,null,null,null,null,null,null,null,null,null,null,null,null,null,null,null,2.4020000000000001,0.90946330130215658]
[null,null,null,null,null,null,null,null,null,null,null,null,null,null,null,null,null,null,null,null,null,null,null,null,2.403,0.90955379274759074]
[null,null,null,null,null,null,null,null,null,null,null,null,null,null,null,null,null,null,null,null,null,null,null,null,2.4039999999999999,0.90964419374681005]
[null,null,null,null,null,null,null,null,null,null,null,null,null,null,null,null,null,null,null,null,null,null,null,null,2.4049999999999998,0.90973450439021564]
[null,null,null,null,null,null,null,null,null,null,null,null,null,null,null,null,null,null,null,null,null,null,null,null,2.4060000000000001,0.90982472476811815]
[null,null,null,null,null,null,null,null,null,null,null,null,null,null,null,null,null,null,null,null,null,null,null,null,2.407,0.90991485497073787]
[null,null,null,null,null,null,null,null,null,null,null,null,null,null,null,null,null,null,null,null,null,null,null,null,2.4079999999999999,0.91000489508820515]
[null,null,null,null,null,null,null,null,null,null,null,null,null,null,null,null,null,null,null,null,null,null,null,null,2.4089999999999998,0.91009484521055983]
[null,null,null,null,null,null,null,null,null,null,null,null,null,null,null,null,null,null,null,null,null,null,null,null,2.41,0.91018470542775232]
[null,null,null,null,null,null,null,null,null,null,null,null,null,null,null,null,null,null,null,null,null,null,null,null,2.411,0.91027447582964283]
[null,null,null,null,null,null,null,null,null,null,null,null,null,null,null,null,null,null,null,null,null,null,null,null,2.4119999999999999,0.91036415650600155]
[null,null,null,null,null,null,null,null,null,null,null,null,null,null,null,null,null,null,null,null,null,null,null,null,2.4129999999999998,0.91045374754650943]
[null,null,null,null,null,null,null,null,null,null,null,null,null,null,null,null,null,null,null,null,null,null,null,null,2.4140000000000001,0.91054324904075734]
[null,null,null,null,null,null,null,null,null,null,null,null,null,null,null,null,null,null,null,null,null,null,null,null,2.415,0.91063266107824681]
[null,null,null,null,null,null,null,null,null,null,null,null,null,null,null,null,null,null,null,null,null,null,null,null,2.4159999999999999,0.91072198374838997]
[null,null,null,null,null,null,null,null,null,null,null,null,null,null,null,null,null,null,null,null,null,null,null,null,2.4169999999999998,0.91081121714050939]
[null,null,null,null,null,null,null,null,null,null,null,null,null,null,null,null,null,null,null,null,null,null,null,null,2.4180000000000001,0.91090036134383856]
[null,null,null,null,null,null,null,null,null,null,null,null,null,null,null,null,null,null,null,null,null,null,null,null,2.419,0.91098941644752163]
[null,null,null,null,null,null,null,null,null,null,null,null,null,null,null,null,null,null,null,null,null,null,null,null,2.42,0.91107838254061368]
[null,null,null,null,null,null,null,null,null,null,null,null,null,null,null,null,null,null,null,null,null,null,null,null,2.4209999999999998,0.9111672597120809]
[null,null,null,null,null,null,null,null,null,null,null,null,null,null,null,null,null,null,null,null,null,null,null,null,2.4220000000000002,0.9112560480508004]
[null,null,null,null,null,null,null,null,null,null,null,null,null,null,null,null,null,null,null,null,null,null,null,null,2.423,0.91134474764556062]
[null,null,null,null,null,null,null,null,null,null,null,null,null,null,null,null,null,null,null,null,null,null,null,null,2.4239999999999999,0.91143335858506103]
[null,null,null,null,null,null,null,null,null,null,null,null,null,null,null,null,null,null,null,null,null,null,null,null,2.4249999999999998,0.91152188095791264]
[null,null,null,null,null,null,null,null,null,null,null,null,null,null,null,null,null,null,null,null,null,null,null,null,2.4260000000000002,0.91161031485263799]
[null,null,null,null,null,null,null,null,null,null,null,null,null,null,null,null,null,null,null,null,null,null,null,null,2.427,0.91169866035767066]
[null,null,null,null,null,null,null,null,null,null,null,null,null,null,null,null,null,null,null,null,null,null,null,null,2.4279999999999999,0.91178691756135632]
[null,null,null,null,null,null,null,null,null,null,null,null,null,null,null,null,null,null,null,null,null,null,null,null,2.4289999999999998,0.91187508655195226]
[null,null,null,null,null,null,null,null,null,null,null,null,null,null,null,null,null,null,null,null,null,null,null,null,2.4300000000000002,0.9119631674176274]
[null,null,null,null,null,null,null,null,null,null,null,null,null,null,null,null,null,null,null,null,null,null,null,null,2.431,0.91205116024646271]
[null,null,null,null,null,null,null,null,null,null,null,null,null,null,null,null,null,null,null,null,null,null,null,null,2.4319999999999999,0.91213906512645082]
[null,null,null,null,null,null,null,null,null,null,null,null,null,null,null,null,null,null,null,null,null,null,null,null,2.4329999999999998,{"$f":"1-EXP(-Y2436)","v":0.91222688214549674}]
[null,null,null,null,null,null,null,null,null,null,null,null,null,null,null,null,null,null,null,null,null,null,null,null,2.4340000000000002,0.91231461139141756]
[null,null,null,null,null,null,null,null,null,null,null,null,null,null,null,null,null,null,null,null,null,null,null,null,2.4350000000000001,0.91240225295194233]
[null,null,null,null,null,null,null,null,null,null,null,null,null,null,null,null,null,null,null,null,null,null,null,null,2.4359999999999999,0.91248980691471293]
[null,null,null,null,null,null,null,null,null,null,null,null,null,null,null,null,null,null,null,null,null,null,null,null,2.4369999999999998,0.912577273367283]
[null,null,null,null,null,null,null,null,null,null,null,null,null,null,null,null,null,null,null,null,null,null,null,null,2.4380000000000002,0.91266465239711925]
[null,null,null,null,null,null,null,null,null,null,null,null,null,null,null,null,null,null,null,null,null,null,null,null,2.4390000000000001,0.91275194409160054]
[null,null,null,null,null,null,null,null,null,null,null,null,null,null,null,null,null,null,null,null,null,null,null,null,2.44,0.91283914853801873]
[null,null,null,null,null,null,null,null,null,null,null,null,null,null,null,null,null,null,null,null,null,null,null,null,2.4409999999999998,0.91292626582357816]
[null,null,null,null,null,null,null,null,null,null,null,null,null,null,null,null,null,null,null,null,null,null,null,null,2.4420000000000002,0.91301329603539616]
[null,null,null,null,null,null,null,null,null,null,null,null,null,null,null,null,null,null,null,null,null,null,null,null,2.4430000000000001,0.91310023926050288]
[null,null,null,null,null,null,null,null,null,null,null,null,null,null,null,null,null,null,null,null,null,null,null,null,2.444,0.91318709558584166]
[null,null,null,null,null,null,null,null,null,null,null,null,null,null,null,null,null,null,null,null,null,null,null,null,2.4449999999999998,0.9132738650982688]
[null,null,null,null,null,null,null,null,null,null,null,null,null,null,null,null,null,null,null,null,null,null,null,null,2.4460000000000002,0.9133605478845539]
[null,null,null,null,null,null,null,null,null,null,null,null,null,null,null,null,null,null,null,null,null,null,null,null,2.4470000000000001,0.91344714403137961]
[null,null,null,null,null,null,null,null,null,null,null,null,null,null,null,null,null,null,null,null,null,null,null,null,2.448,0.91353365362534211]
[null,null,null,null,null,null,null,null,null,null,null,null,null,null,null,null,null,null,null,null,null,null,null,null,2.4489999999999998,0.91362007675295098]
[null,null,null,null,null,null,null,null,null,null,null,null,null,null,null,null,null,null,null,null,null,null,null,null,2.4500000000000002,0.91370641350062953]
[null,null,null,null,null,null,null,null,null,null,null,null,null,null,null,null,null,null,null,null,null,null,null,null,2.4510000000000001,0.91379266395471426]
[null,null,null,null,null,null,null,null,null,null,null,null,null,null,null,null,null,null,null,null,null,null,null,null,2.452,0.91387882820145583]
[null,null,null,null,null,null,null,null,null,null,null,null,null,null,null,null,null,null,null,null,null,null,null,null,2.4529999999999998,0.91396490632701843]
[null,null,null,null,null,null,null,null,null,null,null,null,null,null,null,null,null,null,null,null,null,null,null,null,2.4540000000000002,0.91405089841748022]
[null,null,null,null,null,null,null,null,null,null,null,null,null,null,null,null,null,null,null,null,null,null,null,null,2.4550000000000001,0.91413680455883317]
[null,null,null,null,null,null,null,null,null,null,null,null,null,null,null,null,null,null,null,null,null,null,null,null,2.456,0.91422262483698358]
[null,null,null,null,null,null,null,null,null,null,null,null,null,null,null,null,null,null,null,null,null,null,null,null,2.4569999999999999,0.91430835933775167]
[null,null,null,null,null,null,null,null,null,null,null,null,null,null,null,null,null,null,null,null,null,null,null,null,2.4580000000000002,0.91439400814687199]
[null,null,null,null,null,null,null,null,null,null,null,null,null,null,null,null,null,null,null,null,null,null,null,null,2.4590000000000001,0.91447957134999325]
[null,null,null,null,null,null,null,null,null,null,null,null,null,null,null,null,null,null,null,null,null,null,null,null,2.46,0.91456504903267877]
[null,null,null,null,null,null,null,null,null,null,null,null,null,null,null,null,null,null,null,null,null,null,null,null,2.4609999999999999,0.91465044128040618]
[null,null,null,null,null,null,null,null,null,null,null,null,null,null,null,null,null,null,null,null,null,null,null,null,2.4620000000000002,0.91473574817856784]
[null,null,null,null,null,null,null,null,null,null,null,null,null,null,null,null,null,null,null,null,null,null,null,null,2.4630000000000001,0.91482096981247052]
[null,null,null,null,null,null,null,null,null,null,null,null,null,null,null,null,null,null,null,null,null,null,null,null,2.464,0.91490610626733593]
[null,null,null,null,null,null,null,null,null,null,null,null,null,null,null,null,null,null,null,null,null,null,null,null,2.4649999999999999,0.91499115762830041]
[null,null,null,null,null,null,null,null,null,null,null,null,null,null,null,null,null,null,null,null,null,null,null,null,2.4660000000000002,0.9150761239804156]
[null,null,null,null,null,null,null,null,null,null,null,null,null,null,null,null,null,null,null,null,null,null,null,null,2.4670000000000001,0.91516100540864764]
[null,null,null,null,null,null,null,null,null,null,null,null,null,null,null,null,null,null,null,null,null,null,null,null,2.468,0.91524580199787797]
[null,null,null,null,null,null,null,null,null,null,null,null,null,null,null,null,null,null,null,null,null,null,null,null,2.4689999999999999,0.9153305138329032]
[null,null,null,null,null,null,null,null,null,null,null,null,null,null,null,null,null,null,null,null,null,null,null,null,2.4700000000000002,0.91541514099843535]
[null,null,null,null,null,null,null,null,null,null,null,null,null,null,null,null,null,null,null,null,null,null,null,null,2.4710000000000001,0.91549968357910128]
[null,null,null,null,null,null,null,null,null,null,null,null,null,null,null,null,null,null,null,null,null,null,null,null,2.472,0.91558414165944391]
[null,null,null,null,null,null,null,null,null,null,null,null,null,null,null,null,null,null,null,null,null,null,null,null,2.4729999999999999,0.91566851532392102]
[null,null,null,null,null,null,null,null,null,null,null,null,null,null,null,null,null,null,null,null,null,null,null,null,2.4740000000000002,0.91575280465690656]
[null,null,null,null,null,null,null,null,null,null,null,null,null,null,null,null,null,null,null,null,null,null,null,null,2.4750000000000001,0.91583700974268967]
[null,null,null,null,null,null,null,null,null,null,null,null,null,null,null,null,null,null,null,null,null,null,null,null,2.476,0.91592113066547542]
[null,null,null,null,null,null,null,null,null,null,null,null,null,null,null,null,null,null,null,null,null,null,null,null,2.4769999999999999,0.91600516750938499]
[null,null,null,null,null,null,null,null,null,null,null,null,null,null,null,null,null,null,null,null,null,null,null,null,2.4780000000000002,0.91608912035845502]
[null,null,null,null,null,null,null,null,null,null,null,null,null,null,null,null,null,null,null,null,null,null,null,null,2.4790000000000001,0.91617298929663837]
[null,null,null,null,null,null,null,null,null,null,null,null,null,null,null,null,null,null,null,null,null,null,null,null,2.48,0.91625677440780406]
[null,null,null,null,null,null,null,null,null,null,null,null,null,null,null,null,null,null,null,null,null,null,null,null,2.4809999999999999,0.91634047577573718]
[null,null,null,null,null,null,null,null,null,null,null,null,null,null,null,null,null,null,null,null,null,null,null,null,2.4820000000000002,0.91642409348413911]
[null,null,null,null,null,null,null,null,null,null,null,null,null,null,null,null,null,null,null,null,null,null,null,null,2.4830000000000001,0.91650762761662752]
[null,null,null,null,null,null,null,null,null,null,null,null,null,null,null,null,null,null,null,null,null,null,null,null,2.484,0.91659107825673658]
[null,null,null,null,null,null,null,null,null,null,null,null,null,null,null,null,null,null,null,null,null,null,null,null,2.4849999999999999,0.91667444548791699]
[null,null,null,null,null,null,null,null,null,null,null,null,null,null,null,null,null,null,null,null,null,null,null,null,2.4860000000000002,0.91675772939353595]
[null,null,null,null,null,null,null,null,null,null,null,null,null,null,null,null,null,null,null,null,null,null,null,null,2.4870000000000001,0.91684093005687739]
[null,null,null,null,null,null,null,null,null,null,null,null,null,null,null,null,null,null,null,null,null,null,null,null,2.488,0.91692404756114188]
[null,null,null,null,null,null,null,null,null,null,null,null,null,null,null,null,null,null,null,null,null,null,null,null,2.4889999999999999,0.91700708198944703]
[null,null,null,null,null,null,null,null,null,null,null,null,null,null,null,null,null,null,null,null,null,null,null,null,2.4900000000000002,0.91709003342482731]
[null,null,null,null,null,null,null,null,null,null,null,null,null,null,null,null,null,null,null,null,null,null,null,null,2.4910000000000001,0.91717290195023404]
[null,null,null,null,null,null,null,null,null,null,null,null,null,null,null,null,null,null,null,null,null,null,null,null,2.492,0.91725568764853582]
[null,null,null,null,null,null,null,null,null,null,null,null,null,null,null,null,null,null,null,null,null,null,null,null,2.4929999999999999,0.91733839060251843]
[null,null,null,null,null,null,null,null,null,null,null,null,null,null,null,null,null,null,null,null,null,null,null,null,2.4940000000000002,0.9174210108948847]
[null,null,null,null,null,null,null,null,null,null,null,null,null,null,null,null,null,null,null,null,null,null,null,null,2.4950000000000001,0.917503548608255]
[null,null,null,null,null,null,null,null,null,null,null,null,null,null,null,null,null,null,null,null,null,null,null,null,2.496,0.91758600382516708]
[null,null,null,null,null,null,null,null,null,null,null,null,null,null,null,null,null,null,null,null,null,null,null,null,2.4969999999999999,{"$f":"1-EXP(-Y2500)","v":0.91766837662807599}]
[null,null,null,null,null,null,null,null,null,null,null,null,null,null,null,null,null,null,null,null,null,null,null,null,2.4980000000000002,0.91775066709935471]
[null,null,null,null,null,null,null,null,null,null,null,null,null,null,null,null,null,null,null,null,null,null,null,null,2.4990000000000001,0.91783287532129376]
[null,null,null,null,null,null,null,null,null,null,null,null,null,null,null,null,null,null,null,null,null,null,null,null,2.5,0.91791500137610116]
[null,null,null,null,null,null,null,null,null,null,null,null,null,null,null,null,null,null,null,null,null,null,null,null,2.5009999999999999,0.91799704534590321]
[null,null,null,null,null,null,null,null,null,null,null,null,null,null,null,null,null,null,null,null,null,null,null,null,2.5019999999999998,0.91807900731274372]
[null,null,null,null,null,null,null,null,null,null,null,null,null,null,null,null,null,null,null,null,null,null,null,null,2.5030000000000001,0.9181608873585847]
[null,null,null,null,null,null,null,null,null,null,null,null,null,null,null,null,null,null,null,null,null,null,null,null,2.504,0.9182426855653063]
[null,null,null,null,null,null,null,null,null,null,null,null,null,null,null,null,null,null,null,null,null,null,null,null,2.5049999999999999,0.91832440201470655]
[null,null,null,null,null,null,null,null,null,null,null,null,null,null,null,null,null,null,null,null,null,null,null,null,2.5059999999999998,0.91840603678850208]
[null,null,null,null,null,null,null,null,null,null,null,null,null,null,null,null,null,null,null,null,null,null,null,null,2.5070000000000001,0.91848758996832758]
[null,null,null,null,null,null,null,null,null,null,null,null,null,null,null,null,null,null,null,null,null,null,null,null,2.508,0.91856906163573615]
[null,null,null,null,null,null,null,null,null,null,null,null,null,null,null,null,null,null,null,null,null,null,null,null,2.5089999999999999,0.91865045187219974]
[null,null,null,null,null,null,null,null,null,null,null,null,null,null,null,null,null,null,null,null,null,null,null,null,2.5099999999999998,0.91873176075910834]
[null,null,null,null,null,null,null,null,null,null,null,null,null,null,null,null,null,null,null,null,null,null,null,null,2.5110000000000001,0.91881298837777092]
[null,null,null,null,null,null,null,null,null,null,null,null,null,null,null,null,null,null,null,null,null,null,null,null,2.512,0.91889413480941506]
[null,null,null,null,null,null,null,null,null,null,null,null,null,null,null,null,null,null,null,null,null,null,null,null,2.5129999999999999,0.91897520013518741]
[null,null,null,null,null,null,null,null,null,null,null,null,null,null,null,null,null,null,null,null,null,null,null,null,2.5139999999999998,0.919056184436153]
[null,null,null,null,null,null,null,null,null,null,null,null,null,null,null,null,null,null,null,null,null,null,null,null,2.5150000000000001,0.91913708779329628]
[null,null,null,null,null,null,null,null,null,null,null,null,null,null,null,null,null,null,null,null,null,null,null,null,2.516,0.91921791028752076]
[null,null,null,null,null,null,null,null,null,null,null,null,null,null,null,null,null,null,null,null,null,null,null,null,2.5169999999999999,0.91929865199964866]
[null,null,null,null,null,null,null,null,null,null,null,null,null,null,null,null,null,null,null,null,null,null,null,null,2.5179999999999998,0.91937931301042186]
[null,null,null,null,null,null,null,null,null,null,null,null,null,null,null,null,null,null,null,null,null,null,null,null,2.5190000000000001,0.91945989340050138]
[null,null,null,null,null,null,null,null,null,null,null,null,null,null,null,null,null,null,null,null,null,null,null,null,2.52,0.91954039325046755]
[null,null,null,null,null,null,null,null,null,null,null,null,null,null,null,null,null,null,null,null,null,null,null,null,2.5209999999999999,0.9196208126408203]
[null,null,null,null,null,null,null,null,null,null,null,null,null,null,null,null,null,null,null,null,null,null,null,null,2.5219999999999998,0.91970115165197897]
[null,null,null,null,null,null,null,null,null,null,null,null,null,null,null,null,null,null,null,null,null,null,null,null,2.5230000000000001,0.91978141036428263]
[null,null,null,null,null,null,null,null,null,null,null,null,null,null,null,null,null,null,null,null,null,null,null,null,2.524,0.91986158885798996]
[null,null,null,null,null,null,null,null,null,null,null,null,null,null,null,null,null,null,null,null,null,null,null,null,2.5249999999999999,0.91994168721327951]
[null,null,null,null,null,null,null,null,null,null,null,null,null,null,null,null,null,null,null,null,null,null,null,null,2.5259999999999998,0.92002170551024953]
[null,null,null,null,null,null,null,null,null,null,null,null,null,null,null,null,null,null,null,null,null,null,null,null,2.5270000000000001,0.92010164382891846]
[null,null,null,null,null,null,null,null,null,null,null,null,null,null,null,null,null,null,null,null,null,null,null,null,2.528,0.92018150224922446]
[null,null,null,null,null,null,null,null,null,null,null,null,null,null,null,null,null,null,null,null,null,null,null,null,2.5289999999999999,0.9202612808510261]
[null,null,null,null,null,null,null,null,null,null,null,null,null,null,null,null,null,null,null,null,null,null,null,null,2.5299999999999998,0.920340979714102]
[null,null,null,null,null,null,null,null,null,null,null,null,null,null,null,null,null,null,null,null,null,null,null,null,2.5310000000000001,0.92042059891815087]
[null,null,null,null,null,null,null,null,null,null,null,null,null,null,null,null,null,null,null,null,null,null,null,null,2.532,0.92050013854279211]
[null,null,null,null,null,null,null,null,null,null,null,null,null,null,null,null,null,null,null,null,null,null,null,null,2.5329999999999999,0.92057959866756534]
[null,null,null,null,null,null,null,null,null,null,null,null,null,null,null,null,null,null,null,null,null,null,null,null,2.5339999999999998,0.92065897937193042]
[null,null,null,null,null,null,null,null,null,null,null,null,null,null,null,null,null,null,null,null,null,null,null,null,2.5350000000000001,0.92073828073526842]
[null,null,null,null,null,null,null,null,null,null,null,null,null,null,null,null,null,null,null,null,null,null,null,null,2.536,0.92081750283688057]
[null,null,null,null,null,null,null,null,null,null,null,null,null,null,null,null,null,null,null,null,null,null,null,null,2.5369999999999999,0.92089664575598884]
[null,null,null,null,null,null,null,null,null,null,null,null,null,null,null,null,null,null,null,null,null,null,null,null,2.5379999999999998,0.92097570957173636]
[null,null,null,null,null,null,null,null,null,null,null,null,null,null,null,null,null,null,null,null,null,null,null,null,2.5390000000000001,0.92105469436318677]
[null,null,null,null,null,null,null,null,null,null,null,null,null,null,null,null,null,null,null,null,null,null,null,null,2.54,0.92113360020932511]
[null,null,null,null,null,null,null,null,null,null,null,null,null,null,null,null,null,null,null,null,null,null,null,null,2.5409999999999999,0.92121242718905694]
[null,null,null,null,null,null,null,null,null,null,null,null,null,null,null,null,null,null,null,null,null,null,null,null,2.5419999999999998,0.92129117538120942]
[null,null,null,null,null,null,null,null,null,null,null,null,null,null,null,null,null,null,null,null,null,null,null,null,2.5430000000000001,0.92136984486453077]
[null,null,null,null,null,null,null,null,null,null,null,null,null,null,null,null,null,null,null,null,null,null,null,null,2.544,0.92144843571769042]
[null,null,null,null,null,null,null,null,null,null,null,null,null,null,null,null,null,null,null,null,null,null,null,null,2.5449999999999999,0.92152694801927926]
[null,null,null,null,null,null,null,null,null,null,null,null,null,null,null,null,null,null,null,null,null,null,null,null,2.5459999999999998,0.9216053818478096]
[null,null,null,null,null,null,null,null,null,null,null,null,null,null,null,null,null,null,null,null,null,null,null,null,2.5470000000000002,0.92168373728171527]
[null,null,null,null,null,null,null,null,null,null,null,null,null,null,null,null,null,null,null,null,null,null,null,null,2.548,0.92176201439935157]
[null,null,null,null,null,null,null,null,null,null,null,null,null,null,null,null,null,null,null,null,null,null,null,null,2.5489999999999999,0.92184021327899579]
[null,null,null,null,null,null,null,null,null,null,null,null,null,null,null,null,null,null,null,null,null,null,null,null,2.5499999999999998,0.92191833399884682]
[null,null,null,null,null,null,null,null,null,null,null,null,null,null,null,null,null,null,null,null,null,null,null,null,2.5510000000000002,0.92199637663702538]
[null,null,null,null,null,null,null,null,null,null,null,null,null,null,null,null,null,null,null,null,null,null,null,null,2.552,0.92207434127157395]
[null,null,null,null,null,null,null,null,null,null,null,null,null,null,null,null,null,null,null,null,null,null,null,null,2.5529999999999999,0.92215222798045748]
[null,null,null,null,null,null,null,null,null,null,null,null,null,null,null,null,null,null,null,null,null,null,null,null,2.5539999999999998,0.92223003684156235]
[null,null,null,null,null,null,null,null,null,null,null,null,null,null,null,null,null,null,null,null,null,null,null,null,2.5550000000000002,0.92230776793269764]
[null,null,null,null,null,null,null,null,null,null,null,null,null,null,null,null,null,null,null,null,null,null,null,null,2.556,0.9223854213315944]
[null,null,null,null,null,null,null,null,null,null,null,null,null,null,null,null,null,null,null,null,null,null,null,null,2.5569999999999999,0.92246299711590596]
[null,null,null,null,null,null,null,null,null,null,null,null,null,null,null,null,null,null,null,null,null,null,null,null,2.5579999999999998,0.92254049536320826]
[null,null,null,null,null,null,null,null,null,null,null,null,null,null,null,null,null,null,null,null,null,null,null,null,2.5590000000000002,0.92261791615099942]
[null,null,null,null,null,null,null,null,null,null,null,null,null,null,null,null,null,null,null,null,null,null,null,null,2.56,0.92269525955670029]
[null,null,null,null,null,null,null,null,null,null,null,null,null,null,null,null,null,null,null,null,null,null,null,null,2.5609999999999999,{"$f":"1-EXP(-Y2564)","v":0.92277252565765422}]
[null,null,null,null,null,null,null,null,null,null,null,null,null,null,null,null,null,null,null,null,null,null,null,null,2.5619999999999998,0.92284971453112741]
[null,null,null,null,null,null,null,null,null,null,null,null,null,null,null,null,null,null,null,null,null,null,null,null,2.5630000000000002,0.92292682625430877]
[null,null,null,null,null,null,null,null,null,null,null,null,null,null,null,null,null,null,null,null,null,null,null,null,2.5640000000000001,0.92300386090430986]
[null,null,null,null,null,null,null,null,null,null,null,null,null,null,null,null,null,null,null,null,null,null,null,null,2.5649999999999999,0.92308081855816548]
[null,null,null,null,null,null,null,null,null,null,null,null,null,null,null,null,null,null,null,null,null,null,null,null,2.5659999999999998,0.92315769929283331]
[null,null,null,null,null,null,null,null,null,null,null,null,null,null,null,null,null,null,null,null,null,null,null,null,2.5670000000000002,0.92323450318519396]
[null,null,null,null,null,null,null,null,null,null,null,null,null,null,null,null,null,null,null,null,null,null,null,null,2.5680000000000001,0.92331123031205142]
[null,null,null,null,null,null,null,null,null,null,null,null,null,null,null,null,null,null,null,null,null,null,null,null,2.569,0.92338788075013278]
[null,null,null,null,null,null,null,null,null,null,null,null,null,null,null,null,null,null,null,null,null,null,null,null,2.57,0.9234644545760885]
[null,null,null,null,null,null,null,null,null,null,null,null,null,null,null,null,null,null,null,null,null,null,null,null,2.5710000000000002,0.92354095186649243]
[null,null,null,null,null,null,null,null,null,null,null,null,null,null,null,null,null,null,null,null,null,null,null,null,2.5720000000000001,0.92361737269784183]
[null,null,null,null,null,null,null,null,null,null,null,null,null,null,null,null,null,null,null,null,null,null,null,null,2.573,0.92369371714655757]
[null,null,null,null,null,null,null,null,null,null,null,null,null,null,null,null,null,null,null,null,null,null,null,null,2.5739999999999998,0.92376998528898413]
[null,null,null,null,null,null,null,null,null,null,null,null,null,null,null,null,null,null,null,null,null,null,null,null,2.5750000000000002,0.92384617720138973]
[null,null,null,null,null,null,null,null,null,null,null,null,null,null,null,null,null,null,null,null,null,null,null,null,2.5760000000000001,0.92392229295996597]
[null,null,null,null,null,null,null,null,null,null,null,null,null,null,null,null,null,null,null,null,null,null,null,null,2.577,0.92399833264082898]
[null,null,null,null,null,null,null,null,null,null,null,null,null,null,null,null,null,null,null,null,null,null,null,null,2.5779999999999998,0.92407429632001825]
[null,null,null,null,null,null,null,null,null,null,null,null,null,null,null,null,null,null,null,null,null,null,null,null,2.5790000000000002,0.92415018407349747]
[null,null,null,null,null,null,null,null,null,null,null,null,null,null,null,null,null,null,null,null,null,null,null,null,2.58,0.92422599597715449]
[null,null,null,null,null,null,null,null,null,null,null,null,null,null,null,null,null,null,null,null,null,null,null,null,2.581,0.92430173210680122]
[null,null,null,null,null,null,null,null,null,null,null,null,null,null,null,null,null,null,null,null,null,null,null,null,2.5819999999999999,0.92437739253817364]
[null,null,null,null,null,null,null,null,null,null,null,null,null,null,null,null,null,null,null,null,null,null,null,null,2.5830000000000002,0.92445297734693244]
[null,null,null,null,null,null,null,null,null,null,null,null,null,null,null,null,null,null,null,null,null,null,null,null,2.5840000000000001,0.92452848660866216]
[null,null,null,null,null,null,null,null,null,null,null,null,null,null,null,null,null,null,null,null,null,null,null,null,2.585,0.92460392039887229]
[null,null,null,null,null,null,null,null,null,null,null,null,null,null,null,null,null,null,null,null,null,null,null,null,2.5859999999999999,0.92467927879299638]
[null,null,null,null,null,null,null,null,null,null,null,null,null,null,null,null,null,null,null,null,null,null,null,null,2.5870000000000002,0.92475456186639315]
[null,null,null,null,null,null,null,null,null,null,null,null,null,null,null,null,null,null,null,null,null,null,null,null,2.5880000000000001,0.92482976969434549]
[null,null,null,null,null,null,null,null,null,null,null,null,null,null,null,null,null,null,null,null,null,null,null,null,2.589,0.92490490235206124]
[null,null,null,null,null,null,null,null,null,null,null,null,null,null,null,null,null,null,null,null,null,null,null,null,2.59,0.92497995991467308]
[null,null,null,null,null,null,null,null,null,null,null,null,null,null,null,null,null,null,null,null,null,null,null,null,2.5910000000000002,0.92505494245723852]
[null,null,null,null,null,null,null,null,null,null,null,null,null,null,null,null,null,null,null,null,null,null,null,null,2.5920000000000001,0.92512985005474024]
[null,null,null,null,null,null,null,null,null,null,null,null,null,null,null,null,null,null,null,null,null,null,null,null,2.593,0.92520468278208579]
[null,null,null,null,null,null,null,null,null,null,null,null,null,null,null,null,null,null,null,null,null,null,null,null,2.5939999999999999,0.92527944071410784]
[null,null,null,null,null,null,null,null,null,null,null,null,null,null,null,null,null,null,null,null,null,null,null,null,2.5950000000000002,0.92535412392556449]
[null,null,null,null,null,null,null,null,null,null,null,null,null,null,null,null,null,null,null,null,null,null,null,null,2.5960000000000001,0.92542873249113866]
[null,null,null,null,null,null,null,null,null,null,null,null,null,null,null,null,null,null,null,null,null,null,null,null,2.597,0.92550326648543924]
[null,null,null,null,null,null,null,null,null,null,null,null,null,null,null,null,null,null,null,null,null,null,null,null,2.5979999999999999,0.92557772598300003]
[null,null,null,null,null,null,null,null,null,null,null,null,null,null,null,null,null,null,null,null,null,null,null,null,2.5990000000000002,0.92565211105828071]
[null,null,null,null,null,null,null,null,null,null,null,null,null,null,null,null,null,null,null,null,null,null,null,null,2.6,0.92572642178566611]
[null,null,null,null,null,null,null,null,null,null,null,null,null,null,null,null,null,null,null,null,null,null,null,null,2.601,0.92580065823946722]
[null,null,null,null,null,null,null,null,null,null,null,null,null,null,null,null,null,null,null,null,null,null,null,null,2.6019999999999999,0.92587482049392034]
[null,null,null,null,null,null,null,null,null,null,null,null,null,null,null,null,null,null,null,null,null,null,null,null,2.6030000000000002,0.92594890862318779]
[null,null,null,null,null,null,null,null,null,null,null,null,null,null,null,null,null,null,null,null,null,null,null,null,2.6040000000000001,0.92602292270135766]
[null,null,null,null,null,null,null,null,null,null,null,null,null,null,null,null,null,null,null,null,null,null,null,null,2.605,0.92609686280244408]
[null,null,null,null,null,null,null,null,null,null,null,null,null,null,null,null,null,null,null,null,null,null,null,null,2.6059999999999999,0.92617072900038711]
[null,null,null,null,null,null,null,null,null,null,null,null,null,null,null,null,null,null,null,null,null,null,null,null,2.6070000000000002,0.92624452136905311]
[null,null,null,null,null,null,null,null,null,null,null,null,null,null,null,null,null,null,null,null,null,null,null,null,2.6080000000000001,0.92631823998223417]
[null,null,null,null,null,null,null,null,null,null,null,null,null,null,null,null,null,null,null,null,null,null,null,null,2.609,0.92639188491364921]
[null,null,null,null,null,null,null,null,null,null,null,null,null,null,null,null,null,null,null,null,null,null,null,null,2.61,0.92646545623694287]
[null,null,null,null,null,null,null,null,null,null,null,null,null,null,null,null,null,null,null,null,null,null,null,null,2.6110000000000002,0.92653895402568676]
[null,null,null,null,null,null,null,null,null,null,null,null,null,null,null,null,null,null,null,null,null,null,null,null,2.6120000000000001,0.92661237835337862]
[null,null,null,null,null,null,null,null,null,null,null,null,null,null,null,null,null,null,null,null,null,null,null,null,2.613,0.92668572929344251]
[null,null,null,null,null,null,null,null,null,null,null,null,null,null,null,null,null,null,null,null,null,null,null,null,2.6139999999999999,0.92675900691922974]
[null,null,null,null,null,null,null,null,null,null,null,null,null,null,null,null,null,null,null,null,null,null,null,null,2.6150000000000002,0.92683221130401783]
[null,null,null,null,null,null,null,null,null,null,null,null,null,null,null,null,null,null,null,null,null,null,null,null,2.6160000000000001,0.92690534252101098]
[null,null,null,null,null,null,null,null,null,null,null,null,null,null,null,null,null,null,null,null,null,null,null,null,2.617,0.92697840064334058]
[null,null,null,null,null,null,null,null,null,null,null,null,null,null,null,null,null,null,null,null,null,null,null,null,2.6179999999999999,0.92705138574406487]
[null,null,null,null,null,null,null,null,null,null,null,null,null,null,null,null,null,null,null,null,null,null,null,null,2.6190000000000002,0.92712429789616868]
[null,null,null,null,null,null,null,null,null,null,null,null,null,null,null,null,null,null,null,null,null,null,null,null,2.62,0.92719713717256447]
[null,null,null,null,null,null,null,null,null,null,null,null,null,null,null,null,null,null,null,null,null,null,null,null,2.621,0.92726990364609119]
[null,null,null,null,null,null,null,null,null,null,null,null,null,null,null,null,null,null,null,null,null,null,null,null,2.6219999999999999,0.92734259738951552]
[null,null,null,null,null,null,null,null,null,null,null,null,null,null,null,null,null,null,null,null,null,null,null,null,2.6230000000000002,0.92741521847553132]
[null,null,null,null,null,null,null,null,null,null,null,null,null,null,null,null,null,null,null,null,null,null,null,null,2.6240000000000001,0.9274877669767595]
[null,null,null,null,null,null,null,null,null,null,null,null,null,null,null,null,null,null,null,null,null,null,null,null,2.625,{"$f":"1-EXP(-Y2628)","v":0.92756024296574857}]
[null,null,null,null,null,null,null,null,null,null,null,null,null,null,null,null,null,null,null,null,null,null,null,null,2.6259999999999999,0.92763264651497457]
[null,null,null,null,null,null,null,null,null,null,null,null,null,null,null,null,null,null,null,null,null,null,null,null,2.6269999999999998,0.92770497769684102]
[null,null,null,null,null,null,null,null,null,null,null,null,null,null,null,null,null,null,null,null,null,null,null,null,2.6280000000000001,0.92777723658367917]
[null,null,null,null,null,null,null,null,null,null,null,null,null,null,null,null,null,null,null,null,null,null,null,null,2.629,0.92784942324774788]
[null,null,null,null,null,null,null,null,null,null,null,null,null,null,null,null,null,null,null,null,null,null,null,null,2.63,0.92792153776123387]
[null,null,null,null,null,null,null,null,null,null,null,null,null,null,null,null,null,null,null,null,null,null,null,null,2.6309999999999998,0.92799358019625156]
[null,null,null,null,null,null,null,null,null,null,null,null,null,null,null,null,null,null,null,null,null,null,null,null,2.6320000000000001,0.92806555062484353]
[null,null,null,null,null,null,null,null,null,null,null,null,null,null,null,null,null,null,null,null,null,null,null,null,2.633,0.92813744911898011]
[null,null,null,null,null,null,null,null,null,null,null,null,null,null,null,null,null,null,null,null,null,null,null,null,2.6339999999999999,0.92820927575055978]
[null,null,null,null,null,null,null,null,null,null,null,null,null,null,null,null,null,null,null,null,null,null,null,null,2.6349999999999998,0.92828103059140921]
[null,null,null,null,null,null,null,null,null,null,null,null,null,null,null,null,null,null,null,null,null,null,null,null,2.6360000000000001,0.92835271371328332]
[null,null,null,null,null,null,null,null,null,null,null,null,null,null,null,null,null,null,null,null,null,null,null,null,2.637,0.92842432518786511]
[null,null,null,null,null,null,null,null,null,null,null,null,null,null,null,null,null,null,null,null,null,null,null,null,2.6379999999999999,0.92849586508676607]
[null,null,null,null,null,null,null,null,null,null,null,null,null,null,null,null,null,null,null,null,null,null,null,null,2.6389999999999998,0.9285673334815262]
[null,null,null,null,null,null,null,null,null,null,null,null,null,null,null,null,null,null,null,null,null,null,null,null,2.64,0.92863873044361389]
[null,null,null,null,null,null,null,null,null,null,null,null,null,null,null,null,null,null,null,null,null,null,null,null,2.641,0.92871005604442614]
[null,null,null,null,null,null,null,null,null,null,null,null,null,null,null,null,null,null,null,null,null,null,null,null,2.6419999999999999,0.92878131035528844]
[null,null,null,null,null,null,null,null,null,null,null,null,null,null,null,null,null,null,null,null,null,null,null,null,2.6429999999999998,0.92885249344745513]
[null,null,null,null,null,null,null,null,null,null,null,null,null,null,null,null,null,null,null,null,null,null,null,null,2.6440000000000001,0.92892360539210939]
[null,null,null,null,null,null,null,null,null,null,null,null,null,null,null,null,null,null,null,null,null,null,null,null,2.645,0.92899464626036299]
[null,null,null,null,null,null,null,null,null,null,null,null,null,null,null,null,null,null,null,null,null,null,null,null,2.6459999999999999,0.92906561612325711]
[null,null,null,null,null,null,null,null,null,null,null,null,null,null,null,null,null,null,null,null,null,null,null,null,2.6469999999999998,0.92913651505176131]
[null,null,null,null,null,null,null,null,null,null,null,null,null,null,null,null,null,null,null,null,null,null,null,null,2.6480000000000001,0.92920734311677466]
[null,null,null,null,null,null,null,null,null,null,null,null,null,null,null,null,null,null,null,null,null,null,null,null,2.649,0.92927810038912528]
[null,null,null,null,null,null,null,null,null,null,null,null,null,null,null,null,null,null,null,null,null,null,null,null,2.65,0.92934878693957046]
[null,null,null,null,null,null,null,null,null,null,null,null,null,null,null,null,null,null,null,null,null,null,null,null,2.6509999999999998,0.92941940283879654]
[null,null,null,null,null,null,null,null,null,null,null,null,null,null,null,null,null,null,null,null,null,null,null,null,2.6520000000000001,0.9294899481574197]
[null,null,null,null,null,null,null,null,null,null,null,null,null,null,null,null,null,null,null,null,null,null,null,null,2.653,0.92956042296598507]
[null,null,null,null,null,null,null,null,null,null,null,null,null,null,null,null,null,null,null,null,null,null,null,null,2.6539999999999999,0.9296308273349676]
[null,null,null,null,null,null,null,null,null,null,null,null,null,null,null,null,null,null,null,null,null,null,null,null,2.6549999999999998,0.92970116133477154]
[null,null,null,null,null,null,null,null,null,null,null,null,null,null,null,null,null,null,null,null,null,null,null,null,2.6560000000000001,0.92977142503573096]
[null,null,null,null,null,null,null,null,null,null,null,null,null,null,null,null,null,null,null,null,null,null,null,null,2.657,0.92984161850810965]
[null,null,null,null,null,null,null,null,null,null,null,null,null,null,null,null,null,null,null,null,null,null,null,null,2.6579999999999999,0.9299117418221009]
[null,null,null,null,null,null,null,null,null,null,null,null,null,null,null,null,null,null,null,null,null,null,null,null,2.6589999999999998,0.92998179504782819]
[null,null,null,null,null,null,null,null,null,null,null,null,null,null,null,null,null,null,null,null,null,null,null,null,2.66,0.93005177825534469]
[null,null,null,null,null,null,null,null,null,null,null,null,null,null,null,null,null,null,null,null,null,null,null,null,2.661,0.93012169151463353]
[null,null,null,null,null,null,null,null,null,null,null,null,null,null,null,null,null,null,null,null,null,null,null,null,2.6619999999999999,0.93019153489560813]
[null,null,null,null,null,null,null,null,null,null,null,null,null,null,null,null,null,null,null,null,null,null,null,null,2.6629999999999998,0.93026130846811184]
[null,null,null,null,null,null,null,null,null,null,null,null,null,null,null,null,null,null,null,null,null,null,null,null,2.6640000000000001,0.93033101230191817]
[null,null,null,null,null,null,null,null,null,null,null,null,null,null,null,null,null,null,null,null,null,null,null,null,2.665,0.93040064646673093]
[null,null,null,null,null,null,null,null,null,null,null,null,null,null,null,null,null,null,null,null,null,null,null,null,2.6659999999999999,0.93047021103218452]
[null,null,null,null,null,null,null,null,null,null,null,null,null,null,null,null,null,null,null,null,null,null,null,null,2.6669999999999998,0.9305397060678432]
[null,null,null,null,null,null,null,null,null,null,null,null,null,null,null,null,null,null,null,null,null,null,null,null,2.6680000000000001,0.93060913164320225]
[null,null,null,null,null,null,null,null,null,null,null,null,null,null,null,null,null,null,null,null,null,null,null,null,2.669,0.93067848782768714]
[null,null,null,null,null,null,null,null,null,null,null,null,null,null,null,null,null,null,null,null,null,null,null,null,2.67,0.93074777469065406]
[null,null,null,null,null,null,null,null,null,null,null,null,null,null,null,null,null,null,null,null,null,null,null,null,2.6709999999999998,0.93081699230138981]
[null,null,null,null,null,null,null,null,null,null,null,null,null,null,null,null,null,null,null,null,null,null,null,null,2.6720000000000002,0.93088614072911224]
[null,null,null,null,null,null,null,null,null,null,null,null,null,null,null,null,null,null,null,null,null,null,null,null,2.673,0.9309552200429696]
[null,null,null,null,null,null,null,null,null,null,null,null,null,null,null,null,null,null,null,null,null,null,null,null,2.6739999999999999,0.93102423031204118]
[null,null,null,null,null,null,null,null,null,null,null,null,null,null,null,null,null,null,null,null,null,null,null,null,2.6749999999999998,0.93109317160533744]
[null,null,null,null,null,null,null,null,null,null,null,null,null,null,null,null,null,null,null,null,null,null,null,null,2.6760000000000002,0.93116204399179947]
[null,null,null,null,null,null,null,null,null,null,null,null,null,null,null,null,null,null,null,null,null,null,null,null,2.677,0.93123084754029983]
[null,null,null,null,null,null,null,null,null,null,null,null,null,null,null,null,null,null,null,null,null,null,null,null,2.6779999999999999,0.93129958231964194]
[null,null,null,null,null,null,null,null,null,null,null,null,null,null,null,null,null,null,null,null,null,null,null,null,2.6789999999999998,0.93136824839856069]
[null,null,null,null,null,null,null,null,null,null,null,null,null,null,null,null,null,null,null,null,null,null,null,null,2.68,0.93143684584572206]
[null,null,null,null,null,null,null,null,null,null,null,null,null,null,null,null,null,null,null,null,null,null,null,null,2.681,0.93150537472972361]
[null,null,null,null,null,null,null,null,null,null,null,null,null,null,null,null,null,null,null,null,null,null,null,null,2.6819999999999999,0.9315738351190942]
[null,null,null,null,null,null,null,null,null,null,null,null,null,null,null,null,null,null,null,null,null,null,null,null,2.6829999999999998,0.93164222708229416]
[null,null,null,null,null,null,null,null,null,null,null,null,null,null,null,null,null,null,null,null,null,null,null,null,2.6840000000000002,0.93171055068771547]
[null,null,null,null,null,null,null,null,null,null,null,null,null,null,null,null,null,null,null,null,null,null,null,null,2.6850000000000001,0.9317788060036819]
[null,null,null,null,null,null,null,null,null,null,null,null,null,null,null,null,null,null,null,null,null,null,null,null,2.6859999999999999,0.93184699309844854]
[null,null,null,null,null,null,null,null,null,null,null,null,null,null,null,null,null,null,null,null,null,null,null,null,2.6869999999999998,0.93191511204020261]
[null,null,null,null,null,null,null,null,null,null,null,null,null,null,null,null,null,null,null,null,null,null,null,null,2.6880000000000002,0.93198316289706318]
[null,null,null,null,null,null,null,null,null,null,null,null,null,null,null,null,null,null,null,null,null,null,null,null,2.6890000000000001,{"$f":"1-EXP(-Y2692)","v":0.93205114573708081}]
[null,null,null,null,null,null,null,null,null,null,null,null,null,null,null,null,null,null,null,null,null,null,null,null,2.69,0.93211906062823857]
[null,null,null,null,null,null,null,null,null,null,null,null,null,null,null,null,null,null,null,null,null,null,null,null,2.6909999999999998,0.93218690763845125]
[null,null,null,null,null,null,null,null,null,null,null,null,null,null,null,null,null,null,null,null,null,null,null,null,2.6920000000000002,0.932254686835566]
[null,null,null,null,null,null,null,null,null,null,null,null,null,null,null,null,null,null,null,null,null,null,null,null,2.6930000000000001,0.93232239828736196]
[null,null,null,null,null,null,null,null,null,null,null,null,null,null,null,null,null,null,null,null,null,null,null,null,2.694,0.93239004206155052]
[null,null,null,null,null,null,null,null,null,null,null,null,null,null,null,null,null,null,null,null,null,null,null,null,2.6949999999999998,0.93245761822577544]
[null,null,null,null,null,null,null,null,null,null,null,null,null,null,null,null,null,null,null,null,null,null,null,null,2.6960000000000002,0.93252512684761313]
[null,null,null,null,null,null,null,null,null,null,null,null,null,null,null,null,null,null,null,null,null,null,null,null,2.6970000000000001,0.93259256799457191]
[null,null,null,null,null,null,null,null,null,null,null,null,null,null,null,null,null,null,null,null,null,null,null,null,2.698,0.93265994173409306]
[null,null,null,null,null,null,null,null,null,null,null,null,null,null,null,null,null,null,null,null,null,null,null,null,2.6989999999999998,0.93272724813355035]
[null,null,null,null,null,null,null,null,null,null,null,null,null,null,null,null,null,null,null,null,null,null,null,null,2.7,0.93279448726025027]
[null,null,null,null,null,null,null,null,null,null,null,null,null,null,null,null,null,null,null,null,null,null,null,null,2.7010000000000001,0.93286165918143171]
[null,null,null,null,null,null,null,null,null,null,null,null,null,null,null,null,null,null,null,null,null,null,null,null,2.702,0.93292876396426683]
[null,null,null,null,null,null,null,null,null,null,null,null,null,null,null,null,null,null,null,null,null,null,null,null,2.7029999999999998,0.93299580167586027]
[null,null,null,null,null,null,null,null,null,null,null,null,null,null,null,null,null,null,null,null,null,null,null,null,2.7040000000000002,0.93306277238324986]
[null,null,null,null,null,null,null,null,null,null,null,null,null,null,null,null,null,null,null,null,null,null,null,null,2.7050000000000001,0.93312967615340625]
[null,null,null,null,null,null,null,null,null,null,null,null,null,null,null,null,null,null,null,null,null,null,null,null,2.706,0.93319651305323315]
[null,null,null,null,null,null,null,null,null,null,null,null,null,null,null,null,null,null,null,null,null,null,null,null,2.7069999999999999,0.93326328314956752]
[null,null,null,null,null,null,null,null,null,null,null,null,null,null,null,null,null,null,null,null,null,null,null,null,2.7080000000000002,0.93332998650917953]
[null,null,null,null,null,null,null,null,null,null,null,null,null,null,null,null,null,null,null,null,null,null,null,null,2.7090000000000001,0.93339662319877248]
[null,null,null,null,null,null,null,null,null,null,null,null,null,null,null,null,null,null,null,null,null,null,null,null,2.71,0.93346319328498317]
[null,null,null,null,null,null,null,null,null,null,null,null,null,null,null,null,null,null,null,null,null,null,null,null,2.7109999999999999,0.93352969683438147]
[null,null,null,null,null,null,null,null,null,null,null,null,null,null,null,null,null,null,null,null,null,null,null,null,2.7120000000000002,0.93359613391347118]
[null,null,null,null,null,null,null,null,null,null,null,null,null,null,null,null,null,null,null,null,null,null,null,null,2.7130000000000001,0.93366250458868916]
[null,null,null,null,null,null,null,null,null,null,null,null,null,null,null,null,null,null,null,null,null,null,null,null,2.714,0.93372880892640631]
[null,null,null,null,null,null,null,null,null,null,null,null,null,null,null,null,null,null,null,null,null,null,null,null,2.7149999999999999,0.93379504699292681]
[null,null,null,null,null,null,null,null,null,null,null,null,null,null,null,null,null,null,null,null,null,null,null,null,2.7160000000000002,0.93386121885448881]
[null,null,null,null,null,null,null,null,null,null,null,null,null,null,null,null,null,null,null,null,null,null,null,null,2.7170000000000001,0.93392732457726402]
[null,null,null,null,null,null,null,null,null,null,null,null,null,null,null,null,null,null,null,null,null,null,null,null,2.718,0.93399336422735846]
[null,null,null,null,null,null,null,null,null,null,null,null,null,null,null,null,null,null,null,null,null,null,null,null,2.7189999999999999,0.93405933787081152]
[null,null,null,null,null,null,null,null,null,null,null,null,null,null,null,null,null,null,null,null,null,null,null,null,2.72,0.93412524557359711]
[null,null,null,null,null,null,null,null,null,null,null,null,null,null,null,null,null,null,null,null,null,null,null,null,2.7210000000000001,0.9341910874016226]
[null,null,null,null,null,null,null,null,null,null,null,null,null,null,null,null,null,null,null,null,null,null,null,null,2.722,0.93425686342073011]
[null,null,null,null,null,null,null,null,null,null,null,null,null,null,null,null,null,null,null,null,null,null,null,null,2.7229999999999999,0.93432257369669558]
[null,null,null,null,null,null,null,null,null,null,null,null,null,null,null,null,null,null,null,null,null,null,null,null,2.7240000000000002,0.93438821829522922]
[null,null,null,null,null,null,null,null,null,null,null,null,null,null,null,null,null,null,null,null,null,null,null,null,2.7250000000000001,0.93445379728197564]
[null,null,null,null,null,null,null,null,null,null,null,null,null,null,null,null,null,null,null,null,null,null,null,null,2.726,0.93451931072251393]
[null,null,null,null,null,null,null,null,null,null,null,null,null,null,null,null,null,null,null,null,null,null,null,null,2.7269999999999999,0.93458475868235757]
[null,null,null,null,null,null,null,null,null,null,null,null,null,null,null,null,null,null,null,null,null,null,null,null,2.7280000000000002,0.93465014122695433]
[null,null,null,null,null,null,null,null,null,null,null,null,null,null,null,null,null,null,null,null,null,null,null,null,2.7290000000000001,0.93471545842168691]
[null,null,null,null,null,null,null,null,null,null,null,null,null,null,null,null,null,null,null,null,null,null,null,null,2.73,0.93478071033187249]
[null,null,null,null,null,null,null,null,null,null,null,null,null,null,null,null,null,null,null,null,null,null,null,null,2.7309999999999999,0.93484589702276288]
[null,null,null,null,null,null,null,null,null,null,null,null,null,null,null,null,null,null,null,null,null,null,null,null,2.7320000000000002,0.93491101855954506]
[null,null,null,null,null,null,null,null,null,null,null,null,null,null,null,null,null,null,null,null,null,null,null,null,2.7330000000000001,0.93497607500734015]
[null,null,null,null,null,null,null,null,null,null,null,null,null,null,null,null,null,null,null,null,null,null,null,null,2.734,0.93504106643120499]
[null,null,null,null,null,null,null,null,null,null,null,null,null,null,null,null,null,null,null,null,null,null,null,null,2.7349999999999999,0.93510599289613072]
[null,null,null,null,null,null,null,null,null,null,null,null,null,null,null,null,null,null,null,null,null,null,null,null,2.7360000000000002,0.93517085446704407]
[null,null,null,null,null,null,null,null,null,null,null,null,null,null,null,null,null,null,null,null,null,null,null,null,2.7370000000000001,0.93523565120880636]
[null,null,null,null,null,null,null,null,null,null,null,null,null,null,null,null,null,null,null,null,null,null,null,null,2.738,0.93530038318621456]
[null,null,null,null,null,null,null,null,null,null,null,null,null,null,null,null,null,null,null,null,null,null,null,null,2.7389999999999999,0.93536505046400042]
[null,null,null,null,null,null,null,null,null,null,null,null,null,null,null,null,null,null,null,null,null,null,null,null,2.74,0.93542965310683157]
[null,null,null,null,null,null,null,null,null,null,null,null,null,null,null,null,null,null,null,null,null,null,null,null,2.7410000000000001,0.93549419117931032]
[null,null,null,null,null,null,null,null,null,null,null,null,null,null,null,null,null,null,null,null,null,null,null,null,2.742,0.93555866474597482]
[null,null,null,null,null,null,null,null,null,null,null,null,null,null,null,null,null,null,null,null,null,null,null,null,2.7429999999999999,0.93562307387129873]
[null,null,null,null,null,null,null,null,null,null,null,null,null,null,null,null,null,null,null,null,null,null,null,null,2.7440000000000002,0.93568741861969118]
[null,null,null,null,null,null,null,null,null,null,null,null,null,null,null,null,null,null,null,null,null,null,null,null,2.7450000000000001,0.93575169905549693]
[null,null,null,null,null,null,null,null,null,null,null,null,null,null,null,null,null,null,null,null,null,null,null,null,2.746,0.93581591524299634]
[null,null,null,null,null,null,null,null,null,null,null,null,null,null,null,null,null,null,null,null,null,null,null,null,2.7469999999999999,0.9358800672464056]
[null,null,null,null,null,null,null,null,null,null,null,null,null,null,null,null,null,null,null,null,null,null,null,null,2.7480000000000002,0.93594415512987683]
[null,null,null,null,null,null,null,null,null,null,null,null,null,null,null,null,null,null,null,null,null,null,null,null,2.7490000000000001,0.93600817895749777]
[null,null,null,null,null,null,null,null,null,null,null,null,null,null,null,null,null,null,null,null,null,null,null,null,2.75,0.93607213879329243]
[null,null,null,null,null,null,null,null,null,null,null,null,null,null,null,null,null,null,null,null,null,null,null,null,2.7509999999999999,0.93613603470122053]
[null,null,null,null,null,null,null,null,null,null,null,null,null,null,null,null,null,null,null,null,null,null,null,null,2.7519999999999998,0.93619986674517797]
[null,null,null,null,null,null,null,null,null,null,null,null,null,null,null,null,null,null,null,null,null,null,null,null,2.7530000000000001,{"$f":"1-EXP(-Y2756)","v":0.9362636349889969}]
[null,null,null,null,null,null,null,null,null,null,null,null,null,null,null,null,null,null,null,null,null,null,null,null,2.754,0.93632733949644542]
[null,null,null,null,null,null,null,null,null,null,null,null,null,null,null,null,null,null,null,null,null,null,null,null,2.7549999999999999,0.93639098033122825]
[null,null,null,null,null,null,null,null,null,null,null,null,null,null,null,null,null,null,null,null,null,null,null,null,2.7559999999999998,0.93645455755698603]
[null,null,null,null,null,null,null,null,null,null,null,null,null,null,null,null,null,null,null,null,null,null,null,null,2.7570000000000001,0.93651807123729602]
[null,null,null,null,null,null,null,null,null,null,null,null,null,null,null,null,null,null,null,null,null,null,null,null,2.758,0.93658152143567208]
[null,null,null,null,null,null,null,null,null,null,null,null,null,null,null,null,null,null,null,null,null,null,null,null,2.7589999999999999,0.93664490821556423]
[null,null,null,null,null,null,null,null,null,null,null,null,null,null,null,null,null,null,null,null,null,null,null,null,2.76,0.93670823164035921]
[null,null,null,null,null,null,null,null,null,null,null,null,null,null,null,null,null,null,null,null,null,null,null,null,2.7610000000000001,0.9367714917733807]
[null,null,null,null,null,null,null,null,null,null,null,null,null,null,null,null,null,null,null,null,null,null,null,null,2.762,0.93683468867788866]
[null,null,null,null,null,null,null,null,null,null,null,null,null,null,null,null,null,null,null,null,null,null,null,null,2.7629999999999999,0.93689782241708008]
[null,null,null,null,null,null,null,null,null,null,null,null,null,null,null,null,null,null,null,null,null,null,null,null,2.7639999999999998,0.93696089305408858]
[null,null,null,null,null,null,null,null,null,null,null,null,null,null,null,null,null,null,null,null,null,null,null,null,2.7650000000000001,0.93702390065198493]
[null,null,null,null,null,null,null,null,null,null,null,null,null,null,null,null,null,null,null,null,null,null,null,null,2.766,0.93708684527377661]
[null,null,null,null,null,null,null,null,null,null,null,null,null,null,null,null,null,null,null,null,null,null,null,null,2.7669999999999999,0.93714972698240839]
[null,null,null,null,null,null,null,null,null,null,null,null,null,null,null,null,null,null,null,null,null,null,null,null,2.7679999999999998,0.93721254584076186]
[null,null,null,null,null,null,null,null,null,null,null,null,null,null,null,null,null,null,null,null,null,null,null,null,2.7690000000000001,0.93727530191165609]
[null,null,null,null,null,null,null,null,null,null,null,null,null,null,null,null,null,null,null,null,null,null,null,null,2.77,0.93733799525784689]
[null,null,null,null,null,null,null,null,null,null,null,null,null,null,null,null,null,null,null,null,null,null,null,null,2.7709999999999999,0.93740062594202767]
[null,null,null,null,null,null,null,null,null,null,null,null,null,null,null,null,null,null,null,null,null,null,null,null,2.7719999999999998,0.93746319402682921]
[null,null,null,null,null,null,null,null,null,null,null,null,null,null,null,null,null,null,null,null,null,null,null,null,2.7730000000000001,0.93752569957481968]
[null,null,null,null,null,null,null,null,null,null,null,null,null,null,null,null,null,null,null,null,null,null,null,null,2.774,0.93758814264850443]
[null,null,null,null,null,null,null,null,null,null,null,null,null,null,null,null,null,null,null,null,null,null,null,null,2.7749999999999999,0.93765052331032661]
[null,null,null,null,null,null,null,null,null,null,null,null,null,null,null,null,null,null,null,null,null,null,null,null,2.7759999999999998,0.93771284162266688]
[null,null,null,null,null,null,null,null,null,null,null,null,null,null,null,null,null,null,null,null,null,null,null,null,2.7770000000000001,0.93777509764784361]
[null,null,null,null,null,null,null,null,null,null,null,null,null,null,null,null,null,null,null,null,null,null,null,null,2.778,0.93783729144811279]
[null,null,null,null,null,null,null,null,null,null,null,null,null,null,null,null,null,null,null,null,null,null,null,null,2.7789999999999999,0.93789942308566832]
[null,null,null,null,null,null,null,null,null,null,null,null,null,null,null,null,null,null,null,null,null,null,null,null,2.78,0.93796149262264172]
[null,null,null,null,null,null,null,null,null,null,null,null,null,null,null,null,null,null,null,null,null,null,null,null,2.7810000000000001,0.93802350012110258]
[null,null,null,null,null,null,null,null,null,null,null,null,null,null,null,null,null,null,null,null,null,null,null,null,2.782,0.93808544564305829]
[null,null,null,null,null,null,null,null,null,null,null,null,null,null,null,null,null,null,null,null,null,null,null,null,2.7829999999999999,0.93814732925045463]
[null,null,null,null,null,null,null,null,null,null,null,null,null,null,null,null,null,null,null,null,null,null,null,null,2.7839999999999998,0.93820915100517499]
[null,null,null,null,null,null,null,null,null,null,null,null,null,null,null,null,null,null,null,null,null,null,null,null,2.7850000000000001,0.93827091096904125]
[null,null,null,null,null,null,null,null,null,null,null,null,null,null,null,null,null,null,null,null,null,null,null,null,2.786,0.93833260920381323]
[null,null,null,null,null,null,null,null,null,null,null,null,null,null,null,null,null,null,null,null,null,null,null,null,2.7869999999999999,0.93839424577118935]
[null,null,null,null,null,null,null,null,null,null,null,null,null,null,null,null,null,null,null,null,null,null,null,null,2.7879999999999998,0.93845582073280609]
[null,null,null,null,null,null,null,null,null,null,null,null,null,null,null,null,null,null,null,null,null,null,null,null,2.7890000000000001,0.93851733415023852]
[null,null,null,null,null,null,null,null,null,null,null,null,null,null,null,null,null,null,null,null,null,null,null,null,2.79,0.93857878608499989]
[null,null,null,null,null,null,null,null,null,null,null,null,null,null,null,null,null,null,null,null,null,null,null,null,2.7909999999999999,0.93864017659854226]
[null,null,null,null,null,null,null,null,null,null,null,null,null,null,null,null,null,null,null,null,null,null,null,null,2.7919999999999998,0.93870150575225608]
[null,null,null,null,null,null,null,null,null,null,null,null,null,null,null,null,null,null,null,null,null,null,null,null,2.7930000000000001,0.93876277360747051]
[null,null,null,null,null,null,null,null,null,null,null,null,null,null,null,null,null,null,null,null,null,null,null,null,2.794,0.93882398022545355]
[null,null,null,null,null,null,null,null,null,null,null,null,null,null,null,null,null,null,null,null,null,null,null,null,2.7949999999999999,0.93888512566741167]
[null,null,null,null,null,null,null,null,null,null,null,null,null,null,null,null,null,null,null,null,null,null,null,null,2.7959999999999998,0.9389462099944903]
[null,null,null,null,null,null,null,null,null,null,null,null,null,null,null,null,null,null,null,null,null,null,null,null,2.7970000000000002,0.93900723326777391]
[null,null,null,null,null,null,null,null,null,null,null,null,null,null,null,null,null,null,null,null,null,null,null,null,2.798,0.93906819554828569]
[null,null,null,null,null,null,null,null,null,null,null,null,null,null,null,null,null,null,null,null,null,null,null,null,2.7989999999999999,0.93912909689698798]
[null,null,null,null,null,null,null,null,null,null,null,null,null,null,null,null,null,null,null,null,null,null,null,null,2.8,0.93918993737478207]
[null,null,null,null,null,null,null,null,null,null,null,null,null,null,null,null,null,null,null,null,null,null,null,null,2.8010000000000002,0.9392507170425084]
[null,null,null,null,null,null,null,null,null,null,null,null,null,null,null,null,null,null,null,null,null,null,null,null,2.802,0.93931143596094679]
[null,null,null,null,null,null,null,null,null,null,null,null,null,null,null,null,null,null,null,null,null,null,null,null,2.8029999999999999,0.93937209419081602]
[null,null,null,null,null,null,null,null,null,null,null,null,null,null,null,null,null,null,null,null,null,null,null,null,2.8039999999999998,0.93943269179277444]
[null,null,null,null,null,null,null,null,null,null,null,null,null,null,null,null,null,null,null,null,null,null,null,null,2.8050000000000002,0.93949322882741959]
[null,null,null,null,null,null,null,null,null,null,null,null,null,null,null,null,null,null,null,null,null,null,null,null,2.806,0.93955370535528848]
[null,null,null,null,null,null,null,null,null,null,null,null,null,null,null,null,null,null,null,null,null,null,null,null,2.8069999999999999,0.93961412143685774]
[null,null,null,null,null,null,null,null,null,null,null,null,null,null,null,null,null,null,null,null,null,null,null,null,2.8079999999999998,0.93967447713254348]
[null,null,null,null,null,null,null,null,null,null,null,null,null,null,null,null,null,null,null,null,null,null,null,null,2.8090000000000002,0.93973477250270121]
[null,null,null,null,null,null,null,null,null,null,null,null,null,null,null,null,null,null,null,null,null,null,null,null,2.81,0.93979500760762646]
[null,null,null,null,null,null,null,null,null,null,null,null,null,null,null,null,null,null,null,null,null,null,null,null,2.8109999999999999,0.93985518250755429]
[null,null,null,null,null,null,null,null,null,null,null,null,null,null,null,null,null,null,null,null,null,null,null,null,2.8119999999999998,0.93991529726265965]
[null,null,null,null,null,null,null,null,null,null,null,null,null,null,null,null,null,null,null,null,null,null,null,null,2.8130000000000002,0.93997535193305726]
[null,null,null,null,null,null,null,null,null,null,null,null,null,null,null,null,null,null,null,null,null,null,null,null,2.8140000000000001,0.94003534657880172]
[null,null,null,null,null,null,null,null,null,null,null,null,null,null,null,null,null,null,null,null,null,null,null,null,2.8149999999999999,0.94009528125988784]
[null,null,null,null,null,null,null,null,null,null,null,null,null,null,null,null,null,null,null,null,null,null,null,null,2.8159999999999998,0.94015515603625022]
[null,null,null,null,null,null,null,null,null,null,null,null,null,null,null,null,null,null,null,null,null,null,null,null,2.8170000000000002,{"$f":"1-EXP(-Y2820)","v":0.94021497096776363}]
[null,null,null,null,null,null,null,null,null,null,null,null,null,null,null,null,null,null,null,null,null,null,null,null,2.8180000000000001,0.94027472611424301]
[null,null,null,null,null,null,null,null,null,null,null,null,null,null,null,null,null,null,null,null,null,null,null,null,2.819,0.94033442153544355]
[null,null,null,null,null,null,null,null,null,null,null,null,null,null,null,null,null,null,null,null,null,null,null,null,2.82,0.94039405729106063]
[null,null,null,null,null,null,null,null,null,null,null,null,null,null,null,null,null,null,null,null,null,null,null,null,2.8210000000000002,0.94045363344073007]
[null,null,null,null,null,null,null,null,null,null,null,null,null,null,null,null,null,null,null,null,null,null,null,null,2.8220000000000001,0.94051315004402802]
[null,null,null,null,null,null,null,null,null,null,null,null,null,null,null,null,null,null,null,null,null,null,null,null,2.823,0.94057260716047097]
[null,null,null,null,null,null,null,null,null,null,null,null,null,null,null,null,null,null,null,null,null,null,null,null,2.8239999999999998,0.94063200484951615]
[null,null,null,null,null,null,null,null,null,null,null,null,null,null,null,null,null,null,null,null,null,null,null,null,2.8250000000000002,0.94069134317056124]
[null,null,null,null,null,null,null,null,null,null,null,null,null,null,null,null,null,null,null,null,null,null,null,null,2.8260000000000001,0.94075062218294458]
[null,null,null,null,null,null,null,null,null,null,null,null,null,null,null,null,null,null,null,null,null,null,null,null,2.827,0.94080984194594519]
[null,null,null,null,null,null,null,null,null,null,null,null,null,null,null,null,null,null,null,null,null,null,null,null,2.8279999999999998,0.94086900251878269]
[null,null,null,null,null,null,null,null,null,null,null,null,null,null,null,null,null,null,null,null,null,null,null,null,2.8290000000000002,0.94092810396061799]
[null,null,null,null,null,null,null,null,null,null,null,null,null,null,null,null,null,null,null,null,null,null,null,null,2.83,0.94098714633055214]
[null,null,null,null,null,null,null,null,null,null,null,null,null,null,null,null,null,null,null,null,null,null,null,null,2.831,0.9410461296876278]
[null,null,null,null,null,null,null,null,null,null,null,null,null,null,null,null,null,null,null,null,null,null,null,null,2.8319999999999999,0.94110505409082823]
[null,null,null,null,null,null,null,null,null,null,null,null,null,null,null,null,null,null,null,null,null,null,null,null,2.8330000000000002,0.94116391959907775]
[null,null,null,null,null,null,null,null,null,null,null,null,null,null,null,null,null,null,null,null,null,null,null,null,2.8340000000000001,0.94122272627124204]
[null,null,null,null,null,null,null,null,null,null,null,null,null,null,null,null,null,null,null,null,null,null,null,null,2.835,0.94128147416612773]
[null,null,null,null,null,null,null,null,null,null,null,null,null,null,null,null,null,null,null,null,null,null,null,null,2.8359999999999999,0.94134016334248261]
[null,null,null,null,null,null,null,null,null,null,null,null,null,null,null,null,null,null,null,null,null,null,null,null,2.8370000000000002,0.94139879385899605]
[null,null,null,null,null,null,null,null,null,null,null,null,null,null,null,null,null,null,null,null,null,null,null,null,2.8380000000000001,0.94145736577429839]
[null,null,null,null,null,null,null,null,null,null,null,null,null,null,null,null,null,null,null,null,null,null,null,null,2.839,0.94151587914696167]
[null,null,null,null,null,null,null,null,null,null,null,null,null,null,null,null,null,null,null,null,null,null,null,null,2.84,0.94157433403549917]
[null,null,null,null,null,null,null,null,null,null,null,null,null,null,null,null,null,null,null,null,null,null,null,null,2.8410000000000002,0.94163273049836593]
[null,null,null,null,null,null,null,null,null,null,null,null,null,null,null,null,null,null,null,null,null,null,null,null,2.8420000000000001,0.94169106859395824]
[null,null,null,null,null,null,null,null,null,null,null,null,null,null,null,null,null,null,null,null,null,null,null,null,2.843,0.9417493483806143]
[null,null,null,null,null,null,null,null,null,null,null,null,null,null,null,null,null,null,null,null,null,null,null,null,2.8439999999999999,0.94180756991661385]
[null,null,null,null,null,null,null,null,null,null,null,null,null,null,null,null,null,null,null,null,null,null,null,null,2.8450000000000002,0.94186573326017853]
[null,null,null,null,null,null,null,null,null,null,null,null,null,null,null,null,null,null,null,null,null,null,null,null,2.8460000000000001,0.94192383846947159]
[null,null,null,null,null,null,null,null,null,null,null,null,null,null,null,null,null,null,null,null,null,null,null,null,2.847,0.94198188560259832]
[null,null,null,null,null,null,null,null,null,null,null,null,null,null,null,null,null,null,null,null,null,null,null,null,2.8479999999999999,0.94203987471760575]
[null,null,null,null,null,null,null,null,null,null,null,null,null,null,null,null,null,null,null,null,null,null,null,null,2.8490000000000002,0.94209780587248315]
[null,null,null,null,null,null,null,null,null,null,null,null,null,null,null,null,null,null,null,null,null,null,null,null,2.85,0.94215567912516152]
[null,null,null,null,null,null,null,null,null,null,null,null,null,null,null,null,null,null,null,null,null,null,null,null,2.851,0.94221349453351422]
[null,null,null,null,null,null,null,null,null,null,null,null,null,null,null,null,null,null,null,null,null,null,null,null,2.8519999999999999,0.94227125215535668]
[null,null,null,null,null,null,null,null,null,null,null,null,null,null,null,null,null,null,null,null,null,null,null,null,2.8530000000000002,0.94232895204844647]
[null,null,null,null,null,null,null,null,null,null,null,null,null,null,null,null,null,null,null,null,null,null,null,null,2.8540000000000001,0.94238659427048344]
[null,null,null,null,null,null,null,null,null,null,null,null,null,null,null,null,null,null,null,null,null,null,null,null,2.855,0.94244417887910992]
[null,null,null,null,null,null,null,null,null,null,null,null,null,null,null,null,null,null,null,null,null,null,null,null,2.8559999999999999,0.94250170593191052]
[null,null,null,null,null,null,null,null,null,null,null,null,null,null,null,null,null,null,null,null,null,null,null,null,2.8570000000000002,0.94255917548641222]
[null,null,null,null,null,null,null,null,null,null,null,null,null,null,null,null,null,null,null,null,null,null,null,null,2.8580000000000001,0.9426165876000846]
[null,null,null,null,null,null,null,null,null,null,null,null,null,null,null,null,null,null,null,null,null,null,null,null,2.859,0.94267394233033985]
[null,null,null,null,null,null,null,null,null,null,null,null,null,null,null,null,null,null,null,null,null,null,null,null,2.86,0.94273123973453266]
[null,null,null,null,null,null,null,null,null,null,null,null,null,null,null,null,null,null,null,null,null,null,null,null,2.8610000000000002,0.94278847986996039]
[null,null,null,null,null,null,null,null,null,null,null,null,null,null,null,null,null,null,null,null,null,null,null,null,2.8620000000000001,0.94284566279386328]
[null,null,null,null,null,null,null,null,null,null,null,null,null,null,null,null,null,null,null,null,null,null,null,null,2.863,0.94290278856342413]
[null,null,null,null,null,null,null,null,null,null,null,null,null,null,null,null,null,null,null,null,null,null,null,null,2.8639999999999999,0.94295985723576881]
[null,null,null,null,null,null,null,null,null,null,null,null,null,null,null,null,null,null,null,null,null,null,null,null,2.8650000000000002,0.94301686886796598]
[null,null,null,null,null,null,null,null,null,null,null,null,null,null,null,null,null,null,null,null,null,null,null,null,2.8660000000000001,0.94307382351702729]
[null,null,null,null,null,null,null,null,null,null,null,null,null,null,null,null,null,null,null,null,null,null,null,null,2.867,0.94313072123990727]
[null,null,null,null,null,null,null,null,null,null,null,null,null,null,null,null,null,null,null,null,null,null,null,null,2.8679999999999999,0.94318756209350385]
[null,null,null,null,null,null,null,null,null,null,null,null,null,null,null,null,null,null,null,null,null,null,null,null,2.8690000000000002,0.9432443461346578]
[null,null,null,null,null,null,null,null,null,null,null,null,null,null,null,null,null,null,null,null,null,null,null,null,2.87,0.94330107342015312]
[null,null,null,null,null,null,null,null,null,null,null,null,null,null,null,null,null,null,null,null,null,null,null,null,2.871,0.94335774400671712]
[null,null,null,null,null,null,null,null,null,null,null,null,null,null,null,null,null,null,null,null,null,null,null,null,2.8719999999999999,0.94341435795102035]
[null,null,null,null,null,null,null,null,null,null,null,null,null,null,null,null,null,null,null,null,null,null,null,null,2.8730000000000002,0.94347091530967697]
[null,null,null,null,null,null,null,null,null,null,null,null,null,null,null,null,null,null,null,null,null,null,null,null,2.8740000000000001,0.94352741613924407]
[null,null,null,null,null,null,null,null,null,null,null,null,null,null,null,null,null,null,null,null,null,null,null,null,2.875,0.94358386049622267]
[null,null,null,null,null,null,null,null,null,null,null,null,null,null,null,null,null,null,null,null,null,null,null,null,2.8759999999999999,0.94364024843705696]
[null,null,null,null,null,null,null,null,null,null,null,null,null,null,null,null,null,null,null,null,null,null,null,null,2.8769999999999998,0.94369658001813517]
[null,null,null,null,null,null,null,null,null,null,null,null,null,null,null,null,null,null,null,null,null,null,null,null,2.8780000000000001,0.94375285529578856]
[null,null,null,null,null,null,null,null,null,null,null,null,null,null,null,null,null,null,null,null,null,null,null,null,2.879,0.94380907432629257]
[null,null,null,null,null,null,null,null,null,null,null,null,null,null,null,null,null,null,null,null,null,null,null,null,2.88,0.94386523716586623]
[null,null,null,null,null,null,null,null,null,null,null,null,null,null,null,null,null,null,null,null,null,null,null,null,2.8809999999999998,{"$f":"1-EXP(-Y2884)","v":0.94392134387067239}]
[null,null,null,null,null,null,null,null,null,null,null,null,null,null,null,null,null,null,null,null,null,null,null,null,2.8820000000000001,0.94397739449681783]
[null,null,null,null,null,null,null,null,null,null,null,null,null,null,null,null,null,null,null,null,null,null,null,null,2.883,0.94403338910035306]
[null,null,null,null,null,null,null,null,null,null,null,null,null,null,null,null,null,null,null,null,null,null,null,null,2.8839999999999999,0.94408932773727261]
[null,null,null,null,null,null,null,null,null,null,null,null,null,null,null,null,null,null,null,null,null,null,null,null,2.8849999999999998,0.94414521046351529]
[null,null,null,null,null,null,null,null,null,null,null,null,null,null,null,null,null,null,null,null,null,null,null,null,2.8860000000000001,0.94420103733496386]
[null,null,null,null,null,null,null,null,null,null,null,null,null,null,null,null,null,null,null,null,null,null,null,null,2.887,0.94425680840744508]
[null,null,null,null,null,null,null,null,null,null,null,null,null,null,null,null,null,null,null,null,null,null,null,null,2.8879999999999999,0.94431252373673003]
[null,null,null,null,null,null,null,null,null,null,null,null,null,null,null,null,null,null,null,null,null,null,null,null,2.8889999999999998,0.94436818337853412]
[null,null,null,null,null,null,null,null,null,null,null,null,null,null,null,null,null,null,null,null,null,null,null,null,2.89,0.94442378738851696]
[null,null,null,null,null,null,null,null,null,null,null,null,null,null,null,null,null,null,null,null,null,null,null,null,2.891,0.9444793358222825]
[null,null,null,null,null,null,null,null,null,null,null,null,null,null,null,null,null,null,null,null,null,null,null,null,2.8919999999999999,0.94453482873537919]
[null,null,null,null,null,null,null,null,null,null,null,null,null,null,null,null,null,null,null,null,null,null,null,null,2.8929999999999998,0.94459026618330011]
[null,null,null,null,null,null,null,null,null,null,null,null,null,null,null,null,null,null,null,null,null,null,null,null,2.8940000000000001,0.94464564822148256]
[null,null,null,null,null,null,null,null,null,null,null,null,null,null,null,null,null,null,null,null,null,null,null,null,2.895,0.94470097490530858]
[null,null,null,null,null,null,null,null,null,null,null,null,null,null,null,null,null,null,null,null,null,null,null,null,2.8959999999999999,0.94475624629010491]
[null,null,null,null,null,null,null,null,null,null,null,null,null,null,null,null,null,null,null,null,null,null,null,null,2.8969999999999998,0.944811462431143]
[null,null,null,null,null,null,null,null,null,null,null,null,null,null,null,null,null,null,null,null,null,null,null,null,2.8980000000000001,0.94486662338363892]
[null,null,null,null,null,null,null,null,null,null,null,null,null,null,null,null,null,null,null,null,null,null,null,null,2.899,0.94492172920275352]
[null,null,null,null,null,null,null,null,null,null,null,null,null,null,null,null,null,null,null,null,null,null,null,null,2.9,0.94497677994359275]
[null,null,null,null,null,null,null,null,null,null,null,null,null,null,null,null,null,null,null,null,null,null,null,null,2.9009999999999998,0.94503177566120744]
[null,null,null,null,null,null,null,null,null,null,null,null,null,null,null,null,null,null,null,null,null,null,null,null,2.9020000000000001,0.94508671641059316]
[null,null,null,null,null,null,null,null,null,null,null,null,null,null,null,null,null,null,null,null,null,null,null,null,2.903,0.94514160224669064]
[null,null,null,null,null,null,null,null,null,null,null,null,null,null,null,null,null,null,null,null,null,null,null,null,2.9039999999999999,0.94519643322438585]
[null,null,null,null,null,null,null,null,null,null,null,null,null,null,null,null,null,null,null,null,null,null,null,null,2.9049999999999998,0.94525120939850971]
[null,null,null,null,null,null,null,null,null,null,null,null,null,null,null,null,null,null,null,null,null,null,null,null,2.9060000000000001,0.9453059308238384]
[null,null,null,null,null,null,null,null,null,null,null,null,null,null,null,null,null,null,null,null,null,null,null,null,2.907,0.94536059755509338]
[null,null,null,null,null,null,null,null,null,null,null,null,null,null,null,null,null,null,null,null,null,null,null,null,2.9079999999999999,0.94541520964694137]
[null,null,null,null,null,null,null,null,null,null,null,null,null,null,null,null,null,null,null,null,null,null,null,null,2.9089999999999998,0.94546976715399444]
[null,null,null,null,null,null,null,null,null,null,null,null,null,null,null,null,null,null,null,null,null,null,null,null,2.91,0.9455242701308102]
[null,null,null,null,null,null,null,null,null,null,null,null,null,null,null,null,null,null,null,null,null,null,null,null,2.911,0.94557871863189136]
[null,null,null,null,null,null,null,null,null,null,null,null,null,null,null,null,null,null,null,null,null,null,null,null,2.9119999999999999,0.94563311271168682]
[null,null,null,null,null,null,null,null,null,null,null,null,null,null,null,null,null,null,null,null,null,null,null,null,2.9129999999999998,0.94568745242459029]
[null,null,null,null,null,null,null,null,null,null,null,null,null,null,null,null,null,null,null,null,null,null,null,null,2.9140000000000001,0.94574173782494175]
[null,null,null,null,null,null,null,null,null,null,null,null,null,null,null,null,null,null,null,null,null,null,null,null,2.915,0.94579596896702656]
[null,null,null,null,null,null,null,null,null,null,null,null,null,null,null,null,null,null,null,null,null,null,null,null,2.9159999999999999,0.94585014590507577]
[null,null,null,null,null,null,null,null,null,null,null,null,null,null,null,null,null,null,null,null,null,null,null,null,2.9169999999999998,0.94590426869326638]
[null,null,null,null,null,null,null,null,null,null,null,null,null,null,null,null,null,null,null,null,null,null,null,null,2.9180000000000001,0.9459583373857211]
[null,null,null,null,null,null,null,null,null,null,null,null,null,null,null,null,null,null,null,null,null,null,null,null,2.919,0.9460123520365088]
[null,null,null,null,null,null,null,null,null,null,null,null,null,null,null,null,null,null,null,null,null,null,null,null,2.92,0.94606631269964403]
[null,null,null,null,null,null,null,null,null,null,null,null,null,null,null,null,null,null,null,null,null,null,null,null,2.9209999999999998,0.94612021942908742]
[null,null,null,null,null,null,null,null,null,null,null,null,null,null,null,null,null,null,null,null,null,null,null,null,2.9220000000000002,0.94617407227874573]
[null,null,null,null,null,null,null,null,null,null,null,null,null,null,null,null,null,null,null,null,null,null,null,null,2.923,0.94622787130247188]
[null,null,null,null,null,null,null,null,null,null,null,null,null,null,null,null,null,null,null,null,null,null,null,null,2.9239999999999999,0.94628161655406484]
[null,null,null,null,null,null,null,null,null,null,null,null,null,null,null,null,null,null,null,null,null,null,null,null,2.9249999999999998,0.94633530808726984]
[null,null,null,null,null,null,null,null,null,null,null,null,null,null,null,null,null,null,null,null,null,null,null,null,2.9260000000000002,0.94638894595577849]
[null,null,null,null,null,null,null,null,null,null,null,null,null,null,null,null,null,null,null,null,null,null,null,null,2.927,0.94644253021322866]
[null,null,null,null,null,null,null,null,null,null,null,null,null,null,null,null,null,null,null,null,null,null,null,null,2.9279999999999999,0.9464960609132046]
[null,null,null,null,null,null,null,null,null,null,null,null,null,null,null,null,null,null,null,null,null,null,null,null,2.9289999999999998,0.94654953810923692]
[null,null,null,null,null,null,null,null,null,null,null,null,null,null,null,null,null,null,null,null,null,null,null,null,2.93,0.94660296185480286]
[null,null,null,null,null,null,null,null,null,null,null,null,null,null,null,null,null,null,null,null,null,null,null,null,2.931,0.94665633220332635]
[null,null,null,null,null,null,null,null,null,null,null,null,null,null,null,null,null,null,null,null,null,null,null,null,2.9319999999999999,0.94670964920817746]
[null,null,null,null,null,null,null,null,null,null,null,null,null,null,null,null,null,null,null,null,null,null,null,null,2.9329999999999998,0.94676291292267345]
[null,null,null,null,null,null,null,null,null,null,null,null,null,null,null,null,null,null,null,null,null,null,null,null,2.9340000000000002,0.94681612340007781]
[null,null,null,null,null,null,null,null,null,null,null,null,null,null,null,null,null,null,null,null,null,null,null,null,2.9350000000000001,0.94686928069360121]
[null,null,null,null,null,null,null,null,null,null,null,null,null,null,null,null,null,null,null,null,null,null,null,null,2.9359999999999999,0.9469223848564009]
[null,null,null,null,null,null,null,null,null,null,null,null,null,null,null,null,null,null,null,null,null,null,null,null,2.9369999999999998,0.94697543594158096]
[null,null,null,null,null,null,null,null,null,null,null,null,null,null,null,null,null,null,null,null,null,null,null,null,2.9380000000000002,0.94702843400219261]
[null,null,null,null,null,null,null,null,null,null,null,null,null,null,null,null,null,null,null,null,null,null,null,null,2.9390000000000001,0.9470813790912338]
[null,null,null,null,null,null,null,null,null,null,null,null,null,null,null,null,null,null,null,null,null,null,null,null,2.94,0.94713427126164962]
[null,null,null,null,null,null,null,null,null,null,null,null,null,null,null,null,null,null,null,null,null,null,null,null,2.9409999999999998,0.94718711056633231]
[null,null,null,null,null,null,null,null,null,null,null,null,null,null,null,null,null,null,null,null,null,null,null,null,2.9420000000000002,0.94723989705812128]
[null,null,null,null,null,null,null,null,null,null,null,null,null,null,null,null,null,null,null,null,null,null,null,null,2.9430000000000001,0.94729263078980286]
[null,null,null,null,null,null,null,null,null,null,null,null,null,null,null,null,null,null,null,null,null,null,null,null,2.944,0.94734531181411075]
[null,null,null,null,null,null,null,null,null,null,null,null,null,null,null,null,null,null,null,null,null,null,null,null,2.9449999999999998,{"$f":"1-EXP(-Y2948)","v":0.94739794018372614}]
[null,null,null,null,null,null,null,null,null,null,null,null,null,null,null,null,null,null,null,null,null,null,null,null,2.9460000000000002,0.94745051595127738]
[null,null,null,null,null,null,null,null,null,null,null,null,null,null,null,null,null,null,null,null,null,null,null,null,2.9470000000000001,0.94750303916934009]
[null,null,null,null,null,null,null,null,null,null,null,null,null,null,null,null,null,null,null,null,null,null,null,null,2.948,0.94755550989043769]
[null,null,null,null,null,null,null,null,null,null,null,null,null,null,null,null,null,null,null,null,null,null,null,null,2.9489999999999998,0.94760792816704076]
[null,null,null,null,null,null,null,null,null,null,null,null,null,null,null,null,null,null,null,null,null,null,null,null,2.95,0.9476602940515676]
[null,null,null,null,null,null,null,null,null,null,null,null,null,null,null,null,null,null,null,null,null,null,null,null,2.9510000000000001,0.9477126075963842]
[null,null,null,null,null,null,null,null,null,null,null,null,null,null,null,null,null,null,null,null,null,null,null,null,2.952,0.94776486885380395]
[null,null,null,null,null,null,null,null,null,null,null,null,null,null,null,null,null,null,null,null,null,null,null,null,2.9529999999999998,0.94781707787608827]
[null,null,null,null,null,null,null,null,null,null,null,null,null,null,null,null,null,null,null,null,null,null,null,null,2.9540000000000002,0.94786923471544615]
[null,null,null,null,null,null,null,null,null,null,null,null,null,null,null,null,null,null,null,null,null,null,null,null,2.9550000000000001,0.94792133942403434]
[null,null,null,null,null,null,null,null,null,null,null,null,null,null,null,null,null,null,null,null,null,null,null,null,2.956,0.94797339205395759]
[null,null,null,null,null,null,null,null,null,null,null,null,null,null,null,null,null,null,null,null,null,null,null,null,2.9569999999999999,0.9480253926572686]
[null,null,null,null,null,null,null,null,null,null,null,null,null,null,null,null,null,null,null,null,null,null,null,null,2.9580000000000002,0.94807734128596788]
[null,null,null,null,null,null,null,null,null,null,null,null,null,null,null,null,null,null,null,null,null,null,null,null,2.9590000000000001,0.94812923799200421]
[null,null,null,null,null,null,null,null,null,null,null,null,null,null,null,null,null,null,null,null,null,null,null,null,2.96,0.9481810828272742]
[null,null,null,null,null,null,null,null,null,null,null,null,null,null,null,null,null,null,null,null,null,null,null,null,2.9609999999999999,0.94823287584362259]
[null,null,null,null,null,null,null,null,null,null,null,null,null,null,null,null,null,null,null,null,null,null,null,null,2.9620000000000002,0.94828461709284262]
[null,null,null,null,null,null,null,null,null,null,null,null,null,null,null,null,null,null,null,null,null,null,null,null,2.9630000000000001,0.94833630662667545]
[null,null,null,null,null,null,null,null,null,null,null,null,null,null,null,null,null,null,null,null,null,null,null,null,2.964,0.94838794449681052]
[null,null,null,null,null,null,null,null,null,null,null,null,null,null,null,null,null,null,null,null,null,null,null,null,2.9649999999999999,0.94843953075488585]
[null,null,null,null,null,null,null,null,null,null,null,null,null,null,null,null,null,null,null,null,null,null,null,null,2.9660000000000002,0.94849106545248763]
[null,null,null,null,null,null,null,null,null,null,null,null,null,null,null,null,null,null,null,null,null,null,null,null,2.9670000000000001,0.94854254864115051]
[null,null,null,null,null,null,null,null,null,null,null,null,null,null,null,null,null,null,null,null,null,null,null,null,2.968,0.94859398037235776]
[null,null,null,null,null,null,null,null,null,null,null,null,null,null,null,null,null,null,null,null,null,null,null,null,2.9689999999999999,0.94864536069754113]
[null,null,null,null,null,null,null,null,null,null,null,null,null,null,null,null,null,null,null,null,null,null,null,null,2.97,0.94869668966808085]
[null,null,null,null,null,null,null,null,null,null,null,null,null,null,null,null,null,null,null,null,null,null,null,null,2.9710000000000001,0.94874796733530609]
[null,null,null,null,null,null,null,null,null,null,null,null,null,null,null,null,null,null,null,null,null,null,null,null,2.972,0.94879919375049426]
[null,null,null,null,null,null,null,null,null,null,null,null,null,null,null,null,null,null,null,null,null,null,null,null,2.9729999999999999,0.94885036896487196]
[null,null,null,null,null,null,null,null,null,null,null,null,null,null,null,null,null,null,null,null,null,null,null,null,2.9740000000000002,0.94890149302961446]
[null,null,null,null,null,null,null,null,null,null,null,null,null,null,null,null,null,null,null,null,null,null,null,null,2.9750000000000001,0.94895256599584565]
[null,null,null,null,null,null,null,null,null,null,null,null,null,null,null,null,null,null,null,null,null,null,null,null,2.976,0.94900358791463857]
[null,null,null,null,null,null,null,null,null,null,null,null,null,null,null,null,null,null,null,null,null,null,null,null,2.9769999999999999,0.94905455883701517]
[null,null,null,null,null,null,null,null,null,null,null,null,null,null,null,null,null,null,null,null,null,null,null,null,2.9780000000000002,0.94910547881394636]
[null,null,null,null,null,null,null,null,null,null,null,null,null,null,null,null,null,null,null,null,null,null,null,null,2.9790000000000001,0.94915634789635206]
[null,null,null,null,null,null,null,null,null,null,null,null,null,null,null,null,null,null,null,null,null,null,null,null,2.98,0.94920716613510148]
[null,null,null,null,null,null,null,null,null,null,null,null,null,null,null,null,null,null,null,null,null,null,null,null,2.9809999999999999,0.94925793358101285]
[null,null,null,null,null,null,null,null,null,null,null,null,null,null,null,null,null,null,null,null,null,null,null,null,2.9820000000000002,0.94930865028485356]
[null,null,null,null,null,null,null,null,null,null,null,null,null,null,null,null,null,null,null,null,null,null,null,null,2.9830000000000001,0.94935931629734027]
[null,null,null,null,null,null,null,null,null,null,null,null,null,null,null,null,null,null,null,null,null,null,null,null,2.984,0.94940993166913901]
[null,null,null,null,null,null,null,null,null,null,null,null,null,null,null,null,null,null,null,null,null,null,null,null,2.9849999999999999,0.94946049645086528]
[null,null,null,null,null,null,null,null,null,null,null,null,null,null,null,null,null,null,null,null,null,null,null,null,2.9860000000000002,0.94951101069308386]
[null,null,null,null,null,null,null,null,null,null,null,null,null,null,null,null,null,null,null,null,null,null,null,null,2.9870000000000001,0.94956147444630878]
[null,null,null,null,null,null,null,null,null,null,null,null,null,null,null,null,null,null,null,null,null,null,null,null,2.988,0.94961188776100403]
[null,null,null,null,null,null,null,null,null,null,null,null,null,null,null,null,null,null,null,null,null,null,null,null,2.9889999999999999,0.94966225068758281]
[null,null,null,null,null,null,null,null,null,null,null,null,null,null,null,null,null,null,null,null,null,null,null,null,2.99,0.94971256327640818]
[null,null,null,null,null,null,null,null,null,null,null,null,null,null,null,null,null,null,null,null,null,null,null,null,2.9910000000000001,0.94976282557779246]
[null,null,null,null,null,null,null,null,null,null,null,null,null,null,null,null,null,null,null,null,null,null,null,null,2.992,0.94981303764199831]
[null,null,null,null,null,null,null,null,null,null,null,null,null,null,null,null,null,null,null,null,null,null,null,null,2.9929999999999999,0.94986319951923748]
[null,null,null,null,null,null,null,null,null,null,null,null,null,null,null,null,null,null,null,null,null,null,null,null,2.9940000000000002,0.94991331125967204]
[null,null,null,null,null,null,null,null,null,null,null,null,null,null,null,null,null,null,null,null,null,null,null,null,2.9950000000000001,0.94996337291341371]
[null,null,null,null,null,null,null,null,null,null,null,null,null,null,null,null,null,null,null,null,null,null,null,null,2.996,0.95001338453052409]
[null,null,null,null,null,null,null,null,null,null,null,null,null,null,null,null,null,null,null,null,null,null,null,null,2.9969999999999999,0.95006334616101484]
[null,null,null,null,null,null,null,null,null,null,null,null,null,null,null,null,null,null,null,null,null,null,null,null,2.9980000000000002,0.95011325785484768]
[null,null,null,null,null,null,null,null,null,null,null,null,null,null,null,null,null,null,null,null,null,null,null,null,2.9990000000000001,0.95016311966193412]
[null,null,null,null,null,null,null,null,null,null,null,null,null,null,null,null,null,null,null,null,null,null,null,null,3,0.95021293163213605]

{"sheet":"44. Ecoregions World","index":44,"n_rows":1,"n_cols":4,"rows_kept":1,"cut":false,"hidden":false,"merged":[[0,0,0,1],[0,3,0,5]]}
["Back to \"Contents\"",null,null,"Back to \"1. Experiment Setup\""]

{"sheet":"45. Ecoregions USA","index":45,"n_rows":1,"n_cols":4,"rows_kept":1,"cut":false,"hidden":false,"merged":[[0,0,0,1],[0,3,0,5]]}
["Back to \"Contents\"",null,null,"Back to \"1. Experiment Setup\""]

{"sheet":"46. Calculations","index":46,"n_rows":121,"n_cols":124,"rows_kept":121,"cut":false,"hidden":false,"merged":[[0,37,0,47],[1,37,1,47]]}
[null,null,null,null,null,null,null,null,null,null,null,null,null,null,null,null,null,null,null,null,null,null,null,null,null,null,null,null,null,null,null,null,null,null,null,null,null,"Object Placement Table & Chart"]
[null,null,null,null,null,null,null,null,null,null,null,null,null,null,null,"List options and Vlookup tables for Setup Worksheet",null,null,null,null,null,null,null,null,null,null,null,null,null,null,null,null,null,null,null,null,null,"This worksheet randomly determines the placement of search objects based upon the AMDR."]
[null,null,null,null,null,null,null,null,null,null,null,null,null,null,null,"Results from input","Number of item","Season Color","vlookup for terrain","terrain","Vlookup \nDatum","Datum","Units","vlookup list for event type","Event Type","Maximum # of object types","Maximum time (hours)","vlookup ecoregions","Ecoregions","Vlookup list for forest cover","forest cover","Vlookup list for land cover","Land Cover from: USGS Land Use/Land Cover System Legend (Modified Level 2) ",null,null,null,null,"Date Created:",null,{"$f":"TODAY()","v":"2012-07-12"},null,"Units:",{"$f":"'46. Calculations'!P9","v":"Yards"},null,null,"Total # of Suggested Objects:",{"$f":"'9. Actual Experiment Design'!D37","v":25},null,null,null,"Search Object Types",null,null,null,{"$f":"'2. Search Object Types'!J22","v":3}]
[null,null,null,null,null,null,null,null,null,null,null,null,null,null,null,"to be used in IDEA","chosen in drop list","Brown",1,"California Oak/Field",1,"AGD 66","Meters",1,"Compare Search Technique",2,4,1,"110 Icecap Division",1,"Alaska Forest -- Fir - Spruce",1,"Bare Ground Tundra",null,null,null,null,null,null,null,null,null,null,null,null,null,null,null,null,null,null,null,null,null,null,null,null,null,null,null,null,null,null,null,null,null,null,null,null,null,null,null,null,null,null,null,null,null,null,null,null,null,null,null,null,null,null,null,null,null,null,null,null,null,null,null,null,null,null,null,null,null,null,null,null,"FOR CHOOSING A LAYOUT",null,null,null,null,null,null,null,null,null,"FOR PRINTING DOCUMENT"]
[null,null,null,null,null,null,null,null,null,null,null,null,null,null,null,{"$f":"'1. Experiment Setup'!I8","v":"Mt. Greylock, MA"},"Location","Green",2,"Eastern Forest (Mountain, Green)",2,"AGD 84","Yards",2,"Conference",4,2,2,"M110 Icecap Regime Mountains",2,"Alaska Forest -- Hemlock -Sitka Spruce",2,"Barren or Sparsely Vegetated",null,null,null,null,"Location Number","Track Distance","Lateral Range","Left - Right",null,"Search Object Type            \n  (# and description)","Orientation",null,null,null,null,null,null,null,null,null,null,null,null,null,null,"RandforObject","Object 1","Object 2","Object 3","Object 4","3*AMDR",null,"LRZoneRand","Lateral Range",null,"OBJ1Zone","Obj1zone1","Obj1zone2","Obj1zone3","Obj1zone4","Obj1zone5","LROBj1multiplier",null,"OBJ2Zone","Obj2zone1","Obj2zone2","Obj2zone3","Obj2zone4","Obj2zone5","LROBj2multiplier",null,"OBJ3Zone","Obj3Zone1","Obj3zone2","Obj3zone3","Obj3Zone4","Obj3Zone5","LROBj3multiplier",null,"OBJ4Zone","Obj4Zone1","Obj4Zone2","Obj4Zone3","Obj4Zone4","Obj4Zone5","LROBj4multiplier",null,"Additional Object","Additonal Object for 2","Additional object for 3","Additional object for 4",null,"Object1 for graph",null,"Object 2 for graph",null,"Object 3 for graph",null,"Object 4 for graph",null,null,null,"Object1 for graph",null,"Object 2 for graph",null,"Object 3 for graph",null,"Object 4 for graph"]
[null,null,null,null,null,null,null,null,null,null,null,null,null,null,null,{"$f":"IF(Q6=1,R4,IF(Q6=2,R5,IF(Q6=3,R6,\"Error\")))","v":"Green"},2,"White",3,"Eastern Forest (Mountain, Brown)",3,"European 1950",null,3,"Correction Factor",2,2,3,"120 Tundra Division",3,"Alaska Forest -- Spruce - Birch",3,"Cropland/Grassland Mosaic",null,null,null,null,1,{"$f":"AV37*0.75","v":35.325000000000003},{"$f":"IF(BO6<0.5,BO6,ROUND(BO6,))","v":18},{"$f":"IF(RAND()>=0.5,\"Right\",\"Left\")","v":"Left"},1,{"$f":"IF(AP6=1,$AT$36,IF(AP6=2,$AT$40,IF(AP6=3,$AT$44,$AT$48)))","v":"Adult High-Visibility"},{"$f":"RAND()*360","v":15.27774018218115},null,null,null,null,null,null,null,"LRZone1","LRZone2","LRzone3","LRZone4","LRZone5",null,null,{"$f":"RAND()","v":0.55654115958605255},{"$f":"AZ14","v":9},{"$f":"AZ15","v":9},{"$f":"AZ16","v":8},{"$f":"AZ17","v":0},{"$f":"3*IF(AP6=1,$AV$37,IF(AP6=2,$AV$41,IF(AP6=3,$AV$45,$AV$49)))","v":141.30000000000001},null,{"$f":"RAND()","v":0.25295533550311278},{"$f":"ROUND(IF(AM6=0,,1.5*IF(AP6=1,$AV$37*BW6,IF(AP6=2,$AV$41*CE6,IF(AP6=3,$AV$45*CM6,$AV$49*CU6)))),2)","v":17.7},null,{"$f":"IF(SUM(BR6:BV6)=0,BN6,IF($BN6<=BR6/SUM(BR6:BV6),1,IF($BN6<=(BR6+BS6)/SUM(BR6:BV6),2,IF($BN6<=SUM(BR6:BT6)/SUM(BR6:BV6),3,IF($BN6<=SUM(BR6:BU6)/SUM(BR6:BV6),4,5)))))","v":2},{"$f":"BA14","v":1},{"$f":"BB14","v":1},{"$f":"BC14","v":1},{"$f":"BD14","v":1},{"$f":"BE14","v":1},{"$f":"IF(BQ6=1,$BN6*$AZ$7,IF(BQ6=2,$AZ$7+$BN6*$BA$7,IF(BQ6=3,($AZ$7+$BA$7)+$BN6*($BB$7),IF(BQ6=4,SUM($AZ$7:$BB$7)+$BN6*$BC$7,IF(BQ6=5,SUM($AZ$7:$BC$7)+$BN6*$BD$7,$BN6)))))","v":0.25059106710062257},null,{"$f":"IF(SUM(BZ6:CD6)=0,,IF($BN6<=BZ6/SUM(BZ6:CD6),1,IF($BN6<=(BZ6+CA6)/SUM(BZ6:CD6),2,IF($BN6<=SUM(BZ6:CB6)/SUM(BZ6:CD6),3,IF($BN6<=SUM(BZ6:CC6)/SUM(BZ6:CD6),4,5)))))","v":2},{"$f":"BA15","v":1},{"$f":"BB15","v":1},{"$f":"BC15","v":1},{"$f":"BD15","v":1},{"$f":"BE15","v":1},{"$f":"IF(BY6=1,$BN6*$AZ$7,IF(BY6=2,$AZ$7+$BN6*$BA$7,IF(BY6=3,($AZ$7+$BA$7)+$BN6*($BB$7),IF(BY6=4,SUM($AZ$7:$BB$7)+$BN6*$BC$7,IF(BY6=5,SUM($AZ$7:$BC$7)+$BN6*$BD$7,$BN6)))))","v":0.25059106710062257},null,{"$f":"IF(SUM(CH6:CL6)=0,,IF($BN6<=CH6/SUM(CH6:CL6),1,IF($BN6<=(CH6+CI6)/SUM(CH6:CL6),2,IF($BN6<=SUM(CH6:CJ6)/SUM(CH6:CL6),3,IF($BN6<=SUM(CH6:CK6)/SUM(CH6:CL6),4,5)))))","v":2},{"$f":"BA16","v":1},{"$f":"BB16","v":1},{"$f":"BC16","v":1},{"$f":"BD16","v":1},{"$f":"BE16","v":1},{"$f":"IF(CG6=1,$BN6*$AZ$7,IF(CG6=2,$AZ$7+$BN6*$BA$7,IF(CG6=3,($AZ$7+$BA$7)+$BN6*($BB$7),IF(CG6=4,SUM($AZ$7:$BB$7)+$BN6*$BC$7,IF(CG6=5,SUM($AZ$7:$BC$7)+$BN6*$BD$7,$BN6)))))","v":0.25059106710062257},null,{"$f":"IF(SUM(CP6:CT6)=0,,IF($BN6<=CP6/SUM(CP6:CT6),1,IF($BN6<=(CP6+CQ6)/SUM(CP6:CT6),2,IF($BN6<=SUM(CP6:CR6)/SUM(CP6:CT6),3,IF($BN6<=SUM(CP6:CS6)/SUM(CP6:CT6),4,5)))))","v":0},{"$f":"BA17","v":0},{"$f":"BB17","v":0},{"$f":"BC17","v":0},{"$f":"BD17","v":0},{"$f":"BE17","v":0},{"$f":"IF(CO6=1,$BN6*$AZ$7,IF(CO6=2,$AZ$7+$BN6*$BA$7,IF(CO6=3,($AZ$7+$BA$7)+$BN6*($BB$7),IF(CO6=4,SUM($AZ$7:$BB$7)+$BN6*$BC$7,IF(CO6=5,SUM($AZ$7:$BC$7)+$BN6*$BD$7,$BN6)))))","v":0.25295533550311278},null,{"$f":"IF($BC$3=1,1,IF($BC$3=2,CX6,IF($BC$3=3,CY6,CZ6)))","v":2},{"$f":"IF(BG6<0.5,1,2)","v":2},{"$f":"IF(BG6<1/3,1,IF(BG6<2/3,2,3))","v":2},{"$f":"IF(BG6<0.25,1,IF(BG6<0.5,2,IF(BG6<0.75,3,4)))","v":3},null,"TD","LR","TD","LR","TD","LR","TD","LR","dummy",null,"TD","LR","TD","LR","TD","LR","TD","LR","dummy"]
[null,null,null,null,null,null,null,null,null,null,null,null,null,null,null,{"$f":"VLOOKUP(Q7,S4:T15,2)","v":"Eastern Forest (Mountain, Green)"},2,null,4,"Eastern Forest (Steep Mountain Side, Green)",4,"European 1979",null,4,"Specific ESW",4,4,4,"M120 Tundra Regime Mountains",4,"Eastern Forest -- Aspen - Birch",4,"Cropland/Woodland Mosaic",null,null,null,null,{"$f":"IF(AL6=0,,IF(SUM(BH7:BK7)=0,IF(AM6<=$AZ$19,AL6+1,),AL6+1))","v":2},{"$f":"IF(AL7=0,,SUM($BL$6:BL6)+ROUND(2*IF(AP7=1,$AV$37,IF(AP7=2,$AV$41,IF(AP7=3,$AV$45,IF(AP7=4,$AV$49,))))*RAND(),))","v":151.30000000000001},24,{"$f":"IF(AM7=0,,IF(RAND()>=0.5,\"Right\",\"Left\"))","v":"Right"},{"$f":"IF(AL7=0,,IF(SUM(BH7:BK7)=0,CW7,IF(AP6=0,,IF(BG7<=(BH7/SUM(BH7:BK7)),1,IF(BG7<=((BH7+BI7)/SUM(BH7:BK7)),2,IF(BG7<=((BH7+BI7+BJ7)/SUM(BH7:BK7)),3,4))))))","v":2},{"$f":"IF(AM7=0,,IF(AP7=1,$AT$36,IF(AP7=2,$AT$40,IF(AP7=3,$AT$44,$AT$48))))","v":"Clue High-Visibility"},{"$f":"IF(AM7=0,,RAND()*360)","v":65.015000099875849},null,null,null,null,null,null,"Lateral Range proportion ",0.2,0.2,0.2,0.2,0.2,null,null,0.58411008187720659,{"$f":"IF(BH6=0,,IF(AP6=1,BH6-1,BH6))","v":8},{"$f":"IF(BI6=0,,IF(AP6=2,BI6-1,BI6))","v":9},{"$f":"IF(BJ6=0,,IF(AP6=3,BJ6-1,BJ6))","v":8},{"$f":"IF(BK6=0,,IF(AP6=4,BK6-1,BK6))","v":0},65.699999999999989,null,0.68541121471261313,24.21,null,{"$f":"IF(SUM(BR7:BV7)=0,,IF($BN7<=BR7/SUM(BR7:BV7),1,IF($BN7<=(BR7+BS7)/SUM(BR7:BV7),2,IF($BN7<=SUM(BR7:BT7)/SUM(BR7:BV7),3,IF($BN7<=SUM(BR7:BU7)/SUM(BR7:BV7),4,5)))))","v":4},{"$f":"IF(BR6=0,,IF(AND($AP6=1,$BQ6=1),BR6-1,BR6))","v":1},{"$f":"IF(BS6=0,,IF(AND($AP6=1,$BQ6=2),BS6-1,BS6))","v":0},{"$f":"IF(BT6=0,,IF(AND($AP6=1,$BQ6=3),BT6-1,BT6))","v":1},{"$f":"IF(BU6=0,,IF(AND($AP6=1,$BQ6=4),BU6-1,BU6))","v":1},{"$f":"IF(BV6=0,,IF(AND($AP6=1,$BQ6=5),BV6-1,BV6))","v":1},0.73708224294252278,null,4,{"$f":"IF(BZ6=0,,IF(AND($AP6=2,$BY6=1),BZ6-1,BZ6))","v":1},{"$f":"IF(CA6=0,,IF(AND($AP6=2,$BY6=2),CA6-1,CA6))","v":1},{"$f":"IF(CB6=0,,IF(AND($AP6=2,$BY6=3),CB6-1,CB6))","v":1},{"$f":"IF(CC6=0,,IF(AND($AP6=2,$BY6=4),CC6-1,CC6))","v":1},{"$f":"IF(CD6=0,,IF(AND($AP6=2,$BY6=5),CD6-1,CD6))","v":1},0.73708224294252278,null,4,{"$f":"IF(CH6=0,,IF(AND($AP6=3,$CG6=1),CH6-1,CH6))","v":1},{"$f":"IF(CI6=0,,IF(AND($AP6=3,$CG6=2),CI6-1,CI6))","v":1},{"$f":"IF(CJ6=0,,IF(AND($AP6=3,$CG6=3),CJ6-1,CJ6))","v":1},{"$f":"IF(CK6=0,,IF(AND($AP6=3,$CG6=4),CK6-1,CK6))","v":1},{"$f":"IF(CL6=0,,IF(AND($AP6=3,$CG6=5),CL6-1,CL6))","v":1},0.73708224294252278,null,0,{"$f":"IF(CP6=0,,IF(AND($AP6=4,$CO6=1),CP6-1,CP6))","v":0},{"$f":"IF(CQ6=0,,IF(AND($AP6=4,$CO6=2),CQ6-1,CQ6))","v":0},{"$f":"IF(CR6=0,,IF(AND($AP6=4,$CO6=3),CR6-1,CR6))","v":0},{"$f":"IF(CS6=0,,IF(AND($AP6=4,$CO6=4),CS6-1,CS6))","v":0},{"$f":"IF(CT6=0,,IF(AND($AP6=4,$CO6=5),CT6-1,CT6))","v":0},0.68541121471261313,null,2,2,2,3,null,{"$f":"IF('10. Obj. Placement Tabl & Chart'!$F23=1,'10. Obj. Placement Tabl & Chart'!$C23,)","v":35.325000000000003},{"$f":"IF('10. Obj. Placement Tabl & Chart'!$F23=1,IF('10. Obj. Placement Tabl & Chart'!$E23=\"Right\",-1*'10. Obj. Placement Tabl & Chart'!$D23,'10. Obj. Placement Tabl & Chart'!$D23),)","v":18},{"$f":"IF('10. Obj. Placement Tabl & Chart'!$F23=2,'10. Obj. Placement Tabl & Chart'!$C23,)","v":0},{"$f":"IF('10. Obj. Placement Tabl & Chart'!$F23=2,IF('10. Obj. Placement Tabl & Chart'!$E23=\"Right\",-1*'10. Obj. Placement Tabl & Chart'!$D23,'10. Obj. Placement Tabl & Chart'!$D23),)","v":0},{"$f":"IF('10. Obj. Placement Tabl & Chart'!$F23=3,'10. Obj. Placement Tabl & Chart'!$C23,)","v":0},{"$f":"IF('10. Obj. Placement Tabl & Chart'!$F23=3,IF('10. Obj. Placement Tabl & Chart'!$E23=\"Right\",-1*'10. Obj. Placement Tabl & Chart'!$D23,'10. Obj. Placement Tabl & Chart'!$D23),)","v":0},{"$f":"IF('10. Obj. Placement Tabl & Chart'!$F23=4,'10. Obj. Placement Tabl & Chart'!$C23,)","v":0},{"$f":"IF('10. Obj. Placement Tabl & Chart'!$F23=4,IF('10. Obj. Placement Tabl & Chart'!$E23=\"Right\",-1*'10. Obj. Placement Tabl & Chart'!$D23,'10. Obj. Placement Tabl & Chart'!$D23),)","v":0},0,null,{"$f":"IF('10. Obj. Placement Tabl & Chart'!$F152=1,'10. Obj. Placement Tabl & Chart'!$C152,)","v":15.75},{"$f":"IF('10. Obj. Placement Tabl & Chart'!$F152=1,IF('10. Obj. Placement Tabl & Chart'!$E152=\"Right\",-1*'10. Obj. Placement Tabl & Chart'!$D152,'10. Obj. Placement Tabl & Chart'!$D152),)","v":31},{"$f":"IF('10. Obj. Placement Tabl & Chart'!$F152=2,'10. Obj. Placement Tabl & Chart'!$C152,)","v":0},{"$f":"IF('10. Obj. Placement Tabl & Chart'!$F152=2,IF('10. Obj. Placement Tabl & Chart'!$E152=\"Right\",-1*'10. Obj. Placement Tabl & Chart'!$D152,'10. Obj. Placement Tabl & Chart'!$D152),)","v":0},{"$f":"IF('10. Obj. Placement Tabl & Chart'!$F152=3,'10. Obj. Placement Tabl & Chart'!$C152,)","v":0},{"$f":"IF('10. Obj. Placement Tabl & Chart'!$F152=3,IF('10. Obj. Placement Tabl & Chart'!$E152=\"Right\",-1*'10. Obj. Placement Tabl & Chart'!$D152,'10. Obj. Placement Tabl & Chart'!$D152),)","v":0},{"$f":"IF('10. Obj. Placement Tabl & Chart'!$F152=4,'10. Obj. Placement Tabl & Chart'!$C152,)","v":0},{"$f":"IF('10. Obj. Placement Tabl & Chart'!$F152=4,IF('10. Obj. Placement Tabl & Chart'!$E152=\"Right\",-1*'10. Obj. Placement Tabl & Chart'!$D152,'10. Obj. Placement Tabl & Chart'!$D152),)","v":0},0]
[null,null,null,null,null,null,null,null,null,null,null,null,null,null,null,{"$f":"VLOOKUP(Q8,U4:V24,2)","v":"WGS 84"},20,null,5,"Field (flat) 15 cm vertical ground cover",5,"GDA 94",null,5,"Training",4,4,5,"130 Subarctic Division",5,"Eastern Forest -- Elm - Ash - Cottonwood",5,"Deciduous Broadleaf Forest",null,null,null,null,3,{"$f":"IF(AL8=0,,SUM($BL$6:BL7)+ROUND(2*IF(AP8=1,$AV$37,IF(AP8=2,$AV$41,IF(AP8=3,$AV$45,IF(AP8=4,$AV$49,))))*RAND(),))","v":208},51,"Right",1,"Adult High-Visibility",204.76843640341971,null,null,null,null,null,null,"of each zone","1st 5th","2nd 5th","3rd 5th","4th 5th","5th 5th",null,null,2.1484792258819052E-4,8,8,8,0,141.30000000000001,null,0.62318362524198245,51.2,null,4,1,0,1,1,1,0.7246367250483966,null,3,1,1,1,0,1,0.52463672504839653,null,4,1,1,1,1,1,0.7246367250483966,null,0,0,0,0,0,0,0.62318362524198245,null,1,1,1,1,null,{"$f":"IF('10. Obj. Placement Tabl & Chart'!$F24=1,'10. Obj. Placement Tabl & Chart'!$C24,)","v":0},{"$f":"IF('10. Obj. Placement Tabl & Chart'!$F24=1,IF('10. Obj. Placement Tabl & Chart'!$E24=\"Right\",-1*'10. Obj. Placement Tabl & Chart'!$D24,'10. Obj. Placement Tabl & Chart'!$D24),)","v":0},{"$f":"IF('10. Obj. Placement Tabl & Chart'!$F24=2,'10. Obj. Placement Tabl & Chart'!$C24,)","v":151.30000000000001},{"$f":"IF('10. Obj. Placement Tabl & Chart'!$F24=2,IF('10. Obj. Placement Tabl & Chart'!$E24=\"Right\",-1*'10. Obj. Placement Tabl & Chart'!$D24,'10. Obj. Placement Tabl & Chart'!$D24),)","v":-24},{"$f":"IF('10. Obj. Placement Tabl & Chart'!$F24=3,'10. Obj. Placement Tabl & Chart'!$C24,)","v":0},{"$f":"IF('10. Obj. Placement Tabl & Chart'!$F24=3,IF('10. Obj. Placement Tabl & Chart'!$E24=\"Right\",-1*'10. Obj. Placement Tabl & Chart'!$D24,'10. Obj. Placement Tabl & Chart'!$D24),)","v":0},{"$f":"IF('10. Obj. Placement Tabl & Chart'!$F24=4,'10. Obj. Placement Tabl & Chart'!$C24,)","v":0},{"$f":"IF('10. Obj. Placement Tabl & Chart'!$F24=4,IF('10. Obj. Placement Tabl & Chart'!$E24=\"Right\",-1*'10. Obj. Placement Tabl & Chart'!$D24,'10. Obj. Placement Tabl & Chart'!$D24),)","v":0},null,null,{"$f":"IF('10. Obj. Placement Tabl & Chart'!$F153=1,'10. Obj. Placement Tabl & Chart'!$C153,)","v":74},{"$f":"IF('10. Obj. Placement Tabl & Chart'!$F153=1,IF('10. Obj. Placement Tabl & Chart'!$E153=\"Right\",-1*'10. Obj. Placement Tabl & Chart'!$D153,'10. Obj. Placement Tabl & Chart'!$D153),)","v":-17},{"$f":"IF('10. Obj. Placement Tabl & Chart'!$F153=2,'10. Obj. Placement Tabl & Chart'!$C153,)","v":0},{"$f":"IF('10. Obj. Placement Tabl & Chart'!$F153=2,IF('10. Obj. Placement Tabl & Chart'!$E153=\"Right\",-1*'10. Obj. Placement Tabl & Chart'!$D153,'10. Obj. Placement Tabl & Chart'!$D153),)","v":0},{"$f":"IF('10. Obj. Placement Tabl & Chart'!$F153=3,'10. Obj. Placement Tabl & Chart'!$C153,)","v":0},{"$f":"IF('10. Obj. Placement Tabl & Chart'!$F153=3,IF('10. Obj. Placement Tabl & Chart'!$E153=\"Right\",-1*'10. Obj. Placement Tabl & Chart'!$D153,'10. Obj. Placement Tabl & Chart'!$D153),)","v":0},{"$f":"IF('10. Obj. Placement Tabl & Chart'!$F153=4,'10. Obj. Placement Tabl & Chart'!$C153,)","v":0},{"$f":"IF('10. Obj. Placement Tabl & Chart'!$F153=4,IF('10. Obj. Placement Tabl & Chart'!$E153=\"Right\",-1*'10. Obj. Placement Tabl & Chart'!$D153,'10. Obj. Placement Tabl & Chart'!$D153),)","v":0}]
[null,null,null,null,null,null,null,null,null,null,null,null,null,null,null,{"$f":"IF(Q9=1,W4,IF(Q9=2,W5,\"Unit Error\"))","v":"Yards"},2,null,6,"Field (flat) 35 cm vertical ground cover",6,"Geod Datm '49",null,6,"Other",4,4,6,"M130 Subarctic Regime Mountains",6,"Eastern Forest -- Loblolly - Shortleaf - Pine",6,"Deciduous Needle leaf Forest",null,null,null,null,4,{"$f":"IF(AL9=0,,SUM($BL$6:BL8)+ROUND(2*IF(AP9=1,$AV$37,IF(AP9=2,$AV$41,IF(AP9=3,$AV$45,IF(AP9=4,$AV$49,))))*RAND(),))","v":375.3},0.49,"Left",2,"Clue High-Visibility",330.78949636572787,null,null,null,null,null,null,"Objects within ",0.2,0.2,0.2,0.2,0.2,null,null,0.35319099696765199,7,8,8,0,65.699999999999989,null,7.417945556643335E-2,0.49,null,1,1,0,1,0,1,1.483589111328667E-2,null,1,1,1,1,0,1,1.483589111328667E-2,null,1,1,1,1,1,1,1.483589111328667E-2,null,0,0,0,0,0,0,7.417945556643335E-2,null,2,1,2,2,null,{"$f":"IF('10. Obj. Placement Tabl & Chart'!$F25=1,'10. Obj. Placement Tabl & Chart'!$C25,)","v":208},{"$f":"IF('10. Obj. Placement Tabl & Chart'!$F25=1,IF('10. Obj. Placement Tabl & Chart'!$E25=\"Right\",-1*'10. Obj. Placement Tabl & Chart'!$D25,'10. Obj. Placement Tabl & Chart'!$D25),)","v":-51},{"$f":"IF('10. Obj. Placement Tabl & Chart'!$F25=2,'10. Obj. Placement Tabl & Chart'!$C25,)","v":0},{"$f":"IF('10. Obj. Placement Tabl & Chart'!$F25=2,IF('10. Obj. Placement Tabl & Chart'!$E25=\"Right\",-1*'10. Obj. Placement Tabl & Chart'!$D25,'10. Obj. Placement Tabl & Chart'!$D25),)","v":0},{"$f":"IF('10. Obj. Placement Tabl & Chart'!$F25=3,'10. Obj. Placement Tabl & Chart'!$C25,)","v":0},{"$f":"IF('10. Obj. Placement Tabl & Chart'!$F25=3,IF('10. Obj. Placement Tabl & Chart'!$E25=\"Right\",-1*'10. Obj. Placement Tabl & Chart'!$D25,'10. Obj. Placement Tabl & Chart'!$D25),)","v":0},{"$f":"IF('10. Obj. Placement Tabl & Chart'!$F25=4,'10. Obj. Placement Tabl & Chart'!$C25,)","v":0},{"$f":"IF('10. Obj. Placement Tabl & Chart'!$F25=4,IF('10. Obj. Placement Tabl & Chart'!$E25=\"Right\",-1*'10. Obj. Placement Tabl & Chart'!$D25,'10. Obj. Placement Tabl & Chart'!$D25),)","v":0},null,null,{"$f":"IF('10. Obj. Placement Tabl & Chart'!$F154=1,'10. Obj. Placement Tabl & Chart'!$C154,)","v":0},{"$f":"IF('10. Obj. Placement Tabl & Chart'!$F154=1,IF('10. Obj. Placement Tabl & Chart'!$E154=\"Right\",-1*'10. Obj. Placement Tabl & Chart'!$D154,'10. Obj. Placement Tabl & Chart'!$D154),)","v":0},{"$f":"IF('10. Obj. Placement Tabl & Chart'!$F154=2,'10. Obj. Placement Tabl & Chart'!$C154,)","v":0},{"$f":"IF('10. Obj. Placement Tabl & Chart'!$F154=2,IF('10. Obj. Placement Tabl & Chart'!$E154=\"Right\",-1*'10. Obj. Placement Tabl & Chart'!$D154,'10. Obj. Placement Tabl & Chart'!$D154),)","v":0},{"$f":"IF('10. Obj. Placement Tabl & Chart'!$F154=3,'10. Obj. Placement Tabl & Chart'!$C154,)","v":129},{"$f":"IF('10. Obj. Placement Tabl & Chart'!$F154=3,IF('10. Obj. Placement Tabl & Chart'!$E154=\"Right\",-1*'10. Obj. Placement Tabl & Chart'!$D154,'10. Obj. Placement Tabl & Chart'!$D154),)","v":-0.21},{"$f":"IF('10. Obj. Placement Tabl & Chart'!$F154=4,'10. Obj. Placement Tabl & Chart'!$C154,)","v":0},{"$f":"IF('10. Obj. Placement Tabl & Chart'!$F154=4,IF('10. Obj. Placement Tabl & Chart'!$E154=\"Right\",-1*'10. Obj. Placement Tabl & Chart'!$D154,'10. Obj. Placement Tabl & Chart'!$D154),)","v":0}]
[null,null,null,null,null,null,null,null,null,null,null,null,null,null,null,{"$f":"VLOOKUP(Q10,X4:Y6,2)","v":"Correction Factor"},4,null,7,"Field (flat) 75 cm vertical ground cover",7,"NAD27 Alaska",null,null,null,null,null,7,"210 Warm Continental Division",7,"Eastern Forest -- Longleaf - Slash Pine",7,"Dry land Cropland and Pasture",null,null,null,null,5,{"$f":"IF(AL10=0,,SUM($BL$6:BL9)+ROUND(2*IF(AP10=1,$AV$37,IF(AP10=2,$AV$41,IF(AP10=3,$AV$45,IF(AP10=4,$AV$49,))))*RAND(),))","v":418},4,"Right",3,"Clue Low-Visibility",265.51307746130414,null,null,null,null,null,null,"each zone","1 5th","1 5th","1 5th","1 5th","1 5th",null,null,0.89897349561719131,7,7,8,0,15,null,0.53717171864788538,3.81,null,3,1,0,1,0,1,0.50743434372957708,null,3,0,1,1,0,1,0.50743434372957708,null,3,1,1,1,1,1,0.50743434372957708,null,0,0,0,0,0,0,0.53717171864788538,null,3,2,3,4,null,{"$f":"IF('10. Obj. Placement Tabl & Chart'!$F26=1,'10. Obj. Placement Tabl & Chart'!$C26,)","v":0},{"$f":"IF('10. Obj. Placement Tabl & Chart'!$F26=1,IF('10. Obj. Placement Tabl & Chart'!$E26=\"Right\",-1*'10. Obj. Placement Tabl & Chart'!$D26,'10. Obj. Placement Tabl & Chart'!$D26),)","v":0},{"$f":"IF('10. Obj. Placement Tabl & Chart'!$F26=2,'10. Obj. Placement Tabl & Chart'!$C26,)","v":375.3},{"$f":"IF('10. Obj. Placement Tabl & Chart'!$F26=2,IF('10. Obj. Placement Tabl & Chart'!$E26=\"Right\",-1*'10. Obj. Placement Tabl & Chart'!$D26,'10. Obj. Placement Tabl & Chart'!$D26),)","v":0.49},{"$f":"IF('10. Obj. Placement Tabl & Chart'!$F26=3,'10. Obj. Placement Tabl & Chart'!$C26,)","v":0},{"$f":"IF('10. Obj. Placement Tabl & Chart'!$F26=3,IF('10. Obj. Placement Tabl & Chart'!$E26=\"Right\",-1*'10. Obj. Placement Tabl & Chart'!$D26,'10. Obj. Placement Tabl & Chart'!$D26),)","v":0},{"$f":"IF('10. Obj. Placement Tabl & Chart'!$F26=4,'10. Obj. Placement Tabl & Chart'!$C26,)","v":0},{"$f":"IF('10. Obj. Placement Tabl & Chart'!$F26=4,IF('10. Obj. Placement Tabl & Chart'!$E26=\"Right\",-1*'10. Obj. Placement Tabl & Chart'!$D26,'10. Obj. Placement Tabl & Chart'!$D26),)","v":0},null,null,{"$f":"IF('10. Obj. Placement Tabl & Chart'!$F155=1,'10. Obj. Placement Tabl & Chart'!$C155,)","v":0},{"$f":"IF('10. Obj. Placement Tabl & Chart'!$F155=1,IF('10. Obj. Placement Tabl & Chart'!$E155=\"Right\",-1*'10. Obj. Placement Tabl & Chart'!$D155,'10. Obj. Placement Tabl & Chart'!$D155),)","v":0},{"$f":"IF('10. Obj. Placement Tabl & Chart'!$F155=2,'10. Obj. Placement Tabl & Chart'!$C155,)","v":0},{"$f":"IF('10. Obj. Placement Tabl & Chart'!$F155=2,IF('10. Obj. Placement Tabl & Chart'!$E155=\"Right\",-1*'10. Obj. Placement Tabl & Chart'!$D155,'10. Obj. Placement Tabl & Chart'!$D155),)","v":0},{"$f":"IF('10. Obj. Placement Tabl & Chart'!$F155=3,'10. Obj. Placement Tabl & Chart'!$C155,)","v":148},{"$f":"IF('10. Obj. Placement Tabl & Chart'!$F155=3,IF('10. Obj. Placement Tabl & Chart'!$E155=\"Right\",-1*'10. Obj. Placement Tabl & Chart'!$D155,'10. Obj. Placement Tabl & Chart'!$D155),)","v":-7},{"$f":"IF('10. Obj. Placement Tabl & Chart'!$F155=4,'10. Obj. Placement Tabl & Chart'!$C155,)","v":0},{"$f":"IF('10. Obj. Placement Tabl & Chart'!$F155=4,IF('10. Obj. Placement Tabl & Chart'!$E155=\"Right\",-1*'10. Obj. Placement Tabl & Chart'!$D155,'10. Obj. Placement Tabl & Chart'!$D155),)","v":0}]
[null,null,null,null,null,null,null,null,null,null,null,null,null,null,null,{"$f":"VLOOKUP(Q11,AB4:AC33,2)","v":"M210 Warm Continental Regime Mountains"},8,null,8,"High Density Urban",8,"NAD27 Canada",null,null,null,null,null,8,"M210 Warm Continental Regime Mountains",8,"Eastern Forest -- Maple - Beech - Birch",8,"Evergreen Broadleaf Forest",null,null,null,null,6,{"$f":"IF(AL11=0,,SUM($BL$6:BL10)+ROUND(2*IF(AP11=1,$AV$37,IF(AP11=2,$AV$41,IF(AP11=3,$AV$45,IF(AP11=4,$AV$49,))))*RAND(),))","v":445},8,"Right",2,"Clue High-Visibility",169.87194050247405,null,null,null,null,null,null,null,null,null,null,null,null,null,null,0.6052166435467321,7,7,7,0,65.699999999999989,null,0.15150101370217106,7.57,null,1,1,0,1,0,1,3.0300202740434212E-2,null,2,0,1,1,0,1,0.23030020274043422,null,1,1,1,0,1,1,3.0300202740434212E-2,null,0,0,0,0,0,0,0.15150101370217106,null,2,2,2,3,null,{"$f":"IF('10. Obj. Placement Tabl & Chart'!$F27=1,'10. Obj. Placement Tabl & Chart'!$C27,)","v":0},{"$f":"IF('10. Obj. Placement Tabl & Chart'!$F27=1,IF('10. Obj. Placement Tabl & Chart'!$E27=\"Right\",-1*'10. Obj. Placement Tabl & Chart'!$D27,'10. Obj. Placement Tabl & Chart'!$D27),)","v":0},{"$f":"IF('10. Obj. Placement Tabl & Chart'!$F27=2,'10. Obj. Placement Tabl & Chart'!$C27,)","v":0},{"$f":"IF('10. Obj. Placement Tabl & Chart'!$F27=2,IF('10. Obj. Placement Tabl & Chart'!$E27=\"Right\",-1*'10. Obj. Placement Tabl & Chart'!$D27,'10. Obj. Placement Tabl & Chart'!$D27),)","v":0},{"$f":"IF('10. Obj. Placement Tabl & Chart'!$F27=3,'10. Obj. Placement Tabl & Chart'!$C27,)","v":418},{"$f":"IF('10. Obj. Placement Tabl & Chart'!$F27=3,IF('10. Obj. Placement Tabl & Chart'!$E27=\"Right\",-1*'10. Obj. Placement Tabl & Chart'!$D27,'10. Obj. Placement Tabl & Chart'!$D27),)","v":-4},{"$f":"IF('10. Obj. Placement Tabl & Chart'!$F27=4,'10. Obj. Placement Tabl & Chart'!$C27,)","v":0},{"$f":"IF('10. Obj. Placement Tabl & Chart'!$F27=4,IF('10. Obj. Placement Tabl & Chart'!$E27=\"Right\",-1*'10. Obj. Placement Tabl & Chart'!$D27,'10. Obj. Placement Tabl & Chart'!$D27),)","v":0},null,null,{"$f":"IF('10. Obj. Placement Tabl & Chart'!$F156=1,'10. Obj. Placement Tabl & Chart'!$C156,)","v":0},{"$f":"IF('10. Obj. Placement Tabl & Chart'!$F156=1,IF('10. Obj. Placement Tabl & Chart'!$E156=\"Right\",-1*'10. Obj. Placement Tabl & Chart'!$D156,'10. Obj. Placement Tabl & Chart'!$D156),)","v":0},{"$f":"IF('10. Obj. Placement Tabl & Chart'!$F156=2,'10. Obj. Placement Tabl & Chart'!$C156,)","v":0},{"$f":"IF('10. Obj. Placement Tabl & Chart'!$F156=2,IF('10. Obj. Placement Tabl & Chart'!$E156=\"Right\",-1*'10. Obj. Placement Tabl & Chart'!$D156,'10. Obj. Placement Tabl & Chart'!$D156),)","v":0},{"$f":"IF('10. Obj. Placement Tabl & Chart'!$F156=3,'10. Obj. Placement Tabl & Chart'!$C156,)","v":161},{"$f":"IF('10. Obj. Placement Tabl & Chart'!$F156=3,IF('10. Obj. Placement Tabl & Chart'!$E156=\"Right\",-1*'10. Obj. Placement Tabl & Chart'!$D156,'10. Obj. Placement Tabl & Chart'!$D156),)","v":-6},{"$f":"IF('10. Obj. Placement Tabl & Chart'!$F156=4,'10. Obj. Placement Tabl & Chart'!$C156,)","v":0},{"$f":"IF('10. Obj. Placement Tabl & Chart'!$F156=4,IF('10. Obj. Placement Tabl & Chart'!$E156=\"Right\",-1*'10. Obj. Placement Tabl & Chart'!$D156,'10. Obj. Placement Tabl & Chart'!$D156),)","v":0}]
[null,null,null,null,null,null,null,null,null,null,null,null,null,null,null,{"$f":"VLOOKUP(Q12,AD4:AE30,2)","v":"Eastern Forest -- Maple - Beech - Birch"},8,null,9,"Medium Density Urban",9,"NAD27 Caribbn",null,null,null,null,null,9,"220 Hot Continental Division",9,"Eastern Forest -- Oak - Gum- Cypress",9,"Evergreen Needle leaf Forest",null,null,null,null,7,{"$f":"IF(AL12=0,,SUM($BL$6:BL11)+ROUND(2*IF(AP12=1,$AV$37,IF(AP12=2,$AV$41,IF(AP12=3,$AV$45,IF(AP12=4,$AV$49,))))*RAND(),))","v":580.70000000000005},35,"Right",1,"Adult High-Visibility",198.40992762470495,null,null,null,null,null,null,"Count of Object Types",null,"minimum","minimum","minimum","minimum","minimum",null,0.20642002319556974,7,6,7,0,141.30000000000001,null,0.44813539890739251,34.590000000000003,null,3,1,0,1,0,1,0.48962707978147851,null,3,0,0,1,0,1,0.48962707978147851,null,2,1,1,0,1,1,0.2896270797814785,null,0,0,0,0,0,0,0.44813539890739251,null,1,1,1,1,null,{"$f":"IF('10. Obj. Placement Tabl & Chart'!$F28=1,'10. Obj. Placement Tabl & Chart'!$C28,)","v":0},{"$f":"IF('10. Obj. Placement Tabl & Chart'!$F28=1,IF('10. Obj. Placement Tabl & Chart'!$E28=\"Right\",-1*'10. Obj. Placement Tabl & Chart'!$D28,'10. Obj. Placement Tabl & Chart'!$D28),)","v":0},{"$f":"IF('10. Obj. Placement Tabl & Chart'!$F28=2,'10. Obj. Placement Tabl & Chart'!$C28,)","v":445},{"$f":"IF('10. Obj. Placement Tabl & Chart'!$F28=2,IF('10. Obj. Placement Tabl & Chart'!$E28=\"Right\",-1*'10. Obj. Placement Tabl & Chart'!$D28,'10. Obj. Placement Tabl & Chart'!$D28),)","v":-8},{"$f":"IF('10. Obj. Placement Tabl & Chart'!$F28=3,'10. Obj. Placement Tabl & Chart'!$C28,)","v":0},{"$f":"IF('10. Obj. Placement Tabl & Chart'!$F28=3,IF('10. Obj. Placement Tabl & Chart'!$E28=\"Right\",-1*'10. Obj. Placement Tabl & Chart'!$D28,'10. Obj. Placement Tabl & Chart'!$D28),)","v":0},{"$f":"IF('10. Obj. Placement Tabl & Chart'!$F28=4,'10. Obj. Placement Tabl & Chart'!$C28,)","v":0},{"$f":"IF('10. Obj. Placement Tabl & Chart'!$F28=4,IF('10. Obj. Placement Tabl & Chart'!$E28=\"Right\",-1*'10. Obj. Placement Tabl & Chart'!$D28,'10. Obj. Placement Tabl & Chart'!$D28),)","v":0},null,null,{"$f":"IF('10. Obj. Placement Tabl & Chart'!$F157=1,'10. Obj. Placement Tabl & Chart'!$C157,)","v":0},{"$f":"IF('10. Obj. Placement Tabl & Chart'!$F157=1,IF('10. Obj. Placement Tabl & Chart'!$E157=\"Right\",-1*'10. Obj. Placement Tabl & Chart'!$D157,'10. Obj. Placement Tabl & Chart'!$D157),)","v":0},{"$f":"IF('10. Obj. Placement Tabl & Chart'!$F157=2,'10. Obj. Placement Tabl & Chart'!$C157,)","v":0},{"$f":"IF('10. Obj. Placement Tabl & Chart'!$F157=2,IF('10. Obj. Placement Tabl & Chart'!$E157=\"Right\",-1*'10. Obj. Placement Tabl & Chart'!$D157,'10. Obj. Placement Tabl & Chart'!$D157),)","v":0},{"$f":"IF('10. Obj. Placement Tabl & Chart'!$F157=3,'10. Obj. Placement Tabl & Chart'!$C157,)","v":180},{"$f":"IF('10. Obj. Placement Tabl & Chart'!$F157=3,IF('10. Obj. Placement Tabl & Chart'!$E157=\"Right\",-1*'10. Obj. Placement Tabl & Chart'!$D157,'10. Obj. Placement Tabl & Chart'!$D157),)","v":2},{"$f":"IF('10. Obj. Placement Tabl & Chart'!$F157=4,'10. Obj. Placement Tabl & Chart'!$C157,)","v":0},{"$f":"IF('10. Obj. Placement Tabl & Chart'!$F157=4,IF('10. Obj. Placement Tabl & Chart'!$E157=\"Right\",-1*'10. Obj. Placement Tabl & Chart'!$D157,'10. Obj. Placement Tabl & Chart'!$D157),)","v":0}]
[null,null,null,null,null,null,null,null,null,null,null,null,null,null,null,{"$f":"VLOOKUP(Q13,AF4:AG27,2)","v":"Deciduous Broadleaf Forest"},5,null,10,"New Mexico Pine Forest (Mountain)",10,"NAD27 Central",null,null,null,null,null,10,"M220 Hot Continental Regime Mountains",10,"Eastern Forest -- Oak - Hickory",10,"Grassland",null,null,null,null,8,{"$f":"IF(AL13=0,,SUM($BL$6:BL12)+ROUND(2*IF(AP13=1,$AV$37,IF(AP13=2,$AV$41,IF(AP13=3,$AV$45,IF(AP13=4,$AV$49,))))*RAND(),))","v":639},2,"Right",3,"Clue Low-Visibility",188.22263836916184,null,null,null,null,null,null,"Object Type","Placed","LR Zone1","LRZone2","LRZone 3","LR Zone","LRZone5",null,0.6493020157943693,6,6,7,0,15,null,0.34794087088647896,2.02,null,1,1,0,0,0,1,6.9588174177295792E-2,null,3,0,0,1,0,1,0.46958817417729581,null,2,1,1,0,1,1,0.2695881741772958,null,0,0,0,0,0,0,0.34794087088647896,null,2,2,2,3,null,{"$f":"IF('10. Obj. Placement Tabl & Chart'!$F29=1,'10. Obj. Placement Tabl & Chart'!$C29,)","v":580.70000000000005},{"$f":"IF('10. Obj. Placement Tabl & Chart'!$F29=1,IF('10. Obj. Placement Tabl & Chart'!$E29=\"Right\",-1*'10. Obj. Placement Tabl & Chart'!$D29,'10. Obj. Placement Tabl & Chart'!$D29),)","v":-35},{"$f":"IF('10. Obj. Placement Tabl & Chart'!$F29=2,'10. Obj. Placement Tabl & Chart'!$C29,)","v":0},{"$f":"IF('10. Obj. Placement Tabl & Chart'!$F29=2,IF('10. Obj. Placement Tabl & Chart'!$E29=\"Right\",-1*'10. Obj. Placement Tabl & Chart'!$D29,'10. Obj. Placement Tabl & Chart'!$D29),)","v":0},{"$f":"IF('10. Obj. Placement Tabl & Chart'!$F29=3,'10. Obj. Placement Tabl & Chart'!$C29,)","v":0},{"$f":"IF('10. Obj. Placement Tabl & Chart'!$F29=3,IF('10. Obj. Placement Tabl & Chart'!$E29=\"Right\",-1*'10. Obj. Placement Tabl & Chart'!$D29,'10. Obj. Placement Tabl & Chart'!$D29),)","v":0},{"$f":"IF('10. Obj. Placement Tabl & Chart'!$F29=4,'10. Obj. Placement Tabl & Chart'!$C29,)","v":0},{"$f":"IF('10. Obj. Placement Tabl & Chart'!$F29=4,IF('10. Obj. Placement Tabl & Chart'!$E29=\"Right\",-1*'10. Obj. Placement Tabl & Chart'!$D29,'10. Obj. Placement Tabl & Chart'!$D29),)","v":0},null,null,{"$f":"IF('10. Obj. Placement Tabl & Chart'!$F158=1,'10. Obj. Placement Tabl & Chart'!$C158,)","v":191},{"$f":"IF('10. Obj. Placement Tabl & Chart'!$F158=1,IF('10. Obj. Placement Tabl & Chart'!$E158=\"Right\",-1*'10. Obj. Placement Tabl & Chart'!$D158,'10. Obj. Placement Tabl & Chart'!$D158),)","v":-9},{"$f":"IF('10. Obj. Placement Tabl & Chart'!$F158=2,'10. Obj. Placement Tabl & Chart'!$C158,)","v":0},{"$f":"IF('10. Obj. Placement Tabl & Chart'!$F158=2,IF('10. Obj. Placement Tabl & Chart'!$E158=\"Right\",-1*'10. Obj. Placement Tabl & Chart'!$D158,'10. Obj. Placement Tabl & Chart'!$D158),)","v":0},{"$f":"IF('10. Obj. Placement Tabl & Chart'!$F158=3,'10. Obj. Placement Tabl & Chart'!$C158,)","v":0},{"$f":"IF('10. Obj. Placement Tabl & Chart'!$F158=3,IF('10. Obj. Placement Tabl & Chart'!$E158=\"Right\",-1*'10. Obj. Placement Tabl & Chart'!$D158,'10. Obj. Placement Tabl & Chart'!$D158),)","v":0},{"$f":"IF('10. Obj. Placement Tabl & Chart'!$F158=4,'10. Obj. Placement Tabl & Chart'!$C158,)","v":0},{"$f":"IF('10. Obj. Placement Tabl & Chart'!$F158=4,IF('10. Obj. Placement Tabl & Chart'!$E158=\"Right\",-1*'10. Obj. Placement Tabl & Chart'!$D158,'10. Obj. Placement Tabl & Chart'!$D158),)","v":0}]
[null,null,null,null,null,null,null,null,null,null,null,null,null,null,null,null,null,null,11,"Orchard (Green)",11,"NAD27 CONUS",null,null,null,null,null,11,"230 Subtropical Division",11,"Eastern Forest -- Oak - Pine",11,"Herbaceous Tundra",null,null,null,null,9,{"$f":"IF(AL14=0,,SUM($BL$6:BL13)+ROUND(2*IF(AP14=1,$AV$37,IF(AP14=2,$AV$41,IF(AP14=3,$AV$45,IF(AP14=4,$AV$49,))))*RAND(),))","v":653},0.09,"Right",3,"Clue Low-Visibility",322.31792309866199,null,null,null,null,null,null,1,{"$f":"IF((AU3/BC3)-TRUNC(AU3/BC3,)>0,TRUNC(AU3/BC3,)+1,AU3/BC3)","v":9},{"$f":"TRUNC(AZ9*$AZ$14,)","v":1},{"$f":"TRUNC(BA9*$AZ$14,)","v":1},{"$f":"TRUNC(BB9*$AZ$14,)","v":1},{"$f":"TRUNC(BC9*$AZ$14,)","v":1},{"$f":"TRUNC(BD9*$AZ$14,)","v":1},null,0.70613402582249984,6,6,6,0,15,null,5.7635974382285404E-2,0.09,null,1,1,0,0,0,1,1.1527194876457082E-2,null,3,0,0,1,0,1,0.41152719487645711,null,1,1,0,0,1,1,1.1527194876457082E-2,null,0,0,0,0,0,0,5.7635974382285404E-2,null,3,2,3,3,null,{"$f":"IF('10. Obj. Placement Tabl & Chart'!$F30=1,'10. Obj. Placement Tabl & Chart'!$C30,)","v":0},{"$f":"IF('10. Obj. Placement Tabl & Chart'!$F30=1,IF('10. Obj. Placement Tabl & Chart'!$E30=\"Right\",-1*'10. Obj. Placement Tabl & Chart'!$D30,'10. Obj. Placement Tabl & Chart'!$D30),)","v":0},{"$f":"IF('10. Obj. Placement Tabl & Chart'!$F30=2,'10. Obj. Placement Tabl & Chart'!$C30,)","v":0},{"$f":"IF('10. Obj. Placement Tabl & Chart'!$F30=2,IF('10. Obj. Placement Tabl & Chart'!$E30=\"Right\",-1*'10. Obj. Placement Tabl & Chart'!$D30,'10. Obj. Placement Tabl & Chart'!$D30),)","v":0},{"$f":"IF('10. Obj. Placement Tabl & Chart'!$F30=3,'10. Obj. Placement Tabl & Chart'!$C30,)","v":639},{"$f":"IF('10. Obj. Placement Tabl & Chart'!$F30=3,IF('10. Obj. Placement Tabl & Chart'!$E30=\"Right\",-1*'10. Obj. Placement Tabl & Chart'!$D30,'10. Obj. Placement Tabl & Chart'!$D30),)","v":-2},{"$f":"IF('10. Obj. Placement Tabl & Chart'!$F30=4,'10. Obj. Placement Tabl & Chart'!$C30,)","v":0},{"$f":"IF('10. Obj. Placement Tabl & Chart'!$F30=4,IF('10. Obj. Placement Tabl & Chart'!$E30=\"Right\",-1*'10. Obj. Placement Tabl & Chart'!$D30,'10. Obj. Placement Tabl & Chart'!$D30),)","v":0},null,null,{"$f":"IF('10. Obj. Placement Tabl & Chart'!$F159=1,'10. Obj. Placement Tabl & Chart'!$C159,)","v":0},{"$f":"IF('10. Obj. Placement Tabl & Chart'!$F159=1,IF('10. Obj. Placement Tabl & Chart'!$E159=\"Right\",-1*'10. Obj. Placement Tabl & Chart'!$D159,'10. Obj. Placement Tabl & Chart'!$D159),)","v":0},{"$f":"IF('10. Obj. Placement Tabl & Chart'!$F159=2,'10. Obj. Placement Tabl & Chart'!$C159,)","v":286},{"$f":"IF('10. Obj. Placement Tabl & Chart'!$F159=2,IF('10. Obj. Placement Tabl & Chart'!$E159=\"Right\",-1*'10. Obj. Placement Tabl & Chart'!$D159,'10. Obj. Placement Tabl & Chart'!$D159),)","v":-77},{"$f":"IF('10. Obj. Placement Tabl & Chart'!$F159=3,'10. Obj. Placement Tabl & Chart'!$C159,)","v":0},{"$f":"IF('10. Obj. Placement Tabl & Chart'!$F159=3,IF('10. Obj. Placement Tabl & Chart'!$E159=\"Right\",-1*'10. Obj. Placement Tabl & Chart'!$D159,'10. Obj. Placement Tabl & Chart'!$D159),)","v":0},{"$f":"IF('10. Obj. Placement Tabl & Chart'!$F159=4,'10. Obj. Placement Tabl & Chart'!$C159,)","v":0},{"$f":"IF('10. Obj. Placement Tabl & Chart'!$F159=4,IF('10. Obj. Placement Tabl & Chart'!$E159=\"Right\",-1*'10. Obj. Placement Tabl & Chart'!$D159,'10. Obj. Placement Tabl & Chart'!$D159),)","v":0}]
[null,null,null,null,null,null,null,null,null,null,null,null,null,null,null,null,null,null,12,"Western (Maritime) pine (Green)",12,"NAD27 Mexico",null,null,null,null,null,12,"M230 Subtropical Regime Mountains",12,"Eastern Forest -- Spruce - Fir",12,"Herbaceous Wetland",null,null,null,null,10,{"$f":"IF(AL15=0,,SUM($BL$6:BL14)+ROUND(2*IF(AP15=1,$AV$37,IF(AP15=2,$AV$41,IF(AP15=3,$AV$45,IF(AP15=4,$AV$49,))))*RAND(),))","v":702},13,"Left",2,"Clue High-Visibility",311.03029147284116,null,null,null,null,null,null,2,{"$f":"IF($BC$3>=2,IF((AU3/BC3)-TRUNC(AU3/BC3,)>=(1/3),TRUNC(AU3/BC3,)+1,TRUNC(AU3/BC3,)),)","v":9},{"$f":"IF($BC$3>=2,TRUNC(AZ9*$AZ$15,),)","v":1},{"$f":"IF($BC$3>=2,TRUNC(BA9*$AZ$15,),)","v":1},{"$f":"IF($BC$3>=2,TRUNC(BB9*$AZ$15,),)","v":1},{"$f":"IF($BC$3>=2,TRUNC(BC9*$AZ$15,),)","v":1},{"$f":"IF($BC$3>=2,TRUNC(BD9*$AZ$15,),)","v":1},null,0.46157254154935867,6,6,5,0,65.699999999999989,null,3.4113803193981607E-2,13.36,null,1,1,0,0,0,1,6.822760638796322E-3,null,3,0,0,1,0,1,0.40682276063879635,null,4,0,0,0,1,1,0.60682276063879637,null,0,0,0,0,0,0,3.4113803193981607E-2,null,2,1,2,2,null,{"$f":"IF('10. Obj. Placement Tabl & Chart'!$F31=1,'10. Obj. Placement Tabl & Chart'!$C31,)","v":0},{"$f":"IF('10. Obj. Placement Tabl & Chart'!$F31=1,IF('10. Obj. Placement Tabl & Chart'!$E31=\"Right\",-1*'10. Obj. Placement Tabl & Chart'!$D31,'10. Obj. Placement Tabl & Chart'!$D31),)","v":0},{"$f":"IF('10. Obj. Placement Tabl & Chart'!$F31=2,'10. Obj. Placement Tabl & Chart'!$C31,)","v":0},{"$f":"IF('10. Obj. Placement Tabl & Chart'!$F31=2,IF('10. Obj. Placement Tabl & Chart'!$E31=\"Right\",-1*'10. Obj. Placement Tabl & Chart'!$D31,'10. Obj. Placement Tabl & Chart'!$D31),)","v":0},{"$f":"IF('10. Obj. Placement Tabl & Chart'!$F31=3,'10. Obj. Placement Tabl & Chart'!$C31,)","v":653},{"$f":"IF('10. Obj. Placement Tabl & Chart'!$F31=3,IF('10. Obj. Placement Tabl & Chart'!$E31=\"Right\",-1*'10. Obj. Placement Tabl & Chart'!$D31,'10. Obj. Placement Tabl & Chart'!$D31),)","v":-0.09},{"$f":"IF('10. Obj. Placement Tabl & Chart'!$F31=4,'10. Obj. Placement Tabl & Chart'!$C31,)","v":0},{"$f":"IF('10. Obj. Placement Tabl & Chart'!$F31=4,IF('10. Obj. Placement Tabl & Chart'!$E31=\"Right\",-1*'10. Obj. Placement Tabl & Chart'!$D31,'10. Obj. Placement Tabl & Chart'!$D31),)","v":0},null,null,{"$f":"IF('10. Obj. Placement Tabl & Chart'!$F160=1,'10. Obj. Placement Tabl & Chart'!$C160,)","v":0},{"$f":"IF('10. Obj. Placement Tabl & Chart'!$F160=1,IF('10. Obj. Placement Tabl & Chart'!$E160=\"Right\",-1*'10. Obj. Placement Tabl & Chart'!$D160,'10. Obj. Placement Tabl & Chart'!$D160),)","v":0},{"$f":"IF('10. Obj. Placement Tabl & Chart'!$F160=2,'10. Obj. Placement Tabl & Chart'!$C160,)","v":620},{"$f":"IF('10. Obj. Placement Tabl & Chart'!$F160=2,IF('10. Obj. Placement Tabl & Chart'!$E160=\"Right\",-1*'10. Obj. Placement Tabl & Chart'!$D160,'10. Obj. Placement Tabl & Chart'!$D160),)","v":-109},{"$f":"IF('10. Obj. Placement Tabl & Chart'!$F160=3,'10. Obj. Placement Tabl & Chart'!$C160,)","v":0},{"$f":"IF('10. Obj. Placement Tabl & Chart'!$F160=3,IF('10. Obj. Placement Tabl & Chart'!$E160=\"Right\",-1*'10. Obj. Placement Tabl & Chart'!$D160,'10. Obj. Placement Tabl & Chart'!$D160),)","v":0},{"$f":"IF('10. Obj. Placement Tabl & Chart'!$F160=4,'10. Obj. Placement Tabl & Chart'!$C160,)","v":0},{"$f":"IF('10. Obj. Placement Tabl & Chart'!$F160=4,IF('10. Obj. Placement Tabl & Chart'!$E160=\"Right\",-1*'10. Obj. Placement Tabl & Chart'!$D160,'10. Obj. Placement Tabl & Chart'!$D160),)","v":0}]
[null,null,null,null,null,null,null,null,null,null,null,null,null,null,null,null,null,null,null,null,13,"NAD83",null,null,null,null,null,13,"240 Marine Division",13,"Eastern Forest -- White - Red - Jack Pine",13,"Irrigated Cropland and Pasture",null,null,null,null,11,{"$f":"IF(AL16=0,,SUM($BL$6:BL15)+ROUND(2*IF(AP16=1,$AV$37,IF(AP16=2,$AV$41,IF(AP16=3,$AV$45,IF(AP16=4,$AV$49,))))*RAND(),))","v":805.7},0.19,"Right",1,"Adult High-Visibility",216.19871388281143,null,null,null,null,null,null,3,{"$f":"IF($BC$3>=3,IF((AU3/BC3)-TRUNC(AU3/BC3,)>=(2/3),TRUNC(AU3/BC3,)+1,TRUNC(AU3/BC3,)),)","v":8},{"$f":"IF($BC$3>=3,TRUNC(AZ9*$AZ$16,),)","v":1},{"$f":"IF($BC$3>=3,TRUNC(BA9*$AZ$16,),)","v":1},{"$f":"IF($BC$3>=3,TRUNC(BB9*$AZ$16,),)","v":1},{"$f":"IF($BC$3>=3,TRUNC(BC9*$AZ$16,),)","v":1},{"$f":"IF($BC$3>=3,TRUNC(BD9*$AZ$16,),)","v":1},null,0.32549690336092663,6,5,5,0,141.30000000000001,null,1.3774304488184952E-2,0.19,null,1,1,0,0,0,1,2.7548608976369904E-3,null,5,0,0,0,0,1,0.80275486089763703,null,4,0,0,0,1,1,0.60275486089763708,null,0,0,0,0,0,0,1.3774304488184952E-2,null,1,1,1,2,null,{"$f":"IF('10. Obj. Placement Tabl & Chart'!$F32=1,'10. Obj. Placement Tabl & Chart'!$C32,)","v":0},{"$f":"IF('10. Obj. Placement Tabl & Chart'!$F32=1,IF('10. Obj. Placement Tabl & Chart'!$E32=\"Right\",-1*'10. Obj. Placement Tabl & Chart'!$D32,'10. Obj. Placement Tabl & Chart'!$D32),)","v":0},{"$f":"IF('10. Obj. Placement Tabl & Chart'!$F32=2,'10. Obj. Placement Tabl & Chart'!$C32,)","v":702},{"$f":"IF('10. Obj. Placement Tabl & Chart'!$F32=2,IF('10. Obj. Placement Tabl & Chart'!$E32=\"Right\",-1*'10. Obj. Placement Tabl & Chart'!$D32,'10. Obj. Placement Tabl & Chart'!$D32),)","v":13},{"$f":"IF('10. Obj. Placement Tabl & Chart'!$F32=3,'10. Obj. Placement Tabl & Chart'!$C32,)","v":0},{"$f":"IF('10. Obj. Placement Tabl & Chart'!$F32=3,IF('10. Obj. Placement Tabl & Chart'!$E32=\"Right\",-1*'10. Obj. Placement Tabl & Chart'!$D32,'10. Obj. Placement Tabl & Chart'!$D32),)","v":0},{"$f":"IF('10. Obj. Placement Tabl & Chart'!$F32=4,'10. Obj. Placement Tabl & Chart'!$C32,)","v":0},{"$f":"IF('10. Obj. Placement Tabl & Chart'!$F32=4,IF('10. Obj. Placement Tabl & Chart'!$E32=\"Right\",-1*'10. Obj. Placement Tabl & Chart'!$D32,'10. Obj. Placement Tabl & Chart'!$D32),)","v":0},null,null,{"$f":"IF('10. Obj. Placement Tabl & Chart'!$F161=1,'10. Obj. Placement Tabl & Chart'!$C161,)","v":874},{"$f":"IF('10. Obj. Placement Tabl & Chart'!$F161=1,IF('10. Obj. Placement Tabl & Chart'!$E161=\"Right\",-1*'10. Obj. Placement Tabl & Chart'!$D161,'10. Obj. Placement Tabl & Chart'!$D161),)","v":-0.28000000000000003},{"$f":"IF('10. Obj. Placement Tabl & Chart'!$F161=2,'10. Obj. Placement Tabl & Chart'!$C161,)","v":0},{"$f":"IF('10. Obj. Placement Tabl & Chart'!$F161=2,IF('10. Obj. Placement Tabl & Chart'!$E161=\"Right\",-1*'10. Obj. Placement Tabl & Chart'!$D161,'10. Obj. Placement Tabl & Chart'!$D161),)","v":0},{"$f":"IF('10. Obj. Placement Tabl & Chart'!$F161=3,'10. Obj. Placement Tabl & Chart'!$C161,)","v":0},{"$f":"IF('10. Obj. Placement Tabl & Chart'!$F161=3,IF('10. Obj. Placement Tabl & Chart'!$E161=\"Right\",-1*'10. Obj. Placement Tabl & Chart'!$D161,'10. Obj. Placement Tabl & Chart'!$D161),)","v":0},{"$f":"IF('10. Obj. Placement Tabl & Chart'!$F161=4,'10. Obj. Placement Tabl & Chart'!$C161,)","v":0},{"$f":"IF('10. Obj. Placement Tabl & Chart'!$F161=4,IF('10. Obj. Placement Tabl & Chart'!$E161=\"Right\",-1*'10. Obj. Placement Tabl & Chart'!$D161,'10. Obj. Placement Tabl & Chart'!$D161),)","v":0}]
[null,null,null,null,null,null,null,null,null,null,null,null,null,null,null,null,null,null,null,null,14,"Old Srvy GB",null,null,null,null,null,14,"M240 Marine Regime Mountains",14,"Hawaii Forest -- Mixed Forest",14,"Mixed Dry land/Irrigated Cropland and Pasture",null,null,null,null,12,{"$f":"IF(AL17=0,,SUM($BL$6:BL16)+ROUND(2*IF(AP17=1,$AV$37,IF(AP17=2,$AV$41,IF(AP17=3,$AV$45,IF(AP17=4,$AV$49,))))*RAND(),))","v":885},32,"Left",2,"Clue High-Visibility",224.26643986774599,null,null,null,null,null,null,4,{"$f":"IF($BC$3=4,ROUNDDOWN(AU3/BC3,),)","v":0},{"$f":"IF($BC$3=4,TRUNC(AZ9*$AZ$17,),)","v":0},{"$f":"IF($BC$3=4,TRUNC(BA9*$AZ$17,),)","v":0},{"$f":"IF($BC$3=4,TRUNC(BB9*$AZ$17,),)","v":0},{"$f":"IF($BC$3=4,TRUNC(BC9*$AZ$17,),)","v":0},{"$f":"IF($BC$3=4,TRUNC(BD9*$AZ$17,),)","v":0},null,0.35442714518655816,5,5,5,0,65.699999999999989,null,0.87006626438498691,32,null,5,0,0,0,0,1,0.97401325287699747,null,5,0,0,0,0,1,0.97401325287699747,null,5,0,0,0,1,1,0.97401325287699747,null,0,0,0,0,0,0,0.87006626438498691,null,2,1,2,2,null,{"$f":"IF('10. Obj. Placement Tabl & Chart'!$F33=1,'10. Obj. Placement Tabl & Chart'!$C33,)","v":805.7},{"$f":"IF('10. Obj. Placement Tabl & Chart'!$F33=1,IF('10. Obj. Placement Tabl & Chart'!$E33=\"Right\",-1*'10. Obj. Placement Tabl & Chart'!$D33,'10. Obj. Placement Tabl & Chart'!$D33),)","v":-0.19},{"$f":"IF('10. Obj. Placement Tabl & Chart'!$F33=2,'10. Obj. Placement Tabl & Chart'!$C33,)","v":0},{"$f":"IF('10. Obj. Placement Tabl & Chart'!$F33=2,IF('10. Obj. Placement Tabl & Chart'!$E33=\"Right\",-1*'10. Obj. Placement Tabl & Chart'!$D33,'10. Obj. Placement Tabl & Chart'!$D33),)","v":0},{"$f":"IF('10. Obj. Placement Tabl & Chart'!$F33=3,'10. Obj. Placement Tabl & Chart'!$C33,)","v":0},{"$f":"IF('10. Obj. Placement Tabl & Chart'!$F33=3,IF('10. Obj. Placement Tabl & Chart'!$E33=\"Right\",-1*'10. Obj. Placement Tabl & Chart'!$D33,'10. Obj. Placement Tabl & Chart'!$D33),)","v":0},{"$f":"IF('10. Obj. Placement Tabl & Chart'!$F33=4,'10. Obj. Placement Tabl & Chart'!$C33,)","v":0},{"$f":"IF('10. Obj. Placement Tabl & Chart'!$F33=4,IF('10. Obj. Placement Tabl & Chart'!$E33=\"Right\",-1*'10. Obj. Placement Tabl & Chart'!$D33,'10. Obj. Placement Tabl & Chart'!$D33),)","v":0},null,null,{"$f":"IF('10. Obj. Placement Tabl & Chart'!$F162=1,'10. Obj. Placement Tabl & Chart'!$C162,)","v":0},{"$f":"IF('10. Obj. Placement Tabl & Chart'!$F162=1,IF('10. Obj. Placement Tabl & Chart'!$E162=\"Right\",-1*'10. Obj. Placement Tabl & Chart'!$D162,'10. Obj. Placement Tabl & Chart'!$D162),)","v":0},{"$f":"IF('10. Obj. Placement Tabl & Chart'!$F162=2,'10. Obj. Placement Tabl & Chart'!$C162,)","v":994},{"$f":"IF('10. Obj. Placement Tabl & Chart'!$F162=2,IF('10. Obj. Placement Tabl & Chart'!$E162=\"Right\",-1*'10. Obj. Placement Tabl & Chart'!$D162,'10. Obj. Placement Tabl & Chart'!$D162),)","v":-150},{"$f":"IF('10. Obj. Placement Tabl & Chart'!$F162=3,'10. Obj. Placement Tabl & Chart'!$C162,)","v":0},{"$f":"IF('10. Obj. Placement Tabl & Chart'!$F162=3,IF('10. Obj. Placement Tabl & Chart'!$E162=\"Right\",-1*'10. Obj. Placement Tabl & Chart'!$D162,'10. Obj. Placement Tabl & Chart'!$D162),)","v":0},{"$f":"IF('10. Obj. Placement Tabl & Chart'!$F162=4,'10. Obj. Placement Tabl & Chart'!$C162,)","v":0},{"$f":"IF('10. Obj. Placement Tabl & Chart'!$F162=4,IF('10. Obj. Placement Tabl & Chart'!$E162=\"Right\",-1*'10. Obj. Placement Tabl & Chart'!$D162,'10. Obj. Placement Tabl & Chart'!$D162),)","v":0}]
[null,null,null,null,null,null,null,null,null,null,null,null,null,null,null,null,null,null,null,null,15,"Prov S Am '56",null,null,null,null,null,15,"250 Prairie Division",15,"Hawaii Forest -- Native Forest",15,"Mixed Forest",null,null,null,null,13,{"$f":"IF(AL18=0,,SUM($BL$6:BL17)+ROUND(2*IF(AP18=1,$AV$37,IF(AP18=2,$AV$41,IF(AP18=3,$AV$45,IF(AP18=4,$AV$49,))))*RAND(),))","v":958.7},20,"Left",2,"Clue High-Visibility",321.84235020440627,null,null,null,null,null,null,null,null,null,null,null,null,null,null,0.61313679509783747,5,4,5,0,65.699999999999989,null,0.62155228443780852,20.420000000000002,null,5,0,0,0,0,1,0.92431045688756175,null,0,0,0,0,0,0,0.62155228443780852,null,5,0,0,0,1,1,0.92431045688756175,null,0,0,0,0,0,0,0.62155228443780852,null,2,2,2,3,null,{"$f":"IF('10. Obj. Placement Tabl & Chart'!$F34=1,'10. Obj. Placement Tabl & Chart'!$C34,)","v":0},{"$f":"IF('10. Obj. Placement Tabl & Chart'!$F34=1,IF('10. Obj. Placement Tabl & Chart'!$E34=\"Right\",-1*'10. Obj. Placement Tabl & Chart'!$D34,'10. Obj. Placement Tabl & Chart'!$D34),)","v":0},{"$f":"IF('10. Obj. Placement Tabl & Chart'!$F34=2,'10. Obj. Placement Tabl & Chart'!$C34,)","v":885},{"$f":"IF('10. Obj. Placement Tabl & Chart'!$F34=2,IF('10. Obj. Placement Tabl & Chart'!$E34=\"Right\",-1*'10. Obj. Placement Tabl & Chart'!$D34,'10. Obj. Placement Tabl & Chart'!$D34),)","v":32},{"$f":"IF('10. Obj. Placement Tabl & Chart'!$F34=3,'10. Obj. Placement Tabl & Chart'!$C34,)","v":0},{"$f":"IF('10. Obj. Placement Tabl & Chart'!$F34=3,IF('10. Obj. Placement Tabl & Chart'!$E34=\"Right\",-1*'10. Obj. Placement Tabl & Chart'!$D34,'10. Obj. Placement Tabl & Chart'!$D34),)","v":0},{"$f":"IF('10. Obj. Placement Tabl & Chart'!$F34=4,'10. Obj. Placement Tabl & Chart'!$C34,)","v":0},{"$f":"IF('10. Obj. Placement Tabl & Chart'!$F34=4,IF('10. Obj. Placement Tabl & Chart'!$E34=\"Right\",-1*'10. Obj. Placement Tabl & Chart'!$D34,'10. Obj. Placement Tabl & Chart'!$D34),)","v":0},null,null,{"$f":"IF('10. Obj. Placement Tabl & Chart'!$F163=1,'10. Obj. Placement Tabl & Chart'!$C163,)","v":1222},{"$f":"IF('10. Obj. Placement Tabl & Chart'!$F163=1,IF('10. Obj. Placement Tabl & Chart'!$E163=\"Right\",-1*'10. Obj. Placement Tabl & Chart'!$D163,'10. Obj. Placement Tabl & Chart'!$D163),)","v":-22},{"$f":"IF('10. Obj. Placement Tabl & Chart'!$F163=2,'10. Obj. Placement Tabl & Chart'!$C163,)","v":0},{"$f":"IF('10. Obj. Placement Tabl & Chart'!$F163=2,IF('10. Obj. Placement Tabl & Chart'!$E163=\"Right\",-1*'10. Obj. Placement Tabl & Chart'!$D163,'10. Obj. Placement Tabl & Chart'!$D163),)","v":0},{"$f":"IF('10. Obj. Placement Tabl & Chart'!$F163=3,'10. Obj. Placement Tabl & Chart'!$C163,)","v":0},{"$f":"IF('10. Obj. Placement Tabl & Chart'!$F163=3,IF('10. Obj. Placement Tabl & Chart'!$E163=\"Right\",-1*'10. Obj. Placement Tabl & Chart'!$D163,'10. Obj. Placement Tabl & Chart'!$D163),)","v":0},{"$f":"IF('10. Obj. Placement Tabl & Chart'!$F163=4,'10. Obj. Placement Tabl & Chart'!$C163,)","v":0},{"$f":"IF('10. Obj. Placement Tabl & Chart'!$F163=4,IF('10. Obj. Placement Tabl & Chart'!$E163=\"Right\",-1*'10. Obj. Placement Tabl & Chart'!$D163,'10. Obj. Placement Tabl & Chart'!$D163),)","v":0}]
[null,null,null,null,null,null,null,null,null,null,null,null,null,null,null,null,null,null,null,null,16,"Sout Asia",null,null,null,null,null,16,"M250 Prairie Regime Mountains",16,"Puerto Rico Forest -- Evergreen Broadleaf Forest",16,"Mixed Shrub land/Grassland",null,null,null,null,14,{"$f":"IF(AL19=0,,SUM($BL$6:BL18)+ROUND(2*IF(AP19=1,$AV$37,IF(AP19=2,$AV$41,IF(AP19=3,$AV$45,IF(AP19=4,$AV$49,))))*RAND(),))","v":1011.4000000000001},7,"Left",3,"Clue Low-Visibility",86.223692809978587,null,null,null,null,null,null,"Track Length",{"$f":"'9. Actual Experiment Design'!E32","v":1850},null,null,null,null,null,null,0.74279349562408992,5,3,5,0,15,null,0.88048976960177305,7.32,null,5,0,0,0,0,1,0.9760979539203547,null,0,0,0,0,0,0,0.88048976960177305,null,5,0,0,0,1,1,0.9760979539203547,null,0,0,0,0,0,0,0.88048976960177305,null,3,2,3,3,null,{"$f":"IF('10. Obj. Placement Tabl & Chart'!$F35=1,'10. Obj. Placement Tabl & Chart'!$C35,)","v":0},{"$f":"IF('10. Obj. Placement Tabl & Chart'!$F35=1,IF('10. Obj. Placement Tabl & Chart'!$E35=\"Right\",-1*'10. Obj. Placement Tabl & Chart'!$D35,'10. Obj. Placement Tabl & Chart'!$D35),)","v":0},{"$f":"IF('10. Obj. Placement Tabl & Chart'!$F35=2,'10. Obj. Placement Tabl & Chart'!$C35,)","v":958.7},{"$f":"IF('10. Obj. Placement Tabl & Chart'!$F35=2,IF('10. Obj. Placement Tabl & Chart'!$E35=\"Right\",-1*'10. Obj. Placement Tabl & Chart'!$D35,'10. Obj. Placement Tabl & Chart'!$D35),)","v":20},{"$f":"IF('10. Obj. Placement Tabl & Chart'!$F35=3,'10. Obj. Placement Tabl & Chart'!$C35,)","v":0},{"$f":"IF('10. Obj. Placement Tabl & Chart'!$F35=3,IF('10. Obj. Placement Tabl & Chart'!$E35=\"Right\",-1*'10. Obj. Placement Tabl & Chart'!$D35,'10. Obj. Placement Tabl & Chart'!$D35),)","v":0},{"$f":"IF('10. Obj. Placement Tabl & Chart'!$F35=4,'10. Obj. Placement Tabl & Chart'!$C35,)","v":0},{"$f":"IF('10. Obj. Placement Tabl & Chart'!$F35=4,IF('10. Obj. Placement Tabl & Chart'!$E35=\"Right\",-1*'10. Obj. Placement Tabl & Chart'!$D35,'10. Obj. Placement Tabl & Chart'!$D35),)","v":0},null,null,{"$f":"IF('10. Obj. Placement Tabl & Chart'!$F164=1,'10. Obj. Placement Tabl & Chart'!$C164,)","v":0},{"$f":"IF('10. Obj. Placement Tabl & Chart'!$F164=1,IF('10. Obj. Placement Tabl & Chart'!$E164=\"Right\",-1*'10. Obj. Placement Tabl & Chart'!$D164,'10. Obj. Placement Tabl & Chart'!$D164),)","v":0},{"$f":"IF('10. Obj. Placement Tabl & Chart'!$F164=2,'10. Obj. Placement Tabl & Chart'!$C164,)","v":0},{"$f":"IF('10. Obj. Placement Tabl & Chart'!$F164=2,IF('10. Obj. Placement Tabl & Chart'!$E164=\"Right\",-1*'10. Obj. Placement Tabl & Chart'!$D164,'10. Obj. Placement Tabl & Chart'!$D164),)","v":0},{"$f":"IF('10. Obj. Placement Tabl & Chart'!$F164=3,'10. Obj. Placement Tabl & Chart'!$C164,)","v":1276},{"$f":"IF('10. Obj. Placement Tabl & Chart'!$F164=3,IF('10. Obj. Placement Tabl & Chart'!$E164=\"Right\",-1*'10. Obj. Placement Tabl & Chart'!$D164,'10. Obj. Placement Tabl & Chart'!$D164),)","v":4},{"$f":"IF('10. Obj. Placement Tabl & Chart'!$F164=4,'10. Obj. Placement Tabl & Chart'!$C164,)","v":0},{"$f":"IF('10. Obj. Placement Tabl & Chart'!$F164=4,IF('10. Obj. Placement Tabl & Chart'!$E164=\"Right\",-1*'10. Obj. Placement Tabl & Chart'!$D164,'10. Obj. Placement Tabl & Chart'!$D164),)","v":0}]
[null,null,null,null,null,null,null,null,null,null,null,null,null,null,null,null,null,null,null,null,17,"Sth Amrcn '69",null,null,null,null,null,17,"260 Mediterranean Division",17,"Western Forest -- Chaparral",17,"Mixed Tundra",null,null,null,null,15,{"$f":"IF(AL20=0,,SUM($BL$6:BL19)+ROUND(2*IF(AP20=1,$AV$37,IF(AP20=2,$AV$41,IF(AP20=3,$AV$45,IF(AP20=4,$AV$49,))))*RAND(),))","v":1026.4000000000001},5,"Left",3,"Clue Low-Visibility",108.64875804747969,null,null,null,null,null,null,null,null,null,null,null,null,null,null,0.74800088838555712,5,3,4,0,15,null,0.39997348161586099,5.0999999999999996,null,5,0,0,0,0,1,0.87999469632317229,null,0,0,0,0,0,0,0.39997348161586099,null,4,0,0,0,1,0,0.67999469632317233,null,0,0,0,0,0,0,0.39997348161586099,null,3,2,3,3,null,{"$f":"IF('10. Obj. Placement Tabl & Chart'!$F36=1,'10. Obj. Placement Tabl & Chart'!$C36,)","v":0},{"$f":"IF('10. Obj. Placement Tabl & Chart'!$F36=1,IF('10. Obj. Placement Tabl & Chart'!$E36=\"Right\",-1*'10. Obj. Placement Tabl & Chart'!$D36,'10. Obj. Placement Tabl & Chart'!$D36),)","v":0},{"$f":"IF('10. Obj. Placement Tabl & Chart'!$F36=2,'10. Obj. Placement Tabl & Chart'!$C36,)","v":0},{"$f":"IF('10. Obj. Placement Tabl & Chart'!$F36=2,IF('10. Obj. Placement Tabl & Chart'!$E36=\"Right\",-1*'10. Obj. Placement Tabl & Chart'!$D36,'10. Obj. Placement Tabl & Chart'!$D36),)","v":0},{"$f":"IF('10. Obj. Placement Tabl & Chart'!$F36=3,'10. Obj. Placement Tabl & Chart'!$C36,)","v":1011.4000000000001},{"$f":"IF('10. Obj. Placement Tabl & Chart'!$F36=3,IF('10. Obj. Placement Tabl & Chart'!$E36=\"Right\",-1*'10. Obj. Placement Tabl & Chart'!$D36,'10. Obj. Placement Tabl & Chart'!$D36),)","v":7},{"$f":"IF('10. Obj. Placement Tabl & Chart'!$F36=4,'10. Obj. Placement Tabl & Chart'!$C36,)","v":0},{"$f":"IF('10. Obj. Placement Tabl & Chart'!$F36=4,IF('10. Obj. Placement Tabl & Chart'!$E36=\"Right\",-1*'10. Obj. Placement Tabl & Chart'!$D36,'10. Obj. Placement Tabl & Chart'!$D36),)","v":0},null,null,{"$f":"IF('10. Obj. Placement Tabl & Chart'!$F165=1,'10. Obj. Placement Tabl & Chart'!$C165,)","v":0},{"$f":"IF('10. Obj. Placement Tabl & Chart'!$F165=1,IF('10. Obj. Placement Tabl & Chart'!$E165=\"Right\",-1*'10. Obj. Placement Tabl & Chart'!$D165,'10. Obj. Placement Tabl & Chart'!$D165),)","v":0},{"$f":"IF('10. Obj. Placement Tabl & Chart'!$F165=2,'10. Obj. Placement Tabl & Chart'!$C165,)","v":1366},{"$f":"IF('10. Obj. Placement Tabl & Chart'!$F165=2,IF('10. Obj. Placement Tabl & Chart'!$E165=\"Right\",-1*'10. Obj. Placement Tabl & Chart'!$D165,'10. Obj. Placement Tabl & Chart'!$D165),)","v":2},{"$f":"IF('10. Obj. Placement Tabl & Chart'!$F165=3,'10. Obj. Placement Tabl & Chart'!$C165,)","v":0},{"$f":"IF('10. Obj. Placement Tabl & Chart'!$F165=3,IF('10. Obj. Placement Tabl & Chart'!$E165=\"Right\",-1*'10. Obj. Placement Tabl & Chart'!$D165,'10. Obj. Placement Tabl & Chart'!$D165),)","v":0},{"$f":"IF('10. Obj. Placement Tabl & Chart'!$F165=4,'10. Obj. Placement Tabl & Chart'!$C165,)","v":0},{"$f":"IF('10. Obj. Placement Tabl & Chart'!$F165=4,IF('10. Obj. Placement Tabl & Chart'!$E165=\"Right\",-1*'10. Obj. Placement Tabl & Chart'!$D165,'10. Obj. Placement Tabl & Chart'!$D165),)","v":0}]
[null,null,null,null,null,null,null,null,null,null,null,null,null,null,null,null,null,null,null,null,18,"Tokyo",null,null,null,null,null,18,"M260 Mediterranean Regime Mountains",18,"Western Forest -- Douglas Fir",18,"Savanna",null,null,null,null,16,{"$f":"IF(AL21=0,,SUM($BL$6:BL20)+ROUND(2*IF(AP21=1,$AV$37,IF(AP21=2,$AV$41,IF(AP21=3,$AV$45,IF(AP21=4,$AV$49,))))*RAND(),))","v":1113.4000000000001},61,"Left",1,"Adult High-Visibility",306.99351551938759,null,null,null,null,null,null,null,null,null,null,null,null,null,null,2.0529217041020065E-2,5,3,3,0,141.30000000000001,null,0.31184328879816015,60.93,null,5,0,0,0,0,1,0.86236865775963212,null,0,0,0,0,0,0,0.31184328879816015,null,0,0,0,0,0,0,0.31184328879816015,null,0,0,0,0,0,0,0.31184328879816015,null,1,1,1,1,null,{"$f":"IF('10. Obj. Placement Tabl & Chart'!$F37=1,'10. Obj. Placement Tabl & Chart'!$C37,)","v":0},{"$f":"IF('10. Obj. Placement Tabl & Chart'!$F37=1,IF('10. Obj. Placement Tabl & Chart'!$E37=\"Right\",-1*'10. Obj. Placement Tabl & Chart'!$D37,'10. Obj. Placement Tabl & Chart'!$D37),)","v":0},{"$f":"IF('10. Obj. Placement Tabl & Chart'!$F37=2,'10. Obj. Placement Tabl & Chart'!$C37,)","v":0},{"$f":"IF('10. Obj. Placement Tabl & Chart'!$F37=2,IF('10. Obj. Placement Tabl & Chart'!$E37=\"Right\",-1*'10. Obj. Placement Tabl & Chart'!$D37,'10. Obj. Placement Tabl & Chart'!$D37),)","v":0},{"$f":"IF('10. Obj. Placement Tabl & Chart'!$F37=3,'10. Obj. Placement Tabl & Chart'!$C37,)","v":1026.4000000000001},{"$f":"IF('10. Obj. Placement Tabl & Chart'!$F37=3,IF('10. Obj. Placement Tabl & Chart'!$E37=\"Right\",-1*'10. Obj. Placement Tabl & Chart'!$D37,'10. Obj. Placement Tabl & Chart'!$D37),)","v":5},{"$f":"IF('10. Obj. Placement Tabl & Chart'!$F37=4,'10. Obj. Placement Tabl & Chart'!$C37,)","v":0},{"$f":"IF('10. Obj. Placement Tabl & Chart'!$F37=4,IF('10. Obj. Placement Tabl & Chart'!$E37=\"Right\",-1*'10. Obj. Placement Tabl & Chart'!$D37,'10. Obj. Placement Tabl & Chart'!$D37),)","v":0},null,null,{"$f":"IF('10. Obj. Placement Tabl & Chart'!$F166=1,'10. Obj. Placement Tabl & Chart'!$C166,)","v":0},{"$f":"IF('10. Obj. Placement Tabl & Chart'!$F166=1,IF('10. Obj. Placement Tabl & Chart'!$E166=\"Right\",-1*'10. Obj. Placement Tabl & Chart'!$D166,'10. Obj. Placement Tabl & Chart'!$D166),)","v":0},{"$f":"IF('10. Obj. Placement Tabl & Chart'!$F166=2,'10. Obj. Placement Tabl & Chart'!$C166,)","v":1734},{"$f":"IF('10. Obj. Placement Tabl & Chart'!$F166=2,IF('10. Obj. Placement Tabl & Chart'!$E166=\"Right\",-1*'10. Obj. Placement Tabl & Chart'!$D166,'10. Obj. Placement Tabl & Chart'!$D166),)","v":38},{"$f":"IF('10. Obj. Placement Tabl & Chart'!$F166=3,'10. Obj. Placement Tabl & Chart'!$C166,)","v":0},{"$f":"IF('10. Obj. Placement Tabl & Chart'!$F166=3,IF('10. Obj. Placement Tabl & Chart'!$E166=\"Right\",-1*'10. Obj. Placement Tabl & Chart'!$D166,'10. Obj. Placement Tabl & Chart'!$D166),)","v":0},{"$f":"IF('10. Obj. Placement Tabl & Chart'!$F166=4,'10. Obj. Placement Tabl & Chart'!$C166,)","v":0},{"$f":"IF('10. Obj. Placement Tabl & Chart'!$F166=4,IF('10. Obj. Placement Tabl & Chart'!$E166=\"Right\",-1*'10. Obj. Placement Tabl & Chart'!$D166,'10. Obj. Placement Tabl & Chart'!$D166),)","v":0}]
[null,null,null,null,null,null,null,null,null,null,null,null,null,null,null,null,null,null,null,null,19,"WGS 72",null,null,null,null,null,19,"310 Tropical/Subtropical Steppe Division",19,"Western Forest -- Fir - Spruce",19,"Shrub land",null,null,null,null,17,{"$f":"IF(AL22=0,,SUM($BL$6:BL21)+ROUND(2*IF(AP22=1,$AV$37,IF(AP22=2,$AV$41,IF(AP22=3,$AV$45,IF(AP22=4,$AV$49,))))*RAND(),))","v":1261.7},50,"Right",1,"Adult High-Visibility",27.877479520370784,null,null,null,null,null,null,null,null,null,null,null,null,null,null,0.18850318358204288,4,3,3,0,141.30000000000001,null,0.71363641134008193,50.42,null,0,0,0,0,0,0,0.71363641134008193,null,0,0,0,0,0,0,0.71363641134008193,null,0,0,0,0,0,0,0.71363641134008193,null,0,0,0,0,0,0,0.71363641134008193,null,1,1,1,1,null,{"$f":"IF('10. Obj. Placement Tabl & Chart'!$F38=1,'10. Obj. Placement Tabl & Chart'!$C38,)","v":1113.4000000000001},{"$f":"IF('10. Obj. Placement Tabl & Chart'!$F38=1,IF('10. Obj. Placement Tabl & Chart'!$E38=\"Right\",-1*'10. Obj. Placement Tabl & Chart'!$D38,'10. Obj. Placement Tabl & Chart'!$D38),)","v":61},{"$f":"IF('10. Obj. Placement Tabl & Chart'!$F38=2,'10. Obj. Placement Tabl & Chart'!$C38,)","v":0},{"$f":"IF('10. Obj. Placement Tabl & Chart'!$F38=2,IF('10. Obj. Placement Tabl & Chart'!$E38=\"Right\",-1*'10. Obj. Placement Tabl & Chart'!$D38,'10. Obj. Placement Tabl & Chart'!$D38),)","v":0},{"$f":"IF('10. Obj. Placement Tabl & Chart'!$F38=3,'10. Obj. Placement Tabl & Chart'!$C38,)","v":0},{"$f":"IF('10. Obj. Placement Tabl & Chart'!$F38=3,IF('10. Obj. Placement Tabl & Chart'!$E38=\"Right\",-1*'10. Obj. Placement Tabl & Chart'!$D38,'10. Obj. Placement Tabl & Chart'!$D38),)","v":0},{"$f":"IF('10. Obj. Placement Tabl & Chart'!$F38=4,'10. Obj. Placement Tabl & Chart'!$C38,)","v":0},{"$f":"IF('10. Obj. Placement Tabl & Chart'!$F38=4,IF('10. Obj. Placement Tabl & Chart'!$E38=\"Right\",-1*'10. Obj. Placement Tabl & Chart'!$D38,'10. Obj. Placement Tabl & Chart'!$D38),)","v":0},null,null,{"$f":"IF('10. Obj. Placement Tabl & Chart'!$F167=1,'10. Obj. Placement Tabl & Chart'!$C167,)","v":0},{"$f":"IF('10. Obj. Placement Tabl & Chart'!$F167=1,IF('10. Obj. Placement Tabl & Chart'!$E167=\"Right\",-1*'10. Obj. Placement Tabl & Chart'!$D167,'10. Obj. Placement Tabl & Chart'!$D167),)","v":0},{"$f":"IF('10. Obj. Placement Tabl & Chart'!$F167=2,'10. Obj. Placement Tabl & Chart'!$C167,)","v":1899},{"$f":"IF('10. Obj. Placement Tabl & Chart'!$F167=2,IF('10. Obj. Placement Tabl & Chart'!$E167=\"Right\",-1*'10. Obj. Placement Tabl & Chart'!$D167,'10. Obj. Placement Tabl & Chart'!$D167),)","v":38},{"$f":"IF('10. Obj. Placement Tabl & Chart'!$F167=3,'10. Obj. Placement Tabl & Chart'!$C167,)","v":0},{"$f":"IF('10. Obj. Placement Tabl & Chart'!$F167=3,IF('10. Obj. Placement Tabl & Chart'!$E167=\"Right\",-1*'10. Obj. Placement Tabl & Chart'!$D167,'10. Obj. Placement Tabl & Chart'!$D167),)","v":0},{"$f":"IF('10. Obj. Placement Tabl & Chart'!$F167=4,'10. Obj. Placement Tabl & Chart'!$C167,)","v":0},{"$f":"IF('10. Obj. Placement Tabl & Chart'!$F167=4,IF('10. Obj. Placement Tabl & Chart'!$E167=\"Right\",-1*'10. Obj. Placement Tabl & Chart'!$D167,'10. Obj. Placement Tabl & Chart'!$D167),)","v":0}]
[null,null,null,null,null,null,null,null,null,null,null,null,null,null,null,null,null,null,null,null,20,"WGS 84",null,null,null,null,null,20,"M310 Tropical/Subtropical Steppe Regime Mountains",20,"Western Forest -- Hemlock - Sitka Spruce",20,"Snow or Ice",null,null,null,null,18,{"$f":"IF(AL23=0,,SUM($BL$6:BL22)+ROUND(2*IF(AP23=1,$AV$37,IF(AP23=2,$AV$41,IF(AP23=3,$AV$45,IF(AP23=4,$AV$49,))))*RAND(),))","v":1350},24,"Left",1,"Adult High-Visibility",332.94769563713459,null,null,null,null,null,null,null,null,null,null,null,null,null,null,0.14707820739276856,3,3,3,0,141.30000000000001,null,0.33621159405576062,23.75,null,0,0,0,0,0,0,0.33621159405576062,null,0,0,0,0,0,0,0.33621159405576062,null,0,0,0,0,0,0,0.33621159405576062,null,0,0,0,0,0,0,0.33621159405576062,null,1,1,1,1,null,{"$f":"IF('10. Obj. Placement Tabl & Chart'!$F39=1,'10. Obj. Placement Tabl & Chart'!$C39,)","v":1261.7},{"$f":"IF('10. Obj. Placement Tabl & Chart'!$F39=1,IF('10. Obj. Placement Tabl & Chart'!$E39=\"Right\",-1*'10. Obj. Placement Tabl & Chart'!$D39,'10. Obj. Placement Tabl & Chart'!$D39),)","v":-50},{"$f":"IF('10. Obj. Placement Tabl & Chart'!$F39=2,'10. Obj. Placement Tabl & Chart'!$C39,)","v":0},{"$f":"IF('10. Obj. Placement Tabl & Chart'!$F39=2,IF('10. Obj. Placement Tabl & Chart'!$E39=\"Right\",-1*'10. Obj. Placement Tabl & Chart'!$D39,'10. Obj. Placement Tabl & Chart'!$D39),)","v":0},{"$f":"IF('10. Obj. Placement Tabl & Chart'!$F39=3,'10. Obj. Placement Tabl & Chart'!$C39,)","v":0},{"$f":"IF('10. Obj. Placement Tabl & Chart'!$F39=3,IF('10. Obj. Placement Tabl & Chart'!$E39=\"Right\",-1*'10. Obj. Placement Tabl & Chart'!$D39,'10. Obj. Placement Tabl & Chart'!$D39),)","v":0},{"$f":"IF('10. Obj. Placement Tabl & Chart'!$F39=4,'10. Obj. Placement Tabl & Chart'!$C39,)","v":0},{"$f":"IF('10. Obj. Placement Tabl & Chart'!$F39=4,IF('10. Obj. Placement Tabl & Chart'!$E39=\"Right\",-1*'10. Obj. Placement Tabl & Chart'!$D39,'10. Obj. Placement Tabl & Chart'!$D39),)","v":0},null,null,{"$f":"IF('10. Obj. Placement Tabl & Chart'!$F168=1,'10. Obj. Placement Tabl & Chart'!$C168,)","v":2207},{"$f":"IF('10. Obj. Placement Tabl & Chart'!$F168=1,IF('10. Obj. Placement Tabl & Chart'!$E168=\"Right\",-1*'10. Obj. Placement Tabl & Chart'!$D168,'10. Obj. Placement Tabl & Chart'!$D168),)","v":-6},{"$f":"IF('10. Obj. Placement Tabl & Chart'!$F168=2,'10. Obj. Placement Tabl & Chart'!$C168,)","v":0},{"$f":"IF('10. Obj. Placement Tabl & Chart'!$F168=2,IF('10. Obj. Placement Tabl & Chart'!$E168=\"Right\",-1*'10. Obj. Placement Tabl & Chart'!$D168,'10. Obj. Placement Tabl & Chart'!$D168),)","v":0},{"$f":"IF('10. Obj. Placement Tabl & Chart'!$F168=3,'10. Obj. Placement Tabl & Chart'!$C168,)","v":0},{"$f":"IF('10. Obj. Placement Tabl & Chart'!$F168=3,IF('10. Obj. Placement Tabl & Chart'!$E168=\"Right\",-1*'10. Obj. Placement Tabl & Chart'!$D168,'10. Obj. Placement Tabl & Chart'!$D168),)","v":0},{"$f":"IF('10. Obj. Placement Tabl & Chart'!$F168=4,'10. Obj. Placement Tabl & Chart'!$C168,)","v":0},{"$f":"IF('10. Obj. Placement Tabl & Chart'!$F168=4,IF('10. Obj. Placement Tabl & Chart'!$E168=\"Right\",-1*'10. Obj. Placement Tabl & Chart'!$D168,'10. Obj. Placement Tabl & Chart'!$D168),)","v":0}]
[null,null,null,null,null,null,null,null,null,null,null,null,null,null,null,null,null,null,null,null,21,"Other",null,null,null,null,null,21,"320 Tropical/Subtropical Dessert Division",21,"Western Forest -- Larch",21,"Urban and Built-Up Land",null,null,null,null,19,{"$f":"IF(AL24=0,,SUM($BL$6:BL23)+ROUND(2*IF(AP24=1,$AV$37,IF(AP24=2,$AV$41,IF(AP24=3,$AV$45,IF(AP24=4,$AV$49,))))*RAND(),))","v":1460.3},61,"Right",1,"Adult High-Visibility",231.88698140717125,null,null,null,null,null,null,null,null,null,null,null,null,null,null,0.10801466495279965,2,3,3,0,141.30000000000001,null,0.86887357659906617,61.39,null,0,0,0,0,0,0,0.86887357659906617,null,0,0,0,0,0,0,0.86887357659906617,null,0,0,0,0,0,0,0.86887357659906617,null,0,0,0,0,0,0,0.86887357659906617,null,1,1,1,1,null,{"$f":"IF('10. Obj. Placement Tabl & Chart'!$F40=1,'10. Obj. Placement Tabl & Chart'!$C40,)","v":1350},{"$f":"IF('10. Obj. Placement Tabl & Chart'!$F40=1,IF('10. Obj. Placement Tabl & Chart'!$E40=\"Right\",-1*'10. Obj. Placement Tabl & Chart'!$D40,'10. Obj. Placement Tabl & Chart'!$D40),)","v":24},{"$f":"IF('10. Obj. Placement Tabl & Chart'!$F40=2,'10. Obj. Placement Tabl & Chart'!$C40,)","v":0},{"$f":"IF('10. Obj. Placement Tabl & Chart'!$F40=2,IF('10. Obj. Placement Tabl & Chart'!$E40=\"Right\",-1*'10. Obj. Placement Tabl & Chart'!$D40,'10. Obj. Placement Tabl & Chart'!$D40),)","v":0},{"$f":"IF('10. Obj. Placement Tabl & Chart'!$F40=3,'10. Obj. Placement Tabl & Chart'!$C40,)","v":0},{"$f":"IF('10. Obj. Placement Tabl & Chart'!$F40=3,IF('10. Obj. Placement Tabl & Chart'!$E40=\"Right\",-1*'10. Obj. Placement Tabl & Chart'!$D40,'10. Obj. Placement Tabl & Chart'!$D40),)","v":0},{"$f":"IF('10. Obj. Placement Tabl & Chart'!$F40=4,'10. Obj. Placement Tabl & Chart'!$C40,)","v":0},{"$f":"IF('10. Obj. Placement Tabl & Chart'!$F40=4,IF('10. Obj. Placement Tabl & Chart'!$E40=\"Right\",-1*'10. Obj. Placement Tabl & Chart'!$D40,'10. Obj. Placement Tabl & Chart'!$D40),)","v":0},null,null,{"$f":"IF('10. Obj. Placement Tabl & Chart'!$F169=1,'10. Obj. Placement Tabl & Chart'!$C169,)","v":2259},{"$f":"IF('10. Obj. Placement Tabl & Chart'!$F169=1,IF('10. Obj. Placement Tabl & Chart'!$E169=\"Right\",-1*'10. Obj. Placement Tabl & Chart'!$D169,'10. Obj. Placement Tabl & Chart'!$D169),)","v":20},{"$f":"IF('10. Obj. Placement Tabl & Chart'!$F169=2,'10. Obj. Placement Tabl & Chart'!$C169,)","v":0},{"$f":"IF('10. Obj. Placement Tabl & Chart'!$F169=2,IF('10. Obj. Placement Tabl & Chart'!$E169=\"Right\",-1*'10. Obj. Placement Tabl & Chart'!$D169,'10. Obj. Placement Tabl & Chart'!$D169),)","v":0},{"$f":"IF('10. Obj. Placement Tabl & Chart'!$F169=3,'10. Obj. Placement Tabl & Chart'!$C169,)","v":0},{"$f":"IF('10. Obj. Placement Tabl & Chart'!$F169=3,IF('10. Obj. Placement Tabl & Chart'!$E169=\"Right\",-1*'10. Obj. Placement Tabl & Chart'!$D169,'10. Obj. Placement Tabl & Chart'!$D169),)","v":0},{"$f":"IF('10. Obj. Placement Tabl & Chart'!$F169=4,'10. Obj. Placement Tabl & Chart'!$C169,)","v":0},{"$f":"IF('10. Obj. Placement Tabl & Chart'!$F169=4,IF('10. Obj. Placement Tabl & Chart'!$E169=\"Right\",-1*'10. Obj. Placement Tabl & Chart'!$D169,'10. Obj. Placement Tabl & Chart'!$D169),)","v":0}]
[null,null,null,null,null,null,null,null,null,null,null,null,null,null,null,null,null,null,null,null,null,null,null,null,null,null,null,22,"M320 Tropical/Subtropical Regime Mountains",22,"Western Forest -- Lodge pole Pine",22,"Water Bodies",null,null,null,null,20,{"$f":"IF(AL25=0,,SUM($BL$6:BL24)+ROUND(2*IF(AP25=1,$AV$37,IF(AP25=2,$AV$41,IF(AP25=3,$AV$45,IF(AP25=4,$AV$49,))))*RAND(),))","v":1604.6},4,"Right",3,"Clue Low-Visibility",309.0772537105795,null,null,null,null,null,null,null,null,null,null,null,null,null,null,0.80798090383755017,1,3,3,0,15,null,0.57936316865463788,4.3499999999999996,null,0,0,0,0,0,0,0.57936316865463788,null,0,0,0,0,0,0,0.57936316865463788,null,0,0,0,0,0,0,0.57936316865463788,null,0,0,0,0,0,0,0.57936316865463788,null,3,2,3,4,null,{"$f":"IF('10. Obj. Placement Tabl & Chart'!$F41=1,'10. Obj. Placement Tabl & Chart'!$C41,)","v":1460.3},{"$f":"IF('10. Obj. Placement Tabl & Chart'!$F41=1,IF('10. Obj. Placement Tabl & Chart'!$E41=\"Right\",-1*'10. Obj. Placement Tabl & Chart'!$D41,'10. Obj. Placement Tabl & Chart'!$D41),)","v":-61},{"$f":"IF('10. Obj. Placement Tabl & Chart'!$F41=2,'10. Obj. Placement Tabl & Chart'!$C41,)","v":0},{"$f":"IF('10. Obj. Placement Tabl & Chart'!$F41=2,IF('10. Obj. Placement Tabl & Chart'!$E41=\"Right\",-1*'10. Obj. Placement Tabl & Chart'!$D41,'10. Obj. Placement Tabl & Chart'!$D41),)","v":0},{"$f":"IF('10. Obj. Placement Tabl & Chart'!$F41=3,'10. Obj. Placement Tabl & Chart'!$C41,)","v":0},{"$f":"IF('10. Obj. Placement Tabl & Chart'!$F41=3,IF('10. Obj. Placement Tabl & Chart'!$E41=\"Right\",-1*'10. Obj. Placement Tabl & Chart'!$D41,'10. Obj. Placement Tabl & Chart'!$D41),)","v":0},{"$f":"IF('10. Obj. Placement Tabl & Chart'!$F41=4,'10. Obj. Placement Tabl & Chart'!$C41,)","v":0},{"$f":"IF('10. Obj. Placement Tabl & Chart'!$F41=4,IF('10. Obj. Placement Tabl & Chart'!$E41=\"Right\",-1*'10. Obj. Placement Tabl & Chart'!$D41,'10. Obj. Placement Tabl & Chart'!$D41),)","v":0},null,null,{"$f":"IF('10. Obj. Placement Tabl & Chart'!$F170=1,'10. Obj. Placement Tabl & Chart'!$C170,)","v":0},{"$f":"IF('10. Obj. Placement Tabl & Chart'!$F170=1,IF('10. Obj. Placement Tabl & Chart'!$E170=\"Right\",-1*'10. Obj. Placement Tabl & Chart'!$D170,'10. Obj. Placement Tabl & Chart'!$D170),)","v":0},{"$f":"IF('10. Obj. Placement Tabl & Chart'!$F170=2,'10. Obj. Placement Tabl & Chart'!$C170,)","v":2325},{"$f":"IF('10. Obj. Placement Tabl & Chart'!$F170=2,IF('10. Obj. Placement Tabl & Chart'!$E170=\"Right\",-1*'10. Obj. Placement Tabl & Chart'!$D170,'10. Obj. Placement Tabl & Chart'!$D170),)","v":-146},{"$f":"IF('10. Obj. Placement Tabl & Chart'!$F170=3,'10. Obj. Placement Tabl & Chart'!$C170,)","v":0},{"$f":"IF('10. Obj. Placement Tabl & Chart'!$F170=3,IF('10. Obj. Placement Tabl & Chart'!$E170=\"Right\",-1*'10. Obj. Placement Tabl & Chart'!$D170,'10. Obj. Placement Tabl & Chart'!$D170),)","v":0},{"$f":"IF('10. Obj. Placement Tabl & Chart'!$F170=4,'10. Obj. Placement Tabl & Chart'!$C170,)","v":0},{"$f":"IF('10. Obj. Placement Tabl & Chart'!$F170=4,IF('10. Obj. Placement Tabl & Chart'!$E170=\"Right\",-1*'10. Obj. Placement Tabl & Chart'!$D170,'10. Obj. Placement Tabl & Chart'!$D170),)","v":0}]
[null,null,null,null,null,null,null,null,null,null,null,null,null,null,null,null,null,null,null,null,null,null,null,null,null,null,null,23,"330 Temperate Steppe Division",23,"Western Forest -- Pinyon - Juniper",23,"Wooded Tundra",null,null,null,null,21,{"$f":"IF(AL26=0,,SUM($BL$6:BL25)+ROUND(2*IF(AP26=1,$AV$37,IF(AP26=2,$AV$41,IF(AP26=3,$AV$45,IF(AP26=4,$AV$49,))))*RAND(),))","v":1620.6},3,"Right",2,"Clue High-Visibility",315.25689467891277,null,null,null,null,null,null,null,null,null,null,null,null,null,null,0.31734838193678072,1,3,2,0,65.699999999999989,null,9.8210764554373275E-2,3.23,null,0,0,0,0,0,0,9.8210764554373275E-2,null,0,0,0,0,0,0,9.8210764554373275E-2,null,0,0,0,0,0,0,9.8210764554373275E-2,null,0,0,0,0,0,0,9.8210764554373275E-2,null,1,1,1,2,null,{"$f":"IF('10. Obj. Placement Tabl & Chart'!$F42=1,'10. Obj. Placement Tabl & Chart'!$C42,)","v":0},{"$f":"IF('10. Obj. Placement Tabl & Chart'!$F42=1,IF('10. Obj. Placement Tabl & Chart'!$E42=\"Right\",-1*'10. Obj. Placement Tabl & Chart'!$D42,'10. Obj. Placement Tabl & Chart'!$D42),)","v":0},{"$f":"IF('10. Obj. Placement Tabl & Chart'!$F42=2,'10. Obj. Placement Tabl & Chart'!$C42,)","v":0},{"$f":"IF('10. Obj. Placement Tabl & Chart'!$F42=2,IF('10. Obj. Placement Tabl & Chart'!$E42=\"Right\",-1*'10. Obj. Placement Tabl & Chart'!$D42,'10. Obj. Placement Tabl & Chart'!$D42),)","v":0},{"$f":"IF('10. Obj. Placement Tabl & Chart'!$F42=3,'10. Obj. Placement Tabl & Chart'!$C42,)","v":1604.6},{"$f":"IF('10. Obj. Placement Tabl & Chart'!$F42=3,IF('10. Obj. Placement Tabl & Chart'!$E42=\"Right\",-1*'10. Obj. Placement Tabl & Chart'!$D42,'10. Obj. Placement Tabl & Chart'!$D42),)","v":-4},{"$f":"IF('10. Obj. Placement Tabl & Chart'!$F42=4,'10. Obj. Placement Tabl & Chart'!$C42,)","v":0},{"$f":"IF('10. Obj. Placement Tabl & Chart'!$F42=4,IF('10. Obj. Placement Tabl & Chart'!$E42=\"Right\",-1*'10. Obj. Placement Tabl & Chart'!$D42,'10. Obj. Placement Tabl & Chart'!$D42),)","v":0},null,null,{"$f":"IF('10. Obj. Placement Tabl & Chart'!$F171=1,'10. Obj. Placement Tabl & Chart'!$C171,)","v":0},{"$f":"IF('10. Obj. Placement Tabl & Chart'!$F171=1,IF('10. Obj. Placement Tabl & Chart'!$E171=\"Right\",-1*'10. Obj. Placement Tabl & Chart'!$D171,'10. Obj. Placement Tabl & Chart'!$D171),)","v":0},{"$f":"IF('10. Obj. Placement Tabl & Chart'!$F171=2,'10. Obj. Placement Tabl & Chart'!$C171,)","v":0},{"$f":"IF('10. Obj. Placement Tabl & Chart'!$F171=2,IF('10. Obj. Placement Tabl & Chart'!$E171=\"Right\",-1*'10. Obj. Placement Tabl & Chart'!$D171,'10. Obj. Placement Tabl & Chart'!$D171),)","v":0},{"$f":"IF('10. Obj. Placement Tabl & Chart'!$F171=3,'10. Obj. Placement Tabl & Chart'!$C171,)","v":2625},{"$f":"IF('10. Obj. Placement Tabl & Chart'!$F171=3,IF('10. Obj. Placement Tabl & Chart'!$E171=\"Right\",-1*'10. Obj. Placement Tabl & Chart'!$D171,'10. Obj. Placement Tabl & Chart'!$D171),)","v":0.15},{"$f":"IF('10. Obj. Placement Tabl & Chart'!$F171=4,'10. Obj. Placement Tabl & Chart'!$C171,)","v":0},{"$f":"IF('10. Obj. Placement Tabl & Chart'!$F171=4,IF('10. Obj. Placement Tabl & Chart'!$E171=\"Right\",-1*'10. Obj. Placement Tabl & Chart'!$D171,'10. Obj. Placement Tabl & Chart'!$D171),)","v":0}]
[null,null,null,null,null,null,null,null,null,null,null,null,null,null,null,null,null,null,null,null,null,null,null,null,null,null,null,24,"M330 Temperate Regime Mountains",24,"Western Forest -- Ponderosa Pine",24,"Wooded Wetland",null,null,null,null,22,{"$f":"IF(AL27=0,,SUM($BL$6:BL26)+ROUND(2*IF(AP27=1,$AV$37,IF(AP27=2,$AV$41,IF(AP27=3,$AV$45,IF(AP27=4,$AV$49,))))*RAND(),))","v":1722.3},31,"Right",2,"Clue High-Visibility",162.08904229939918,null,null,null,null,null,null,null,null,null,null,null,null,null,null,0.29969089458078824,1,2,2,0,65.699999999999989,null,0.93787760489436001,30.81,null,0,0,0,0,0,0,0.93787760489436001,null,0,0,0,0,0,0,0.93787760489436001,null,0,0,0,0,0,0,0.93787760489436001,null,0,0,0,0,0,0,0.93787760489436001,null,1,1,1,2,null,{"$f":"IF('10. Obj. Placement Tabl & Chart'!$F43=1,'10. Obj. Placement Tabl & Chart'!$C43,)","v":0},{"$f":"IF('10. Obj. Placement Tabl & Chart'!$F43=1,IF('10. Obj. Placement Tabl & Chart'!$E43=\"Right\",-1*'10. Obj. Placement Tabl & Chart'!$D43,'10. Obj. Placement Tabl & Chart'!$D43),)","v":0},{"$f":"IF('10. Obj. Placement Tabl & Chart'!$F43=2,'10. Obj. Placement Tabl & Chart'!$C43,)","v":1620.6},{"$f":"IF('10. Obj. Placement Tabl & Chart'!$F43=2,IF('10. Obj. Placement Tabl & Chart'!$E43=\"Right\",-1*'10. Obj. Placement Tabl & Chart'!$D43,'10. Obj. Placement Tabl & Chart'!$D43),)","v":-3},{"$f":"IF('10. Obj. Placement Tabl & Chart'!$F43=3,'10. Obj. Placement Tabl & Chart'!$C43,)","v":0},{"$f":"IF('10. Obj. Placement Tabl & Chart'!$F43=3,IF('10. Obj. Placement Tabl & Chart'!$E43=\"Right\",-1*'10. Obj. Placement Tabl & Chart'!$D43,'10. Obj. Placement Tabl & Chart'!$D43),)","v":0},{"$f":"IF('10. Obj. Placement Tabl & Chart'!$F43=4,'10. Obj. Placement Tabl & Chart'!$C43,)","v":0},{"$f":"IF('10. Obj. Placement Tabl & Chart'!$F43=4,IF('10. Obj. Placement Tabl & Chart'!$E43=\"Right\",-1*'10. Obj. Placement Tabl & Chart'!$D43,'10. Obj. Placement Tabl & Chart'!$D43),)","v":0},null,null,{"$f":"IF('10. Obj. Placement Tabl & Chart'!$F172=1,'10. Obj. Placement Tabl & Chart'!$C172,)","v":2637},{"$f":"IF('10. Obj. Placement Tabl & Chart'!$F172=1,IF('10. Obj. Placement Tabl & Chart'!$E172=\"Right\",-1*'10. Obj. Placement Tabl & Chart'!$D172,'10. Obj. Placement Tabl & Chart'!$D172),)","v":14},{"$f":"IF('10. Obj. Placement Tabl & Chart'!$F172=2,'10. Obj. Placement Tabl & Chart'!$C172,)","v":0},{"$f":"IF('10. Obj. Placement Tabl & Chart'!$F172=2,IF('10. Obj. Placement Tabl & Chart'!$E172=\"Right\",-1*'10. Obj. Placement Tabl & Chart'!$D172,'10. Obj. Placement Tabl & Chart'!$D172),)","v":0},{"$f":"IF('10. Obj. Placement Tabl & Chart'!$F172=3,'10. Obj. Placement Tabl & Chart'!$C172,)","v":0},{"$f":"IF('10. Obj. Placement Tabl & Chart'!$F172=3,IF('10. Obj. Placement Tabl & Chart'!$E172=\"Right\",-1*'10. Obj. Placement Tabl & Chart'!$D172,'10. Obj. Placement Tabl & Chart'!$D172),)","v":0},{"$f":"IF('10. Obj. Placement Tabl & Chart'!$F172=4,'10. Obj. Placement Tabl & Chart'!$C172,)","v":0},{"$f":"IF('10. Obj. Placement Tabl & Chart'!$F172=4,IF('10. Obj. Placement Tabl & Chart'!$E172=\"Right\",-1*'10. Obj. Placement Tabl & Chart'!$D172,'10. Obj. Placement Tabl & Chart'!$D172),)","v":0}]
[null,null,null,null,null,null,null,null,null,null,null,null,null,null,null,null,null,null,null,null,null,null,null,null,null,null,null,25,"340 Temperate Desert Division",25,"Western Forest -- Redwood",25,"Other",null,null,null,null,23,{"$f":"IF(AL28=0,,SUM($BL$6:BL27)+ROUND(2*IF(AP28=1,$AV$37,IF(AP28=2,$AV$41,IF(AP28=3,$AV$45,IF(AP28=4,$AV$49,))))*RAND(),))","v":1750},0.38,"Left",3,"Clue Low-Visibility",208.55842144485922,null,null,null,null,null,null,null,null,null,null,null,null,null,null,0.82176685053700849,1,1,2,0,15,null,5.1149791142295786E-2,0.38,null,0,0,0,0,0,0,5.1149791142295786E-2,null,0,0,0,0,0,0,5.1149791142295786E-2,null,0,0,0,0,0,0,5.1149791142295786E-2,null,0,0,0,0,0,0,5.1149791142295786E-2,null,3,2,3,4,null,{"$f":"IF('10. Obj. Placement Tabl & Chart'!$F44=1,'10. Obj. Placement Tabl & Chart'!$C44,)","v":0},{"$f":"IF('10. Obj. Placement Tabl & Chart'!$F44=1,IF('10. Obj. Placement Tabl & Chart'!$E44=\"Right\",-1*'10. Obj. Placement Tabl & Chart'!$D44,'10. Obj. Placement Tabl & Chart'!$D44),)","v":0},{"$f":"IF('10. Obj. Placement Tabl & Chart'!$F44=2,'10. Obj. Placement Tabl & Chart'!$C44,)","v":1722.3},{"$f":"IF('10. Obj. Placement Tabl & Chart'!$F44=2,IF('10. Obj. Placement Tabl & Chart'!$E44=\"Right\",-1*'10. Obj. Placement Tabl & Chart'!$D44,'10. Obj. Placement Tabl & Chart'!$D44),)","v":-31},{"$f":"IF('10. Obj. Placement Tabl & Chart'!$F44=3,'10. Obj. Placement Tabl & Chart'!$C44,)","v":0},{"$f":"IF('10. Obj. Placement Tabl & Chart'!$F44=3,IF('10. Obj. Placement Tabl & Chart'!$E44=\"Right\",-1*'10. Obj. Placement Tabl & Chart'!$D44,'10. Obj. Placement Tabl & Chart'!$D44),)","v":0},{"$f":"IF('10. Obj. Placement Tabl & Chart'!$F44=4,'10. Obj. Placement Tabl & Chart'!$C44,)","v":0},{"$f":"IF('10. Obj. Placement Tabl & Chart'!$F44=4,IF('10. Obj. Placement Tabl & Chart'!$E44=\"Right\",-1*'10. Obj. Placement Tabl & Chart'!$D44,'10. Obj. Placement Tabl & Chart'!$D44),)","v":0},null,null,{"$f":"IF('10. Obj. Placement Tabl & Chart'!$F173=1,'10. Obj. Placement Tabl & Chart'!$C173,)","v":0},{"$f":"IF('10. Obj. Placement Tabl & Chart'!$F173=1,IF('10. Obj. Placement Tabl & Chart'!$E173=\"Right\",-1*'10. Obj. Placement Tabl & Chart'!$D173,'10. Obj. Placement Tabl & Chart'!$D173),)","v":0},{"$f":"IF('10. Obj. Placement Tabl & Chart'!$F173=2,'10. Obj. Placement Tabl & Chart'!$C173,)","v":2755},{"$f":"IF('10. Obj. Placement Tabl & Chart'!$F173=2,IF('10. Obj. Placement Tabl & Chart'!$E173=\"Right\",-1*'10. Obj. Placement Tabl & Chart'!$D173,'10. Obj. Placement Tabl & Chart'!$D173),)","v":-101},{"$f":"IF('10. Obj. Placement Tabl & Chart'!$F173=3,'10. Obj. Placement Tabl & Chart'!$C173,)","v":0},{"$f":"IF('10. Obj. Placement Tabl & Chart'!$F173=3,IF('10. Obj. Placement Tabl & Chart'!$E173=\"Right\",-1*'10. Obj. Placement Tabl & Chart'!$D173,'10. Obj. Placement Tabl & Chart'!$D173),)","v":0},{"$f":"IF('10. Obj. Placement Tabl & Chart'!$F173=4,'10. Obj. Placement Tabl & Chart'!$C173,)","v":0},{"$f":"IF('10. Obj. Placement Tabl & Chart'!$F173=4,IF('10. Obj. Placement Tabl & Chart'!$E173=\"Right\",-1*'10. Obj. Placement Tabl & Chart'!$D173,'10. Obj. Placement Tabl & Chart'!$D173),)","v":0}]
[null,null,null,null,null,null,null,null,null,null,null,null,null,null,null,null,null,null,null,null,null,null,null,null,null,null,null,26,"M340 Temperate Desert Regime Mountains",26,"Western Forest -- Western Hardwoods",null,null,null,null,null,null,24,{"$f":"IF(AL29=0,,SUM($BL$6:BL28)+ROUND(2*IF(AP29=1,$AV$37,IF(AP29=2,$AV$41,IF(AP29=3,$AV$45,IF(AP29=4,$AV$49,))))*RAND(),))","v":1855},47,"Left",1,"Adult High-Visibility",150.44324416755043,null,null,null,null,null,null,null,null,null,null,null,null,null,null,0.25538270860199985,1,1,1,0,141.30000000000001,null,0.67152891514432145,47.44,null,0,0,0,0,0,0,0.67152891514432145,null,0,0,0,0,0,0,0.67152891514432145,null,0,0,0,0,0,0,0.67152891514432145,null,0,0,0,0,0,0,0.67152891514432145,null,1,1,1,2,null,{"$f":"IF('10. Obj. Placement Tabl & Chart'!$F45=1,'10. Obj. Placement Tabl & Chart'!$C45,)","v":0},{"$f":"IF('10. Obj. Placement Tabl & Chart'!$F45=1,IF('10. Obj. Placement Tabl & Chart'!$E45=\"Right\",-1*'10. Obj. Placement Tabl & Chart'!$D45,'10. Obj. Placement Tabl & Chart'!$D45),)","v":0},{"$f":"IF('10. Obj. Placement Tabl & Chart'!$F45=2,'10. Obj. Placement Tabl & Chart'!$C45,)","v":0},{"$f":"IF('10. Obj. Placement Tabl & Chart'!$F45=2,IF('10. Obj. Placement Tabl & Chart'!$E45=\"Right\",-1*'10. Obj. Placement Tabl & Chart'!$D45,'10. Obj. Placement Tabl & Chart'!$D45),)","v":0},{"$f":"IF('10. Obj. Placement Tabl & Chart'!$F45=3,'10. Obj. Placement Tabl & Chart'!$C45,)","v":1750},{"$f":"IF('10. Obj. Placement Tabl & Chart'!$F45=3,IF('10. Obj. Placement Tabl & Chart'!$E45=\"Right\",-1*'10. Obj. Placement Tabl & Chart'!$D45,'10. Obj. Placement Tabl & Chart'!$D45),)","v":0.38},{"$f":"IF('10. Obj. Placement Tabl & Chart'!$F45=4,'10. Obj. Placement Tabl & Chart'!$C45,)","v":0},{"$f":"IF('10. Obj. Placement Tabl & Chart'!$F45=4,IF('10. Obj. Placement Tabl & Chart'!$E45=\"Right\",-1*'10. Obj. Placement Tabl & Chart'!$D45,'10. Obj. Placement Tabl & Chart'!$D45),)","v":0},null,null,{"$f":"IF('10. Obj. Placement Tabl & Chart'!$F174=1,'10. Obj. Placement Tabl & Chart'!$C174,)","v":0},{"$f":"IF('10. Obj. Placement Tabl & Chart'!$F174=1,IF('10. Obj. Placement Tabl & Chart'!$E174=\"Right\",-1*'10. Obj. Placement Tabl & Chart'!$D174,'10. Obj. Placement Tabl & Chart'!$D174),)","v":0},{"$f":"IF('10. Obj. Placement Tabl & Chart'!$F174=2,'10. Obj. Placement Tabl & Chart'!$C174,)","v":0},{"$f":"IF('10. Obj. Placement Tabl & Chart'!$F174=2,IF('10. Obj. Placement Tabl & Chart'!$E174=\"Right\",-1*'10. Obj. Placement Tabl & Chart'!$D174,'10. Obj. Placement Tabl & Chart'!$D174),)","v":0},{"$f":"IF('10. Obj. Placement Tabl & Chart'!$F174=3,'10. Obj. Placement Tabl & Chart'!$C174,)","v":2998},{"$f":"IF('10. Obj. Placement Tabl & Chart'!$F174=3,IF('10. Obj. Placement Tabl & Chart'!$E174=\"Right\",-1*'10. Obj. Placement Tabl & Chart'!$D174,'10. Obj. Placement Tabl & Chart'!$D174),)","v":-7},{"$f":"IF('10. Obj. Placement Tabl & Chart'!$F174=4,'10. Obj. Placement Tabl & Chart'!$C174,)","v":0},{"$f":"IF('10. Obj. Placement Tabl & Chart'!$F174=4,IF('10. Obj. Placement Tabl & Chart'!$E174=\"Right\",-1*'10. Obj. Placement Tabl & Chart'!$D174,'10. Obj. Placement Tabl & Chart'!$D174),)","v":0}]
[null,null,null,null,null,null,null,null,null,null,null,null,null,null,null,null,null,null,null,null,null,null,null,null,null,null,null,27,"410 Savanna Division",27,"Western Forest -- Western White Pine",null,null,null,null,null,null,25,{"$f":"IF(AL30=0,,SUM($BL$6:BL29)+ROUND(2*IF(AP30=1,$AV$37,IF(AP30=2,$AV$41,IF(AP30=3,$AV$45,IF(AP30=4,$AV$49,))))*RAND(),))","v":1941.3},2,"Left",2,"Clue High-Visibility",259.98153694092724,null,null,null,null,null,null,null,null,null,null,null,null,null,null,0.15139744508845587,0,1,1,0,65.699999999999989,null,5.9754320963414709E-2,1.96,null,0,0,0,0,0,0,5.9754320963414709E-2,null,0,0,0,0,0,0,5.9754320963414709E-2,null,0,0,0,0,0,0,5.9754320963414709E-2,null,0,0,0,0,0,0,5.9754320963414709E-2,null,1,1,1,1,null,{"$f":"IF('10. Obj. Placement Tabl & Chart'!$F46=1,'10. Obj. Placement Tabl & Chart'!$C46,)","v":1855},{"$f":"IF('10. Obj. Placement Tabl & Chart'!$F46=1,IF('10. Obj. Placement Tabl & Chart'!$E46=\"Right\",-1*'10. Obj. Placement Tabl & Chart'!$D46,'10. Obj. Placement Tabl & Chart'!$D46),)","v":47},{"$f":"IF('10. Obj. Placement Tabl & Chart'!$F46=2,'10. Obj. Placement Tabl & Chart'!$C46,)","v":0},{"$f":"IF('10. Obj. Placement Tabl & Chart'!$F46=2,IF('10. Obj. Placement Tabl & Chart'!$E46=\"Right\",-1*'10. Obj. Placement Tabl & Chart'!$D46,'10. Obj. Placement Tabl & Chart'!$D46),)","v":0},{"$f":"IF('10. Obj. Placement Tabl & Chart'!$F46=3,'10. Obj. Placement Tabl & Chart'!$C46,)","v":0},{"$f":"IF('10. Obj. Placement Tabl & Chart'!$F46=3,IF('10. Obj. Placement Tabl & Chart'!$E46=\"Right\",-1*'10. Obj. Placement Tabl & Chart'!$D46,'10. Obj. Placement Tabl & Chart'!$D46),)","v":0},{"$f":"IF('10. Obj. Placement Tabl & Chart'!$F46=4,'10. Obj. Placement Tabl & Chart'!$C46,)","v":0},{"$f":"IF('10. Obj. Placement Tabl & Chart'!$F46=4,IF('10. Obj. Placement Tabl & Chart'!$E46=\"Right\",-1*'10. Obj. Placement Tabl & Chart'!$D46,'10. Obj. Placement Tabl & Chart'!$D46),)","v":0},null,null,{"$f":"IF('10. Obj. Placement Tabl & Chart'!$F175=1,'10. Obj. Placement Tabl & Chart'!$C175,)","v":0},{"$f":"IF('10. Obj. Placement Tabl & Chart'!$F175=1,IF('10. Obj. Placement Tabl & Chart'!$E175=\"Right\",-1*'10. Obj. Placement Tabl & Chart'!$D175,'10. Obj. Placement Tabl & Chart'!$D175),)","v":0},{"$f":"IF('10. Obj. Placement Tabl & Chart'!$F175=2,'10. Obj. Placement Tabl & Chart'!$C175,)","v":3191},{"$f":"IF('10. Obj. Placement Tabl & Chart'!$F175=2,IF('10. Obj. Placement Tabl & Chart'!$E175=\"Right\",-1*'10. Obj. Placement Tabl & Chart'!$D175,'10. Obj. Placement Tabl & Chart'!$D175),)","v":-7},{"$f":"IF('10. Obj. Placement Tabl & Chart'!$F175=3,'10. Obj. Placement Tabl & Chart'!$C175,)","v":0},{"$f":"IF('10. Obj. Placement Tabl & Chart'!$F175=3,IF('10. Obj. Placement Tabl & Chart'!$E175=\"Right\",-1*'10. Obj. Placement Tabl & Chart'!$D175,'10. Obj. Placement Tabl & Chart'!$D175),)","v":0},{"$f":"IF('10. Obj. Placement Tabl & Chart'!$F175=4,'10. Obj. Placement Tabl & Chart'!$C175,)","v":0},{"$f":"IF('10. Obj. Placement Tabl & Chart'!$F175=4,IF('10. Obj. Placement Tabl & Chart'!$E175=\"Right\",-1*'10. Obj. Placement Tabl & Chart'!$D175,'10. Obj. Placement Tabl & Chart'!$D175),)","v":0}]
[null,null,null,null,null,null,null,null,null,null,null,null,null,null,null,null,null,null,null,null,null,null,null,null,null,null,null,28,"M410 Savanna Regime Mountains",28,"Other",null,null,null,null,null,null,26,{"$f":"IF(AL31=0,,SUM($BL$6:BL30)+ROUND(2*IF(AP31=1,$AV$37,IF(AP31=2,$AV$41,IF(AP31=3,$AV$45,IF(AP31=4,$AV$49,))))*RAND(),))","v":1975},3,"Left",3,"Clue Low-Visibility",227.95575103896184,null,null,null,null,null,null,null,null,null,null,null,null,null,null,0.50430599803347986,0,0,1,0,15,null,0.39601399745500165,2.97,null,0,0,0,0,0,0,0.39601399745500165,null,0,0,0,0,0,0,0.39601399745500165,null,0,0,0,0,0,0,0.39601399745500165,null,0,0,0,0,0,0,0.39601399745500165,null,2,2,2,3,null,{"$f":"IF('10. Obj. Placement Tabl & Chart'!$F47=1,'10. Obj. Placement Tabl & Chart'!$C47,)","v":0},{"$f":"IF('10. Obj. Placement Tabl & Chart'!$F47=1,IF('10. Obj. Placement Tabl & Chart'!$E47=\"Right\",-1*'10. Obj. Placement Tabl & Chart'!$D47,'10. Obj. Placement Tabl & Chart'!$D47),)","v":0},{"$f":"IF('10. Obj. Placement Tabl & Chart'!$F47=2,'10. Obj. Placement Tabl & Chart'!$C47,)","v":1941.3},{"$f":"IF('10. Obj. Placement Tabl & Chart'!$F47=2,IF('10. Obj. Placement Tabl & Chart'!$E47=\"Right\",-1*'10. Obj. Placement Tabl & Chart'!$D47,'10. Obj. Placement Tabl & Chart'!$D47),)","v":2},{"$f":"IF('10. Obj. Placement Tabl & Chart'!$F47=3,'10. Obj. Placement Tabl & Chart'!$C47,)","v":0},{"$f":"IF('10. Obj. Placement Tabl & Chart'!$F47=3,IF('10. Obj. Placement Tabl & Chart'!$E47=\"Right\",-1*'10. Obj. Placement Tabl & Chart'!$D47,'10. Obj. Placement Tabl & Chart'!$D47),)","v":0},{"$f":"IF('10. Obj. Placement Tabl & Chart'!$F47=4,'10. Obj. Placement Tabl & Chart'!$C47,)","v":0},{"$f":"IF('10. Obj. Placement Tabl & Chart'!$F47=4,IF('10. Obj. Placement Tabl & Chart'!$E47=\"Right\",-1*'10. Obj. Placement Tabl & Chart'!$D47,'10. Obj. Placement Tabl & Chart'!$D47),)","v":0},null,null,{"$f":"IF('10. Obj. Placement Tabl & Chart'!$F176=1,'10. Obj. Placement Tabl & Chart'!$C176,)","v":0},{"$f":"IF('10. Obj. Placement Tabl & Chart'!$F176=1,IF('10. Obj. Placement Tabl & Chart'!$E176=\"Right\",-1*'10. Obj. Placement Tabl & Chart'!$D176,'10. Obj. Placement Tabl & Chart'!$D176),)","v":0},{"$f":"IF('10. Obj. Placement Tabl & Chart'!$F176=2,'10. Obj. Placement Tabl & Chart'!$C176,)","v":0},{"$f":"IF('10. Obj. Placement Tabl & Chart'!$F176=2,IF('10. Obj. Placement Tabl & Chart'!$E176=\"Right\",-1*'10. Obj. Placement Tabl & Chart'!$D176,'10. Obj. Placement Tabl & Chart'!$D176),)","v":0},{"$f":"IF('10. Obj. Placement Tabl & Chart'!$F176=3,'10. Obj. Placement Tabl & Chart'!$C176,)","v":3313},{"$f":"IF('10. Obj. Placement Tabl & Chart'!$F176=3,IF('10. Obj. Placement Tabl & Chart'!$E176=\"Right\",-1*'10. Obj. Placement Tabl & Chart'!$D176,'10. Obj. Placement Tabl & Chart'!$D176),)","v":-4},{"$f":"IF('10. Obj. Placement Tabl & Chart'!$F176=4,'10. Obj. Placement Tabl & Chart'!$C176,)","v":0},{"$f":"IF('10. Obj. Placement Tabl & Chart'!$F176=4,IF('10. Obj. Placement Tabl & Chart'!$E176=\"Right\",-1*'10. Obj. Placement Tabl & Chart'!$D176,'10. Obj. Placement Tabl & Chart'!$D176),)","v":0}]
[null,null,null,null,null,null,null,null,null,null,null,null,null,null,null,null,null,null,null,null,null,null,null,null,null,null,null,29,"420 Rainforest Division",null,null,null,null,null,null,null,null,0,{"$f":"IF(AL32=0,,SUM($BL$6:BL31)+ROUND(2*IF(AP32=1,$AV$37,IF(AP32=2,$AV$41,IF(AP32=3,$AV$45,IF(AP32=4,$AV$49,))))*RAND(),))","v":0},0,0,0,0,0,null,null,null,null,null,null,null,null,null,null,null,null,null,null,0.98038181089048082,0,0,0,0,0,null,0.57112979020945764,0,null,0,0,0,0,0,0,0.57112979020945764,null,0,0,0,0,0,0,0.57112979020945764,null,0,0,0,0,0,0,0.57112979020945764,null,0,0,0,0,0,0,0.57112979020945764,null,3,2,3,4,null,{"$f":"IF('10. Obj. Placement Tabl & Chart'!$F48=1,'10. Obj. Placement Tabl & Chart'!$C48,)","v":0},{"$f":"IF('10. Obj. Placement Tabl & Chart'!$F48=1,IF('10. Obj. Placement Tabl & Chart'!$E48=\"Right\",-1*'10. Obj. Placement Tabl & Chart'!$D48,'10. Obj. Placement Tabl & Chart'!$D48),)","v":0},{"$f":"IF('10. Obj. Placement Tabl & Chart'!$F48=2,'10. Obj. Placement Tabl & Chart'!$C48,)","v":0},{"$f":"IF('10. Obj. Placement Tabl & Chart'!$F48=2,IF('10. Obj. Placement Tabl & Chart'!$E48=\"Right\",-1*'10. Obj. Placement Tabl & Chart'!$D48,'10. Obj. Placement Tabl & Chart'!$D48),)","v":0},{"$f":"IF('10. Obj. Placement Tabl & Chart'!$F48=3,'10. Obj. Placement Tabl & Chart'!$C48,)","v":1975},{"$f":"IF('10. Obj. Placement Tabl & Chart'!$F48=3,IF('10. Obj. Placement Tabl & Chart'!$E48=\"Right\",-1*'10. Obj. Placement Tabl & Chart'!$D48,'10. Obj. Placement Tabl & Chart'!$D48),)","v":3},{"$f":"IF('10. Obj. Placement Tabl & Chart'!$F48=4,'10. Obj. Placement Tabl & Chart'!$C48,)","v":0},{"$f":"IF('10. Obj. Placement Tabl & Chart'!$F48=4,IF('10. Obj. Placement Tabl & Chart'!$E48=\"Right\",-1*'10. Obj. Placement Tabl & Chart'!$D48,'10. Obj. Placement Tabl & Chart'!$D48),)","v":0},null,null,{"$f":"IF('10. Obj. Placement Tabl & Chart'!$F177=1,'10. Obj. Placement Tabl & Chart'!$C177,)","v":3351},{"$f":"IF('10. Obj. Placement Tabl & Chart'!$F177=1,IF('10. Obj. Placement Tabl & Chart'!$E177=\"Right\",-1*'10. Obj. Placement Tabl & Chart'!$D177,'10. Obj. Placement Tabl & Chart'!$D177),)","v":-23},{"$f":"IF('10. Obj. Placement Tabl & Chart'!$F177=2,'10. Obj. Placement Tabl & Chart'!$C177,)","v":0},{"$f":"IF('10. Obj. Placement Tabl & Chart'!$F177=2,IF('10. Obj. Placement Tabl & Chart'!$E177=\"Right\",-1*'10. Obj. Placement Tabl & Chart'!$D177,'10. Obj. Placement Tabl & Chart'!$D177),)","v":0},{"$f":"IF('10. Obj. Placement Tabl & Chart'!$F177=3,'10. Obj. Placement Tabl & Chart'!$C177,)","v":0},{"$f":"IF('10. Obj. Placement Tabl & Chart'!$F177=3,IF('10. Obj. Placement Tabl & Chart'!$E177=\"Right\",-1*'10. Obj. Placement Tabl & Chart'!$D177,'10. Obj. Placement Tabl & Chart'!$D177),)","v":0},{"$f":"IF('10. Obj. Placement Tabl & Chart'!$F177=4,'10. Obj. Placement Tabl & Chart'!$C177,)","v":0},{"$f":"IF('10. Obj. Placement Tabl & Chart'!$F177=4,IF('10. Obj. Placement Tabl & Chart'!$E177=\"Right\",-1*'10. Obj. Placement Tabl & Chart'!$D177,'10. Obj. Placement Tabl & Chart'!$D177),)","v":0}]
[null,null,null,null,null,null,null,null,null,null,null,null,null,null,null,null,null,null,null,null,null,null,null,null,null,null,null,30,"M420 Rainforest Regime Mountains",null,null,null,null,null,null,null,null,0,{"$f":"IF(AL33=0,,SUM($BL$6:BL32)+ROUND(2*IF(AP33=1,$AV$37,IF(AP33=2,$AV$41,IF(AP33=3,$AV$45,IF(AP33=4,$AV$49,))))*RAND(),))","v":0},0,0,0,0,0,null,null,null,null,null,null,null,null,null,null,null,null,null,null,0.95895386840135799,0,0,0,0,0,null,0.85610362820125374,0,null,0,0,0,0,0,0,0.85610362820125374,null,0,0,0,0,0,0,0.85610362820125374,null,0,0,0,0,0,0,0.85610362820125374,null,0,0,0,0,0,0,0.85610362820125374,null,3,2,3,4,null,{"$f":"IF('10. Obj. Placement Tabl & Chart'!$F49=1,'10. Obj. Placement Tabl & Chart'!$C49,)","v":0},{"$f":"IF('10. Obj. Placement Tabl & Chart'!$F49=1,IF('10. Obj. Placement Tabl & Chart'!$E49=\"Right\",-1*'10. Obj. Placement Tabl & Chart'!$D49,'10. Obj. Placement Tabl & Chart'!$D49),)","v":0},{"$f":"IF('10. Obj. Placement Tabl & Chart'!$F49=2,'10. Obj. Placement Tabl & Chart'!$C49,)","v":0},{"$f":"IF('10. Obj. Placement Tabl & Chart'!$F49=2,IF('10. Obj. Placement Tabl & Chart'!$E49=\"Right\",-1*'10. Obj. Placement Tabl & Chart'!$D49,'10. Obj. Placement Tabl & Chart'!$D49),)","v":0},{"$f":"IF('10. Obj. Placement Tabl & Chart'!$F49=3,'10. Obj. Placement Tabl & Chart'!$C49,)","v":0},{"$f":"IF('10. Obj. Placement Tabl & Chart'!$F49=3,IF('10. Obj. Placement Tabl & Chart'!$E49=\"Right\",-1*'10. Obj. Placement Tabl & Chart'!$D49,'10. Obj. Placement Tabl & Chart'!$D49),)","v":0},{"$f":"IF('10. Obj. Placement Tabl & Chart'!$F49=4,'10. Obj. Placement Tabl & Chart'!$C49,)","v":0},{"$f":"IF('10. Obj. Placement Tabl & Chart'!$F49=4,IF('10. Obj. Placement Tabl & Chart'!$E49=\"Right\",-1*'10. Obj. Placement Tabl & Chart'!$D49,'10. Obj. Placement Tabl & Chart'!$D49),)","v":0},null,null,{"$f":"IF('10. Obj. Placement Tabl & Chart'!$F178=1,'10. Obj. Placement Tabl & Chart'!$C178,)","v":0},{"$f":"IF('10. Obj. Placement Tabl & Chart'!$F178=1,IF('10. Obj. Placement Tabl & Chart'!$E178=\"Right\",-1*'10. Obj. Placement Tabl & Chart'!$D178,'10. Obj. Placement Tabl & Chart'!$D178),)","v":0},{"$f":"IF('10. Obj. Placement Tabl & Chart'!$F178=2,'10. Obj. Placement Tabl & Chart'!$C178,)","v":0},{"$f":"IF('10. Obj. Placement Tabl & Chart'!$F178=2,IF('10. Obj. Placement Tabl & Chart'!$E178=\"Right\",-1*'10. Obj. Placement Tabl & Chart'!$D178,'10. Obj. Placement Tabl & Chart'!$D178),)","v":0},{"$f":"IF('10. Obj. Placement Tabl & Chart'!$F178=3,'10. Obj. Placement Tabl & Chart'!$C178,)","v":0},{"$f":"IF('10. Obj. Placement Tabl & Chart'!$F178=3,IF('10. Obj. Placement Tabl & Chart'!$E178=\"Right\",-1*'10. Obj. Placement Tabl & Chart'!$D178,'10. Obj. Placement Tabl & Chart'!$D178),)","v":0},{"$f":"IF('10. Obj. Placement Tabl & Chart'!$F178=4,'10. Obj. Placement Tabl & Chart'!$C178,)","v":0},{"$f":"IF('10. Obj. Placement Tabl & Chart'!$F178=4,IF('10. Obj. Placement Tabl & Chart'!$E178=\"Right\",-1*'10. Obj. Placement Tabl & Chart'!$D178,'10. Obj. Placement Tabl & Chart'!$D178),)","v":0}]
[null,null,null,null,null,null,null,null,null,null,null,null,null,null,null,null,null,null,null,null,null,null,null,null,null,null,null,null,null,null,null,null,null,null,null,null,null,0,{"$f":"IF(AL34=0,,SUM($BL$6:BL33)+ROUND(2*IF(AP34=1,$AV$37,IF(AP34=2,$AV$41,IF(AP34=3,$AV$45,IF(AP34=4,$AV$49,))))*RAND(),))","v":0},0,0,0,0,0,null,null,null,null,null,null,null,null,null,null,null,null,null,null,0.25498430166826203,0,0,0,0,0,null,0.47029988096948627,0,null,0,0,0,0,0,0,0.47029988096948627,null,0,0,0,0,0,0,0.47029988096948627,null,0,0,0,0,0,0,0.47029988096948627,null,0,0,0,0,0,0,0.47029988096948627,null,1,1,1,2,null,{"$f":"IF('10. Obj. Placement Tabl & Chart'!$F50=1,'10. Obj. Placement Tabl & Chart'!$C50,)","v":0},{"$f":"IF('10. Obj. Placement Tabl & Chart'!$F50=1,IF('10. Obj. Placement Tabl & Chart'!$E50=\"Right\",-1*'10. Obj. Placement Tabl & Chart'!$D50,'10. Obj. Placement Tabl & Chart'!$D50),)","v":0},{"$f":"IF('10. Obj. Placement Tabl & Chart'!$F50=2,'10. Obj. Placement Tabl & Chart'!$C50,)","v":0},{"$f":"IF('10. Obj. Placement Tabl & Chart'!$F50=2,IF('10. Obj. Placement Tabl & Chart'!$E50=\"Right\",-1*'10. Obj. Placement Tabl & Chart'!$D50,'10. Obj. Placement Tabl & Chart'!$D50),)","v":0},{"$f":"IF('10. Obj. Placement Tabl & Chart'!$F50=3,'10. Obj. Placement Tabl & Chart'!$C50,)","v":0},{"$f":"IF('10. Obj. Placement Tabl & Chart'!$F50=3,IF('10. Obj. Placement Tabl & Chart'!$E50=\"Right\",-1*'10. Obj. Placement Tabl & Chart'!$D50,'10. Obj. Placement Tabl & Chart'!$D50),)","v":0},{"$f":"IF('10. Obj. Placement Tabl & Chart'!$F50=4,'10. Obj. Placement Tabl & Chart'!$C50,)","v":0},{"$f":"IF('10. Obj. Placement Tabl & Chart'!$F50=4,IF('10. Obj. Placement Tabl & Chart'!$E50=\"Right\",-1*'10. Obj. Placement Tabl & Chart'!$D50,'10. Obj. Placement Tabl & Chart'!$D50),)","v":0},null,null,{"$f":"IF('10. Obj. Placement Tabl & Chart'!$F179=1,'10. Obj. Placement Tabl & Chart'!$C179,)","v":0},{"$f":"IF('10. Obj. Placement Tabl & Chart'!$F179=1,IF('10. Obj. Placement Tabl & Chart'!$E179=\"Right\",-1*'10. Obj. Placement Tabl & Chart'!$D179,'10. Obj. Placement Tabl & Chart'!$D179),)","v":0},{"$f":"IF('10. Obj. Placement Tabl & Chart'!$F179=2,'10. Obj. Placement Tabl & Chart'!$C179,)","v":0},{"$f":"IF('10. Obj. Placement Tabl & Chart'!$F179=2,IF('10. Obj. Placement Tabl & Chart'!$E179=\"Right\",-1*'10. Obj. Placement Tabl & Chart'!$D179,'10. Obj. Placement Tabl & Chart'!$D179),)","v":0},{"$f":"IF('10. Obj. Placement Tabl & Chart'!$F179=3,'10. Obj. Placement Tabl & Chart'!$C179,)","v":0},{"$f":"IF('10. Obj. Placement Tabl & Chart'!$F179=3,IF('10. Obj. Placement Tabl & Chart'!$E179=\"Right\",-1*'10. Obj. Placement Tabl & Chart'!$D179,'10. Obj. Placement Tabl & Chart'!$D179),)","v":0},{"$f":"IF('10. Obj. Placement Tabl & Chart'!$F179=4,'10. Obj. Placement Tabl & Chart'!$C179,)","v":0},{"$f":"IF('10. Obj. Placement Tabl & Chart'!$F179=4,IF('10. Obj. Placement Tabl & Chart'!$E179=\"Right\",-1*'10. Obj. Placement Tabl & Chart'!$D179,'10. Obj. Placement Tabl & Chart'!$D179),)","v":0}]
[null,null,null,null,null,null,null,null,null,null,null,null,null,null,null,null,null,null,null,null,null,null,null,null,null,null,null,null,null,null,null,null,null,null,null,null,null,0,{"$f":"IF(AL35=0,,SUM($BL$6:BL34)+ROUND(2*IF(AP35=1,$AV$37,IF(AP35=2,$AV$41,IF(AP35=3,$AV$45,IF(AP35=4,$AV$49,))))*RAND(),))","v":0},0,0,0,0,0,null,{"$f":"IF(BC3>1,\"Search Object Type # 1\",\"Search Object Type\")","v":"Search Object Type # 1"},null,null,null,null,null,null,null,null,null,null,null,null,0.51796282293256213,0,0,0,0,0,null,0.29040550261154174,0,null,0,0,0,0,0,0,0.29040550261154174,null,0,0,0,0,0,0,0.29040550261154174,null,0,0,0,0,0,0,0.29040550261154174,null,0,0,0,0,0,0,0.29040550261154174,null,2,2,2,3,null,{"$f":"IF('10. Obj. Placement Tabl & Chart'!$F51=1,'10. Obj. Placement Tabl & Chart'!$C51,)","v":0},{"$f":"IF('10. Obj. Placement Tabl & Chart'!$F51=1,IF('10. Obj. Placement Tabl & Chart'!$E51=\"Right\",-1*'10. Obj. Placement Tabl & Chart'!$D51,'10. Obj. Placement Tabl & Chart'!$D51),)","v":0},{"$f":"IF('10. Obj. Placement Tabl & Chart'!$F51=2,'10. Obj. Placement Tabl & Chart'!$C51,)","v":0},{"$f":"IF('10. Obj. Placement Tabl & Chart'!$F51=2,IF('10. Obj. Placement Tabl & Chart'!$E51=\"Right\",-1*'10. Obj. Placement Tabl & Chart'!$D51,'10. Obj. Placement Tabl & Chart'!$D51),)","v":0},{"$f":"IF('10. Obj. Placement Tabl & Chart'!$F51=3,'10. Obj. Placement Tabl & Chart'!$C51,)","v":0},{"$f":"IF('10. Obj. Placement Tabl & Chart'!$F51=3,IF('10. Obj. Placement Tabl & Chart'!$E51=\"Right\",-1*'10. Obj. Placement Tabl & Chart'!$D51,'10. Obj. Placement Tabl & Chart'!$D51),)","v":0},{"$f":"IF('10. Obj. Placement Tabl & Chart'!$F51=4,'10. Obj. Placement Tabl & Chart'!$C51,)","v":0},{"$f":"IF('10. Obj. Placement Tabl & Chart'!$F51=4,IF('10. Obj. Placement Tabl & Chart'!$E51=\"Right\",-1*'10. Obj. Placement Tabl & Chart'!$D51,'10. Obj. Placement Tabl & Chart'!$D51),)","v":0},null,null,{"$f":"IF('10. Obj. Placement Tabl & Chart'!$F180=1,'10. Obj. Placement Tabl & Chart'!$C180,)","v":0},{"$f":"IF('10. Obj. Placement Tabl & Chart'!$F180=1,IF('10. Obj. Placement Tabl & Chart'!$E180=\"Right\",-1*'10. Obj. Placement Tabl & Chart'!$D180,'10. Obj. Placement Tabl & Chart'!$D180),)","v":0},{"$f":"IF('10. Obj. Placement Tabl & Chart'!$F180=2,'10. Obj. Placement Tabl & Chart'!$C180,)","v":0},{"$f":"IF('10. Obj. Placement Tabl & Chart'!$F180=2,IF('10. Obj. Placement Tabl & Chart'!$E180=\"Right\",-1*'10. Obj. Placement Tabl & Chart'!$D180,'10. Obj. Placement Tabl & Chart'!$D180),)","v":0},{"$f":"IF('10. Obj. Placement Tabl & Chart'!$F180=3,'10. Obj. Placement Tabl & Chart'!$C180,)","v":0},{"$f":"IF('10. Obj. Placement Tabl & Chart'!$F180=3,IF('10. Obj. Placement Tabl & Chart'!$E180=\"Right\",-1*'10. Obj. Placement Tabl & Chart'!$D180,'10. Obj. Placement Tabl & Chart'!$D180),)","v":0},{"$f":"IF('10. Obj. Placement Tabl & Chart'!$F180=4,'10. Obj. Placement Tabl & Chart'!$C180,)","v":0},{"$f":"IF('10. Obj. Placement Tabl & Chart'!$F180=4,IF('10. Obj. Placement Tabl & Chart'!$E180=\"Right\",-1*'10. Obj. Placement Tabl & Chart'!$D180,'10. Obj. Placement Tabl & Chart'!$D180),)","v":0}]
[null,null,null,null,null,null,null,null,null,null,null,null,null,null,null,null,null,null,null,null,null,null,null,null,null,null,null,null,null,null,null,null,null,null,null,null,null,0,{"$f":"IF(AL36=0,,SUM($BL$6:BL35)+ROUND(2*IF(AP36=1,$AV$37,IF(AP36=2,$AV$41,IF(AP36=3,$AV$45,IF(AP36=4,$AV$49,))))*RAND(),))","v":0},0,0,0,0,0,null,{"$f":"'2. Search Object Types'!M26","v":"Adult High-Visibility"},null,null,null,null,null,null,null,null,null,null,null,null,0.83924897355147721,0,0,0,0,0,null,0.8781647972542983,0,null,0,0,0,0,0,0,0.8781647972542983,null,0,0,0,0,0,0,0.8781647972542983,null,0,0,0,0,0,0,0.8781647972542983,null,0,0,0,0,0,0,0.8781647972542983,null,3,2,3,4,null,{"$f":"IF('10. Obj. Placement Tabl & Chart'!$F52=1,'10. Obj. Placement Tabl & Chart'!$C52,)","v":0},{"$f":"IF('10. Obj. Placement Tabl & Chart'!$F52=1,IF('10. Obj. Placement Tabl & Chart'!$E52=\"Right\",-1*'10. Obj. Placement Tabl & Chart'!$D52,'10. Obj. Placement Tabl & Chart'!$D52),)","v":0},{"$f":"IF('10. Obj. Placement Tabl & Chart'!$F52=2,'10. Obj. Placement Tabl & Chart'!$C52,)","v":0},{"$f":"IF('10. Obj. Placement Tabl & Chart'!$F52=2,IF('10. Obj. Placement Tabl & Chart'!$E52=\"Right\",-1*'10. Obj. Placement Tabl & Chart'!$D52,'10. Obj. Placement Tabl & Chart'!$D52),)","v":0},{"$f":"IF('10. Obj. Placement Tabl & Chart'!$F52=3,'10. Obj. Placement Tabl & Chart'!$C52,)","v":0},{"$f":"IF('10. Obj. Placement Tabl & Chart'!$F52=3,IF('10. Obj. Placement Tabl & Chart'!$E52=\"Right\",-1*'10. Obj. Placement Tabl & Chart'!$D52,'10. Obj. Placement Tabl & Chart'!$D52),)","v":0},{"$f":"IF('10. Obj. Placement Tabl & Chart'!$F52=4,'10. Obj. Placement Tabl & Chart'!$C52,)","v":0},{"$f":"IF('10. Obj. Placement Tabl & Chart'!$F52=4,IF('10. Obj. Placement Tabl & Chart'!$E52=\"Right\",-1*'10. Obj. Placement Tabl & Chart'!$D52,'10. Obj. Placement Tabl & Chart'!$D52),)","v":0},null,null,{"$f":"IF('10. Obj. Placement Tabl & Chart'!$F181=1,'10. Obj. Placement Tabl & Chart'!$C181,)","v":0},{"$f":"IF('10. Obj. Placement Tabl & Chart'!$F181=1,IF('10. Obj. Placement Tabl & Chart'!$E181=\"Right\",-1*'10. Obj. Placement Tabl & Chart'!$D181,'10. Obj. Placement Tabl & Chart'!$D181),)","v":0},{"$f":"IF('10. Obj. Placement Tabl & Chart'!$F181=2,'10. Obj. Placement Tabl & Chart'!$C181,)","v":0},{"$f":"IF('10. Obj. Placement Tabl & Chart'!$F181=2,IF('10. Obj. Placement Tabl & Chart'!$E181=\"Right\",-1*'10. Obj. Placement Tabl & Chart'!$D181,'10. Obj. Placement Tabl & Chart'!$D181),)","v":0},{"$f":"IF('10. Obj. Placement Tabl & Chart'!$F181=3,'10. Obj. Placement Tabl & Chart'!$C181,)","v":0},{"$f":"IF('10. Obj. Placement Tabl & Chart'!$F181=3,IF('10. Obj. Placement Tabl & Chart'!$E181=\"Right\",-1*'10. Obj. Placement Tabl & Chart'!$D181,'10. Obj. Placement Tabl & Chart'!$D181),)","v":0},{"$f":"IF('10. Obj. Placement Tabl & Chart'!$F181=4,'10. Obj. Placement Tabl & Chart'!$C181,)","v":0},{"$f":"IF('10. Obj. Placement Tabl & Chart'!$F181=4,IF('10. Obj. Placement Tabl & Chart'!$E181=\"Right\",-1*'10. Obj. Placement Tabl & Chart'!$D181,'10. Obj. Placement Tabl & Chart'!$D181),)","v":0}]
[null,null,null,null,null,null,null,null,null,null,null,null,null,null,null,null,null,null,null,null,null,null,null,null,null,null,null,null,null,null,null,null,null,null,null,null,null,0,{"$f":"IF(AL37=0,,SUM($BL$6:BL36)+ROUND(2*IF(AP37=1,$AV$37,IF(AP37=2,$AV$41,IF(AP37=3,$AV$45,IF(AP37=4,$AV$49,))))*RAND(),))","v":0},0,0,0,0,0,null,"AMDR1",null,{"$f":"ROUND(VLOOKUP('9. Actual Experiment Design'!M22,'9. Actual Experiment Design'!Q59:T67,4),1)","v":47.1},null,null,null,null,null,null,null,null,null,null,0.55143728580795626,0,0,0,0,0,null,0.97564107662352484,0,null,0,0,0,0,0,0,0.97564107662352484,null,0,0,0,0,0,0,0.97564107662352484,null,0,0,0,0,0,0,0.97564107662352484,null,0,0,0,0,0,0,0.97564107662352484,null,2,2,2,3,null,{"$f":"IF('10. Obj. Placement Tabl & Chart'!$F53=1,'10. Obj. Placement Tabl & Chart'!$C53,)","v":0},{"$f":"IF('10. Obj. Placement Tabl & Chart'!$F53=1,IF('10. Obj. Placement Tabl & Chart'!$E53=\"Right\",-1*'10. Obj. Placement Tabl & Chart'!$D53,'10. Obj. Placement Tabl & Chart'!$D53),)","v":0},{"$f":"IF('10. Obj. Placement Tabl & Chart'!$F53=2,'10. Obj. Placement Tabl & Chart'!$C53,)","v":0},{"$f":"IF('10. Obj. Placement Tabl & Chart'!$F53=2,IF('10. Obj. Placement Tabl & Chart'!$E53=\"Right\",-1*'10. Obj. Placement Tabl & Chart'!$D53,'10. Obj. Placement Tabl & Chart'!$D53),)","v":0},{"$f":"IF('10. Obj. Placement Tabl & Chart'!$F53=3,'10. Obj. Placement Tabl & Chart'!$C53,)","v":0},{"$f":"IF('10. Obj. Placement Tabl & Chart'!$F53=3,IF('10. Obj. Placement Tabl & Chart'!$E53=\"Right\",-1*'10. Obj. Placement Tabl & Chart'!$D53,'10. Obj. Placement Tabl & Chart'!$D53),)","v":0},{"$f":"IF('10. Obj. Placement Tabl & Chart'!$F53=4,'10. Obj. Placement Tabl & Chart'!$C53,)","v":0},{"$f":"IF('10. Obj. Placement Tabl & Chart'!$F53=4,IF('10. Obj. Placement Tabl & Chart'!$E53=\"Right\",-1*'10. Obj. Placement Tabl & Chart'!$D53,'10. Obj. Placement Tabl & Chart'!$D53),)","v":0},null,null,{"$f":"IF('10. Obj. Placement Tabl & Chart'!$F182=1,'10. Obj. Placement Tabl & Chart'!$C182,)","v":0},{"$f":"IF('10. Obj. Placement Tabl & Chart'!$F182=1,IF('10. Obj. Placement Tabl & Chart'!$E182=\"Right\",-1*'10. Obj. Placement Tabl & Chart'!$D182,'10. Obj. Placement Tabl & Chart'!$D182),)","v":0},{"$f":"IF('10. Obj. Placement Tabl & Chart'!$F182=2,'10. Obj. Placement Tabl & Chart'!$C182,)","v":0},{"$f":"IF('10. Obj. Placement Tabl & Chart'!$F182=2,IF('10. Obj. Placement Tabl & Chart'!$E182=\"Right\",-1*'10. Obj. Placement Tabl & Chart'!$D182,'10. Obj. Placement Tabl & Chart'!$D182),)","v":0},{"$f":"IF('10. Obj. Placement Tabl & Chart'!$F182=3,'10. Obj. Placement Tabl & Chart'!$C182,)","v":0},{"$f":"IF('10. Obj. Placement Tabl & Chart'!$F182=3,IF('10. Obj. Placement Tabl & Chart'!$E182=\"Right\",-1*'10. Obj. Placement Tabl & Chart'!$D182,'10. Obj. Placement Tabl & Chart'!$D182),)","v":0},{"$f":"IF('10. Obj. Placement Tabl & Chart'!$F182=4,'10. Obj. Placement Tabl & Chart'!$C182,)","v":0},{"$f":"IF('10. Obj. Placement Tabl & Chart'!$F182=4,IF('10. Obj. Placement Tabl & Chart'!$E182=\"Right\",-1*'10. Obj. Placement Tabl & Chart'!$D182,'10. Obj. Placement Tabl & Chart'!$D182),)","v":0}]
[null,null,null,null,null,null,null,null,null,null,null,null,null,null,null,null,null,null,null,null,null,null,null,null,null,null,null,null,null,null,null,null,null,null,null,null,null,0,{"$f":"IF(AL38=0,,SUM($BL$6:BL37)+ROUND(2*IF(AP38=1,$AV$37,IF(AP38=2,$AV$41,IF(AP38=3,$AV$45,IF(AP38=4,$AV$49,))))*RAND(),))","v":0},{"$f":"IF(BO38<0.5,BO38,ROUND(BO38,))","v":0},0,0,0,0,null,null,null,null,null,null,null,null,null,null,null,null,null,null,{"$f":"RAND()","v":0.12074490310527553},0,0,0,0,{"$f":"3*IF(AP38=1,$AV$37,IF(AP38=2,$AV$41,IF(AP38=3,$AV$45,$AV$49)))","v":0},null,{"$f":"RAND()","v":0.20288533163190448},{"$f":"ROUND(IF(AM38=0,,1.5*IF(AP38=1,$AV$37*BW38,IF(AP38=2,$AV$41*CE38,IF(AP38=3,$AV$45*CM38,$AV$49*CU38)))),2)","v":0},null,0,0,0,0,0,0,{"$f":"IF(BQ38=1,$BN38*$AZ$7,IF(BQ38=2,$AZ$7+$BN38*$BA$7,IF(BQ38=3,($AZ$7+$BA$7)+$BN38*($BB$7),IF(BQ38=4,SUM($AZ$7:$BB$7)+$BN38*$BC$7,IF(BQ38=5,SUM($AZ$7:$BC$7)+$BN38*$BD$7,$BN38)))))","v":0.20288533163190448},null,{"$f":"IF(SUM(BZ38:CD38)=0,,IF($BN38<=BZ38/SUM(BZ38:CD38),1,IF($BN38<=(BZ38+CA38)/SUM(BZ38:CD38),2,IF($BN38<=SUM(BZ38:CB38)/SUM(BZ38:CD38),3,IF($BN38<=SUM(BZ38:CC38)/SUM(BZ38:CD38),4,5)))))","v":0},0,0,0,0,0,{"$f":"IF(BY38=1,$BN38*$AZ$7,IF(BY38=2,$AZ$7+$BN38*$BA$7,IF(BY38=3,($AZ$7+$BA$7)+$BN38*($BB$7),IF(BY38=4,SUM($AZ$7:$BB$7)+$BN38*$BC$7,IF(BY38=5,SUM($AZ$7:$BC$7)+$BN38*$BD$7,$BN38)))))","v":0.20288533163190448},null,{"$f":"IF(SUM(CH38:CL38)=0,,IF($BN38<=CH38/SUM(CH38:CL38),1,IF($BN38<=(CH38+CI38)/SUM(CH38:CL38),2,IF($BN38<=SUM(CH38:CJ38)/SUM(CH38:CL38),3,IF($BN38<=SUM(CH38:CK38)/SUM(CH38:CL38),4,5)))))","v":0},0,0,0,0,0,{"$f":"IF(CG38=1,$BN38*$AZ$7,IF(CG38=2,$AZ$7+$BN38*$BA$7,IF(CG38=3,($AZ$7+$BA$7)+$BN38*($BB$7),IF(CG38=4,SUM($AZ$7:$BB$7)+$BN38*$BC$7,IF(CG38=5,SUM($AZ$7:$BC$7)+$BN38*$BD$7,$BN38)))))","v":0.20288533163190448},null,{"$f":"IF(SUM(CP38:CT38)=0,,IF($BN38<=CP38/SUM(CP38:CT38),1,IF($BN38<=(CP38+CQ38)/SUM(CP38:CT38),2,IF($BN38<=SUM(CP38:CR38)/SUM(CP38:CT38),3,IF($BN38<=SUM(CP38:CS38)/SUM(CP38:CT38),4,5)))))","v":0},0,0,0,0,0,{"$f":"IF(CO38=1,$BN38*$AZ$7,IF(CO38=2,$AZ$7+$BN38*$BA$7,IF(CO38=3,($AZ$7+$BA$7)+$BN38*($BB$7),IF(CO38=4,SUM($AZ$7:$BB$7)+$BN38*$BC$7,IF(CO38=5,SUM($AZ$7:$BC$7)+$BN38*$BD$7,$BN38)))))","v":0.20288533163190448},null,{"$f":"IF($BC$3=1,1,IF($BC$3=2,CX38,IF($BC$3=3,CY38,CZ38)))","v":1},{"$f":"IF(BG38<0.5,1,2)","v":1},{"$f":"IF(BG38<1/3,1,IF(BG38<2/3,2,3))","v":1},{"$f":"IF(BG38<0.25,1,IF(BG38<0.5,2,IF(BG38<0.75,3,4)))","v":1},null,{"$f":"IF('10. Obj. Placement Tabl & Chart'!$F54=1,'10. Obj. Placement Tabl & Chart'!$C54,)","v":0},{"$f":"IF('10. Obj. Placement Tabl & Chart'!$F54=1,IF('10. Obj. Placement Tabl & Chart'!$E54=\"Right\",-1*'10. Obj. Placement Tabl & Chart'!$D54,'10. Obj. Placement Tabl & Chart'!$D54),)","v":0},{"$f":"IF('10. Obj. Placement Tabl & Chart'!$F54=2,'10. Obj. Placement Tabl & Chart'!$C54,)","v":0},{"$f":"IF('10. Obj. Placement Tabl & Chart'!$F54=2,IF('10. Obj. Placement Tabl & Chart'!$E54=\"Right\",-1*'10. Obj. Placement Tabl & Chart'!$D54,'10. Obj. Placement Tabl & Chart'!$D54),)","v":0},{"$f":"IF('10. Obj. Placement Tabl & Chart'!$F54=3,'10. Obj. Placement Tabl & Chart'!$C54,)","v":0},{"$f":"IF('10. Obj. Placement Tabl & Chart'!$F54=3,IF('10. Obj. Placement Tabl & Chart'!$E54=\"Right\",-1*'10. Obj. Placement Tabl & Chart'!$D54,'10. Obj. Placement Tabl & Chart'!$D54),)","v":0},{"$f":"IF('10. Obj. Placement Tabl & Chart'!$F54=4,'10. Obj. Placement Tabl & Chart'!$C54,)","v":0},{"$f":"IF('10. Obj. Placement Tabl & Chart'!$F54=4,IF('10. Obj. Placement Tabl & Chart'!$E54=\"Right\",-1*'10. Obj. Placement Tabl & Chart'!$D54,'10. Obj. Placement Tabl & Chart'!$D54),)","v":0},null,null,{"$f":"IF('10. Obj. Placement Tabl & Chart'!$F183=1,'10. Obj. Placement Tabl & Chart'!$C183,)","v":0},{"$f":"IF('10. Obj. Placement Tabl & Chart'!$F183=1,IF('10. Obj. Placement Tabl & Chart'!$E183=\"Right\",-1*'10. Obj. Placement Tabl & Chart'!$D183,'10. Obj. Placement Tabl & Chart'!$D183),)","v":0},{"$f":"IF('10. Obj. Placement Tabl & Chart'!$F183=2,'10. Obj. Placement Tabl & Chart'!$C183,)","v":0},{"$f":"IF('10. Obj. Placement Tabl & Chart'!$F183=2,IF('10. Obj. Placement Tabl & Chart'!$E183=\"Right\",-1*'10. Obj. Placement Tabl & Chart'!$D183,'10. Obj. Placement Tabl & Chart'!$D183),)","v":0},{"$f":"IF('10. Obj. Placement Tabl & Chart'!$F183=3,'10. Obj. Placement Tabl & Chart'!$C183,)","v":0},{"$f":"IF('10. Obj. Placement Tabl & Chart'!$F183=3,IF('10. Obj. Placement Tabl & Chart'!$E183=\"Right\",-1*'10. Obj. Placement Tabl & Chart'!$D183,'10. Obj. Placement Tabl & Chart'!$D183),)","v":0},{"$f":"IF('10. Obj. Placement Tabl & Chart'!$F183=4,'10. Obj. Placement Tabl & Chart'!$C183,)","v":0},{"$f":"IF('10. Obj. Placement Tabl & Chart'!$F183=4,IF('10. Obj. Placement Tabl & Chart'!$E183=\"Right\",-1*'10. Obj. Placement Tabl & Chart'!$D183,'10. Obj. Placement Tabl & Chart'!$D183),)","v":0}]
[null,null,null,null,null,null,null,null,null,null,null,null,null,null,null,null,null,null,null,null,null,null,null,null,null,null,null,null,null,null,null,null,null,null,null,null,null,{"$f":"IF(AL38=0,,IF(SUM(BH39:BK39)=0,IF(AM38<=$AZ$19,AL38+1,),AL38+1))","v":0},{"$f":"IF(AL39=0,,SUM($BL$6:BL38)+ROUND(2*IF(AP39=1,$AV$37,IF(AP39=2,$AV$41,IF(AP39=3,$AV$45,IF(AP39=4,$AV$49,))))*RAND(),))","v":0},0,{"$f":"IF(AM39=0,,IF(RAND()>=0.5,\"Right\",\"Left\"))","v":0},{"$f":"IF(AL39=0,,IF(SUM(BH39:BK39)=0,CW39,IF(AP38=0,,IF(BG39<=(BH39/SUM(BH39:BK39)),1,IF(BG39<=((BH39+BI39)/SUM(BH39:BK39)),2,IF(BG39<=((BH39+BI39+BJ39)/SUM(BH39:BK39)),3,4))))))","v":0},{"$f":"IF(AM39=0,,IF(AP39=1,$AT$36,IF(AP39=2,$AT$40,IF(AP39=3,$AT$44,$AT$48))))","v":0},{"$f":"IF(AM39=0,,RAND()*360)","v":0},null,{"$f":"IF(BC3>=2,\"Search Object Type # 2\",\"\")","v":"Search Object Type # 2"},null,null,null,null,null,null,null,null,null,null,null,null,0.44937517676141592,{"$f":"IF(BH38=0,,IF(AP38=1,BH38-1,BH38))","v":0},{"$f":"IF(BI38=0,,IF(AP38=2,BI38-1,BI38))","v":0},{"$f":"IF(BJ38=0,,IF(AP38=3,BJ38-1,BJ38))","v":0},{"$f":"IF(BK38=0,,IF(AP38=4,BK38-1,BK38))","v":0},0,null,0.80146152593969133,0,null,{"$f":"IF(SUM(BR39:BV39)=0,,IF($BN39<=BR39/SUM(BR39:BV39),1,IF($BN39<=(BR39+BS39)/SUM(BR39:BV39),2,IF($BN39<=SUM(BR39:BT39)/SUM(BR39:BV39),3,IF($BN39<=SUM(BR39:BU39)/SUM(BR39:BV39),4,5)))))","v":0},{"$f":"IF(BR38=0,,IF(AND($AP38=1,$BQ38=1),BR38-1,BR38))","v":0},{"$f":"IF(BS38=0,,IF(AND($AP38=1,$BQ38=2),BS38-1,BS38))","v":0},{"$f":"IF(BT38=0,,IF(AND($AP38=1,$BQ38=3),BT38-1,BT38))","v":0},{"$f":"IF(BU38=0,,IF(AND($AP38=1,$BQ38=4),BU38-1,BU38))","v":0},{"$f":"IF(BV38=0,,IF(AND($AP38=1,$BQ38=5),BV38-1,BV38))","v":0},0.80146152593969133,null,0,{"$f":"IF(BZ38=0,,IF(AND($AP38=2,$BY38=1),BZ38-1,BZ38))","v":0},{"$f":"IF(CA38=0,,IF(AND($AP38=2,$BY38=2),CA38-1,CA38))","v":0},{"$f":"IF(CB38=0,,IF(AND($AP38=2,$BY38=3),CB38-1,CB38))","v":0},{"$f":"IF(CC38=0,,IF(AND($AP38=2,$BY38=4),CC38-1,CC38))","v":0},{"$f":"IF(CD38=0,,IF(AND($AP38=2,$BY38=5),CD38-1,CD38))","v":0},0.80146152593969133,null,0,{"$f":"IF(CH38=0,,IF(AND($AP38=3,$CG38=1),CH38-1,CH38))","v":0},{"$f":"IF(CI38=0,,IF(AND($AP38=3,$CG38=2),CI38-1,CI38))","v":0},{"$f":"IF(CJ38=0,,IF(AND($AP38=3,$CG38=3),CJ38-1,CJ38))","v":0},{"$f":"IF(CK38=0,,IF(AND($AP38=3,$CG38=4),CK38-1,CK38))","v":0},{"$f":"IF(CL38=0,,IF(AND($AP38=3,$CG38=5),CL38-1,CL38))","v":0},0.80146152593969133,null,0,{"$f":"IF(CP38=0,,IF(AND($AP38=4,$CO38=1),CP38-1,CP38))","v":0},{"$f":"IF(CQ38=0,,IF(AND($AP38=4,$CO38=2),CQ38-1,CQ38))","v":0},{"$f":"IF(CR38=0,,IF(AND($AP38=4,$CO38=3),CR38-1,CR38))","v":0},{"$f":"IF(CS38=0,,IF(AND($AP38=4,$CO38=4),CS38-1,CS38))","v":0},{"$f":"IF(CT38=0,,IF(AND($AP38=4,$CO38=5),CT38-1,CT38))","v":0},0.80146152593969133,null,2,1,2,2,null,{"$f":"IF('10. Obj. Placement Tabl & Chart'!$F55=1,'10. Obj. Placement Tabl & Chart'!$C55,)","v":0},{"$f":"IF('10. Obj. Placement Tabl & Chart'!$F55=1,IF('10. Obj. Placement Tabl & Chart'!$E55=\"Right\",-1*'10. Obj. Placement Tabl & Chart'!$D55,'10. Obj. Placement Tabl & Chart'!$D55),)","v":0},{"$f":"IF('10. Obj. Placement Tabl & Chart'!$F55=2,'10. Obj. Placement Tabl & Chart'!$C55,)","v":0},{"$f":"IF('10. Obj. Placement Tabl & Chart'!$F55=2,IF('10. Obj. Placement Tabl & Chart'!$E55=\"Right\",-1*'10. Obj. Placement Tabl & Chart'!$D55,'10. Obj. Placement Tabl & Chart'!$D55),)","v":0},{"$f":"IF('10. Obj. Placement Tabl & Chart'!$F55=3,'10. Obj. Placement Tabl & Chart'!$C55,)","v":0},{"$f":"IF('10. Obj. Placement Tabl & Chart'!$F55=3,IF('10. Obj. Placement Tabl & Chart'!$E55=\"Right\",-1*'10. Obj. Placement Tabl & Chart'!$D55,'10. Obj. Placement Tabl & Chart'!$D55),)","v":0},{"$f":"IF('10. Obj. Placement Tabl & Chart'!$F55=4,'10. Obj. Placement Tabl & Chart'!$C55,)","v":0},{"$f":"IF('10. Obj. Placement Tabl & Chart'!$F55=4,IF('10. Obj. Placement Tabl & Chart'!$E55=\"Right\",-1*'10. Obj. Placement Tabl & Chart'!$D55,'10. Obj. Placement Tabl & Chart'!$D55),)","v":0},null,null,{"$f":"IF('10. Obj. Placement Tabl & Chart'!$F184=1,'10. Obj. Placement Tabl & Chart'!$C184,)","v":0},{"$f":"IF('10. Obj. Placement Tabl & Chart'!$F184=1,IF('10. Obj. Placement Tabl & Chart'!$E184=\"Right\",-1*'10. Obj. Placement Tabl & Chart'!$D184,'10. Obj. Placement Tabl & Chart'!$D184),)","v":0},{"$f":"IF('10. Obj. Placement Tabl & Chart'!$F184=2,'10. Obj. Placement Tabl & Chart'!$C184,)","v":0},{"$f":"IF('10. Obj. Placement Tabl & Chart'!$F184=2,IF('10. Obj. Placement Tabl & Chart'!$E184=\"Right\",-1*'10. Obj. Placement Tabl & Chart'!$D184,'10. Obj. Placement Tabl & Chart'!$D184),)","v":0},{"$f":"IF('10. Obj. Placement Tabl & Chart'!$F184=3,'10. Obj. Placement Tabl & Chart'!$C184,)","v":0},{"$f":"IF('10. Obj. Placement Tabl & Chart'!$F184=3,IF('10. Obj. Placement Tabl & Chart'!$E184=\"Right\",-1*'10. Obj. Placement Tabl & Chart'!$D184,'10. Obj. Placement Tabl & Chart'!$D184),)","v":0},{"$f":"IF('10. Obj. Placement Tabl & Chart'!$F184=4,'10. Obj. Placement Tabl & Chart'!$C184,)","v":0},{"$f":"IF('10. Obj. Placement Tabl & Chart'!$F184=4,IF('10. Obj. Placement Tabl & Chart'!$E184=\"Right\",-1*'10. Obj. Placement Tabl & Chart'!$D184,'10. Obj. Placement Tabl & Chart'!$D184),)","v":0}]
[null,null,null,null,null,null,null,null,null,null,null,null,null,null,null,null,null,null,null,null,null,null,null,null,null,null,null,null,null,null,null,null,null,null,null,null,null,0,{"$f":"IF(AL40=0,,SUM($BL$6:BL39)+ROUND(2*IF(AP40=1,$AV$37,IF(AP40=2,$AV$41,IF(AP40=3,$AV$45,IF(AP40=4,$AV$49,))))*RAND(),))","v":0},0,0,0,0,0,null,{"$f":"IF(BC3>=2,'2. Search Object Types'!M28,\"Not Applicable\")","v":"Clue High-Visibility"},null,null,null,null,null,null,null,null,null,null,null,null,0.32614179114236075,0,0,0,0,0,null,0.46582483113994089,0,null,0,0,0,0,0,0,0.46582483113994089,null,0,0,0,0,0,0,0.46582483113994089,null,0,0,0,0,0,0,0.46582483113994089,null,0,0,0,0,0,0,0.46582483113994089,null,1,1,1,2,null,{"$f":"IF('10. Obj. Placement Tabl & Chart'!$F56=1,'10. Obj. Placement Tabl & Chart'!$C56,)","v":0},{"$f":"IF('10. Obj. Placement Tabl & Chart'!$F56=1,IF('10. Obj. Placement Tabl & Chart'!$E56=\"Right\",-1*'10. Obj. Placement Tabl & Chart'!$D56,'10. Obj. Placement Tabl & Chart'!$D56),)","v":0},{"$f":"IF('10. Obj. Placement Tabl & Chart'!$F56=2,'10. Obj. Placement Tabl & Chart'!$C56,)","v":0},{"$f":"IF('10. Obj. Placement Tabl & Chart'!$F56=2,IF('10. Obj. Placement Tabl & Chart'!$E56=\"Right\",-1*'10. Obj. Placement Tabl & Chart'!$D56,'10. Obj. Placement Tabl & Chart'!$D56),)","v":0},{"$f":"IF('10. Obj. Placement Tabl & Chart'!$F56=3,'10. Obj. Placement Tabl & Chart'!$C56,)","v":0},{"$f":"IF('10. Obj. Placement Tabl & Chart'!$F56=3,IF('10. Obj. Placement Tabl & Chart'!$E56=\"Right\",-1*'10. Obj. Placement Tabl & Chart'!$D56,'10. Obj. Placement Tabl & Chart'!$D56),)","v":0},{"$f":"IF('10. Obj. Placement Tabl & Chart'!$F56=4,'10. Obj. Placement Tabl & Chart'!$C56,)","v":0},{"$f":"IF('10. Obj. Placement Tabl & Chart'!$F56=4,IF('10. Obj. Placement Tabl & Chart'!$E56=\"Right\",-1*'10. Obj. Placement Tabl & Chart'!$D56,'10. Obj. Placement Tabl & Chart'!$D56),)","v":0},null,null,{"$f":"IF('10. Obj. Placement Tabl & Chart'!$F185=1,'10. Obj. Placement Tabl & Chart'!$C185,)","v":0},{"$f":"IF('10. Obj. Placement Tabl & Chart'!$F185=1,IF('10. Obj. Placement Tabl & Chart'!$E185=\"Right\",-1*'10. Obj. Placement Tabl & Chart'!$D185,'10. Obj. Placement Tabl & Chart'!$D185),)","v":0},{"$f":"IF('10. Obj. Placement Tabl & Chart'!$F185=2,'10. Obj. Placement Tabl & Chart'!$C185,)","v":0},{"$f":"IF('10. Obj. Placement Tabl & Chart'!$F185=2,IF('10. Obj. Placement Tabl & Chart'!$E185=\"Right\",-1*'10. Obj. Placement Tabl & Chart'!$D185,'10. Obj. Placement Tabl & Chart'!$D185),)","v":0},{"$f":"IF('10. Obj. Placement Tabl & Chart'!$F185=3,'10. Obj. Placement Tabl & Chart'!$C185,)","v":0},{"$f":"IF('10. Obj. Placement Tabl & Chart'!$F185=3,IF('10. Obj. Placement Tabl & Chart'!$E185=\"Right\",-1*'10. Obj. Placement Tabl & Chart'!$D185,'10. Obj. Placement Tabl & Chart'!$D185),)","v":0},{"$f":"IF('10. Obj. Placement Tabl & Chart'!$F185=4,'10. Obj. Placement Tabl & Chart'!$C185,)","v":0},{"$f":"IF('10. Obj. Placement Tabl & Chart'!$F185=4,IF('10. Obj. Placement Tabl & Chart'!$E185=\"Right\",-1*'10. Obj. Placement Tabl & Chart'!$D185,'10. Obj. Placement Tabl & Chart'!$D185),)","v":0}]
[null,null,null,null,null,null,null,null,null,null,null,null,null,null,null,null,null,null,null,null,null,null,null,null,null,null,null,null,null,null,null,null,null,null,null,null,null,0,{"$f":"IF(AL41=0,,SUM($BL$6:BL40)+ROUND(2*IF(AP41=1,$AV$37,IF(AP41=2,$AV$41,IF(AP41=3,$AV$45,IF(AP41=4,$AV$49,))))*RAND(),))","v":0},0,0,0,0,0,null,{"$f":"IF(BC3>=2,\"AMDR2\",\"\")","v":"AMDR2"},null,{"$f":"IF(BC3>=2,ROUND(VLOOKUP('9. Actual Experiment Design'!M23,'9. Actual Experiment Design'!Q59:T67,4),1),)","v":21.9},null,null,null,null,null,null,null,null,null,null,5.1091391262483077E-2,0,0,0,0,0,null,0.94966477269283955,0,null,0,0,0,0,0,0,0.94966477269283955,null,0,0,0,0,0,0,0.94966477269283955,null,0,0,0,0,0,0,0.94966477269283955,null,0,0,0,0,0,0,0.94966477269283955,null,1,1,1,1,null,{"$f":"IF('10. Obj. Placement Tabl & Chart'!$F57=1,'10. Obj. Placement Tabl & Chart'!$C57,)","v":0},{"$f":"IF('10. Obj. Placement Tabl & Chart'!$F57=1,IF('10. Obj. Placement Tabl & Chart'!$E57=\"Right\",-1*'10. Obj. Placement Tabl & Chart'!$D57,'10. Obj. Placement Tabl & Chart'!$D57),)","v":0},{"$f":"IF('10. Obj. Placement Tabl & Chart'!$F57=2,'10. Obj. Placement Tabl & Chart'!$C57,)","v":0},{"$f":"IF('10. Obj. Placement Tabl & Chart'!$F57=2,IF('10. Obj. Placement Tabl & Chart'!$E57=\"Right\",-1*'10. Obj. Placement Tabl & Chart'!$D57,'10. Obj. Placement Tabl & Chart'!$D57),)","v":0},{"$f":"IF('10. Obj. Placement Tabl & Chart'!$F57=3,'10. Obj. Placement Tabl & Chart'!$C57,)","v":0},{"$f":"IF('10. Obj. Placement Tabl & Chart'!$F57=3,IF('10. Obj. Placement Tabl & Chart'!$E57=\"Right\",-1*'10. Obj. Placement Tabl & Chart'!$D57,'10. Obj. Placement Tabl & Chart'!$D57),)","v":0},{"$f":"IF('10. Obj. Placement Tabl & Chart'!$F57=4,'10. Obj. Placement Tabl & Chart'!$C57,)","v":0},{"$f":"IF('10. Obj. Placement Tabl & Chart'!$F57=4,IF('10. Obj. Placement Tabl & Chart'!$E57=\"Right\",-1*'10. Obj. Placement Tabl & Chart'!$D57,'10. Obj. Placement Tabl & Chart'!$D57),)","v":0},null,null,{"$f":"IF('10. Obj. Placement Tabl & Chart'!$F186=1,'10. Obj. Placement Tabl & Chart'!$C186,)","v":0},{"$f":"IF('10. Obj. Placement Tabl & Chart'!$F186=1,IF('10. Obj. Placement Tabl & Chart'!$E186=\"Right\",-1*'10. Obj. Placement Tabl & Chart'!$D186,'10. Obj. Placement Tabl & Chart'!$D186),)","v":0},{"$f":"IF('10. Obj. Placement Tabl & Chart'!$F186=2,'10. Obj. Placement Tabl & Chart'!$C186,)","v":0},{"$f":"IF('10. Obj. Placement Tabl & Chart'!$F186=2,IF('10. Obj. Placement Tabl & Chart'!$E186=\"Right\",-1*'10. Obj. Placement Tabl & Chart'!$D186,'10. Obj. Placement Tabl & Chart'!$D186),)","v":0},{"$f":"IF('10. Obj. Placement Tabl & Chart'!$F186=3,'10. Obj. Placement Tabl & Chart'!$C186,)","v":0},{"$f":"IF('10. Obj. Placement Tabl & Chart'!$F186=3,IF('10. Obj. Placement Tabl & Chart'!$E186=\"Right\",-1*'10. Obj. Placement Tabl & Chart'!$D186,'10. Obj. Placement Tabl & Chart'!$D186),)","v":0},{"$f":"IF('10. Obj. Placement Tabl & Chart'!$F186=4,'10. Obj. Placement Tabl & Chart'!$C186,)","v":0},{"$f":"IF('10. Obj. Placement Tabl & Chart'!$F186=4,IF('10. Obj. Placement Tabl & Chart'!$E186=\"Right\",-1*'10. Obj. Placement Tabl & Chart'!$D186,'10. Obj. Placement Tabl & Chart'!$D186),)","v":0}]
[null,null,null,null,null,null,null,null,null,null,null,null,null,null,null,null,null,null,null,null,null,null,null,null,null,null,null,null,null,null,null,null,null,null,null,null,null,0,{"$f":"IF(AL42=0,,SUM($BL$6:BL41)+ROUND(2*IF(AP42=1,$AV$37,IF(AP42=2,$AV$41,IF(AP42=3,$AV$45,IF(AP42=4,$AV$49,))))*RAND(),))","v":0},0,0,0,0,0,null,null,null,null,null,null,null,null,null,null,null,null,null,null,3.0499046651236705E-2,0,0,0,0,0,null,0.2778686593274019,0,null,0,0,0,0,0,0,0.2778686593274019,null,0,0,0,0,0,0,0.2778686593274019,null,0,0,0,0,0,0,0.2778686593274019,null,0,0,0,0,0,0,0.2778686593274019,null,1,1,1,1,null,{"$f":"IF('10. Obj. Placement Tabl & Chart'!$F58=1,'10. Obj. Placement Tabl & Chart'!$C58,)","v":0},{"$f":"IF('10. Obj. Placement Tabl & Chart'!$F58=1,IF('10. Obj. Placement Tabl & Chart'!$E58=\"Right\",-1*'10. Obj. Placement Tabl & Chart'!$D58,'10. Obj. Placement Tabl & Chart'!$D58),)","v":0},{"$f":"IF('10. Obj. Placement Tabl & Chart'!$F58=2,'10. Obj. Placement Tabl & Chart'!$C58,)","v":0},{"$f":"IF('10. Obj. Placement Tabl & Chart'!$F58=2,IF('10. Obj. Placement Tabl & Chart'!$E58=\"Right\",-1*'10. Obj. Placement Tabl & Chart'!$D58,'10. Obj. Placement Tabl & Chart'!$D58),)","v":0},{"$f":"IF('10. Obj. Placement Tabl & Chart'!$F58=3,'10. Obj. Placement Tabl & Chart'!$C58,)","v":0},{"$f":"IF('10. Obj. Placement Tabl & Chart'!$F58=3,IF('10. Obj. Placement Tabl & Chart'!$E58=\"Right\",-1*'10. Obj. Placement Tabl & Chart'!$D58,'10. Obj. Placement Tabl & Chart'!$D58),)","v":0},{"$f":"IF('10. Obj. Placement Tabl & Chart'!$F58=4,'10. Obj. Placement Tabl & Chart'!$C58,)","v":0},{"$f":"IF('10. Obj. Placement Tabl & Chart'!$F58=4,IF('10. Obj. Placement Tabl & Chart'!$E58=\"Right\",-1*'10. Obj. Placement Tabl & Chart'!$D58,'10. Obj. Placement Tabl & Chart'!$D58),)","v":0},null,null,{"$f":"IF('10. Obj. Placement Tabl & Chart'!$F187=1,'10. Obj. Placement Tabl & Chart'!$C187,)","v":0},{"$f":"IF('10. Obj. Placement Tabl & Chart'!$F187=1,IF('10. Obj. Placement Tabl & Chart'!$E187=\"Right\",-1*'10. Obj. Placement Tabl & Chart'!$D187,'10. Obj. Placement Tabl & Chart'!$D187),)","v":0},{"$f":"IF('10. Obj. Placement Tabl & Chart'!$F187=2,'10. Obj. Placement Tabl & Chart'!$C187,)","v":0},{"$f":"IF('10. Obj. Placement Tabl & Chart'!$F187=2,IF('10. Obj. Placement Tabl & Chart'!$E187=\"Right\",-1*'10. Obj. Placement Tabl & Chart'!$D187,'10. Obj. Placement Tabl & Chart'!$D187),)","v":0},{"$f":"IF('10. Obj. Placement Tabl & Chart'!$F187=3,'10. Obj. Placement Tabl & Chart'!$C187,)","v":0},{"$f":"IF('10. Obj. Placement Tabl & Chart'!$F187=3,IF('10. Obj. Placement Tabl & Chart'!$E187=\"Right\",-1*'10. Obj. Placement Tabl & Chart'!$D187,'10. Obj. Placement Tabl & Chart'!$D187),)","v":0},{"$f":"IF('10. Obj. Placement Tabl & Chart'!$F187=4,'10. Obj. Placement Tabl & Chart'!$C187,)","v":0},{"$f":"IF('10. Obj. Placement Tabl & Chart'!$F187=4,IF('10. Obj. Placement Tabl & Chart'!$E187=\"Right\",-1*'10. Obj. Placement Tabl & Chart'!$D187,'10. Obj. Placement Tabl & Chart'!$D187),)","v":0}]
[null,null,null,null,null,null,null,null,null,null,null,null,null,null,null,null,null,null,null,null,null,null,null,null,null,null,null,null,null,null,null,null,null,null,null,null,null,0,{"$f":"IF(AL43=0,,SUM($BL$6:BL42)+ROUND(2*IF(AP43=1,$AV$37,IF(AP43=2,$AV$41,IF(AP43=3,$AV$45,IF(AP43=4,$AV$49,))))*RAND(),))","v":0},0,0,0,0,0,null,{"$f":"IF(BC3>=3,\"Search Object Type # 3\",\"\")","v":"Search Object Type # 3"},null,null,null,null,null,null,null,null,null,null,null,null,0.75627985158648958,0,0,0,0,0,null,0.83146788812232486,0,null,0,0,0,0,0,0,0.83146788812232486,null,0,0,0,0,0,0,0.83146788812232486,null,0,0,0,0,0,0,0.83146788812232486,null,0,0,0,0,0,0,0.83146788812232486,null,3,2,3,4,null,{"$f":"IF('10. Obj. Placement Tabl & Chart'!$F59=1,'10. Obj. Placement Tabl & Chart'!$C59,)","v":0},{"$f":"IF('10. Obj. Placement Tabl & Chart'!$F59=1,IF('10. Obj. Placement Tabl & Chart'!$E59=\"Right\",-1*'10. Obj. Placement Tabl & Chart'!$D59,'10. Obj. Placement Tabl & Chart'!$D59),)","v":0},{"$f":"IF('10. Obj. Placement Tabl & Chart'!$F59=2,'10. Obj. Placement Tabl & Chart'!$C59,)","v":0},{"$f":"IF('10. Obj. Placement Tabl & Chart'!$F59=2,IF('10. Obj. Placement Tabl & Chart'!$E59=\"Right\",-1*'10. Obj. Placement Tabl & Chart'!$D59,'10. Obj. Placement Tabl & Chart'!$D59),)","v":0},{"$f":"IF('10. Obj. Placement Tabl & Chart'!$F59=3,'10. Obj. Placement Tabl & Chart'!$C59,)","v":0},{"$f":"IF('10. Obj. Placement Tabl & Chart'!$F59=3,IF('10. Obj. Placement Tabl & Chart'!$E59=\"Right\",-1*'10. Obj. Placement Tabl & Chart'!$D59,'10. Obj. Placement Tabl & Chart'!$D59),)","v":0},{"$f":"IF('10. Obj. Placement Tabl & Chart'!$F59=4,'10. Obj. Placement Tabl & Chart'!$C59,)","v":0},{"$f":"IF('10. Obj. Placement Tabl & Chart'!$F59=4,IF('10. Obj. Placement Tabl & Chart'!$E59=\"Right\",-1*'10. Obj. Placement Tabl & Chart'!$D59,'10. Obj. Placement Tabl & Chart'!$D59),)","v":0},null,null,{"$f":"IF('10. Obj. Placement Tabl & Chart'!$F188=1,'10. Obj. Placement Tabl & Chart'!$C188,)","v":0},{"$f":"IF('10. Obj. Placement Tabl & Chart'!$F188=1,IF('10. Obj. Placement Tabl & Chart'!$E188=\"Right\",-1*'10. Obj. Placement Tabl & Chart'!$D188,'10. Obj. Placement Tabl & Chart'!$D188),)","v":0},{"$f":"IF('10. Obj. Placement Tabl & Chart'!$F188=2,'10. Obj. Placement Tabl & Chart'!$C188,)","v":0},{"$f":"IF('10. Obj. Placement Tabl & Chart'!$F188=2,IF('10. Obj. Placement Tabl & Chart'!$E188=\"Right\",-1*'10. Obj. Placement Tabl & Chart'!$D188,'10. Obj. Placement Tabl & Chart'!$D188),)","v":0},{"$f":"IF('10. Obj. Placement Tabl & Chart'!$F188=3,'10. Obj. Placement Tabl & Chart'!$C188,)","v":0},{"$f":"IF('10. Obj. Placement Tabl & Chart'!$F188=3,IF('10. Obj. Placement Tabl & Chart'!$E188=\"Right\",-1*'10. Obj. Placement Tabl & Chart'!$D188,'10. Obj. Placement Tabl & Chart'!$D188),)","v":0},{"$f":"IF('10. Obj. Placement Tabl & Chart'!$F188=4,'10. Obj. Placement Tabl & Chart'!$C188,)","v":0},{"$f":"IF('10. Obj. Placement Tabl & Chart'!$F188=4,IF('10. Obj. Placement Tabl & Chart'!$E188=\"Right\",-1*'10. Obj. Placement Tabl & Chart'!$D188,'10. Obj. Placement Tabl & Chart'!$D188),)","v":0}]
[null,null,null,null,null,null,null,null,null,null,null,null,null,null,null,null,null,null,null,null,null,null,null,null,null,null,null,null,null,null,null,null,null,null,null,null,null,0,{"$f":"IF(AL44=0,,SUM($BL$6:BL43)+ROUND(2*IF(AP44=1,$AV$37,IF(AP44=2,$AV$41,IF(AP44=3,$AV$45,IF(AP44=4,$AV$49,))))*RAND(),))","v":0},0,0,0,0,0,null,{"$f":"IF(BC3>=3,'2. Search Object Types'!M30,\"Not Applicable\")","v":"Clue Low-Visibility"},null,null,null,null,null,null,null,null,null,null,null,null,0.93695072790084688,0,0,0,0,0,null,0.17993065377996409,0,null,0,0,0,0,0,0,0.17993065377996409,null,0,0,0,0,0,0,0.17993065377996409,null,0,0,0,0,0,0,0.17993065377996409,null,0,0,0,0,0,0,0.17993065377996409,null,3,2,3,4,null,{"$f":"IF('10. Obj. Placement Tabl & Chart'!$F60=1,'10. Obj. Placement Tabl & Chart'!$C60,)","v":0},{"$f":"IF('10. Obj. Placement Tabl & Chart'!$F60=1,IF('10. Obj. Placement Tabl & Chart'!$E60=\"Right\",-1*'10. Obj. Placement Tabl & Chart'!$D60,'10. Obj. Placement Tabl & Chart'!$D60),)","v":0},{"$f":"IF('10. Obj. Placement Tabl & Chart'!$F60=2,'10. Obj. Placement Tabl & Chart'!$C60,)","v":0},{"$f":"IF('10. Obj. Placement Tabl & Chart'!$F60=2,IF('10. Obj. Placement Tabl & Chart'!$E60=\"Right\",-1*'10. Obj. Placement Tabl & Chart'!$D60,'10. Obj. Placement Tabl & Chart'!$D60),)","v":0},{"$f":"IF('10. Obj. Placement Tabl & Chart'!$F60=3,'10. Obj. Placement Tabl & Chart'!$C60,)","v":0},{"$f":"IF('10. Obj. Placement Tabl & Chart'!$F60=3,IF('10. Obj. Placement Tabl & Chart'!$E60=\"Right\",-1*'10. Obj. Placement Tabl & Chart'!$D60,'10. Obj. Placement Tabl & Chart'!$D60),)","v":0},{"$f":"IF('10. Obj. Placement Tabl & Chart'!$F60=4,'10. Obj. Placement Tabl & Chart'!$C60,)","v":0},{"$f":"IF('10. Obj. Placement Tabl & Chart'!$F60=4,IF('10. Obj. Placement Tabl & Chart'!$E60=\"Right\",-1*'10. Obj. Placement Tabl & Chart'!$D60,'10. Obj. Placement Tabl & Chart'!$D60),)","v":0},null,null,{"$f":"IF('10. Obj. Placement Tabl & Chart'!$F189=1,'10. Obj. Placement Tabl & Chart'!$C189,)","v":0},{"$f":"IF('10. Obj. Placement Tabl & Chart'!$F189=1,IF('10. Obj. Placement Tabl & Chart'!$E189=\"Right\",-1*'10. Obj. Placement Tabl & Chart'!$D189,'10. Obj. Placement Tabl & Chart'!$D189),)","v":0},{"$f":"IF('10. Obj. Placement Tabl & Chart'!$F189=2,'10. Obj. Placement Tabl & Chart'!$C189,)","v":0},{"$f":"IF('10. Obj. Placement Tabl & Chart'!$F189=2,IF('10. Obj. Placement Tabl & Chart'!$E189=\"Right\",-1*'10. Obj. Placement Tabl & Chart'!$D189,'10. Obj. Placement Tabl & Chart'!$D189),)","v":0},{"$f":"IF('10. Obj. Placement Tabl & Chart'!$F189=3,'10. Obj. Placement Tabl & Chart'!$C189,)","v":0},{"$f":"IF('10. Obj. Placement Tabl & Chart'!$F189=3,IF('10. Obj. Placement Tabl & Chart'!$E189=\"Right\",-1*'10. Obj. Placement Tabl & Chart'!$D189,'10. Obj. Placement Tabl & Chart'!$D189),)","v":0},{"$f":"IF('10. Obj. Placement Tabl & Chart'!$F189=4,'10. Obj. Placement Tabl & Chart'!$C189,)","v":0},{"$f":"IF('10. Obj. Placement Tabl & Chart'!$F189=4,IF('10. Obj. Placement Tabl & Chart'!$E189=\"Right\",-1*'10. Obj. Placement Tabl & Chart'!$D189,'10. Obj. Placement Tabl & Chart'!$D189),)","v":0}]
[null,null,null,null,null,null,null,null,null,null,null,null,null,null,null,null,null,null,null,null,null,null,null,null,null,null,null,null,null,null,null,null,null,null,null,null,null,0,{"$f":"IF(AL45=0,,SUM($BL$6:BL44)+ROUND(2*IF(AP45=1,$AV$37,IF(AP45=2,$AV$41,IF(AP45=3,$AV$45,IF(AP45=4,$AV$49,))))*RAND(),))","v":0},0,0,0,0,0,null,{"$f":"IF(BC3>=3,\"AMDR3\",\"\")","v":"AMDR3"},null,{"$f":"IF(BC3>=3,ROUND(VLOOKUP('9. Actual Experiment Design'!M24,'9. Actual Experiment Design'!Q59:T67,4),1),)","v":5},null,null,null,null,null,null,null,null,null,null,0.37704287443325057,0,0,0,0,0,null,0.72279642189055038,0,null,0,0,0,0,0,0,0.72279642189055038,null,0,0,0,0,0,0,0.72279642189055038,null,0,0,0,0,0,0,0.72279642189055038,null,0,0,0,0,0,0,0.72279642189055038,null,2,1,2,2,null,{"$f":"IF('10. Obj. Placement Tabl & Chart'!$F61=1,'10. Obj. Placement Tabl & Chart'!$C61,)","v":0},{"$f":"IF('10. Obj. Placement Tabl & Chart'!$F61=1,IF('10. Obj. Placement Tabl & Chart'!$E61=\"Right\",-1*'10. Obj. Placement Tabl & Chart'!$D61,'10. Obj. Placement Tabl & Chart'!$D61),)","v":0},{"$f":"IF('10. Obj. Placement Tabl & Chart'!$F61=2,'10. Obj. Placement Tabl & Chart'!$C61,)","v":0},{"$f":"IF('10. Obj. Placement Tabl & Chart'!$F61=2,IF('10. Obj. Placement Tabl & Chart'!$E61=\"Right\",-1*'10. Obj. Placement Tabl & Chart'!$D61,'10. Obj. Placement Tabl & Chart'!$D61),)","v":0},{"$f":"IF('10. Obj. Placement Tabl & Chart'!$F61=3,'10. Obj. Placement Tabl & Chart'!$C61,)","v":0},{"$f":"IF('10. Obj. Placement Tabl & Chart'!$F61=3,IF('10. Obj. Placement Tabl & Chart'!$E61=\"Right\",-1*'10. Obj. Placement Tabl & Chart'!$D61,'10. Obj. Placement Tabl & Chart'!$D61),)","v":0},{"$f":"IF('10. Obj. Placement Tabl & Chart'!$F61=4,'10. Obj. Placement Tabl & Chart'!$C61,)","v":0},{"$f":"IF('10. Obj. Placement Tabl & Chart'!$F61=4,IF('10. Obj. Placement Tabl & Chart'!$E61=\"Right\",-1*'10. Obj. Placement Tabl & Chart'!$D61,'10. Obj. Placement Tabl & Chart'!$D61),)","v":0},null,null,{"$f":"IF('10. Obj. Placement Tabl & Chart'!$F190=1,'10. Obj. Placement Tabl & Chart'!$C190,)","v":0},{"$f":"IF('10. Obj. Placement Tabl & Chart'!$F190=1,IF('10. Obj. Placement Tabl & Chart'!$E190=\"Right\",-1*'10. Obj. Placement Tabl & Chart'!$D190,'10. Obj. Placement Tabl & Chart'!$D190),)","v":0},{"$f":"IF('10. Obj. Placement Tabl & Chart'!$F190=2,'10. Obj. Placement Tabl & Chart'!$C190,)","v":0},{"$f":"IF('10. Obj. Placement Tabl & Chart'!$F190=2,IF('10. Obj. Placement Tabl & Chart'!$E190=\"Right\",-1*'10. Obj. Placement Tabl & Chart'!$D190,'10. Obj. Placement Tabl & Chart'!$D190),)","v":0},{"$f":"IF('10. Obj. Placement Tabl & Chart'!$F190=3,'10. Obj. Placement Tabl & Chart'!$C190,)","v":0},{"$f":"IF('10. Obj. Placement Tabl & Chart'!$F190=3,IF('10. Obj. Placement Tabl & Chart'!$E190=\"Right\",-1*'10. Obj. Placement Tabl & Chart'!$D190,'10. Obj. Placement Tabl & Chart'!$D190),)","v":0},{"$f":"IF('10. Obj. Placement Tabl & Chart'!$F190=4,'10. Obj. Placement Tabl & Chart'!$C190,)","v":0},{"$f":"IF('10. Obj. Placement Tabl & Chart'!$F190=4,IF('10. Obj. Placement Tabl & Chart'!$E190=\"Right\",-1*'10. Obj. Placement Tabl & Chart'!$D190,'10. Obj. Placement Tabl & Chart'!$D190),)","v":0}]
[null,null,null,null,null,null,null,null,null,null,null,null,null,null,null,null,null,null,null,null,null,null,null,null,null,null,null,null,null,null,null,null,null,null,null,null,null,0,{"$f":"IF(AL46=0,,SUM($BL$6:BL45)+ROUND(2*IF(AP46=1,$AV$37,IF(AP46=2,$AV$41,IF(AP46=3,$AV$45,IF(AP46=4,$AV$49,))))*RAND(),))","v":0},0,0,0,0,0,null,null,null,null,null,null,null,null,null,null,null,null,null,null,0.48695965459228041,0,0,0,0,0,null,0.38431217981262888,0,null,0,0,0,0,0,0,0.38431217981262888,null,0,0,0,0,0,0,0.38431217981262888,null,0,0,0,0,0,0,0.38431217981262888,null,0,0,0,0,0,0,0.38431217981262888,null,2,1,2,2,null,{"$f":"IF('10. Obj. Placement Tabl & Chart'!$F62=1,'10. Obj. Placement Tabl & Chart'!$C62,)","v":0},{"$f":"IF('10. Obj. Placement Tabl & Chart'!$F62=1,IF('10. Obj. Placement Tabl & Chart'!$E62=\"Right\",-1*'10. Obj. Placement Tabl & Chart'!$D62,'10. Obj. Placement Tabl & Chart'!$D62),)","v":0},{"$f":"IF('10. Obj. Placement Tabl & Chart'!$F62=2,'10. Obj. Placement Tabl & Chart'!$C62,)","v":0},{"$f":"IF('10. Obj. Placement Tabl & Chart'!$F62=2,IF('10. Obj. Placement Tabl & Chart'!$E62=\"Right\",-1*'10. Obj. Placement Tabl & Chart'!$D62,'10. Obj. Placement Tabl & Chart'!$D62),)","v":0},{"$f":"IF('10. Obj. Placement Tabl & Chart'!$F62=3,'10. Obj. Placement Tabl & Chart'!$C62,)","v":0},{"$f":"IF('10. Obj. Placement Tabl & Chart'!$F62=3,IF('10. Obj. Placement Tabl & Chart'!$E62=\"Right\",-1*'10. Obj. Placement Tabl & Chart'!$D62,'10. Obj. Placement Tabl & Chart'!$D62),)","v":0},{"$f":"IF('10. Obj. Placement Tabl & Chart'!$F62=4,'10. Obj. Placement Tabl & Chart'!$C62,)","v":0},{"$f":"IF('10. Obj. Placement Tabl & Chart'!$F62=4,IF('10. Obj. Placement Tabl & Chart'!$E62=\"Right\",-1*'10. Obj. Placement Tabl & Chart'!$D62,'10. Obj. Placement Tabl & Chart'!$D62),)","v":0},null,null,{"$f":"IF('10. Obj. Placement Tabl & Chart'!$F191=1,'10. Obj. Placement Tabl & Chart'!$C191,)","v":0},{"$f":"IF('10. Obj. Placement Tabl & Chart'!$F191=1,IF('10. Obj. Placement Tabl & Chart'!$E191=\"Right\",-1*'10. Obj. Placement Tabl & Chart'!$D191,'10. Obj. Placement Tabl & Chart'!$D191),)","v":0},{"$f":"IF('10. Obj. Placement Tabl & Chart'!$F191=2,'10. Obj. Placement Tabl & Chart'!$C191,)","v":0},{"$f":"IF('10. Obj. Placement Tabl & Chart'!$F191=2,IF('10. Obj. Placement Tabl & Chart'!$E191=\"Right\",-1*'10. Obj. Placement Tabl & Chart'!$D191,'10. Obj. Placement Tabl & Chart'!$D191),)","v":0},{"$f":"IF('10. Obj. Placement Tabl & Chart'!$F191=3,'10. Obj. Placement Tabl & Chart'!$C191,)","v":0},{"$f":"IF('10. Obj. Placement Tabl & Chart'!$F191=3,IF('10. Obj. Placement Tabl & Chart'!$E191=\"Right\",-1*'10. Obj. Placement Tabl & Chart'!$D191,'10. Obj. Placement Tabl & Chart'!$D191),)","v":0},{"$f":"IF('10. Obj. Placement Tabl & Chart'!$F191=4,'10. Obj. Placement Tabl & Chart'!$C191,)","v":0},{"$f":"IF('10. Obj. Placement Tabl & Chart'!$F191=4,IF('10. Obj. Placement Tabl & Chart'!$E191=\"Right\",-1*'10. Obj. Placement Tabl & Chart'!$D191,'10. Obj. Placement Tabl & Chart'!$D191),)","v":0}]
[null,null,null,null,null,null,null,null,null,null,null,null,null,null,null,null,null,null,null,null,null,null,null,null,null,null,null,null,null,null,null,null,null,null,null,null,null,0,{"$f":"IF(AL47=0,,SUM($BL$6:BL46)+ROUND(2*IF(AP47=1,$AV$37,IF(AP47=2,$AV$41,IF(AP47=3,$AV$45,IF(AP47=4,$AV$49,))))*RAND(),))","v":0},0,0,0,0,0,null,{"$f":"IF(BC3=4,\"Search Object # 4\",\"\")","v":""},null,null,null,null,null,null,null,null,null,null,null,null,0.58072101080854577,0,0,0,0,0,null,0.71712067240045652,0,null,0,0,0,0,0,0,0.71712067240045652,null,0,0,0,0,0,0,0.71712067240045652,null,0,0,0,0,0,0,0.71712067240045652,null,0,0,0,0,0,0,0.71712067240045652,null,2,2,2,3,null,{"$f":"IF('10. Obj. Placement Tabl & Chart'!$F63=1,'10. Obj. Placement Tabl & Chart'!$C63,)","v":0},{"$f":"IF('10. Obj. Placement Tabl & Chart'!$F63=1,IF('10. Obj. Placement Tabl & Chart'!$E63=\"Right\",-1*'10. Obj. Placement Tabl & Chart'!$D63,'10. Obj. Placement Tabl & Chart'!$D63),)","v":0},{"$f":"IF('10. Obj. Placement Tabl & Chart'!$F63=2,'10. Obj. Placement Tabl & Chart'!$C63,)","v":0},{"$f":"IF('10. Obj. Placement Tabl & Chart'!$F63=2,IF('10. Obj. Placement Tabl & Chart'!$E63=\"Right\",-1*'10. Obj. Placement Tabl & Chart'!$D63,'10. Obj. Placement Tabl & Chart'!$D63),)","v":0},{"$f":"IF('10. Obj. Placement Tabl & Chart'!$F63=3,'10. Obj. Placement Tabl & Chart'!$C63,)","v":0},{"$f":"IF('10. Obj. Placement Tabl & Chart'!$F63=3,IF('10. Obj. Placement Tabl & Chart'!$E63=\"Right\",-1*'10. Obj. Placement Tabl & Chart'!$D63,'10. Obj. Placement Tabl & Chart'!$D63),)","v":0},{"$f":"IF('10. Obj. Placement Tabl & Chart'!$F63=4,'10. Obj. Placement Tabl & Chart'!$C63,)","v":0},{"$f":"IF('10. Obj. Placement Tabl & Chart'!$F63=4,IF('10. Obj. Placement Tabl & Chart'!$E63=\"Right\",-1*'10. Obj. Placement Tabl & Chart'!$D63,'10. Obj. Placement Tabl & Chart'!$D63),)","v":0},null,null,{"$f":"IF('10. Obj. Placement Tabl & Chart'!$F192=1,'10. Obj. Placement Tabl & Chart'!$C192,)","v":0},{"$f":"IF('10. Obj. Placement Tabl & Chart'!$F192=1,IF('10. Obj. Placement Tabl & Chart'!$E192=\"Right\",-1*'10. Obj. Placement Tabl & Chart'!$D192,'10. Obj. Placement Tabl & Chart'!$D192),)","v":0},{"$f":"IF('10. Obj. Placement Tabl & Chart'!$F192=2,'10. Obj. Placement Tabl & Chart'!$C192,)","v":0},{"$f":"IF('10. Obj. Placement Tabl & Chart'!$F192=2,IF('10. Obj. Placement Tabl & Chart'!$E192=\"Right\",-1*'10. Obj. Placement Tabl & Chart'!$D192,'10. Obj. Placement Tabl & Chart'!$D192),)","v":0},{"$f":"IF('10. Obj. Placement Tabl & Chart'!$F192=3,'10. Obj. Placement Tabl & Chart'!$C192,)","v":0},{"$f":"IF('10. Obj. Placement Tabl & Chart'!$F192=3,IF('10. Obj. Placement Tabl & Chart'!$E192=\"Right\",-1*'10. Obj. Placement Tabl & Chart'!$D192,'10. Obj. Placement Tabl & Chart'!$D192),)","v":0},{"$f":"IF('10. Obj. Placement Tabl & Chart'!$F192=4,'10. Obj. Placement Tabl & Chart'!$C192,)","v":0},{"$f":"IF('10. Obj. Placement Tabl & Chart'!$F192=4,IF('10. Obj. Placement Tabl & Chart'!$E192=\"Right\",-1*'10. Obj. Placement Tabl & Chart'!$D192,'10. Obj. Placement Tabl & Chart'!$D192),)","v":0}]
[null,null,null,null,null,null,null,null,null,null,null,null,null,null,null,null,null,null,null,null,null,null,null,null,null,null,null,null,null,null,null,null,null,null,null,null,null,0,{"$f":"IF(AL48=0,,SUM($BL$6:BL47)+ROUND(2*IF(AP48=1,$AV$37,IF(AP48=2,$AV$41,IF(AP48=3,$AV$45,IF(AP48=4,$AV$49,))))*RAND(),))","v":0},0,0,0,0,0,null,{"$f":"IF(BC3=4,'2. Search Object Types'!M32,\"Not Applicable\")","v":"Not Applicable"},null,null,null,null,null,null,null,null,null,null,null,null,0.32675904100423891,0,0,0,0,0,null,0.48629979363090414,0,null,0,0,0,0,0,0,0.48629979363090414,null,0,0,0,0,0,0,0.48629979363090414,null,0,0,0,0,0,0,0.48629979363090414,null,0,0,0,0,0,0,0.48629979363090414,null,1,1,1,2,null,{"$f":"IF('10. Obj. Placement Tabl & Chart'!$F64=1,'10. Obj. Placement Tabl & Chart'!$C64,)","v":0},{"$f":"IF('10. Obj. Placement Tabl & Chart'!$F64=1,IF('10. Obj. Placement Tabl & Chart'!$E64=\"Right\",-1*'10. Obj. Placement Tabl & Chart'!$D64,'10. Obj. Placement Tabl & Chart'!$D64),)","v":0},{"$f":"IF('10. Obj. Placement Tabl & Chart'!$F64=2,'10. Obj. Placement Tabl & Chart'!$C64,)","v":0},{"$f":"IF('10. Obj. Placement Tabl & Chart'!$F64=2,IF('10. Obj. Placement Tabl & Chart'!$E64=\"Right\",-1*'10. Obj. Placement Tabl & Chart'!$D64,'10. Obj. Placement Tabl & Chart'!$D64),)","v":0},{"$f":"IF('10. Obj. Placement Tabl & Chart'!$F64=3,'10. Obj. Placement Tabl & Chart'!$C64,)","v":0},{"$f":"IF('10. Obj. Placement Tabl & Chart'!$F64=3,IF('10. Obj. Placement Tabl & Chart'!$E64=\"Right\",-1*'10. Obj. Placement Tabl & Chart'!$D64,'10. Obj. Placement Tabl & Chart'!$D64),)","v":0},{"$f":"IF('10. Obj. Placement Tabl & Chart'!$F64=4,'10. Obj. Placement Tabl & Chart'!$C64,)","v":0},{"$f":"IF('10. Obj. Placement Tabl & Chart'!$F64=4,IF('10. Obj. Placement Tabl & Chart'!$E64=\"Right\",-1*'10. Obj. Placement Tabl & Chart'!$D64,'10. Obj. Placement Tabl & Chart'!$D64),)","v":0},null,null,{"$f":"IF('10. Obj. Placement Tabl & Chart'!$F193=1,'10. Obj. Placement Tabl & Chart'!$C193,)","v":0},{"$f":"IF('10. Obj. Placement Tabl & Chart'!$F193=1,IF('10. Obj. Placement Tabl & Chart'!$E193=\"Right\",-1*'10. Obj. Placement Tabl & Chart'!$D193,'10. Obj. Placement Tabl & Chart'!$D193),)","v":0},{"$f":"IF('10. Obj. Placement Tabl & Chart'!$F193=2,'10. Obj. Placement Tabl & Chart'!$C193,)","v":0},{"$f":"IF('10. Obj. Placement Tabl & Chart'!$F193=2,IF('10. Obj. Placement Tabl & Chart'!$E193=\"Right\",-1*'10. Obj. Placement Tabl & Chart'!$D193,'10. Obj. Placement Tabl & Chart'!$D193),)","v":0},{"$f":"IF('10. Obj. Placement Tabl & Chart'!$F193=3,'10. Obj. Placement Tabl & Chart'!$C193,)","v":0},{"$f":"IF('10. Obj. Placement Tabl & Chart'!$F193=3,IF('10. Obj. Placement Tabl & Chart'!$E193=\"Right\",-1*'10. Obj. Placement Tabl & Chart'!$D193,'10. Obj. Placement Tabl & Chart'!$D193),)","v":0},{"$f":"IF('10. Obj. Placement Tabl & Chart'!$F193=4,'10. Obj. Placement Tabl & Chart'!$C193,)","v":0},{"$f":"IF('10. Obj. Placement Tabl & Chart'!$F193=4,IF('10. Obj. Placement Tabl & Chart'!$E193=\"Right\",-1*'10. Obj. Placement Tabl & Chart'!$D193,'10. Obj. Placement Tabl & Chart'!$D193),)","v":0}]
[null,null,null,null,null,null,null,null,null,null,null,null,null,null,null,null,null,null,null,null,null,null,null,null,null,null,null,null,null,null,null,null,null,null,null,null,null,0,{"$f":"IF(AL49=0,,SUM($BL$6:BL48)+ROUND(2*IF(AP49=1,$AV$37,IF(AP49=2,$AV$41,IF(AP49=3,$AV$45,IF(AP49=4,$AV$49,))))*RAND(),))","v":0},0,0,0,0,0,null,{"$f":"IF(BC3=4,\"AMDR4\",\"\")","v":""},null,{"$f":"IF(BC3=4,ROUND(VLOOKUP('9. Actual Experiment Design'!M25,'9. Actual Experiment Design'!Q59:T67,4),1),)","v":0},null,null,null,null,null,null,null,null,null,null,5.8770451671026236E-2,0,0,0,0,0,null,0.86561183282295895,0,null,0,0,0,0,0,0,0.86561183282295895,null,0,0,0,0,0,0,0.86561183282295895,null,0,0,0,0,0,0,0.86561183282295895,null,0,0,0,0,0,0,0.86561183282295895,null,1,1,1,1,null,{"$f":"IF('10. Obj. Placement Tabl & Chart'!$F65=1,'10. Obj. Placement Tabl & Chart'!$C65,)","v":0},{"$f":"IF('10. Obj. Placement Tabl & Chart'!$F65=1,IF('10. Obj. Placement Tabl & Chart'!$E65=\"Right\",-1*'10. Obj. Placement Tabl & Chart'!$D65,'10. Obj. Placement Tabl & Chart'!$D65),)","v":0},{"$f":"IF('10. Obj. Placement Tabl & Chart'!$F65=2,'10. Obj. Placement Tabl & Chart'!$C65,)","v":0},{"$f":"IF('10. Obj. Placement Tabl & Chart'!$F65=2,IF('10. Obj. Placement Tabl & Chart'!$E65=\"Right\",-1*'10. Obj. Placement Tabl & Chart'!$D65,'10. Obj. Placement Tabl & Chart'!$D65),)","v":0},{"$f":"IF('10. Obj. Placement Tabl & Chart'!$F65=3,'10. Obj. Placement Tabl & Chart'!$C65,)","v":0},{"$f":"IF('10. Obj. Placement Tabl & Chart'!$F65=3,IF('10. Obj. Placement Tabl & Chart'!$E65=\"Right\",-1*'10. Obj. Placement Tabl & Chart'!$D65,'10. Obj. Placement Tabl & Chart'!$D65),)","v":0},{"$f":"IF('10. Obj. Placement Tabl & Chart'!$F65=4,'10. Obj. Placement Tabl & Chart'!$C65,)","v":0},{"$f":"IF('10. Obj. Placement Tabl & Chart'!$F65=4,IF('10. Obj. Placement Tabl & Chart'!$E65=\"Right\",-1*'10. Obj. Placement Tabl & Chart'!$D65,'10. Obj. Placement Tabl & Chart'!$D65),)","v":0},null,null,{"$f":"IF('10. Obj. Placement Tabl & Chart'!$F194=1,'10. Obj. Placement Tabl & Chart'!$C194,)","v":0},{"$f":"IF('10. Obj. Placement Tabl & Chart'!$F194=1,IF('10. Obj. Placement Tabl & Chart'!$E194=\"Right\",-1*'10. Obj. Placement Tabl & Chart'!$D194,'10. Obj. Placement Tabl & Chart'!$D194),)","v":0},{"$f":"IF('10. Obj. Placement Tabl & Chart'!$F194=2,'10. Obj. Placement Tabl & Chart'!$C194,)","v":0},{"$f":"IF('10. Obj. Placement Tabl & Chart'!$F194=2,IF('10. Obj. Placement Tabl & Chart'!$E194=\"Right\",-1*'10. Obj. Placement Tabl & Chart'!$D194,'10. Obj. Placement Tabl & Chart'!$D194),)","v":0},{"$f":"IF('10. Obj. Placement Tabl & Chart'!$F194=3,'10. Obj. Placement Tabl & Chart'!$C194,)","v":0},{"$f":"IF('10. Obj. Placement Tabl & Chart'!$F194=3,IF('10. Obj. Placement Tabl & Chart'!$E194=\"Right\",-1*'10. Obj. Placement Tabl & Chart'!$D194,'10. Obj. Placement Tabl & Chart'!$D194),)","v":0},{"$f":"IF('10. Obj. Placement Tabl & Chart'!$F194=4,'10. Obj. Placement Tabl & Chart'!$C194,)","v":0},{"$f":"IF('10. Obj. Placement Tabl & Chart'!$F194=4,IF('10. Obj. Placement Tabl & Chart'!$E194=\"Right\",-1*'10. Obj. Placement Tabl & Chart'!$D194,'10. Obj. Placement Tabl & Chart'!$D194),)","v":0}]
[null,null,null,null,null,null,null,null,null,null,null,null,null,null,null,null,null,null,null,null,null,null,null,null,null,null,null,null,null,null,null,null,null,null,null,null,null,0,{"$f":"IF(AL50=0,,SUM($BL$6:BL49)+ROUND(2*IF(AP50=1,$AV$37,IF(AP50=2,$AV$41,IF(AP50=3,$AV$45,IF(AP50=4,$AV$49,))))*RAND(),))","v":0},0,0,0,0,0,null,null,null,null,null,null,null,null,null,null,null,null,null,null,0.26571541151788758,0,0,0,0,0,null,0.51541302084482654,0,null,0,0,0,0,0,0,0.51541302084482654,null,0,0,0,0,0,0,0.51541302084482654,null,0,0,0,0,0,0,0.51541302084482654,null,0,0,0,0,0,0,0.51541302084482654,null,1,1,1,2,null,{"$f":"IF('10. Obj. Placement Tabl & Chart'!$F66=1,'10. Obj. Placement Tabl & Chart'!$C66,)","v":0},{"$f":"IF('10. Obj. Placement Tabl & Chart'!$F66=1,IF('10. Obj. Placement Tabl & Chart'!$E66=\"Right\",-1*'10. Obj. Placement Tabl & Chart'!$D66,'10. Obj. Placement Tabl & Chart'!$D66),)","v":0},{"$f":"IF('10. Obj. Placement Tabl & Chart'!$F66=2,'10. Obj. Placement Tabl & Chart'!$C66,)","v":0},{"$f":"IF('10. Obj. Placement Tabl & Chart'!$F66=2,IF('10. Obj. Placement Tabl & Chart'!$E66=\"Right\",-1*'10. Obj. Placement Tabl & Chart'!$D66,'10. Obj. Placement Tabl & Chart'!$D66),)","v":0},{"$f":"IF('10. Obj. Placement Tabl & Chart'!$F66=3,'10. Obj. Placement Tabl & Chart'!$C66,)","v":0},{"$f":"IF('10. Obj. Placement Tabl & Chart'!$F66=3,IF('10. Obj. Placement Tabl & Chart'!$E66=\"Right\",-1*'10. Obj. Placement Tabl & Chart'!$D66,'10. Obj. Placement Tabl & Chart'!$D66),)","v":0},{"$f":"IF('10. Obj. Placement Tabl & Chart'!$F66=4,'10. Obj. Placement Tabl & Chart'!$C66,)","v":0},{"$f":"IF('10. Obj. Placement Tabl & Chart'!$F66=4,IF('10. Obj. Placement Tabl & Chart'!$E66=\"Right\",-1*'10. Obj. Placement Tabl & Chart'!$D66,'10. Obj. Placement Tabl & Chart'!$D66),)","v":0},null,null,{"$f":"IF('10. Obj. Placement Tabl & Chart'!$F195=1,'10. Obj. Placement Tabl & Chart'!$C195,)","v":0},{"$f":"IF('10. Obj. Placement Tabl & Chart'!$F195=1,IF('10. Obj. Placement Tabl & Chart'!$E195=\"Right\",-1*'10. Obj. Placement Tabl & Chart'!$D195,'10. Obj. Placement Tabl & Chart'!$D195),)","v":0},{"$f":"IF('10. Obj. Placement Tabl & Chart'!$F195=2,'10. Obj. Placement Tabl & Chart'!$C195,)","v":0},{"$f":"IF('10. Obj. Placement Tabl & Chart'!$F195=2,IF('10. Obj. Placement Tabl & Chart'!$E195=\"Right\",-1*'10. Obj. Placement Tabl & Chart'!$D195,'10. Obj. Placement Tabl & Chart'!$D195),)","v":0},{"$f":"IF('10. Obj. Placement Tabl & Chart'!$F195=3,'10. Obj. Placement Tabl & Chart'!$C195,)","v":0},{"$f":"IF('10. Obj. Placement Tabl & Chart'!$F195=3,IF('10. Obj. Placement Tabl & Chart'!$E195=\"Right\",-1*'10. Obj. Placement Tabl & Chart'!$D195,'10. Obj. Placement Tabl & Chart'!$D195),)","v":0},{"$f":"IF('10. Obj. Placement Tabl & Chart'!$F195=4,'10. Obj. Placement Tabl & Chart'!$C195,)","v":0},{"$f":"IF('10. Obj. Placement Tabl & Chart'!$F195=4,IF('10. Obj. Placement Tabl & Chart'!$E195=\"Right\",-1*'10. Obj. Placement Tabl & Chart'!$D195,'10. Obj. Placement Tabl & Chart'!$D195),)","v":0}]
[null,null,null,null,null,null,null,null,null,null,null,null,null,null,null,null,null,null,null,null,null,null,null,null,null,null,null,null,null,null,null,null,null,null,null,null,null,0,{"$f":"IF(AL51=0,,SUM($BL$6:BL50)+ROUND(2*IF(AP51=1,$AV$37,IF(AP51=2,$AV$41,IF(AP51=3,$AV$45,IF(AP51=4,$AV$49,))))*RAND(),))","v":0},0,0,0,0,0,null,null,null,null,null,null,null,null,null,null,null,null,null,null,0.72064069487461024,0,0,0,0,0,null,0.90448893279220777,0,null,0,0,0,0,0,0,0.90448893279220777,null,0,0,0,0,0,0,0.90448893279220777,null,0,0,0,0,0,0,0.90448893279220777,null,0,0,0,0,0,0,0.90448893279220777,null,3,2,3,3,null,{"$f":"IF('10. Obj. Placement Tabl & Chart'!$F67=1,'10. Obj. Placement Tabl & Chart'!$C67,)","v":0},{"$f":"IF('10. Obj. Placement Tabl & Chart'!$F67=1,IF('10. Obj. Placement Tabl & Chart'!$E67=\"Right\",-1*'10. Obj. Placement Tabl & Chart'!$D67,'10. Obj. Placement Tabl & Chart'!$D67),)","v":0},{"$f":"IF('10. Obj. Placement Tabl & Chart'!$F67=2,'10. Obj. Placement Tabl & Chart'!$C67,)","v":0},{"$f":"IF('10. Obj. Placement Tabl & Chart'!$F67=2,IF('10. Obj. Placement Tabl & Chart'!$E67=\"Right\",-1*'10. Obj. Placement Tabl & Chart'!$D67,'10. Obj. Placement Tabl & Chart'!$D67),)","v":0},{"$f":"IF('10. Obj. Placement Tabl & Chart'!$F67=3,'10. Obj. Placement Tabl & Chart'!$C67,)","v":0},{"$f":"IF('10. Obj. Placement Tabl & Chart'!$F67=3,IF('10. Obj. Placement Tabl & Chart'!$E67=\"Right\",-1*'10. Obj. Placement Tabl & Chart'!$D67,'10. Obj. Placement Tabl & Chart'!$D67),)","v":0},{"$f":"IF('10. Obj. Placement Tabl & Chart'!$F67=4,'10. Obj. Placement Tabl & Chart'!$C67,)","v":0},{"$f":"IF('10. Obj. Placement Tabl & Chart'!$F67=4,IF('10. Obj. Placement Tabl & Chart'!$E67=\"Right\",-1*'10. Obj. Placement Tabl & Chart'!$D67,'10. Obj. Placement Tabl & Chart'!$D67),)","v":0},null,null,{"$f":"IF('10. Obj. Placement Tabl & Chart'!$F196=1,'10. Obj. Placement Tabl & Chart'!$C196,)","v":0},{"$f":"IF('10. Obj. Placement Tabl & Chart'!$F196=1,IF('10. Obj. Placement Tabl & Chart'!$E196=\"Right\",-1*'10. Obj. Placement Tabl & Chart'!$D196,'10. Obj. Placement Tabl & Chart'!$D196),)","v":0},{"$f":"IF('10. Obj. Placement Tabl & Chart'!$F196=2,'10. Obj. Placement Tabl & Chart'!$C196,)","v":0},{"$f":"IF('10. Obj. Placement Tabl & Chart'!$F196=2,IF('10. Obj. Placement Tabl & Chart'!$E196=\"Right\",-1*'10. Obj. Placement Tabl & Chart'!$D196,'10. Obj. Placement Tabl & Chart'!$D196),)","v":0},{"$f":"IF('10. Obj. Placement Tabl & Chart'!$F196=3,'10. Obj. Placement Tabl & Chart'!$C196,)","v":0},{"$f":"IF('10. Obj. Placement Tabl & Chart'!$F196=3,IF('10. Obj. Placement Tabl & Chart'!$E196=\"Right\",-1*'10. Obj. Placement Tabl & Chart'!$D196,'10. Obj. Placement Tabl & Chart'!$D196),)","v":0},{"$f":"IF('10. Obj. Placement Tabl & Chart'!$F196=4,'10. Obj. Placement Tabl & Chart'!$C196,)","v":0},{"$f":"IF('10. Obj. Placement Tabl & Chart'!$F196=4,IF('10. Obj. Placement Tabl & Chart'!$E196=\"Right\",-1*'10. Obj. Placement Tabl & Chart'!$D196,'10. Obj. Placement Tabl & Chart'!$D196),)","v":0}]
[null,null,null,null,null,null,null,null,null,null,null,null,null,null,null,null,null,null,null,null,null,null,null,null,null,null,null,null,null,null,null,null,null,null,null,null,null,0,{"$f":"IF(AL52=0,,SUM($BL$6:BL51)+ROUND(2*IF(AP52=1,$AV$37,IF(AP52=2,$AV$41,IF(AP52=3,$AV$45,IF(AP52=4,$AV$49,))))*RAND(),))","v":0},0,0,0,0,0,null,null,null,null,null,null,null,null,null,null,null,null,null,null,0.91642908291312997,0,0,0,0,0,null,0.58665598476198078,0,null,0,0,0,0,0,0,0.58665598476198078,null,0,0,0,0,0,0,0.58665598476198078,null,0,0,0,0,0,0,0.58665598476198078,null,0,0,0,0,0,0,0.58665598476198078,null,3,2,3,4,null,{"$f":"IF('10. Obj. Placement Tabl & Chart'!$F68=1,'10. Obj. Placement Tabl & Chart'!$C68,)","v":0},{"$f":"IF('10. Obj. Placement Tabl & Chart'!$F68=1,IF('10. Obj. Placement Tabl & Chart'!$E68=\"Right\",-1*'10. Obj. Placement Tabl & Chart'!$D68,'10. Obj. Placement Tabl & Chart'!$D68),)","v":0},{"$f":"IF('10. Obj. Placement Tabl & Chart'!$F68=2,'10. Obj. Placement Tabl & Chart'!$C68,)","v":0},{"$f":"IF('10. Obj. Placement Tabl & Chart'!$F68=2,IF('10. Obj. Placement Tabl & Chart'!$E68=\"Right\",-1*'10. Obj. Placement Tabl & Chart'!$D68,'10. Obj. Placement Tabl & Chart'!$D68),)","v":0},{"$f":"IF('10. Obj. Placement Tabl & Chart'!$F68=3,'10. Obj. Placement Tabl & Chart'!$C68,)","v":0},{"$f":"IF('10. Obj. Placement Tabl & Chart'!$F68=3,IF('10. Obj. Placement Tabl & Chart'!$E68=\"Right\",-1*'10. Obj. Placement Tabl & Chart'!$D68,'10. Obj. Placement Tabl & Chart'!$D68),)","v":0},{"$f":"IF('10. Obj. Placement Tabl & Chart'!$F68=4,'10. Obj. Placement Tabl & Chart'!$C68,)","v":0},{"$f":"IF('10. Obj. Placement Tabl & Chart'!$F68=4,IF('10. Obj. Placement Tabl & Chart'!$E68=\"Right\",-1*'10. Obj. Placement Tabl & Chart'!$D68,'10. Obj. Placement Tabl & Chart'!$D68),)","v":0},null,null,{"$f":"IF('10. Obj. Placement Tabl & Chart'!$F197=1,'10. Obj. Placement Tabl & Chart'!$C197,)","v":0},{"$f":"IF('10. Obj. Placement Tabl & Chart'!$F197=1,IF('10. Obj. Placement Tabl & Chart'!$E197=\"Right\",-1*'10. Obj. Placement Tabl & Chart'!$D197,'10. Obj. Placement Tabl & Chart'!$D197),)","v":0},{"$f":"IF('10. Obj. Placement Tabl & Chart'!$F197=2,'10. Obj. Placement Tabl & Chart'!$C197,)","v":0},{"$f":"IF('10. Obj. Placement Tabl & Chart'!$F197=2,IF('10. Obj. Placement Tabl & Chart'!$E197=\"Right\",-1*'10. Obj. Placement Tabl & Chart'!$D197,'10. Obj. Placement Tabl & Chart'!$D197),)","v":0},{"$f":"IF('10. Obj. Placement Tabl & Chart'!$F197=3,'10. Obj. Placement Tabl & Chart'!$C197,)","v":0},{"$f":"IF('10. Obj. Placement Tabl & Chart'!$F197=3,IF('10. Obj. Placement Tabl & Chart'!$E197=\"Right\",-1*'10. Obj. Placement Tabl & Chart'!$D197,'10. Obj. Placement Tabl & Chart'!$D197),)","v":0},{"$f":"IF('10. Obj. Placement Tabl & Chart'!$F197=4,'10. Obj. Placement Tabl & Chart'!$C197,)","v":0},{"$f":"IF('10. Obj. Placement Tabl & Chart'!$F197=4,IF('10. Obj. Placement Tabl & Chart'!$E197=\"Right\",-1*'10. Obj. Placement Tabl & Chart'!$D197,'10. Obj. Placement Tabl & Chart'!$D197),)","v":0}]
[null,null,null,null,null,null,null,null,null,null,null,null,null,null,null,null,null,null,null,null,null,null,null,null,null,null,null,null,null,null,null,null,null,null,null,null,null,0,{"$f":"IF(AL53=0,,SUM($BL$6:BL52)+ROUND(2*IF(AP53=1,$AV$37,IF(AP53=2,$AV$41,IF(AP53=3,$AV$45,IF(AP53=4,$AV$49,))))*RAND(),))","v":0},0,0,0,0,0,null,null,null,null,null,null,null,null,null,null,null,null,null,null,7.5760097830376294E-2,0,0,0,0,0,null,0.44912563318403653,0,null,0,0,0,0,0,0,0.44912563318403653,null,0,0,0,0,0,0,0.44912563318403653,null,0,0,0,0,0,0,0.44912563318403653,null,0,0,0,0,0,0,0.44912563318403653,null,1,1,1,1,null,{"$f":"IF('10. Obj. Placement Tabl & Chart'!$F69=1,'10. Obj. Placement Tabl & Chart'!$C69,)","v":0},{"$f":"IF('10. Obj. Placement Tabl & Chart'!$F69=1,IF('10. Obj. Placement Tabl & Chart'!$E69=\"Right\",-1*'10. Obj. Placement Tabl & Chart'!$D69,'10. Obj. Placement Tabl & Chart'!$D69),)","v":0},{"$f":"IF('10. Obj. Placement Tabl & Chart'!$F69=2,'10. Obj. Placement Tabl & Chart'!$C69,)","v":0},{"$f":"IF('10. Obj. Placement Tabl & Chart'!$F69=2,IF('10. Obj. Placement Tabl & Chart'!$E69=\"Right\",-1*'10. Obj. Placement Tabl & Chart'!$D69,'10. Obj. Placement Tabl & Chart'!$D69),)","v":0},{"$f":"IF('10. Obj. Placement Tabl & Chart'!$F69=3,'10. Obj. Placement Tabl & Chart'!$C69,)","v":0},{"$f":"IF('10. Obj. Placement Tabl & Chart'!$F69=3,IF('10. Obj. Placement Tabl & Chart'!$E69=\"Right\",-1*'10. Obj. Placement Tabl & Chart'!$D69,'10. Obj. Placement Tabl & Chart'!$D69),)","v":0},{"$f":"IF('10. Obj. Placement Tabl & Chart'!$F69=4,'10. Obj. Placement Tabl & Chart'!$C69,)","v":0},{"$f":"IF('10. Obj. Placement Tabl & Chart'!$F69=4,IF('10. Obj. Placement Tabl & Chart'!$E69=\"Right\",-1*'10. Obj. Placement Tabl & Chart'!$D69,'10. Obj. Placement Tabl & Chart'!$D69),)","v":0},null,null,{"$f":"IF('10. Obj. Placement Tabl & Chart'!$F198=1,'10. Obj. Placement Tabl & Chart'!$C198,)","v":0},{"$f":"IF('10. Obj. Placement Tabl & Chart'!$F198=1,IF('10. Obj. Placement Tabl & Chart'!$E198=\"Right\",-1*'10. Obj. Placement Tabl & Chart'!$D198,'10. Obj. Placement Tabl & Chart'!$D198),)","v":0},{"$f":"IF('10. Obj. Placement Tabl & Chart'!$F198=2,'10. Obj. Placement Tabl & Chart'!$C198,)","v":0},{"$f":"IF('10. Obj. Placement Tabl & Chart'!$F198=2,IF('10. Obj. Placement Tabl & Chart'!$E198=\"Right\",-1*'10. Obj. Placement Tabl & Chart'!$D198,'10. Obj. Placement Tabl & Chart'!$D198),)","v":0},{"$f":"IF('10. Obj. Placement Tabl & Chart'!$F198=3,'10. Obj. Placement Tabl & Chart'!$C198,)","v":0},{"$f":"IF('10. Obj. Placement Tabl & Chart'!$F198=3,IF('10. Obj. Placement Tabl & Chart'!$E198=\"Right\",-1*'10. Obj. Placement Tabl & Chart'!$D198,'10. Obj. Placement Tabl & Chart'!$D198),)","v":0},{"$f":"IF('10. Obj. Placement Tabl & Chart'!$F198=4,'10. Obj. Placement Tabl & Chart'!$C198,)","v":0},{"$f":"IF('10. Obj. Placement Tabl & Chart'!$F198=4,IF('10. Obj. Placement Tabl & Chart'!$E198=\"Right\",-1*'10. Obj. Placement Tabl & Chart'!$D198,'10. Obj. Placement Tabl & Chart'!$D198),)","v":0}]
[null,null,null,null,null,null,null,null,null,null,null,null,null,null,null,null,null,null,null,null,null,null,null,null,null,null,null,null,null,null,null,null,null,null,null,null,null,0,{"$f":"IF(AL54=0,,SUM($BL$6:BL53)+ROUND(2*IF(AP54=1,$AV$37,IF(AP54=2,$AV$41,IF(AP54=3,$AV$45,IF(AP54=4,$AV$49,))))*RAND(),))","v":0},0,0,0,0,0,null,null,null,null,null,null,null,null,null,null,null,null,null,null,0.9634734437376854,0,0,0,0,0,null,0.50457953895162777,0,null,0,0,0,0,0,0,0.50457953895162777,null,0,0,0,0,0,0,0.50457953895162777,null,0,0,0,0,0,0,0.50457953895162777,null,0,0,0,0,0,0,0.50457953895162777,null,3,2,3,4,null,{"$f":"IF('10. Obj. Placement Tabl & Chart'!$F70=1,'10. Obj. Placement Tabl & Chart'!$C70,)","v":0},{"$f":"IF('10. Obj. Placement Tabl & Chart'!$F70=1,IF('10. Obj. Placement Tabl & Chart'!$E70=\"Right\",-1*'10. Obj. Placement Tabl & Chart'!$D70,'10. Obj. Placement Tabl & Chart'!$D70),)","v":0},{"$f":"IF('10. Obj. Placement Tabl & Chart'!$F70=2,'10. Obj. Placement Tabl & Chart'!$C70,)","v":0},{"$f":"IF('10. Obj. Placement Tabl & Chart'!$F70=2,IF('10. Obj. Placement Tabl & Chart'!$E70=\"Right\",-1*'10. Obj. Placement Tabl & Chart'!$D70,'10. Obj. Placement Tabl & Chart'!$D70),)","v":0},{"$f":"IF('10. Obj. Placement Tabl & Chart'!$F70=3,'10. Obj. Placement Tabl & Chart'!$C70,)","v":0},{"$f":"IF('10. Obj. Placement Tabl & Chart'!$F70=3,IF('10. Obj. Placement Tabl & Chart'!$E70=\"Right\",-1*'10. Obj. Placement Tabl & Chart'!$D70,'10. Obj. Placement Tabl & Chart'!$D70),)","v":0},{"$f":"IF('10. Obj. Placement Tabl & Chart'!$F70=4,'10. Obj. Placement Tabl & Chart'!$C70,)","v":0},{"$f":"IF('10. Obj. Placement Tabl & Chart'!$F70=4,IF('10. Obj. Placement Tabl & Chart'!$E70=\"Right\",-1*'10. Obj. Placement Tabl & Chart'!$D70,'10. Obj. Placement Tabl & Chart'!$D70),)","v":0},null,null,{"$f":"IF('10. Obj. Placement Tabl & Chart'!$F199=1,'10. Obj. Placement Tabl & Chart'!$C199,)","v":0},{"$f":"IF('10. Obj. Placement Tabl & Chart'!$F199=1,IF('10. Obj. Placement Tabl & Chart'!$E199=\"Right\",-1*'10. Obj. Placement Tabl & Chart'!$D199,'10. Obj. Placement Tabl & Chart'!$D199),)","v":0},{"$f":"IF('10. Obj. Placement Tabl & Chart'!$F199=2,'10. Obj. Placement Tabl & Chart'!$C199,)","v":0},{"$f":"IF('10. Obj. Placement Tabl & Chart'!$F199=2,IF('10. Obj. Placement Tabl & Chart'!$E199=\"Right\",-1*'10. Obj. Placement Tabl & Chart'!$D199,'10. Obj. Placement Tabl & Chart'!$D199),)","v":0},{"$f":"IF('10. Obj. Placement Tabl & Chart'!$F199=3,'10. Obj. Placement Tabl & Chart'!$C199,)","v":0},{"$f":"IF('10. Obj. Placement Tabl & Chart'!$F199=3,IF('10. Obj. Placement Tabl & Chart'!$E199=\"Right\",-1*'10. Obj. Placement Tabl & Chart'!$D199,'10. Obj. Placement Tabl & Chart'!$D199),)","v":0},{"$f":"IF('10. Obj. Placement Tabl & Chart'!$F199=4,'10. Obj. Placement Tabl & Chart'!$C199,)","v":0},{"$f":"IF('10. Obj. Placement Tabl & Chart'!$F199=4,IF('10. Obj. Placement Tabl & Chart'!$E199=\"Right\",-1*'10. Obj. Placement Tabl & Chart'!$D199,'10. Obj. Placement Tabl & Chart'!$D199),)","v":0}]
[null,null,null,null,null,null,null,null,null,null,null,null,null,null,null,null,null,null,null,null,null,null,null,null,null,null,null,null,null,null,null,null,null,null,null,null,null,0,{"$f":"IF(AL55=0,,SUM($BL$6:BL54)+ROUND(2*IF(AP55=1,$AV$37,IF(AP55=2,$AV$41,IF(AP55=3,$AV$45,IF(AP55=4,$AV$49,))))*RAND(),))","v":0},{"$f":"IF(BO55<0.5,BO55,ROUND(BO55,))","v":0},0,0,0,0,null,null,null,null,null,null,null,null,null,null,null,null,null,null,0.23740801579253346,0,0,0,0,0,null,0.82592956519546268,0,null,0,0,0,0,0,0,0.82592956519546268,null,0,0,0,0,0,0,0.82592956519546268,null,0,0,0,0,0,0,0.82592956519546268,null,0,0,0,0,0,0,0.82592956519546268,null,1,1,1,1,null,{"$f":"IF('10. Obj. Placement Tabl & Chart'!$F71=1,'10. Obj. Placement Tabl & Chart'!$C71,)","v":0},{"$f":"IF('10. Obj. Placement Tabl & Chart'!$F71=1,IF('10. Obj. Placement Tabl & Chart'!$E71=\"Right\",-1*'10. Obj. Placement Tabl & Chart'!$D71,'10. Obj. Placement Tabl & Chart'!$D71),)","v":0},{"$f":"IF('10. Obj. Placement Tabl & Chart'!$F71=2,'10. Obj. Placement Tabl & Chart'!$C71,)","v":0},{"$f":"IF('10. Obj. Placement Tabl & Chart'!$F71=2,IF('10. Obj. Placement Tabl & Chart'!$E71=\"Right\",-1*'10. Obj. Placement Tabl & Chart'!$D71,'10. Obj. Placement Tabl & Chart'!$D71),)","v":0},{"$f":"IF('10. Obj. Placement Tabl & Chart'!$F71=3,'10. Obj. Placement Tabl & Chart'!$C71,)","v":0},{"$f":"IF('10. Obj. Placement Tabl & Chart'!$F71=3,IF('10. Obj. Placement Tabl & Chart'!$E71=\"Right\",-1*'10. Obj. Placement Tabl & Chart'!$D71,'10. Obj. Placement Tabl & Chart'!$D71),)","v":0},{"$f":"IF('10. Obj. Placement Tabl & Chart'!$F71=4,'10. Obj. Placement Tabl & Chart'!$C71,)","v":0},{"$f":"IF('10. Obj. Placement Tabl & Chart'!$F71=4,IF('10. Obj. Placement Tabl & Chart'!$E71=\"Right\",-1*'10. Obj. Placement Tabl & Chart'!$D71,'10. Obj. Placement Tabl & Chart'!$D71),)","v":0},null,null,{"$f":"IF('10. Obj. Placement Tabl & Chart'!$F200=1,'10. Obj. Placement Tabl & Chart'!$C200,)","v":0},{"$f":"IF('10. Obj. Placement Tabl & Chart'!$F200=1,IF('10. Obj. Placement Tabl & Chart'!$E200=\"Right\",-1*'10. Obj. Placement Tabl & Chart'!$D200,'10. Obj. Placement Tabl & Chart'!$D200),)","v":0},{"$f":"IF('10. Obj. Placement Tabl & Chart'!$F200=2,'10. Obj. Placement Tabl & Chart'!$C200,)","v":0},{"$f":"IF('10. Obj. Placement Tabl & Chart'!$F200=2,IF('10. Obj. Placement Tabl & Chart'!$E200=\"Right\",-1*'10. Obj. Placement Tabl & Chart'!$D200,'10. Obj. Placement Tabl & Chart'!$D200),)","v":0},{"$f":"IF('10. Obj. Placement Tabl & Chart'!$F200=3,'10. Obj. Placement Tabl & Chart'!$C200,)","v":0},{"$f":"IF('10. Obj. Placement Tabl & Chart'!$F200=3,IF('10. Obj. Placement Tabl & Chart'!$E200=\"Right\",-1*'10. Obj. Placement Tabl & Chart'!$D200,'10. Obj. Placement Tabl & Chart'!$D200),)","v":0},{"$f":"IF('10. Obj. Placement Tabl & Chart'!$F200=4,'10. Obj. Placement Tabl & Chart'!$C200,)","v":0},{"$f":"IF('10. Obj. Placement Tabl & Chart'!$F200=4,IF('10. Obj. Placement Tabl & Chart'!$E200=\"Right\",-1*'10. Obj. Placement Tabl & Chart'!$D200,'10. Obj. Placement Tabl & Chart'!$D200),)","v":0}]
[null,null,null,null,null,null,null,null,null,null,null,null,null,null,null,null,null,null,null,null,null,null,null,null,null,null,null,null,null,null,null,null,null,null,null,null,null,0,{"$f":"IF(AL56=0,,SUM($BL$6:BL55)+ROUND(2*IF(AP56=1,$AV$37,IF(AP56=2,$AV$41,IF(AP56=3,$AV$45,IF(AP56=4,$AV$49,))))*RAND(),))","v":0},0,0,0,0,0,null,null,null,null,null,null,null,null,null,null,null,null,null,null,0.44198130311596306,0,0,0,0,0,null,0.97297833298725833,0,null,0,0,0,0,0,0,0.97297833298725833,null,0,0,0,0,0,0,0.97297833298725833,null,0,0,0,0,0,0,0.97297833298725833,null,0,0,0,0,0,0,0.97297833298725833,null,2,1,2,2,null,{"$f":"IF('10. Obj. Placement Tabl & Chart'!$F72=1,'10. Obj. Placement Tabl & Chart'!$C72,)","v":0},{"$f":"IF('10. Obj. Placement Tabl & Chart'!$F72=1,IF('10. Obj. Placement Tabl & Chart'!$E72=\"Right\",-1*'10. Obj. Placement Tabl & Chart'!$D72,'10. Obj. Placement Tabl & Chart'!$D72),)","v":0},{"$f":"IF('10. Obj. Placement Tabl & Chart'!$F72=2,'10. Obj. Placement Tabl & Chart'!$C72,)","v":0},{"$f":"IF('10. Obj. Placement Tabl & Chart'!$F72=2,IF('10. Obj. Placement Tabl & Chart'!$E72=\"Right\",-1*'10. Obj. Placement Tabl & Chart'!$D72,'10. Obj. Placement Tabl & Chart'!$D72),)","v":0},{"$f":"IF('10. Obj. Placement Tabl & Chart'!$F72=3,'10. Obj. Placement Tabl & Chart'!$C72,)","v":0},{"$f":"IF('10. Obj. Placement Tabl & Chart'!$F72=3,IF('10. Obj. Placement Tabl & Chart'!$E72=\"Right\",-1*'10. Obj. Placement Tabl & Chart'!$D72,'10. Obj. Placement Tabl & Chart'!$D72),)","v":0},{"$f":"IF('10. Obj. Placement Tabl & Chart'!$F72=4,'10. Obj. Placement Tabl & Chart'!$C72,)","v":0},{"$f":"IF('10. Obj. Placement Tabl & Chart'!$F72=4,IF('10. Obj. Placement Tabl & Chart'!$E72=\"Right\",-1*'10. Obj. Placement Tabl & Chart'!$D72,'10. Obj. Placement Tabl & Chart'!$D72),)","v":0},null,null,{"$f":"IF('10. Obj. Placement Tabl & Chart'!$F201=1,'10. Obj. Placement Tabl & Chart'!$C201,)","v":0},{"$f":"IF('10. Obj. Placement Tabl & Chart'!$F201=1,IF('10. Obj. Placement Tabl & Chart'!$E201=\"Right\",-1*'10. Obj. Placement Tabl & Chart'!$D201,'10. Obj. Placement Tabl & Chart'!$D201),)","v":0},{"$f":"IF('10. Obj. Placement Tabl & Chart'!$F201=2,'10. Obj. Placement Tabl & Chart'!$C201,)","v":0},{"$f":"IF('10. Obj. Placement Tabl & Chart'!$F201=2,IF('10. Obj. Placement Tabl & Chart'!$E201=\"Right\",-1*'10. Obj. Placement Tabl & Chart'!$D201,'10. Obj. Placement Tabl & Chart'!$D201),)","v":0},{"$f":"IF('10. Obj. Placement Tabl & Chart'!$F201=3,'10. Obj. Placement Tabl & Chart'!$C201,)","v":0},{"$f":"IF('10. Obj. Placement Tabl & Chart'!$F201=3,IF('10. Obj. Placement Tabl & Chart'!$E201=\"Right\",-1*'10. Obj. Placement Tabl & Chart'!$D201,'10. Obj. Placement Tabl & Chart'!$D201),)","v":0},{"$f":"IF('10. Obj. Placement Tabl & Chart'!$F201=4,'10. Obj. Placement Tabl & Chart'!$C201,)","v":0},{"$f":"IF('10. Obj. Placement Tabl & Chart'!$F201=4,IF('10. Obj. Placement Tabl & Chart'!$E201=\"Right\",-1*'10. Obj. Placement Tabl & Chart'!$D201,'10. Obj. Placement Tabl & Chart'!$D201),)","v":0}]
[null,null,null,null,null,null,null,null,null,null,null,null,null,null,null,null,null,null,null,null,null,null,null,null,null,null,null,null,null,null,null,null,null,null,null,null,null,0,{"$f":"IF(AL57=0,,SUM($BL$6:BL56)+ROUND(2*IF(AP57=1,$AV$37,IF(AP57=2,$AV$41,IF(AP57=3,$AV$45,IF(AP57=4,$AV$49,))))*RAND(),))","v":0},0,0,0,0,0,null,null,null,null,null,null,null,null,null,null,null,null,null,null,0.24032018148348833,0,0,0,0,0,null,0.19383858396224474,0,null,0,0,0,0,0,0,0.19383858396224474,null,0,0,0,0,0,0,0.19383858396224474,null,0,0,0,0,0,0,0.19383858396224474,null,0,0,0,0,0,0,0.19383858396224474,null,1,1,1,1,null,{"$f":"IF('10. Obj. Placement Tabl & Chart'!$F73=1,'10. Obj. Placement Tabl & Chart'!$C73,)","v":0},{"$f":"IF('10. Obj. Placement Tabl & Chart'!$F73=1,IF('10. Obj. Placement Tabl & Chart'!$E73=\"Right\",-1*'10. Obj. Placement Tabl & Chart'!$D73,'10. Obj. Placement Tabl & Chart'!$D73),)","v":0},{"$f":"IF('10. Obj. Placement Tabl & Chart'!$F73=2,'10. Obj. Placement Tabl & Chart'!$C73,)","v":0},{"$f":"IF('10. Obj. Placement Tabl & Chart'!$F73=2,IF('10. Obj. Placement Tabl & Chart'!$E73=\"Right\",-1*'10. Obj. Placement Tabl & Chart'!$D73,'10. Obj. Placement Tabl & Chart'!$D73),)","v":0},{"$f":"IF('10. Obj. Placement Tabl & Chart'!$F73=3,'10. Obj. Placement Tabl & Chart'!$C73,)","v":0},{"$f":"IF('10. Obj. Placement Tabl & Chart'!$F73=3,IF('10. Obj. Placement Tabl & Chart'!$E73=\"Right\",-1*'10. Obj. Placement Tabl & Chart'!$D73,'10. Obj. Placement Tabl & Chart'!$D73),)","v":0},{"$f":"IF('10. Obj. Placement Tabl & Chart'!$F73=4,'10. Obj. Placement Tabl & Chart'!$C73,)","v":0},{"$f":"IF('10. Obj. Placement Tabl & Chart'!$F73=4,IF('10. Obj. Placement Tabl & Chart'!$E73=\"Right\",-1*'10. Obj. Placement Tabl & Chart'!$D73,'10. Obj. Placement Tabl & Chart'!$D73),)","v":0},null,null,{"$f":"IF('10. Obj. Placement Tabl & Chart'!$F202=1,'10. Obj. Placement Tabl & Chart'!$C202,)","v":0},{"$f":"IF('10. Obj. Placement Tabl & Chart'!$F202=1,IF('10. Obj. Placement Tabl & Chart'!$E202=\"Right\",-1*'10. Obj. Placement Tabl & Chart'!$D202,'10. Obj. Placement Tabl & Chart'!$D202),)","v":0},{"$f":"IF('10. Obj. Placement Tabl & Chart'!$F202=2,'10. Obj. Placement Tabl & Chart'!$C202,)","v":0},{"$f":"IF('10. Obj. Placement Tabl & Chart'!$F202=2,IF('10. Obj. Placement Tabl & Chart'!$E202=\"Right\",-1*'10. Obj. Placement Tabl & Chart'!$D202,'10. Obj. Placement Tabl & Chart'!$D202),)","v":0},{"$f":"IF('10. Obj. Placement Tabl & Chart'!$F202=3,'10. Obj. Placement Tabl & Chart'!$C202,)","v":0},{"$f":"IF('10. Obj. Placement Tabl & Chart'!$F202=3,IF('10. Obj. Placement Tabl & Chart'!$E202=\"Right\",-1*'10. Obj. Placement Tabl & Chart'!$D202,'10. Obj. Placement Tabl & Chart'!$D202),)","v":0},{"$f":"IF('10. Obj. Placement Tabl & Chart'!$F202=4,'10. Obj. Placement Tabl & Chart'!$C202,)","v":0},{"$f":"IF('10. Obj. Placement Tabl & Chart'!$F202=4,IF('10. Obj. Placement Tabl & Chart'!$E202=\"Right\",-1*'10. Obj. Placement Tabl & Chart'!$D202,'10. Obj. Placement Tabl & Chart'!$D202),)","v":0}]
[null,null,null,null,null,null,null,null,null,null,null,null,null,null,null,null,null,null,null,null,null,null,null,null,null,null,null,null,null,null,null,null,null,null,null,null,null,0,{"$f":"IF(AL58=0,,SUM($BL$6:BL57)+ROUND(2*IF(AP58=1,$AV$37,IF(AP58=2,$AV$41,IF(AP58=3,$AV$45,IF(AP58=4,$AV$49,))))*RAND(),))","v":0},0,0,0,0,0,null,null,null,null,null,null,null,null,null,null,null,null,null,null,0.93568956171502293,0,0,0,0,0,null,0.36647334159589007,0,null,0,0,0,0,0,0,0.36647334159589007,null,0,0,0,0,0,0,0.36647334159589007,null,0,0,0,0,0,0,0.36647334159589007,null,0,0,0,0,0,0,0.36647334159589007,null,3,2,3,4,null,{"$f":"IF('10. Obj. Placement Tabl & Chart'!$F74=1,'10. Obj. Placement Tabl & Chart'!$C74,)","v":0},{"$f":"IF('10. Obj. Placement Tabl & Chart'!$F74=1,IF('10. Obj. Placement Tabl & Chart'!$E74=\"Right\",-1*'10. Obj. Placement Tabl & Chart'!$D74,'10. Obj. Placement Tabl & Chart'!$D74),)","v":0},{"$f":"IF('10. Obj. Placement Tabl & Chart'!$F74=2,'10. Obj. Placement Tabl & Chart'!$C74,)","v":0},{"$f":"IF('10. Obj. Placement Tabl & Chart'!$F74=2,IF('10. Obj. Placement Tabl & Chart'!$E74=\"Right\",-1*'10. Obj. Placement Tabl & Chart'!$D74,'10. Obj. Placement Tabl & Chart'!$D74),)","v":0},{"$f":"IF('10. Obj. Placement Tabl & Chart'!$F74=3,'10. Obj. Placement Tabl & Chart'!$C74,)","v":0},{"$f":"IF('10. Obj. Placement Tabl & Chart'!$F74=3,IF('10. Obj. Placement Tabl & Chart'!$E74=\"Right\",-1*'10. Obj. Placement Tabl & Chart'!$D74,'10. Obj. Placement Tabl & Chart'!$D74),)","v":0},{"$f":"IF('10. Obj. Placement Tabl & Chart'!$F74=4,'10. Obj. Placement Tabl & Chart'!$C74,)","v":0},{"$f":"IF('10. Obj. Placement Tabl & Chart'!$F74=4,IF('10. Obj. Placement Tabl & Chart'!$E74=\"Right\",-1*'10. Obj. Placement Tabl & Chart'!$D74,'10. Obj. Placement Tabl & Chart'!$D74),)","v":0},null,null,{"$f":"IF('10. Obj. Placement Tabl & Chart'!$F203=1,'10. Obj. Placement Tabl & Chart'!$C203,)","v":0},{"$f":"IF('10. Obj. Placement Tabl & Chart'!$F203=1,IF('10. Obj. Placement Tabl & Chart'!$E203=\"Right\",-1*'10. Obj. Placement Tabl & Chart'!$D203,'10. Obj. Placement Tabl & Chart'!$D203),)","v":0},{"$f":"IF('10. Obj. Placement Tabl & Chart'!$F203=2,'10. Obj. Placement Tabl & Chart'!$C203,)","v":0},{"$f":"IF('10. Obj. Placement Tabl & Chart'!$F203=2,IF('10. Obj. Placement Tabl & Chart'!$E203=\"Right\",-1*'10. Obj. Placement Tabl & Chart'!$D203,'10. Obj. Placement Tabl & Chart'!$D203),)","v":0},{"$f":"IF('10. Obj. Placement Tabl & Chart'!$F203=3,'10. Obj. Placement Tabl & Chart'!$C203,)","v":0},{"$f":"IF('10. Obj. Placement Tabl & Chart'!$F203=3,IF('10. Obj. Placement Tabl & Chart'!$E203=\"Right\",-1*'10. Obj. Placement Tabl & Chart'!$D203,'10. Obj. Placement Tabl & Chart'!$D203),)","v":0},{"$f":"IF('10. Obj. Placement Tabl & Chart'!$F203=4,'10. Obj. Placement Tabl & Chart'!$C203,)","v":0},{"$f":"IF('10. Obj. Placement Tabl & Chart'!$F203=4,IF('10. Obj. Placement Tabl & Chart'!$E203=\"Right\",-1*'10. Obj. Placement Tabl & Chart'!$D203,'10. Obj. Placement Tabl & Chart'!$D203),)","v":0}]
[null,null,null,null,null,null,null,null,null,null,null,null,null,null,null,null,null,null,null,null,null,null,null,null,null,null,null,null,null,null,null,null,null,null,null,null,null,0,{"$f":"IF(AL59=0,,SUM($BL$6:BL58)+ROUND(2*IF(AP59=1,$AV$37,IF(AP59=2,$AV$41,IF(AP59=3,$AV$45,IF(AP59=4,$AV$49,))))*RAND(),))","v":0},0,0,0,0,0,null,null,null,null,null,null,null,null,null,null,null,null,null,null,0.84258555914708444,0,0,0,0,0,null,0.53352997548895187,0,null,0,0,0,0,0,0,0.53352997548895187,null,0,0,0,0,0,0,0.53352997548895187,null,0,0,0,0,0,0,0.53352997548895187,null,0,0,0,0,0,0,0.53352997548895187,null,3,2,3,4,null,{"$f":"IF('10. Obj. Placement Tabl & Chart'!$F75=1,'10. Obj. Placement Tabl & Chart'!$C75,)","v":0},{"$f":"IF('10. Obj. Placement Tabl & Chart'!$F75=1,IF('10. Obj. Placement Tabl & Chart'!$E75=\"Right\",-1*'10. Obj. Placement Tabl & Chart'!$D75,'10. Obj. Placement Tabl & Chart'!$D75),)","v":0},{"$f":"IF('10. Obj. Placement Tabl & Chart'!$F75=2,'10. Obj. Placement Tabl & Chart'!$C75,)","v":0},{"$f":"IF('10. Obj. Placement Tabl & Chart'!$F75=2,IF('10. Obj. Placement Tabl & Chart'!$E75=\"Right\",-1*'10. Obj. Placement Tabl & Chart'!$D75,'10. Obj. Placement Tabl & Chart'!$D75),)","v":0},{"$f":"IF('10. Obj. Placement Tabl & Chart'!$F75=3,'10. Obj. Placement Tabl & Chart'!$C75,)","v":0},{"$f":"IF('10. Obj. Placement Tabl & Chart'!$F75=3,IF('10. Obj. Placement Tabl & Chart'!$E75=\"Right\",-1*'10. Obj. Placement Tabl & Chart'!$D75,'10. Obj. Placement Tabl & Chart'!$D75),)","v":0},{"$f":"IF('10. Obj. Placement Tabl & Chart'!$F75=4,'10. Obj. Placement Tabl & Chart'!$C75,)","v":0},{"$f":"IF('10. Obj. Placement Tabl & Chart'!$F75=4,IF('10. Obj. Placement Tabl & Chart'!$E75=\"Right\",-1*'10. Obj. Placement Tabl & Chart'!$D75,'10. Obj. Placement Tabl & Chart'!$D75),)","v":0},null,null,{"$f":"IF('10. Obj. Placement Tabl & Chart'!$F204=1,'10. Obj. Placement Tabl & Chart'!$C204,)","v":0},{"$f":"IF('10. Obj. Placement Tabl & Chart'!$F204=1,IF('10. Obj. Placement Tabl & Chart'!$E204=\"Right\",-1*'10. Obj. Placement Tabl & Chart'!$D204,'10. Obj. Placement Tabl & Chart'!$D204),)","v":0},{"$f":"IF('10. Obj. Placement Tabl & Chart'!$F204=2,'10. Obj. Placement Tabl & Chart'!$C204,)","v":0},{"$f":"IF('10. Obj. Placement Tabl & Chart'!$F204=2,IF('10. Obj. Placement Tabl & Chart'!$E204=\"Right\",-1*'10. Obj. Placement Tabl & Chart'!$D204,'10. Obj. Placement Tabl & Chart'!$D204),)","v":0},{"$f":"IF('10. Obj. Placement Tabl & Chart'!$F204=3,'10. Obj. Placement Tabl & Chart'!$C204,)","v":0},{"$f":"IF('10. Obj. Placement Tabl & Chart'!$F204=3,IF('10. Obj. Placement Tabl & Chart'!$E204=\"Right\",-1*'10. Obj. Placement Tabl & Chart'!$D204,'10. Obj. Placement Tabl & Chart'!$D204),)","v":0},{"$f":"IF('10. Obj. Placement Tabl & Chart'!$F204=4,'10. Obj. Placement Tabl & Chart'!$C204,)","v":0},{"$f":"IF('10. Obj. Placement Tabl & Chart'!$F204=4,IF('10. Obj. Placement Tabl & Chart'!$E204=\"Right\",-1*'10. Obj. Placement Tabl & Chart'!$D204,'10. Obj. Placement Tabl & Chart'!$D204),)","v":0}]
[null,null,null,null,null,null,null,null,null,null,null,null,null,null,null,null,null,null,null,null,null,null,null,null,null,null,null,null,null,null,null,null,null,null,null,null,null,0,{"$f":"IF(AL60=0,,SUM($BL$6:BL59)+ROUND(2*IF(AP60=1,$AV$37,IF(AP60=2,$AV$41,IF(AP60=3,$AV$45,IF(AP60=4,$AV$49,))))*RAND(),))","v":0},0,0,0,0,0,null,null,null,null,null,null,null,null,null,null,null,null,null,null,0.87527706396832061,0,0,0,0,0,null,0.98920095659919438,0,null,0,0,0,0,0,0,0.98920095659919438,null,0,0,0,0,0,0,0.98920095659919438,null,0,0,0,0,0,0,0.98920095659919438,null,0,0,0,0,0,0,0.98920095659919438,null,3,2,3,4,null,{"$f":"IF('10. Obj. Placement Tabl & Chart'!$F76=1,'10. Obj. Placement Tabl & Chart'!$C76,)","v":0},{"$f":"IF('10. Obj. Placement Tabl & Chart'!$F76=1,IF('10. Obj. Placement Tabl & Chart'!$E76=\"Right\",-1*'10. Obj. Placement Tabl & Chart'!$D76,'10. Obj. Placement Tabl & Chart'!$D76),)","v":0},{"$f":"IF('10. Obj. Placement Tabl & Chart'!$F76=2,'10. Obj. Placement Tabl & Chart'!$C76,)","v":0},{"$f":"IF('10. Obj. Placement Tabl & Chart'!$F76=2,IF('10. Obj. Placement Tabl & Chart'!$E76=\"Right\",-1*'10. Obj. Placement Tabl & Chart'!$D76,'10. Obj. Placement Tabl & Chart'!$D76),)","v":0},{"$f":"IF('10. Obj. Placement Tabl & Chart'!$F76=3,'10. Obj. Placement Tabl & Chart'!$C76,)","v":0},{"$f":"IF('10. Obj. Placement Tabl & Chart'!$F76=3,IF('10. Obj. Placement Tabl & Chart'!$E76=\"Right\",-1*'10. Obj. Placement Tabl & Chart'!$D76,'10. Obj. Placement Tabl & Chart'!$D76),)","v":0},{"$f":"IF('10. Obj. Placement Tabl & Chart'!$F76=4,'10. Obj. Placement Tabl & Chart'!$C76,)","v":0},{"$f":"IF('10. Obj. Placement Tabl & Chart'!$F76=4,IF('10. Obj. Placement Tabl & Chart'!$E76=\"Right\",-1*'10. Obj. Placement Tabl & Chart'!$D76,'10. Obj. Placement Tabl & Chart'!$D76),)","v":0},null,null,{"$f":"IF('10. Obj. Placement Tabl & Chart'!$F205=1,'10. Obj. Placement Tabl & Chart'!$C205,)","v":0},{"$f":"IF('10. Obj. Placement Tabl & Chart'!$F205=1,IF('10. Obj. Placement Tabl & Chart'!$E205=\"Right\",-1*'10. Obj. Placement Tabl & Chart'!$D205,'10. Obj. Placement Tabl & Chart'!$D205),)","v":0},{"$f":"IF('10. Obj. Placement Tabl & Chart'!$F205=2,'10. Obj. Placement Tabl & Chart'!$C205,)","v":0},{"$f":"IF('10. Obj. Placement Tabl & Chart'!$F205=2,IF('10. Obj. Placement Tabl & Chart'!$E205=\"Right\",-1*'10. Obj. Placement Tabl & Chart'!$D205,'10. Obj. Placement Tabl & Chart'!$D205),)","v":0},{"$f":"IF('10. Obj. Placement Tabl & Chart'!$F205=3,'10. Obj. Placement Tabl & Chart'!$C205,)","v":0},{"$f":"IF('10. Obj. Placement Tabl & Chart'!$F205=3,IF('10. Obj. Placement Tabl & Chart'!$E205=\"Right\",-1*'10. Obj. Placement Tabl & Chart'!$D205,'10. Obj. Placement Tabl & Chart'!$D205),)","v":0},{"$f":"IF('10. Obj. Placement Tabl & Chart'!$F205=4,'10. Obj. Placement Tabl & Chart'!$C205,)","v":0},{"$f":"IF('10. Obj. Placement Tabl & Chart'!$F205=4,IF('10. Obj. Placement Tabl & Chart'!$E205=\"Right\",-1*'10. Obj. Placement Tabl & Chart'!$D205,'10. Obj. Placement Tabl & Chart'!$D205),)","v":0}]
[null,null,null,null,null,null,null,null,null,null,null,null,null,null,null,null,null,null,null,null,null,null,null,null,null,null,null,null,null,null,null,null,null,null,null,null,null,0,{"$f":"IF(AL61=0,,SUM($BL$6:BL60)+ROUND(2*IF(AP61=1,$AV$37,IF(AP61=2,$AV$41,IF(AP61=3,$AV$45,IF(AP61=4,$AV$49,))))*RAND(),))","v":0},0,0,0,0,0,null,null,null,null,null,null,null,null,null,null,null,null,null,null,0.46131587935429996,0,0,0,0,0,null,0.43101020826964731,0,null,0,0,0,0,0,0,0.43101020826964731,null,0,0,0,0,0,0,0.43101020826964731,null,0,0,0,0,0,0,0.43101020826964731,null,0,0,0,0,0,0,0.43101020826964731,null,2,1,2,2,null,{"$f":"IF('10. Obj. Placement Tabl & Chart'!$F77=1,'10. Obj. Placement Tabl & Chart'!$C77,)","v":0},{"$f":"IF('10. Obj. Placement Tabl & Chart'!$F77=1,IF('10. Obj. Placement Tabl & Chart'!$E77=\"Right\",-1*'10. Obj. Placement Tabl & Chart'!$D77,'10. Obj. Placement Tabl & Chart'!$D77),)","v":0},{"$f":"IF('10. Obj. Placement Tabl & Chart'!$F77=2,'10. Obj. Placement Tabl & Chart'!$C77,)","v":0},{"$f":"IF('10. Obj. Placement Tabl & Chart'!$F77=2,IF('10. Obj. Placement Tabl & Chart'!$E77=\"Right\",-1*'10. Obj. Placement Tabl & Chart'!$D77,'10. Obj. Placement Tabl & Chart'!$D77),)","v":0},{"$f":"IF('10. Obj. Placement Tabl & Chart'!$F77=3,'10. Obj. Placement Tabl & Chart'!$C77,)","v":0},{"$f":"IF('10. Obj. Placement Tabl & Chart'!$F77=3,IF('10. Obj. Placement Tabl & Chart'!$E77=\"Right\",-1*'10. Obj. Placement Tabl & Chart'!$D77,'10. Obj. Placement Tabl & Chart'!$D77),)","v":0},{"$f":"IF('10. Obj. Placement Tabl & Chart'!$F77=4,'10. Obj. Placement Tabl & Chart'!$C77,)","v":0},{"$f":"IF('10. Obj. Placement Tabl & Chart'!$F77=4,IF('10. Obj. Placement Tabl & Chart'!$E77=\"Right\",-1*'10. Obj. Placement Tabl & Chart'!$D77,'10. Obj. Placement Tabl & Chart'!$D77),)","v":0},null,null,{"$f":"IF('10. Obj. Placement Tabl & Chart'!$F206=1,'10. Obj. Placement Tabl & Chart'!$C206,)","v":0},{"$f":"IF('10. Obj. Placement Tabl & Chart'!$F206=1,IF('10. Obj. Placement Tabl & Chart'!$E206=\"Right\",-1*'10. Obj. Placement Tabl & Chart'!$D206,'10. Obj. Placement Tabl & Chart'!$D206),)","v":0},{"$f":"IF('10. Obj. Placement Tabl & Chart'!$F206=2,'10. Obj. Placement Tabl & Chart'!$C206,)","v":0},{"$f":"IF('10. Obj. Placement Tabl & Chart'!$F206=2,IF('10. Obj. Placement Tabl & Chart'!$E206=\"Right\",-1*'10. Obj. Placement Tabl & Chart'!$D206,'10. Obj. Placement Tabl & Chart'!$D206),)","v":0},{"$f":"IF('10. Obj. Placement Tabl & Chart'!$F206=3,'10. Obj. Placement Tabl & Chart'!$C206,)","v":0},{"$f":"IF('10. Obj. Placement Tabl & Chart'!$F206=3,IF('10. Obj. Placement Tabl & Chart'!$E206=\"Right\",-1*'10. Obj. Placement Tabl & Chart'!$D206,'10. Obj. Placement Tabl & Chart'!$D206),)","v":0},{"$f":"IF('10. Obj. Placement Tabl & Chart'!$F206=4,'10. Obj. Placement Tabl & Chart'!$C206,)","v":0},{"$f":"IF('10. Obj. Placement Tabl & Chart'!$F206=4,IF('10. Obj. Placement Tabl & Chart'!$E206=\"Right\",-1*'10. Obj. Placement Tabl & Chart'!$D206,'10. Obj. Placement Tabl & Chart'!$D206),)","v":0}]
[null,null,null,null,null,null,null,null,null,null,null,null,null,null,null,null,null,null,null,null,null,null,null,null,null,null,null,null,null,null,null,null,null,null,null,null,null,0,{"$f":"IF(AL62=0,,SUM($BL$6:BL61)+ROUND(2*IF(AP62=1,$AV$37,IF(AP62=2,$AV$41,IF(AP62=3,$AV$45,IF(AP62=4,$AV$49,))))*RAND(),))","v":0},0,0,0,0,0,null,null,null,null,null,null,null,null,null,null,null,null,null,null,2.6374425177470462E-2,0,0,0,0,0,null,0.58909772473536592,0,null,0,0,0,0,0,0,0.58909772473536592,null,0,0,0,0,0,0,0.58909772473536592,null,0,0,0,0,0,0,0.58909772473536592,null,0,0,0,0,0,0,0.58909772473536592,null,1,1,1,1,null,{"$f":"IF('10. Obj. Placement Tabl & Chart'!$F78=1,'10. Obj. Placement Tabl & Chart'!$C78,)","v":0},{"$f":"IF('10. Obj. Placement Tabl & Chart'!$F78=1,IF('10. Obj. Placement Tabl & Chart'!$E78=\"Right\",-1*'10. Obj. Placement Tabl & Chart'!$D78,'10. Obj. Placement Tabl & Chart'!$D78),)","v":0},{"$f":"IF('10. Obj. Placement Tabl & Chart'!$F78=2,'10. Obj. Placement Tabl & Chart'!$C78,)","v":0},{"$f":"IF('10. Obj. Placement Tabl & Chart'!$F78=2,IF('10. Obj. Placement Tabl & Chart'!$E78=\"Right\",-1*'10. Obj. Placement Tabl & Chart'!$D78,'10. Obj. Placement Tabl & Chart'!$D78),)","v":0},{"$f":"IF('10. Obj. Placement Tabl & Chart'!$F78=3,'10. Obj. Placement Tabl & Chart'!$C78,)","v":0},{"$f":"IF('10. Obj. Placement Tabl & Chart'!$F78=3,IF('10. Obj. Placement Tabl & Chart'!$E78=\"Right\",-1*'10. Obj. Placement Tabl & Chart'!$D78,'10. Obj. Placement Tabl & Chart'!$D78),)","v":0},{"$f":"IF('10. Obj. Placement Tabl & Chart'!$F78=4,'10. Obj. Placement Tabl & Chart'!$C78,)","v":0},{"$f":"IF('10. Obj. Placement Tabl & Chart'!$F78=4,IF('10. Obj. Placement Tabl & Chart'!$E78=\"Right\",-1*'10. Obj. Placement Tabl & Chart'!$D78,'10. Obj. Placement Tabl & Chart'!$D78),)","v":0},null,null,{"$f":"IF('10. Obj. Placement Tabl & Chart'!$F207=1,'10. Obj. Placement Tabl & Chart'!$C207,)","v":0},{"$f":"IF('10. Obj. Placement Tabl & Chart'!$F207=1,IF('10. Obj. Placement Tabl & Chart'!$E207=\"Right\",-1*'10. Obj. Placement Tabl & Chart'!$D207,'10. Obj. Placement Tabl & Chart'!$D207),)","v":0},{"$f":"IF('10. Obj. Placement Tabl & Chart'!$F207=2,'10. Obj. Placement Tabl & Chart'!$C207,)","v":0},{"$f":"IF('10. Obj. Placement Tabl & Chart'!$F207=2,IF('10. Obj. Placement Tabl & Chart'!$E207=\"Right\",-1*'10. Obj. Placement Tabl & Chart'!$D207,'10. Obj. Placement Tabl & Chart'!$D207),)","v":0},{"$f":"IF('10. Obj. Placement Tabl & Chart'!$F207=3,'10. Obj. Placement Tabl & Chart'!$C207,)","v":0},{"$f":"IF('10. Obj. Placement Tabl & Chart'!$F207=3,IF('10. Obj. Placement Tabl & Chart'!$E207=\"Right\",-1*'10. Obj. Placement Tabl & Chart'!$D207,'10. Obj. Placement Tabl & Chart'!$D207),)","v":0},{"$f":"IF('10. Obj. Placement Tabl & Chart'!$F207=4,'10. Obj. Placement Tabl & Chart'!$C207,)","v":0},{"$f":"IF('10. Obj. Placement Tabl & Chart'!$F207=4,IF('10. Obj. Placement Tabl & Chart'!$E207=\"Right\",-1*'10. Obj. Placement Tabl & Chart'!$D207,'10. Obj. Placement Tabl & Chart'!$D207),)","v":0}]
[null,null,null,null,null,null,null,null,null,null,null,null,null,null,null,null,null,null,null,null,null,null,null,null,null,null,null,null,null,null,null,null,null,null,null,null,null,0,{"$f":"IF(AL63=0,,SUM($BL$6:BL62)+ROUND(2*IF(AP63=1,$AV$37,IF(AP63=2,$AV$41,IF(AP63=3,$AV$45,IF(AP63=4,$AV$49,))))*RAND(),))","v":0},0,0,0,0,0,null,null,null,null,null,null,null,null,null,null,null,null,null,null,0.19383960060371042,0,0,0,0,0,null,0.87757080859421066,0,null,0,0,0,0,0,0,0.87757080859421066,null,0,0,0,0,0,0,0.87757080859421066,null,0,0,0,0,0,0,0.87757080859421066,null,0,0,0,0,0,0,0.87757080859421066,null,1,1,1,1,null,{"$f":"IF('10. Obj. Placement Tabl & Chart'!$F79=1,'10. Obj. Placement Tabl & Chart'!$C79,)","v":0},{"$f":"IF('10. Obj. Placement Tabl & Chart'!$F79=1,IF('10. Obj. Placement Tabl & Chart'!$E79=\"Right\",-1*'10. Obj. Placement Tabl & Chart'!$D79,'10. Obj. Placement Tabl & Chart'!$D79),)","v":0},{"$f":"IF('10. Obj. Placement Tabl & Chart'!$F79=2,'10. Obj. Placement Tabl & Chart'!$C79,)","v":0},{"$f":"IF('10. Obj. Placement Tabl & Chart'!$F79=2,IF('10. Obj. Placement Tabl & Chart'!$E79=\"Right\",-1*'10. Obj. Placement Tabl & Chart'!$D79,'10. Obj. Placement Tabl & Chart'!$D79),)","v":0},{"$f":"IF('10. Obj. Placement Tabl & Chart'!$F79=3,'10. Obj. Placement Tabl & Chart'!$C79,)","v":0},{"$f":"IF('10. Obj. Placement Tabl & Chart'!$F79=3,IF('10. Obj. Placement Tabl & Chart'!$E79=\"Right\",-1*'10. Obj. Placement Tabl & Chart'!$D79,'10. Obj. Placement Tabl & Chart'!$D79),)","v":0},{"$f":"IF('10. Obj. Placement Tabl & Chart'!$F79=4,'10. Obj. Placement Tabl & Chart'!$C79,)","v":0},{"$f":"IF('10. Obj. Placement Tabl & Chart'!$F79=4,IF('10. Obj. Placement Tabl & Chart'!$E79=\"Right\",-1*'10. Obj. Placement Tabl & Chart'!$D79,'10. Obj. Placement Tabl & Chart'!$D79),)","v":0},null,null,{"$f":"IF('10. Obj. Placement Tabl & Chart'!$F208=1,'10. Obj. Placement Tabl & Chart'!$C208,)","v":0},{"$f":"IF('10. Obj. Placement Tabl & Chart'!$F208=1,IF('10. Obj. Placement Tabl & Chart'!$E208=\"Right\",-1*'10. Obj. Placement Tabl & Chart'!$D208,'10. Obj. Placement Tabl & Chart'!$D208),)","v":0},{"$f":"IF('10. Obj. Placement Tabl & Chart'!$F208=2,'10. Obj. Placement Tabl & Chart'!$C208,)","v":0},{"$f":"IF('10. Obj. Placement Tabl & Chart'!$F208=2,IF('10. Obj. Placement Tabl & Chart'!$E208=\"Right\",-1*'10. Obj. Placement Tabl & Chart'!$D208,'10. Obj. Placement Tabl & Chart'!$D208),)","v":0},{"$f":"IF('10. Obj. Placement Tabl & Chart'!$F208=3,'10. Obj. Placement Tabl & Chart'!$C208,)","v":0},{"$f":"IF('10. Obj. Placement Tabl & Chart'!$F208=3,IF('10. Obj. Placement Tabl & Chart'!$E208=\"Right\",-1*'10. Obj. Placement Tabl & Chart'!$D208,'10. Obj. Placement Tabl & Chart'!$D208),)","v":0},{"$f":"IF('10. Obj. Placement Tabl & Chart'!$F208=4,'10. Obj. Placement Tabl & Chart'!$C208,)","v":0},{"$f":"IF('10. Obj. Placement Tabl & Chart'!$F208=4,IF('10. Obj. Placement Tabl & Chart'!$E208=\"Right\",-1*'10. Obj. Placement Tabl & Chart'!$D208,'10. Obj. Placement Tabl & Chart'!$D208),)","v":0}]
[null,null,null,null,null,null,null,null,null,null,null,null,null,null,null,null,null,null,null,null,null,null,null,null,null,null,null,null,null,null,null,null,null,null,null,null,null,0,{"$f":"IF(AL64=0,,SUM($BL$6:BL63)+ROUND(2*IF(AP64=1,$AV$37,IF(AP64=2,$AV$41,IF(AP64=3,$AV$45,IF(AP64=4,$AV$49,))))*RAND(),))","v":0},0,0,0,0,0,null,null,null,null,null,null,null,null,null,null,null,null,null,null,0.46851032179238916,0,0,0,0,0,null,0.35717809441739146,0,null,0,0,0,0,0,0,0.35717809441739146,null,0,0,0,0,0,0,0.35717809441739146,null,0,0,0,0,0,0,0.35717809441739146,null,0,0,0,0,0,0,0.35717809441739146,null,2,1,2,2,null,{"$f":"IF('10. Obj. Placement Tabl & Chart'!$F80=1,'10. Obj. Placement Tabl & Chart'!$C80,)","v":0},{"$f":"IF('10. Obj. Placement Tabl & Chart'!$F80=1,IF('10. Obj. Placement Tabl & Chart'!$E80=\"Right\",-1*'10. Obj. Placement Tabl & Chart'!$D80,'10. Obj. Placement Tabl & Chart'!$D80),)","v":0},{"$f":"IF('10. Obj. Placement Tabl & Chart'!$F80=2,'10. Obj. Placement Tabl & Chart'!$C80,)","v":0},{"$f":"IF('10. Obj. Placement Tabl & Chart'!$F80=2,IF('10. Obj. Placement Tabl & Chart'!$E80=\"Right\",-1*'10. Obj. Placement Tabl & Chart'!$D80,'10. Obj. Placement Tabl & Chart'!$D80),)","v":0},{"$f":"IF('10. Obj. Placement Tabl & Chart'!$F80=3,'10. Obj. Placement Tabl & Chart'!$C80,)","v":0},{"$f":"IF('10. Obj. Placement Tabl & Chart'!$F80=3,IF('10. Obj. Placement Tabl & Chart'!$E80=\"Right\",-1*'10. Obj. Placement Tabl & Chart'!$D80,'10. Obj. Placement Tabl & Chart'!$D80),)","v":0},{"$f":"IF('10. Obj. Placement Tabl & Chart'!$F80=4,'10. Obj. Placement Tabl & Chart'!$C80,)","v":0},{"$f":"IF('10. Obj. Placement Tabl & Chart'!$F80=4,IF('10. Obj. Placement Tabl & Chart'!$E80=\"Right\",-1*'10. Obj. Placement Tabl & Chart'!$D80,'10. Obj. Placement Tabl & Chart'!$D80),)","v":0},null,null,{"$f":"IF('10. Obj. Placement Tabl & Chart'!$F209=1,'10. Obj. Placement Tabl & Chart'!$C209,)","v":0},{"$f":"IF('10. Obj. Placement Tabl & Chart'!$F209=1,IF('10. Obj. Placement Tabl & Chart'!$E209=\"Right\",-1*'10. Obj. Placement Tabl & Chart'!$D209,'10. Obj. Placement Tabl & Chart'!$D209),)","v":0},{"$f":"IF('10. Obj. Placement Tabl & Chart'!$F209=2,'10. Obj. Placement Tabl & Chart'!$C209,)","v":0},{"$f":"IF('10. Obj. Placement Tabl & Chart'!$F209=2,IF('10. Obj. Placement Tabl & Chart'!$E209=\"Right\",-1*'10. Obj. Placement Tabl & Chart'!$D209,'10. Obj. Placement Tabl & Chart'!$D209),)","v":0},{"$f":"IF('10. Obj. Placement Tabl & Chart'!$F209=3,'10. Obj. Placement Tabl & Chart'!$C209,)","v":0},{"$f":"IF('10. Obj. Placement Tabl & Chart'!$F209=3,IF('10. Obj. Placement Tabl & Chart'!$E209=\"Right\",-1*'10. Obj. Placement Tabl & Chart'!$D209,'10. Obj. Placement Tabl & Chart'!$D209),)","v":0},{"$f":"IF('10. Obj. Placement Tabl & Chart'!$F209=4,'10. Obj. Placement Tabl & Chart'!$C209,)","v":0},{"$f":"IF('10. Obj. Placement Tabl & Chart'!$F209=4,IF('10. Obj. Placement Tabl & Chart'!$E209=\"Right\",-1*'10. Obj. Placement Tabl & Chart'!$D209,'10. Obj. Placement Tabl & Chart'!$D209),)","v":0}]
[null,null,null,null,null,null,null,null,null,null,null,null,null,null,null,null,null,null,null,null,null,null,null,null,null,null,null,null,null,null,null,null,null,null,null,null,null,0,{"$f":"IF(AL65=0,,SUM($BL$6:BL64)+ROUND(2*IF(AP65=1,$AV$37,IF(AP65=2,$AV$41,IF(AP65=3,$AV$45,IF(AP65=4,$AV$49,))))*RAND(),))","v":0},0,0,0,0,0,null,null,null,null,null,null,null,null,null,null,null,null,null,null,0.79429435791053649,0,0,0,0,0,null,0.42534202268085042,0,null,0,0,0,0,0,0,0.42534202268085042,null,0,0,0,0,0,0,0.42534202268085042,null,0,0,0,0,0,0,0.42534202268085042,null,0,0,0,0,0,0,0.42534202268085042,null,3,2,3,4,null,{"$f":"IF('10. Obj. Placement Tabl & Chart'!$F81=1,'10. Obj. Placement Tabl & Chart'!$C81,)","v":0},{"$f":"IF('10. Obj. Placement Tabl & Chart'!$F81=1,IF('10. Obj. Placement Tabl & Chart'!$E81=\"Right\",-1*'10. Obj. Placement Tabl & Chart'!$D81,'10. Obj. Placement Tabl & Chart'!$D81),)","v":0},{"$f":"IF('10. Obj. Placement Tabl & Chart'!$F81=2,'10. Obj. Placement Tabl & Chart'!$C81,)","v":0},{"$f":"IF('10. Obj. Placement Tabl & Chart'!$F81=2,IF('10. Obj. Placement Tabl & Chart'!$E81=\"Right\",-1*'10. Obj. Placement Tabl & Chart'!$D81,'10. Obj. Placement Tabl & Chart'!$D81),)","v":0},{"$f":"IF('10. Obj. Placement Tabl & Chart'!$F81=3,'10. Obj. Placement Tabl & Chart'!$C81,)","v":0},{"$f":"IF('10. Obj. Placement Tabl & Chart'!$F81=3,IF('10. Obj. Placement Tabl & Chart'!$E81=\"Right\",-1*'10. Obj. Placement Tabl & Chart'!$D81,'10. Obj. Placement Tabl & Chart'!$D81),)","v":0},{"$f":"IF('10. Obj. Placement Tabl & Chart'!$F81=4,'10. Obj. Placement Tabl & Chart'!$C81,)","v":0},{"$f":"IF('10. Obj. Placement Tabl & Chart'!$F81=4,IF('10. Obj. Placement Tabl & Chart'!$E81=\"Right\",-1*'10. Obj. Placement Tabl & Chart'!$D81,'10. Obj. Placement Tabl & Chart'!$D81),)","v":0},null,null,{"$f":"IF('10. Obj. Placement Tabl & Chart'!$F210=1,'10. Obj. Placement Tabl & Chart'!$C210,)","v":0},{"$f":"IF('10. Obj. Placement Tabl & Chart'!$F210=1,IF('10. Obj. Placement Tabl & Chart'!$E210=\"Right\",-1*'10. Obj. Placement Tabl & Chart'!$D210,'10. Obj. Placement Tabl & Chart'!$D210),)","v":0},{"$f":"IF('10. Obj. Placement Tabl & Chart'!$F210=2,'10. Obj. Placement Tabl & Chart'!$C210,)","v":0},{"$f":"IF('10. Obj. Placement Tabl & Chart'!$F210=2,IF('10. Obj. Placement Tabl & Chart'!$E210=\"Right\",-1*'10. Obj. Placement Tabl & Chart'!$D210,'10. Obj. Placement Tabl & Chart'!$D210),)","v":0},{"$f":"IF('10. Obj. Placement Tabl & Chart'!$F210=3,'10. Obj. Placement Tabl & Chart'!$C210,)","v":0},{"$f":"IF('10. Obj. Placement Tabl & Chart'!$F210=3,IF('10. Obj. Placement Tabl & Chart'!$E210=\"Right\",-1*'10. Obj. Placement Tabl & Chart'!$D210,'10. Obj. Placement Tabl & Chart'!$D210),)","v":0},{"$f":"IF('10. Obj. Placement Tabl & Chart'!$F210=4,'10. Obj. Placement Tabl & Chart'!$C210,)","v":0},{"$f":"IF('10. Obj. Placement Tabl & Chart'!$F210=4,IF('10. Obj. Placement Tabl & Chart'!$E210=\"Right\",-1*'10. Obj. Placement Tabl & Chart'!$D210,'10. Obj. Placement Tabl & Chart'!$D210),)","v":0}]
[null,null,null,null,null,null,null,null,null,null,null,null,null,null,null,null,null,null,null,null,null,null,null,null,null,null,null,null,null,null,null,null,null,null,null,null,null,0,{"$f":"IF(AL66=0,,SUM($BL$6:BL65)+ROUND(2*IF(AP66=1,$AV$37,IF(AP66=2,$AV$41,IF(AP66=3,$AV$45,IF(AP66=4,$AV$49,))))*RAND(),))","v":0},0,0,0,0,0,null,null,null,null,null,null,null,null,null,null,null,null,null,null,0.6645286946864295,0,0,0,0,0,null,0.57714024032555944,0,null,0,0,0,0,0,0,0.57714024032555944,null,0,0,0,0,0,0,0.57714024032555944,null,0,0,0,0,0,0,0.57714024032555944,null,0,0,0,0,0,0,0.57714024032555944,null,2,2,2,3,null,{"$f":"IF('10. Obj. Placement Tabl & Chart'!$F82=1,'10. Obj. Placement Tabl & Chart'!$C82,)","v":0},{"$f":"IF('10. Obj. Placement Tabl & Chart'!$F82=1,IF('10. Obj. Placement Tabl & Chart'!$E82=\"Right\",-1*'10. Obj. Placement Tabl & Chart'!$D82,'10. Obj. Placement Tabl & Chart'!$D82),)","v":0},{"$f":"IF('10. Obj. Placement Tabl & Chart'!$F82=2,'10. Obj. Placement Tabl & Chart'!$C82,)","v":0},{"$f":"IF('10. Obj. Placement Tabl & Chart'!$F82=2,IF('10. Obj. Placement Tabl & Chart'!$E82=\"Right\",-1*'10. Obj. Placement Tabl & Chart'!$D82,'10. Obj. Placement Tabl & Chart'!$D82),)","v":0},{"$f":"IF('10. Obj. Placement Tabl & Chart'!$F82=3,'10. Obj. Placement Tabl & Chart'!$C82,)","v":0},{"$f":"IF('10. Obj. Placement Tabl & Chart'!$F82=3,IF('10. Obj. Placement Tabl & Chart'!$E82=\"Right\",-1*'10. Obj. Placement Tabl & Chart'!$D82,'10. Obj. Placement Tabl & Chart'!$D82),)","v":0},{"$f":"IF('10. Obj. Placement Tabl & Chart'!$F82=4,'10. Obj. Placement Tabl & Chart'!$C82,)","v":0},{"$f":"IF('10. Obj. Placement Tabl & Chart'!$F82=4,IF('10. Obj. Placement Tabl & Chart'!$E82=\"Right\",-1*'10. Obj. Placement Tabl & Chart'!$D82,'10. Obj. Placement Tabl & Chart'!$D82),)","v":0},null,null,{"$f":"IF('10. Obj. Placement Tabl & Chart'!$F211=1,'10. Obj. Placement Tabl & Chart'!$C211,)","v":0},{"$f":"IF('10. Obj. Placement Tabl & Chart'!$F211=1,IF('10. Obj. Placement Tabl & Chart'!$E211=\"Right\",-1*'10. Obj. Placement Tabl & Chart'!$D211,'10. Obj. Placement Tabl & Chart'!$D211),)","v":0},{"$f":"IF('10. Obj. Placement Tabl & Chart'!$F211=2,'10. Obj. Placement Tabl & Chart'!$C211,)","v":0},{"$f":"IF('10. Obj. Placement Tabl & Chart'!$F211=2,IF('10. Obj. Placement Tabl & Chart'!$E211=\"Right\",-1*'10. Obj. Placement Tabl & Chart'!$D211,'10. Obj. Placement Tabl & Chart'!$D211),)","v":0},{"$f":"IF('10. Obj. Placement Tabl & Chart'!$F211=3,'10. Obj. Placement Tabl & Chart'!$C211,)","v":0},{"$f":"IF('10. Obj. Placement Tabl & Chart'!$F211=3,IF('10. Obj. Placement Tabl & Chart'!$E211=\"Right\",-1*'10. Obj. Placement Tabl & Chart'!$D211,'10. Obj. Placement Tabl & Chart'!$D211),)","v":0},{"$f":"IF('10. Obj. Placement Tabl & Chart'!$F211=4,'10. Obj. Placement Tabl & Chart'!$C211,)","v":0},{"$f":"IF('10. Obj. Placement Tabl & Chart'!$F211=4,IF('10. Obj. Placement Tabl & Chart'!$E211=\"Right\",-1*'10. Obj. Placement Tabl & Chart'!$D211,'10. Obj. Placement Tabl & Chart'!$D211),)","v":0}]
[null,null,null,null,null,null,null,null,null,null,null,null,null,null,null,null,null,null,null,null,null,null,null,null,null,null,null,null,null,null,null,null,null,null,null,null,null,0,{"$f":"IF(AL67=0,,SUM($BL$6:BL66)+ROUND(2*IF(AP67=1,$AV$37,IF(AP67=2,$AV$41,IF(AP67=3,$AV$45,IF(AP67=4,$AV$49,))))*RAND(),))","v":0},0,0,0,0,0,null,null,null,null,null,null,null,null,null,null,null,null,null,null,0.58992280184865975,0,0,0,0,0,null,0.85305053322187752,0,null,0,0,0,0,0,0,0.85305053322187752,null,0,0,0,0,0,0,0.85305053322187752,null,0,0,0,0,0,0,0.85305053322187752,null,0,0,0,0,0,0,0.85305053322187752,null,2,2,2,3,null,{"$f":"IF('10. Obj. Placement Tabl & Chart'!$F83=1,'10. Obj. Placement Tabl & Chart'!$C83,)","v":0},{"$f":"IF('10. Obj. Placement Tabl & Chart'!$F83=1,IF('10. Obj. Placement Tabl & Chart'!$E83=\"Right\",-1*'10. Obj. Placement Tabl & Chart'!$D83,'10. Obj. Placement Tabl & Chart'!$D83),)","v":0},{"$f":"IF('10. Obj. Placement Tabl & Chart'!$F83=2,'10. Obj. Placement Tabl & Chart'!$C83,)","v":0},{"$f":"IF('10. Obj. Placement Tabl & Chart'!$F83=2,IF('10. Obj. Placement Tabl & Chart'!$E83=\"Right\",-1*'10. Obj. Placement Tabl & Chart'!$D83,'10. Obj. Placement Tabl & Chart'!$D83),)","v":0},{"$f":"IF('10. Obj. Placement Tabl & Chart'!$F83=3,'10. Obj. Placement Tabl & Chart'!$C83,)","v":0},{"$f":"IF('10. Obj. Placement Tabl & Chart'!$F83=3,IF('10. Obj. Placement Tabl & Chart'!$E83=\"Right\",-1*'10. Obj. Placement Tabl & Chart'!$D83,'10. Obj. Placement Tabl & Chart'!$D83),)","v":0},{"$f":"IF('10. Obj. Placement Tabl & Chart'!$F83=4,'10. Obj. Placement Tabl & Chart'!$C83,)","v":0},{"$f":"IF('10. Obj. Placement Tabl & Chart'!$F83=4,IF('10. Obj. Placement Tabl & Chart'!$E83=\"Right\",-1*'10. Obj. Placement Tabl & Chart'!$D83,'10. Obj. Placement Tabl & Chart'!$D83),)","v":0},null,null,{"$f":"IF('10. Obj. Placement Tabl & Chart'!$F212=1,'10. Obj. Placement Tabl & Chart'!$C212,)","v":0},{"$f":"IF('10. Obj. Placement Tabl & Chart'!$F212=1,IF('10. Obj. Placement Tabl & Chart'!$E212=\"Right\",-1*'10. Obj. Placement Tabl & Chart'!$D212,'10. Obj. Placement Tabl & Chart'!$D212),)","v":0},{"$f":"IF('10. Obj. Placement Tabl & Chart'!$F212=2,'10. Obj. Placement Tabl & Chart'!$C212,)","v":0},{"$f":"IF('10. Obj. Placement Tabl & Chart'!$F212=2,IF('10. Obj. Placement Tabl & Chart'!$E212=\"Right\",-1*'10. Obj. Placement Tabl & Chart'!$D212,'10. Obj. Placement Tabl & Chart'!$D212),)","v":0},{"$f":"IF('10. Obj. Placement Tabl & Chart'!$F212=3,'10. Obj. Placement Tabl & Chart'!$C212,)","v":0},{"$f":"IF('10. Obj. Placement Tabl & Chart'!$F212=3,IF('10. Obj. Placement Tabl & Chart'!$E212=\"Right\",-1*'10. Obj. Placement Tabl & Chart'!$D212,'10. Obj. Placement Tabl & Chart'!$D212),)","v":0},{"$f":"IF('10. Obj. Placement Tabl & Chart'!$F212=4,'10. Obj. Placement Tabl & Chart'!$C212,)","v":0},{"$f":"IF('10. Obj. Placement Tabl & Chart'!$F212=4,IF('10. Obj. Placement Tabl & Chart'!$E212=\"Right\",-1*'10. Obj. Placement Tabl & Chart'!$D212,'10. Obj. Placement Tabl & Chart'!$D212),)","v":0}]
[null,null,null,null,null,null,null,null,null,null,null,null,null,null,null,null,null,null,null,null,null,null,null,null,null,null,null,null,null,null,null,null,null,null,null,null,null,0,{"$f":"IF(AL68=0,,SUM($BL$6:BL67)+ROUND(2*IF(AP68=1,$AV$37,IF(AP68=2,$AV$41,IF(AP68=3,$AV$45,IF(AP68=4,$AV$49,))))*RAND(),))","v":0},0,0,0,0,0,null,null,null,null,null,null,null,null,null,null,null,null,null,null,0.51652608781461362,0,0,0,0,0,null,4.5357813297223215E-2,0,null,0,0,0,0,0,0,4.5357813297223215E-2,null,0,0,0,0,0,0,4.5357813297223215E-2,null,0,0,0,0,0,0,4.5357813297223215E-2,null,0,0,0,0,0,0,4.5357813297223215E-2,null,2,2,2,3,null,{"$f":"IF('10. Obj. Placement Tabl & Chart'!$F84=1,'10. Obj. Placement Tabl & Chart'!$C84,)","v":0},{"$f":"IF('10. Obj. Placement Tabl & Chart'!$F84=1,IF('10. Obj. Placement Tabl & Chart'!$E84=\"Right\",-1*'10. Obj. Placement Tabl & Chart'!$D84,'10. Obj. Placement Tabl & Chart'!$D84),)","v":0},{"$f":"IF('10. Obj. Placement Tabl & Chart'!$F84=2,'10. Obj. Placement Tabl & Chart'!$C84,)","v":0},{"$f":"IF('10. Obj. Placement Tabl & Chart'!$F84=2,IF('10. Obj. Placement Tabl & Chart'!$E84=\"Right\",-1*'10. Obj. Placement Tabl & Chart'!$D84,'10. Obj. Placement Tabl & Chart'!$D84),)","v":0},{"$f":"IF('10. Obj. Placement Tabl & Chart'!$F84=3,'10. Obj. Placement Tabl & Chart'!$C84,)","v":0},{"$f":"IF('10. Obj. Placement Tabl & Chart'!$F84=3,IF('10. Obj. Placement Tabl & Chart'!$E84=\"Right\",-1*'10. Obj. Placement Tabl & Chart'!$D84,'10. Obj. Placement Tabl & Chart'!$D84),)","v":0},{"$f":"IF('10. Obj. Placement Tabl & Chart'!$F84=4,'10. Obj. Placement Tabl & Chart'!$C84,)","v":0},{"$f":"IF('10. Obj. Placement Tabl & Chart'!$F84=4,IF('10. Obj. Placement Tabl & Chart'!$E84=\"Right\",-1*'10. Obj. Placement Tabl & Chart'!$D84,'10. Obj. Placement Tabl & Chart'!$D84),)","v":0},null,null,{"$f":"IF('10. Obj. Placement Tabl & Chart'!$F213=1,'10. Obj. Placement Tabl & Chart'!$C213,)","v":0},{"$f":"IF('10. Obj. Placement Tabl & Chart'!$F213=1,IF('10. Obj. Placement Tabl & Chart'!$E213=\"Right\",-1*'10. Obj. Placement Tabl & Chart'!$D213,'10. Obj. Placement Tabl & Chart'!$D213),)","v":0},{"$f":"IF('10. Obj. Placement Tabl & Chart'!$F213=2,'10. Obj. Placement Tabl & Chart'!$C213,)","v":0},{"$f":"IF('10. Obj. Placement Tabl & Chart'!$F213=2,IF('10. Obj. Placement Tabl & Chart'!$E213=\"Right\",-1*'10. Obj. Placement Tabl & Chart'!$D213,'10. Obj. Placement Tabl & Chart'!$D213),)","v":0},{"$f":"IF('10. Obj. Placement Tabl & Chart'!$F213=3,'10. Obj. Placement Tabl & Chart'!$C213,)","v":0},{"$f":"IF('10. Obj. Placement Tabl & Chart'!$F213=3,IF('10. Obj. Placement Tabl & Chart'!$E213=\"Right\",-1*'10. Obj. Placement Tabl & Chart'!$D213,'10. Obj. Placement Tabl & Chart'!$D213),)","v":0},{"$f":"IF('10. Obj. Placement Tabl & Chart'!$F213=4,'10. Obj. Placement Tabl & Chart'!$C213,)","v":0},{"$f":"IF('10. Obj. Placement Tabl & Chart'!$F213=4,IF('10. Obj. Placement Tabl & Chart'!$E213=\"Right\",-1*'10. Obj. Placement Tabl & Chart'!$D213,'10. Obj. Placement Tabl & Chart'!$D213),)","v":0}]
[null,null,null,null,null,null,null,null,null,null,null,null,null,null,null,null,null,null,null,null,null,null,null,null,null,null,null,null,null,null,null,null,null,null,null,null,null,0,{"$f":"IF(AL69=0,,SUM($BL$6:BL68)+ROUND(2*IF(AP69=1,$AV$37,IF(AP69=2,$AV$41,IF(AP69=3,$AV$45,IF(AP69=4,$AV$49,))))*RAND(),))","v":0},0,0,0,0,0,null,null,null,null,null,null,null,null,null,null,null,null,null,null,0.27608635653058478,0,0,0,0,0,null,0.35681471626720163,0,null,0,0,0,0,0,0,0.35681471626720163,null,0,0,0,0,0,0,0.35681471626720163,null,0,0,0,0,0,0,0.35681471626720163,null,0,0,0,0,0,0,0.35681471626720163,null,1,1,1,2,null,{"$f":"IF('10. Obj. Placement Tabl & Chart'!$F85=1,'10. Obj. Placement Tabl & Chart'!$C85,)","v":0},{"$f":"IF('10. Obj. Placement Tabl & Chart'!$F85=1,IF('10. Obj. Placement Tabl & Chart'!$E85=\"Right\",-1*'10. Obj. Placement Tabl & Chart'!$D85,'10. Obj. Placement Tabl & Chart'!$D85),)","v":0},{"$f":"IF('10. Obj. Placement Tabl & Chart'!$F85=2,'10. Obj. Placement Tabl & Chart'!$C85,)","v":0},{"$f":"IF('10. Obj. Placement Tabl & Chart'!$F85=2,IF('10. Obj. Placement Tabl & Chart'!$E85=\"Right\",-1*'10. Obj. Placement Tabl & Chart'!$D85,'10. Obj. Placement Tabl & Chart'!$D85),)","v":0},{"$f":"IF('10. Obj. Placement Tabl & Chart'!$F85=3,'10. Obj. Placement Tabl & Chart'!$C85,)","v":0},{"$f":"IF('10. Obj. Placement Tabl & Chart'!$F85=3,IF('10. Obj. Placement Tabl & Chart'!$E85=\"Right\",-1*'10. Obj. Placement Tabl & Chart'!$D85,'10. Obj. Placement Tabl & Chart'!$D85),)","v":0},{"$f":"IF('10. Obj. Placement Tabl & Chart'!$F85=4,'10. Obj. Placement Tabl & Chart'!$C85,)","v":0},{"$f":"IF('10. Obj. Placement Tabl & Chart'!$F85=4,IF('10. Obj. Placement Tabl & Chart'!$E85=\"Right\",-1*'10. Obj. Placement Tabl & Chart'!$D85,'10. Obj. Placement Tabl & Chart'!$D85),)","v":0},null,null,{"$f":"IF('10. Obj. Placement Tabl & Chart'!$F214=1,'10. Obj. Placement Tabl & Chart'!$C214,)","v":0},{"$f":"IF('10. Obj. Placement Tabl & Chart'!$F214=1,IF('10. Obj. Placement Tabl & Chart'!$E214=\"Right\",-1*'10. Obj. Placement Tabl & Chart'!$D214,'10. Obj. Placement Tabl & Chart'!$D214),)","v":0},{"$f":"IF('10. Obj. Placement Tabl & Chart'!$F214=2,'10. Obj. Placement Tabl & Chart'!$C214,)","v":0},{"$f":"IF('10. Obj. Placement Tabl & Chart'!$F214=2,IF('10. Obj. Placement Tabl & Chart'!$E214=\"Right\",-1*'10. Obj. Placement Tabl & Chart'!$D214,'10. Obj. Placement Tabl & Chart'!$D214),)","v":0},{"$f":"IF('10. Obj. Placement Tabl & Chart'!$F214=3,'10. Obj. Placement Tabl & Chart'!$C214,)","v":0},{"$f":"IF('10. Obj. Placement Tabl & Chart'!$F214=3,IF('10. Obj. Placement Tabl & Chart'!$E214=\"Right\",-1*'10. Obj. Placement Tabl & Chart'!$D214,'10. Obj. Placement Tabl & Chart'!$D214),)","v":0},{"$f":"IF('10. Obj. Placement Tabl & Chart'!$F214=4,'10. Obj. Placement Tabl & Chart'!$C214,)","v":0},{"$f":"IF('10. Obj. Placement Tabl & Chart'!$F214=4,IF('10. Obj. Placement Tabl & Chart'!$E214=\"Right\",-1*'10. Obj. Placement Tabl & Chart'!$D214,'10. Obj. Placement Tabl & Chart'!$D214),)","v":0}]
[null,null,null,null,null,null,null,null,null,null,null,null,null,null,null,null,null,null,null,null,null,null,null,null,null,null,null,null,null,null,null,null,null,null,null,null,null,0,{"$f":"IF(AL70=0,,SUM($BL$6:BL69)+ROUND(2*IF(AP70=1,$AV$37,IF(AP70=2,$AV$41,IF(AP70=3,$AV$45,IF(AP70=4,$AV$49,))))*RAND(),))","v":0},{"$f":"IF(BO70<0.5,BO70,ROUND(BO70,))","v":0},0,0,0,0,null,null,null,null,null,null,null,null,null,null,null,null,null,null,{"$f":"RAND()","v":0.11902084466368767},0,0,0,0,{"$f":"3*IF(AP70=1,$AV$37,IF(AP70=2,$AV$41,IF(AP70=3,$AV$45,$AV$49)))","v":0},null,{"$f":"RAND()","v":1.5091972789735841E-3},{"$f":"ROUND(IF(AM70=0,,1.5*IF(AP70=1,$AV$37*BW70,IF(AP70=2,$AV$41*CE70,IF(AP70=3,$AV$45*CM70,$AV$49*CU70)))),2)","v":0},null,0,0,0,0,0,0,{"$f":"IF(BQ70=1,$BN70*$AZ$7,IF(BQ70=2,$AZ$7+$BN70*$BA$7,IF(BQ70=3,($AZ$7+$BA$7)+$BN70*($BB$7),IF(BQ70=4,SUM($AZ$7:$BB$7)+$BN70*$BC$7,IF(BQ70=5,SUM($AZ$7:$BC$7)+$BN70*$BD$7,$BN70)))))","v":1.5091972789735841E-3},null,{"$f":"IF(SUM(BZ70:CD70)=0,,IF($BN70<=BZ70/SUM(BZ70:CD70),1,IF($BN70<=(BZ70+CA70)/SUM(BZ70:CD70),2,IF($BN70<=SUM(BZ70:CB70)/SUM(BZ70:CD70),3,IF($BN70<=SUM(BZ70:CC70)/SUM(BZ70:CD70),4,5)))))","v":0},0,0,0,0,0,{"$f":"IF(BY70=1,$BN70*$AZ$7,IF(BY70=2,$AZ$7+$BN70*$BA$7,IF(BY70=3,($AZ$7+$BA$7)+$BN70*($BB$7),IF(BY70=4,SUM($AZ$7:$BB$7)+$BN70*$BC$7,IF(BY70=5,SUM($AZ$7:$BC$7)+$BN70*$BD$7,$BN70)))))","v":1.5091972789735841E-3},null,{"$f":"IF(SUM(CH70:CL70)=0,,IF($BN70<=CH70/SUM(CH70:CL70),1,IF($BN70<=(CH70+CI70)/SUM(CH70:CL70),2,IF($BN70<=SUM(CH70:CJ70)/SUM(CH70:CL70),3,IF($BN70<=SUM(CH70:CK70)/SUM(CH70:CL70),4,5)))))","v":0},0,0,0,0,0,{"$f":"IF(CG70=1,$BN70*$AZ$7,IF(CG70=2,$AZ$7+$BN70*$BA$7,IF(CG70=3,($AZ$7+$BA$7)+$BN70*($BB$7),IF(CG70=4,SUM($AZ$7:$BB$7)+$BN70*$BC$7,IF(CG70=5,SUM($AZ$7:$BC$7)+$BN70*$BD$7,$BN70)))))","v":1.5091972789735841E-3},null,{"$f":"IF(SUM(CP70:CT70)=0,,IF($BN70<=CP70/SUM(CP70:CT70),1,IF($BN70<=(CP70+CQ70)/SUM(CP70:CT70),2,IF($BN70<=SUM(CP70:CR70)/SUM(CP70:CT70),3,IF($BN70<=SUM(CP70:CS70)/SUM(CP70:CT70),4,5)))))","v":0},0,0,0,0,0,{"$f":"IF(CO70=1,$BN70*$AZ$7,IF(CO70=2,$AZ$7+$BN70*$BA$7,IF(CO70=3,($AZ$7+$BA$7)+$BN70*($BB$7),IF(CO70=4,SUM($AZ$7:$BB$7)+$BN70*$BC$7,IF(CO70=5,SUM($AZ$7:$BC$7)+$BN70*$BD$7,$BN70)))))","v":1.5091972789735841E-3},null,{"$f":"IF($BC$3=1,1,IF($BC$3=2,CX70,IF($BC$3=3,CY70,CZ70)))","v":1},{"$f":"IF(BG70<0.5,1,2)","v":1},{"$f":"IF(BG70<1/3,1,IF(BG70<2/3,2,3))","v":1},{"$f":"IF(BG70<0.25,1,IF(BG70<0.5,2,IF(BG70<0.75,3,4)))","v":1},null,{"$f":"IF('10. Obj. Placement Tabl & Chart'!$F86=1,'10. Obj. Placement Tabl & Chart'!$C86,)","v":0},{"$f":"IF('10. Obj. Placement Tabl & Chart'!$F86=1,IF('10. Obj. Placement Tabl & Chart'!$E86=\"Right\",-1*'10. Obj. Placement Tabl & Chart'!$D86,'10. Obj. Placement Tabl & Chart'!$D86),)","v":0},{"$f":"IF('10. Obj. Placement Tabl & Chart'!$F86=2,'10. Obj. Placement Tabl & Chart'!$C86,)","v":0},{"$f":"IF('10. Obj. Placement Tabl & Chart'!$F86=2,IF('10. Obj. Placement Tabl & Chart'!$E86=\"Right\",-1*'10. Obj. Placement Tabl & Chart'!$D86,'10. Obj. Placement Tabl & Chart'!$D86),)","v":0},{"$f":"IF('10. Obj. Placement Tabl & Chart'!$F86=3,'10. Obj. Placement Tabl & Chart'!$C86,)","v":0},{"$f":"IF('10. Obj. Placement Tabl & Chart'!$F86=3,IF('10. Obj. Placement Tabl & Chart'!$E86=\"Right\",-1*'10. Obj. Placement Tabl & Chart'!$D86,'10. Obj. Placement Tabl & Chart'!$D86),)","v":0},{"$f":"IF('10. Obj. Placement Tabl & Chart'!$F86=4,'10. Obj. Placement Tabl & Chart'!$C86,)","v":0},{"$f":"IF('10. Obj. Placement Tabl & Chart'!$F86=4,IF('10. Obj. Placement Tabl & Chart'!$E86=\"Right\",-1*'10. Obj. Placement Tabl & Chart'!$D86,'10. Obj. Placement Tabl & Chart'!$D86),)","v":0},null,null,{"$f":"IF('10. Obj. Placement Tabl & Chart'!$F215=1,'10. Obj. Placement Tabl & Chart'!$C215,)","v":0},{"$f":"IF('10. Obj. Placement Tabl & Chart'!$F215=1,IF('10. Obj. Placement Tabl & Chart'!$E215=\"Right\",-1*'10. Obj. Placement Tabl & Chart'!$D215,'10. Obj. Placement Tabl & Chart'!$D215),)","v":0},{"$f":"IF('10. Obj. Placement Tabl & Chart'!$F215=2,'10. Obj. Placement Tabl & Chart'!$C215,)","v":0},{"$f":"IF('10. Obj. Placement Tabl & Chart'!$F215=2,IF('10. Obj. Placement Tabl & Chart'!$E215=\"Right\",-1*'10. Obj. Placement Tabl & Chart'!$D215,'10. Obj. Placement Tabl & Chart'!$D215),)","v":0},{"$f":"IF('10. Obj. Placement Tabl & Chart'!$F215=3,'10. Obj. Placement Tabl & Chart'!$C215,)","v":0},{"$f":"IF('10. Obj. Placement Tabl & Chart'!$F215=3,IF('10. Obj. Placement Tabl & Chart'!$E215=\"Right\",-1*'10. Obj. Placement Tabl & Chart'!$D215,'10. Obj. Placement Tabl & Chart'!$D215),)","v":0},{"$f":"IF('10. Obj. Placement Tabl & Chart'!$F215=4,'10. Obj. Placement Tabl & Chart'!$C215,)","v":0},{"$f":"IF('10. Obj. Placement Tabl & Chart'!$F215=4,IF('10. Obj. Placement Tabl & Chart'!$E215=\"Right\",-1*'10. Obj. Placement Tabl & Chart'!$D215,'10. Obj. Placement Tabl & Chart'!$D215),)","v":0}]
[null,null,null,null,null,null,null,null,null,null,null,null,null,null,null,null,null,null,null,null,null,null,null,null,null,null,null,null,null,null,null,null,null,null,null,null,null,{"$f":"IF(AL70=0,,IF(SUM(BH71:BK71)=0,IF(AM70<=$AZ$19,AL70+1,),AL70+1))","v":0},{"$f":"IF(AL71=0,,SUM($BL$6:BL70)+ROUND(2*IF(AP71=1,$AV$37,IF(AP71=2,$AV$41,IF(AP71=3,$AV$45,IF(AP71=4,$AV$49,))))*RAND(),))","v":0},0,{"$f":"IF(AM71=0,,IF(RAND()>=0.5,\"Right\",\"Left\"))","v":0},{"$f":"IF(AL71=0,,IF(SUM(BH71:BK71)=0,CW71,IF(AP70=0,,IF(BG71<=(BH71/SUM(BH71:BK71)),1,IF(BG71<=((BH71+BI71)/SUM(BH71:BK71)),2,IF(BG71<=((BH71+BI71+BJ71)/SUM(BH71:BK71)),3,4))))))","v":0},{"$f":"IF(AM71=0,,IF(AP71=1,$AT$36,IF(AP71=2,$AT$40,IF(AP71=3,$AT$44,$AT$48))))","v":0},{"$f":"IF(AM71=0,,RAND()*360)","v":0},null,null,null,null,null,null,null,null,null,null,null,null,null,null,0.70911104513684875,{"$f":"IF(BH70=0,,IF(AP70=1,BH70-1,BH70))","v":0},{"$f":"IF(BI70=0,,IF(AP70=2,BI70-1,BI70))","v":0},{"$f":"IF(BJ70=0,,IF(AP70=3,BJ70-1,BJ70))","v":0},{"$f":"IF(BK70=0,,IF(AP70=4,BK70-1,BK70))","v":0},0,null,0.53035609031599396,0,null,{"$f":"IF(SUM(BR71:BV71)=0,,IF($BN71<=BR71/SUM(BR71:BV71),1,IF($BN71<=(BR71+BS71)/SUM(BR71:BV71),2,IF($BN71<=SUM(BR71:BT71)/SUM(BR71:BV71),3,IF($BN71<=SUM(BR71:BU71)/SUM(BR71:BV71),4,5)))))","v":0},{"$f":"IF(BR70=0,,IF(AND($AP70=1,$BQ70=1),BR70-1,BR70))","v":0},{"$f":"IF(BS70=0,,IF(AND($AP70=1,$BQ70=2),BS70-1,BS70))","v":0},{"$f":"IF(BT70=0,,IF(AND($AP70=1,$BQ70=3),BT70-1,BT70))","v":0},{"$f":"IF(BU70=0,,IF(AND($AP70=1,$BQ70=4),BU70-1,BU70))","v":0},{"$f":"IF(BV70=0,,IF(AND($AP70=1,$BQ70=5),BV70-1,BV70))","v":0},0.53035609031599396,null,0,{"$f":"IF(BZ70=0,,IF(AND($AP70=2,$BY70=1),BZ70-1,BZ70))","v":0},{"$f":"IF(CA70=0,,IF(AND($AP70=2,$BY70=2),CA70-1,CA70))","v":0},{"$f":"IF(CB70=0,,IF(AND($AP70=2,$BY70=3),CB70-1,CB70))","v":0},{"$f":"IF(CC70=0,,IF(AND($AP70=2,$BY70=4),CC70-1,CC70))","v":0},{"$f":"IF(CD70=0,,IF(AND($AP70=2,$BY70=5),CD70-1,CD70))","v":0},0.53035609031599396,null,0,{"$f":"IF(CH70=0,,IF(AND($AP70=3,$CG70=1),CH70-1,CH70))","v":0},{"$f":"IF(CI70=0,,IF(AND($AP70=3,$CG70=2),CI70-1,CI70))","v":0},{"$f":"IF(CJ70=0,,IF(AND($AP70=3,$CG70=3),CJ70-1,CJ70))","v":0},{"$f":"IF(CK70=0,,IF(AND($AP70=3,$CG70=4),CK70-1,CK70))","v":0},{"$f":"IF(CL70=0,,IF(AND($AP70=3,$CG70=5),CL70-1,CL70))","v":0},0.53035609031599396,null,0,{"$f":"IF(CP70=0,,IF(AND($AP70=4,$CO70=1),CP70-1,CP70))","v":0},{"$f":"IF(CQ70=0,,IF(AND($AP70=4,$CO70=2),CQ70-1,CQ70))","v":0},{"$f":"IF(CR70=0,,IF(AND($AP70=4,$CO70=3),CR70-1,CR70))","v":0},{"$f":"IF(CS70=0,,IF(AND($AP70=4,$CO70=4),CS70-1,CS70))","v":0},{"$f":"IF(CT70=0,,IF(AND($AP70=4,$CO70=5),CT70-1,CT70))","v":0},0.53035609031599396,null,3,2,3,3,null,{"$f":"IF('10. Obj. Placement Tabl & Chart'!$F87=1,'10. Obj. Placement Tabl & Chart'!$C87,)","v":0},{"$f":"IF('10. Obj. Placement Tabl & Chart'!$F87=1,IF('10. Obj. Placement Tabl & Chart'!$E87=\"Right\",-1*'10. Obj. Placement Tabl & Chart'!$D87,'10. Obj. Placement Tabl & Chart'!$D87),)","v":0},{"$f":"IF('10. Obj. Placement Tabl & Chart'!$F87=2,'10. Obj. Placement Tabl & Chart'!$C87,)","v":0},{"$f":"IF('10. Obj. Placement Tabl & Chart'!$F87=2,IF('10. Obj. Placement Tabl & Chart'!$E87=\"Right\",-1*'10. Obj. Placement Tabl & Chart'!$D87,'10. Obj. Placement Tabl & Chart'!$D87),)","v":0},{"$f":"IF('10. Obj. Placement Tabl & Chart'!$F87=3,'10. Obj. Placement Tabl & Chart'!$C87,)","v":0},{"$f":"IF('10. Obj. Placement Tabl & Chart'!$F87=3,IF('10. Obj. Placement Tabl & Chart'!$E87=\"Right\",-1*'10. Obj. Placement Tabl & Chart'!$D87,'10. Obj. Placement Tabl & Chart'!$D87),)","v":0},{"$f":"IF('10. Obj. Placement Tabl & Chart'!$F87=4,'10. Obj. Placement Tabl & Chart'!$C87,)","v":0},{"$f":"IF('10. Obj. Placement Tabl & Chart'!$F87=4,IF('10. Obj. Placement Tabl & Chart'!$E87=\"Right\",-1*'10. Obj. Placement Tabl & Chart'!$D87,'10. Obj. Placement Tabl & Chart'!$D87),)","v":0},null,null,{"$f":"IF('10. Obj. Placement Tabl & Chart'!$F216=1,'10. Obj. Placement Tabl & Chart'!$C216,)","v":0},{"$f":"IF('10. Obj. Placement Tabl & Chart'!$F216=1,IF('10. Obj. Placement Tabl & Chart'!$E216=\"Right\",-1*'10. Obj. Placement Tabl & Chart'!$D216,'10. Obj. Placement Tabl & Chart'!$D216),)","v":0},{"$f":"IF('10. Obj. Placement Tabl & Chart'!$F216=2,'10. Obj. Placement Tabl & Chart'!$C216,)","v":0},{"$f":"IF('10. Obj. Placement Tabl & Chart'!$F216=2,IF('10. Obj. Placement Tabl & Chart'!$E216=\"Right\",-1*'10. Obj. Placement Tabl & Chart'!$D216,'10. Obj. Placement Tabl & Chart'!$D216),)","v":0},{"$f":"IF('10. Obj. Placement Tabl & Chart'!$F216=3,'10. Obj. Placement Tabl & Chart'!$C216,)","v":0},{"$f":"IF('10. Obj. Placement Tabl & Chart'!$F216=3,IF('10. Obj. Placement Tabl & Chart'!$E216=\"Right\",-1*'10. Obj. Placement Tabl & Chart'!$D216,'10. Obj. Placement Tabl & Chart'!$D216),)","v":0},{"$f":"IF('10. Obj. Placement Tabl & Chart'!$F216=4,'10. Obj. Placement Tabl & Chart'!$C216,)","v":0},{"$f":"IF('10. Obj. Placement Tabl & Chart'!$F216=4,IF('10. Obj. Placement Tabl & Chart'!$E216=\"Right\",-1*'10. Obj. Placement Tabl & Chart'!$D216,'10. Obj. Placement Tabl & Chart'!$D216),)","v":0}]
[null,null,null,null,null,null,null,null,null,null,null,null,null,null,null,null,null,null,null,null,null,null,null,null,null,null,null,null,null,null,null,null,null,null,null,null,null,0,{"$f":"IF(AL72=0,,SUM($BL$6:BL71)+ROUND(2*IF(AP72=1,$AV$37,IF(AP72=2,$AV$41,IF(AP72=3,$AV$45,IF(AP72=4,$AV$49,))))*RAND(),))","v":0},0,0,0,0,0,null,null,null,null,null,null,null,null,null,null,null,null,null,null,0.40108255502247203,0,0,0,0,0,null,0.12957875570777111,0,null,0,0,0,0,0,0,0.12957875570777111,null,0,0,0,0,0,0,0.12957875570777111,null,0,0,0,0,0,0,0.12957875570777111,null,0,0,0,0,0,0,0.12957875570777111,null,2,1,2,2,null,{"$f":"IF('10. Obj. Placement Tabl & Chart'!$F88=1,'10. Obj. Placement Tabl & Chart'!$C88,)","v":0},{"$f":"IF('10. Obj. Placement Tabl & Chart'!$F88=1,IF('10. Obj. Placement Tabl & Chart'!$E88=\"Right\",-1*'10. Obj. Placement Tabl & Chart'!$D88,'10. Obj. Placement Tabl & Chart'!$D88),)","v":0},{"$f":"IF('10. Obj. Placement Tabl & Chart'!$F88=2,'10. Obj. Placement Tabl & Chart'!$C88,)","v":0},{"$f":"IF('10. Obj. Placement Tabl & Chart'!$F88=2,IF('10. Obj. Placement Tabl & Chart'!$E88=\"Right\",-1*'10. Obj. Placement Tabl & Chart'!$D88,'10. Obj. Placement Tabl & Chart'!$D88),)","v":0},{"$f":"IF('10. Obj. Placement Tabl & Chart'!$F88=3,'10. Obj. Placement Tabl & Chart'!$C88,)","v":0},{"$f":"IF('10. Obj. Placement Tabl & Chart'!$F88=3,IF('10. Obj. Placement Tabl & Chart'!$E88=\"Right\",-1*'10. Obj. Placement Tabl & Chart'!$D88,'10. Obj. Placement Tabl & Chart'!$D88),)","v":0},{"$f":"IF('10. Obj. Placement Tabl & Chart'!$F88=4,'10. Obj. Placement Tabl & Chart'!$C88,)","v":0},{"$f":"IF('10. Obj. Placement Tabl & Chart'!$F88=4,IF('10. Obj. Placement Tabl & Chart'!$E88=\"Right\",-1*'10. Obj. Placement Tabl & Chart'!$D88,'10. Obj. Placement Tabl & Chart'!$D88),)","v":0},null,null,{"$f":"IF('10. Obj. Placement Tabl & Chart'!$F217=1,'10. Obj. Placement Tabl & Chart'!$C217,)","v":0},{"$f":"IF('10. Obj. Placement Tabl & Chart'!$F217=1,IF('10. Obj. Placement Tabl & Chart'!$E217=\"Right\",-1*'10. Obj. Placement Tabl & Chart'!$D217,'10. Obj. Placement Tabl & Chart'!$D217),)","v":0},{"$f":"IF('10. Obj. Placement Tabl & Chart'!$F217=2,'10. Obj. Placement Tabl & Chart'!$C217,)","v":0},{"$f":"IF('10. Obj. Placement Tabl & Chart'!$F217=2,IF('10. Obj. Placement Tabl & Chart'!$E217=\"Right\",-1*'10. Obj. Placement Tabl & Chart'!$D217,'10. Obj. Placement Tabl & Chart'!$D217),)","v":0},{"$f":"IF('10. Obj. Placement Tabl & Chart'!$F217=3,'10. Obj. Placement Tabl & Chart'!$C217,)","v":0},{"$f":"IF('10. Obj. Placement Tabl & Chart'!$F217=3,IF('10. Obj. Placement Tabl & Chart'!$E217=\"Right\",-1*'10. Obj. Placement Tabl & Chart'!$D217,'10. Obj. Placement Tabl & Chart'!$D217),)","v":0},{"$f":"IF('10. Obj. Placement Tabl & Chart'!$F217=4,'10. Obj. Placement Tabl & Chart'!$C217,)","v":0},{"$f":"IF('10. Obj. Placement Tabl & Chart'!$F217=4,IF('10. Obj. Placement Tabl & Chart'!$E217=\"Right\",-1*'10. Obj. Placement Tabl & Chart'!$D217,'10. Obj. Placement Tabl & Chart'!$D217),)","v":0}]
[null,null,null,null,null,null,null,null,null,null,null,null,null,null,null,null,null,null,null,null,null,null,null,null,null,null,null,null,null,null,null,null,null,null,null,null,null,0,{"$f":"IF(AL73=0,,SUM($BL$6:BL72)+ROUND(2*IF(AP73=1,$AV$37,IF(AP73=2,$AV$41,IF(AP73=3,$AV$45,IF(AP73=4,$AV$49,))))*RAND(),))","v":0},0,0,0,0,0,null,null,null,null,null,null,null,null,null,null,null,null,null,null,0.51583965507073737,0,0,0,0,0,null,0.4974075253583653,0,null,0,0,0,0,0,0,0.4974075253583653,null,0,0,0,0,0,0,0.4974075253583653,null,0,0,0,0,0,0,0.4974075253583653,null,0,0,0,0,0,0,0.4974075253583653,null,2,2,2,3,null,{"$f":"IF('10. Obj. Placement Tabl & Chart'!$F89=1,'10. Obj. Placement Tabl & Chart'!$C89,)","v":0},{"$f":"IF('10. Obj. Placement Tabl & Chart'!$F89=1,IF('10. Obj. Placement Tabl & Chart'!$E89=\"Right\",-1*'10. Obj. Placement Tabl & Chart'!$D89,'10. Obj. Placement Tabl & Chart'!$D89),)","v":0},{"$f":"IF('10. Obj. Placement Tabl & Chart'!$F89=2,'10. Obj. Placement Tabl & Chart'!$C89,)","v":0},{"$f":"IF('10. Obj. Placement Tabl & Chart'!$F89=2,IF('10. Obj. Placement Tabl & Chart'!$E89=\"Right\",-1*'10. Obj. Placement Tabl & Chart'!$D89,'10. Obj. Placement Tabl & Chart'!$D89),)","v":0},{"$f":"IF('10. Obj. Placement Tabl & Chart'!$F89=3,'10. Obj. Placement Tabl & Chart'!$C89,)","v":0},{"$f":"IF('10. Obj. Placement Tabl & Chart'!$F89=3,IF('10. Obj. Placement Tabl & Chart'!$E89=\"Right\",-1*'10. Obj. Placement Tabl & Chart'!$D89,'10. Obj. Placement Tabl & Chart'!$D89),)","v":0},{"$f":"IF('10. Obj. Placement Tabl & Chart'!$F89=4,'10. Obj. Placement Tabl & Chart'!$C89,)","v":0},{"$f":"IF('10. Obj. Placement Tabl & Chart'!$F89=4,IF('10. Obj. Placement Tabl & Chart'!$E89=\"Right\",-1*'10. Obj. Placement Tabl & Chart'!$D89,'10. Obj. Placement Tabl & Chart'!$D89),)","v":0},null,null,{"$f":"IF('10. Obj. Placement Tabl & Chart'!$F218=1,'10. Obj. Placement Tabl & Chart'!$C218,)","v":0},{"$f":"IF('10. Obj. Placement Tabl & Chart'!$F218=1,IF('10. Obj. Placement Tabl & Chart'!$E218=\"Right\",-1*'10. Obj. Placement Tabl & Chart'!$D218,'10. Obj. Placement Tabl & Chart'!$D218),)","v":0},{"$f":"IF('10. Obj. Placement Tabl & Chart'!$F218=2,'10. Obj. Placement Tabl & Chart'!$C218,)","v":0},{"$f":"IF('10. Obj. Placement Tabl & Chart'!$F218=2,IF('10. Obj. Placement Tabl & Chart'!$E218=\"Right\",-1*'10. Obj. Placement Tabl & Chart'!$D218,'10. Obj. Placement Tabl & Chart'!$D218),)","v":0},{"$f":"IF('10. Obj. Placement Tabl & Chart'!$F218=3,'10. Obj. Placement Tabl & Chart'!$C218,)","v":0},{"$f":"IF('10. Obj. Placement Tabl & Chart'!$F218=3,IF('10. Obj. Placement Tabl & Chart'!$E218=\"Right\",-1*'10. Obj. Placement Tabl & Chart'!$D218,'10. Obj. Placement Tabl & Chart'!$D218),)","v":0},{"$f":"IF('10. Obj. Placement Tabl & Chart'!$F218=4,'10. Obj. Placement Tabl & Chart'!$C218,)","v":0},{"$f":"IF('10. Obj. Placement Tabl & Chart'!$F218=4,IF('10. Obj. Placement Tabl & Chart'!$E218=\"Right\",-1*'10. Obj. Placement Tabl & Chart'!$D218,'10. Obj. Placement Tabl & Chart'!$D218),)","v":0}]
[null,null,null,null,null,null,null,null,null,null,null,null,null,null,null,null,null,null,null,null,null,null,null,null,null,null,null,null,null,null,null,null,null,null,null,null,null,0,{"$f":"IF(AL74=0,,SUM($BL$6:BL73)+ROUND(2*IF(AP74=1,$AV$37,IF(AP74=2,$AV$41,IF(AP74=3,$AV$45,IF(AP74=4,$AV$49,))))*RAND(),))","v":0},0,0,0,0,0,null,null,null,null,null,null,null,null,null,null,null,null,null,null,0.58689307238860122,0,0,0,0,0,null,0.12931786886241781,0,null,0,0,0,0,0,0,0.12931786886241781,null,0,0,0,0,0,0,0.12931786886241781,null,0,0,0,0,0,0,0.12931786886241781,null,0,0,0,0,0,0,0.12931786886241781,null,2,2,2,3,null,{"$f":"IF('10. Obj. Placement Tabl & Chart'!$F90=1,'10. Obj. Placement Tabl & Chart'!$C90,)","v":0},{"$f":"IF('10. Obj. Placement Tabl & Chart'!$F90=1,IF('10. Obj. Placement Tabl & Chart'!$E90=\"Right\",-1*'10. Obj. Placement Tabl & Chart'!$D90,'10. Obj. Placement Tabl & Chart'!$D90),)","v":0},{"$f":"IF('10. Obj. Placement Tabl & Chart'!$F90=2,'10. Obj. Placement Tabl & Chart'!$C90,)","v":0},{"$f":"IF('10. Obj. Placement Tabl & Chart'!$F90=2,IF('10. Obj. Placement Tabl & Chart'!$E90=\"Right\",-1*'10. Obj. Placement Tabl & Chart'!$D90,'10. Obj. Placement Tabl & Chart'!$D90),)","v":0},{"$f":"IF('10. Obj. Placement Tabl & Chart'!$F90=3,'10. Obj. Placement Tabl & Chart'!$C90,)","v":0},{"$f":"IF('10. Obj. Placement Tabl & Chart'!$F90=3,IF('10. Obj. Placement Tabl & Chart'!$E90=\"Right\",-1*'10. Obj. Placement Tabl & Chart'!$D90,'10. Obj. Placement Tabl & Chart'!$D90),)","v":0},{"$f":"IF('10. Obj. Placement Tabl & Chart'!$F90=4,'10. Obj. Placement Tabl & Chart'!$C90,)","v":0},{"$f":"IF('10. Obj. Placement Tabl & Chart'!$F90=4,IF('10. Obj. Placement Tabl & Chart'!$E90=\"Right\",-1*'10. Obj. Placement Tabl & Chart'!$D90,'10. Obj. Placement Tabl & Chart'!$D90),)","v":0},null,null,{"$f":"IF('10. Obj. Placement Tabl & Chart'!$F219=1,'10. Obj. Placement Tabl & Chart'!$C219,)","v":0},{"$f":"IF('10. Obj. Placement Tabl & Chart'!$F219=1,IF('10. Obj. Placement Tabl & Chart'!$E219=\"Right\",-1*'10. Obj. Placement Tabl & Chart'!$D219,'10. Obj. Placement Tabl & Chart'!$D219),)","v":0},{"$f":"IF('10. Obj. Placement Tabl & Chart'!$F219=2,'10. Obj. Placement Tabl & Chart'!$C219,)","v":0},{"$f":"IF('10. Obj. Placement Tabl & Chart'!$F219=2,IF('10. Obj. Placement Tabl & Chart'!$E219=\"Right\",-1*'10. Obj. Placement Tabl & Chart'!$D219,'10. Obj. Placement Tabl & Chart'!$D219),)","v":0},{"$f":"IF('10. Obj. Placement Tabl & Chart'!$F219=3,'10. Obj. Placement Tabl & Chart'!$C219,)","v":0},{"$f":"IF('10. Obj. Placement Tabl & Chart'!$F219=3,IF('10. Obj. Placement Tabl & Chart'!$E219=\"Right\",-1*'10. Obj. Placement Tabl & Chart'!$D219,'10. Obj. Placement Tabl & Chart'!$D219),)","v":0},{"$f":"IF('10. Obj. Placement Tabl & Chart'!$F219=4,'10. Obj. Placement Tabl & Chart'!$C219,)","v":0},{"$f":"IF('10. Obj. Placement Tabl & Chart'!$F219=4,IF('10. Obj. Placement Tabl & Chart'!$E219=\"Right\",-1*'10. Obj. Placement Tabl & Chart'!$D219,'10. Obj. Placement Tabl & Chart'!$D219),)","v":0}]
[null,null,null,null,null,null,null,null,null,null,null,null,null,null,null,null,null,null,null,null,null,null,null,null,null,null,null,null,null,null,null,null,null,null,null,null,null,0,{"$f":"IF(AL75=0,,SUM($BL$6:BL74)+ROUND(2*IF(AP75=1,$AV$37,IF(AP75=2,$AV$41,IF(AP75=3,$AV$45,IF(AP75=4,$AV$49,))))*RAND(),))","v":0},0,0,0,0,0,null,null,null,null,null,null,null,null,null,null,null,null,null,null,3.4398102477738557E-2,0,0,0,0,0,null,0.20177081595332236,0,null,0,0,0,0,0,0,0.20177081595332236,null,0,0,0,0,0,0,0.20177081595332236,null,0,0,0,0,0,0,0.20177081595332236,null,0,0,0,0,0,0,0.20177081595332236,null,1,1,1,1,null,{"$f":"IF('10. Obj. Placement Tabl & Chart'!$F91=1,'10. Obj. Placement Tabl & Chart'!$C91,)","v":0},{"$f":"IF('10. Obj. Placement Tabl & Chart'!$F91=1,IF('10. Obj. Placement Tabl & Chart'!$E91=\"Right\",-1*'10. Obj. Placement Tabl & Chart'!$D91,'10. Obj. Placement Tabl & Chart'!$D91),)","v":0},{"$f":"IF('10. Obj. Placement Tabl & Chart'!$F91=2,'10. Obj. Placement Tabl & Chart'!$C91,)","v":0},{"$f":"IF('10. Obj. Placement Tabl & Chart'!$F91=2,IF('10. Obj. Placement Tabl & Chart'!$E91=\"Right\",-1*'10. Obj. Placement Tabl & Chart'!$D91,'10. Obj. Placement Tabl & Chart'!$D91),)","v":0},{"$f":"IF('10. Obj. Placement Tabl & Chart'!$F91=3,'10. Obj. Placement Tabl & Chart'!$C91,)","v":0},{"$f":"IF('10. Obj. Placement Tabl & Chart'!$F91=3,IF('10. Obj. Placement Tabl & Chart'!$E91=\"Right\",-1*'10. Obj. Placement Tabl & Chart'!$D91,'10. Obj. Placement Tabl & Chart'!$D91),)","v":0},{"$f":"IF('10. Obj. Placement Tabl & Chart'!$F91=4,'10. Obj. Placement Tabl & Chart'!$C91,)","v":0},{"$f":"IF('10. Obj. Placement Tabl & Chart'!$F91=4,IF('10. Obj. Placement Tabl & Chart'!$E91=\"Right\",-1*'10. Obj. Placement Tabl & Chart'!$D91,'10. Obj. Placement Tabl & Chart'!$D91),)","v":0},null,null,{"$f":"IF('10. Obj. Placement Tabl & Chart'!$F220=1,'10. Obj. Placement Tabl & Chart'!$C220,)","v":0},{"$f":"IF('10. Obj. Placement Tabl & Chart'!$F220=1,IF('10. Obj. Placement Tabl & Chart'!$E220=\"Right\",-1*'10. Obj. Placement Tabl & Chart'!$D220,'10. Obj. Placement Tabl & Chart'!$D220),)","v":0},{"$f":"IF('10. Obj. Placement Tabl & Chart'!$F220=2,'10. Obj. Placement Tabl & Chart'!$C220,)","v":0},{"$f":"IF('10. Obj. Placement Tabl & Chart'!$F220=2,IF('10. Obj. Placement Tabl & Chart'!$E220=\"Right\",-1*'10. Obj. Placement Tabl & Chart'!$D220,'10. Obj. Placement Tabl & Chart'!$D220),)","v":0},{"$f":"IF('10. Obj. Placement Tabl & Chart'!$F220=3,'10. Obj. Placement Tabl & Chart'!$C220,)","v":0},{"$f":"IF('10. Obj. Placement Tabl & Chart'!$F220=3,IF('10. Obj. Placement Tabl & Chart'!$E220=\"Right\",-1*'10. Obj. Placement Tabl & Chart'!$D220,'10. Obj. Placement Tabl & Chart'!$D220),)","v":0},{"$f":"IF('10. Obj. Placement Tabl & Chart'!$F220=4,'10. Obj. Placement Tabl & Chart'!$C220,)","v":0},{"$f":"IF('10. Obj. Placement Tabl & Chart'!$F220=4,IF('10. Obj. Placement Tabl & Chart'!$E220=\"Right\",-1*'10. Obj. Placement Tabl & Chart'!$D220,'10. Obj. Placement Tabl & Chart'!$D220),)","v":0}]
[null,null,null,null,null,null,null,null,null,null,null,null,null,null,null,null,null,null,null,null,null,null,null,null,null,null,null,null,null,null,null,null,null,null,null,null,null,0,{"$f":"IF(AL76=0,,SUM($BL$6:BL75)+ROUND(2*IF(AP76=1,$AV$37,IF(AP76=2,$AV$41,IF(AP76=3,$AV$45,IF(AP76=4,$AV$49,))))*RAND(),))","v":0},0,0,0,0,0,null,null,null,null,null,null,null,null,null,null,null,null,null,null,0.29486758461313578,0,0,0,0,0,null,8.4631358528294398E-2,0,null,0,0,0,0,0,0,8.4631358528294398E-2,null,0,0,0,0,0,0,8.4631358528294398E-2,null,0,0,0,0,0,0,8.4631358528294398E-2,null,0,0,0,0,0,0,8.4631358528294398E-2,null,1,1,1,2,null,{"$f":"IF('10. Obj. Placement Tabl & Chart'!$F92=1,'10. Obj. Placement Tabl & Chart'!$C92,)","v":0},{"$f":"IF('10. Obj. Placement Tabl & Chart'!$F92=1,IF('10. Obj. Placement Tabl & Chart'!$E92=\"Right\",-1*'10. Obj. Placement Tabl & Chart'!$D92,'10. Obj. Placement Tabl & Chart'!$D92),)","v":0},{"$f":"IF('10. Obj. Placement Tabl & Chart'!$F92=2,'10. Obj. Placement Tabl & Chart'!$C92,)","v":0},{"$f":"IF('10. Obj. Placement Tabl & Chart'!$F92=2,IF('10. Obj. Placement Tabl & Chart'!$E92=\"Right\",-1*'10. Obj. Placement Tabl & Chart'!$D92,'10. Obj. Placement Tabl & Chart'!$D92),)","v":0},{"$f":"IF('10. Obj. Placement Tabl & Chart'!$F92=3,'10. Obj. Placement Tabl & Chart'!$C92,)","v":0},{"$f":"IF('10. Obj. Placement Tabl & Chart'!$F92=3,IF('10. Obj. Placement Tabl & Chart'!$E92=\"Right\",-1*'10. Obj. Placement Tabl & Chart'!$D92,'10. Obj. Placement Tabl & Chart'!$D92),)","v":0},{"$f":"IF('10. Obj. Placement Tabl & Chart'!$F92=4,'10. Obj. Placement Tabl & Chart'!$C92,)","v":0},{"$f":"IF('10. Obj. Placement Tabl & Chart'!$F92=4,IF('10. Obj. Placement Tabl & Chart'!$E92=\"Right\",-1*'10. Obj. Placement Tabl & Chart'!$D92,'10. Obj. Placement Tabl & Chart'!$D92),)","v":0},null,null,{"$f":"IF('10. Obj. Placement Tabl & Chart'!$F221=1,'10. Obj. Placement Tabl & Chart'!$C221,)","v":0},{"$f":"IF('10. Obj. Placement Tabl & Chart'!$F221=1,IF('10. Obj. Placement Tabl & Chart'!$E221=\"Right\",-1*'10. Obj. Placement Tabl & Chart'!$D221,'10. Obj. Placement Tabl & Chart'!$D221),)","v":0},{"$f":"IF('10. Obj. Placement Tabl & Chart'!$F221=2,'10. Obj. Placement Tabl & Chart'!$C221,)","v":0},{"$f":"IF('10. Obj. Placement Tabl & Chart'!$F221=2,IF('10. Obj. Placement Tabl & Chart'!$E221=\"Right\",-1*'10. Obj. Placement Tabl & Chart'!$D221,'10. Obj. Placement Tabl & Chart'!$D221),)","v":0},{"$f":"IF('10. Obj. Placement Tabl & Chart'!$F221=3,'10. Obj. Placement Tabl & Chart'!$C221,)","v":0},{"$f":"IF('10. Obj. Placement Tabl & Chart'!$F221=3,IF('10. Obj. Placement Tabl & Chart'!$E221=\"Right\",-1*'10. Obj. Placement Tabl & Chart'!$D221,'10. Obj. Placement Tabl & Chart'!$D221),)","v":0},{"$f":"IF('10. Obj. Placement Tabl & Chart'!$F221=4,'10. Obj. Placement Tabl & Chart'!$C221,)","v":0},{"$f":"IF('10. Obj. Placement Tabl & Chart'!$F221=4,IF('10. Obj. Placement Tabl & Chart'!$E221=\"Right\",-1*'10. Obj. Placement Tabl & Chart'!$D221,'10. Obj. Placement Tabl & Chart'!$D221),)","v":0}]
[null,null,null,null,null,null,null,null,null,null,null,null,null,null,null,null,null,null,null,null,null,null,null,null,null,null,null,null,null,null,null,null,null,null,null,null,null,0,{"$f":"IF(AL77=0,,SUM($BL$6:BL76)+ROUND(2*IF(AP77=1,$AV$37,IF(AP77=2,$AV$41,IF(AP77=3,$AV$45,IF(AP77=4,$AV$49,))))*RAND(),))","v":0},0,0,0,0,0,null,null,null,null,null,null,null,null,null,null,null,null,null,null,0.86126746795252473,0,0,0,0,0,null,0.56979658708134528,0,null,0,0,0,0,0,0,0.56979658708134528,null,0,0,0,0,0,0,0.56979658708134528,null,0,0,0,0,0,0,0.56979658708134528,null,0,0,0,0,0,0,0.56979658708134528,null,3,2,3,4,null,{"$f":"IF('10. Obj. Placement Tabl & Chart'!$F93=1,'10. Obj. Placement Tabl & Chart'!$C93,)","v":0},{"$f":"IF('10. Obj. Placement Tabl & Chart'!$F93=1,IF('10. Obj. Placement Tabl & Chart'!$E93=\"Right\",-1*'10. Obj. Placement Tabl & Chart'!$D93,'10. Obj. Placement Tabl & Chart'!$D93),)","v":0},{"$f":"IF('10. Obj. Placement Tabl & Chart'!$F93=2,'10. Obj. Placement Tabl & Chart'!$C93,)","v":0},{"$f":"IF('10. Obj. Placement Tabl & Chart'!$F93=2,IF('10. Obj. Placement Tabl & Chart'!$E93=\"Right\",-1*'10. Obj. Placement Tabl & Chart'!$D93,'10. Obj. Placement Tabl & Chart'!$D93),)","v":0},{"$f":"IF('10. Obj. Placement Tabl & Chart'!$F93=3,'10. Obj. Placement Tabl & Chart'!$C93,)","v":0},{"$f":"IF('10. Obj. Placement Tabl & Chart'!$F93=3,IF('10. Obj. Placement Tabl & Chart'!$E93=\"Right\",-1*'10. Obj. Placement Tabl & Chart'!$D93,'10. Obj. Placement Tabl & Chart'!$D93),)","v":0},{"$f":"IF('10. Obj. Placement Tabl & Chart'!$F93=4,'10. Obj. Placement Tabl & Chart'!$C93,)","v":0},{"$f":"IF('10. Obj. Placement Tabl & Chart'!$F93=4,IF('10. Obj. Placement Tabl & Chart'!$E93=\"Right\",-1*'10. Obj. Placement Tabl & Chart'!$D93,'10. Obj. Placement Tabl & Chart'!$D93),)","v":0},null,null,{"$f":"IF('10. Obj. Placement Tabl & Chart'!$F222=1,'10. Obj. Placement Tabl & Chart'!$C222,)","v":0},{"$f":"IF('10. Obj. Placement Tabl & Chart'!$F222=1,IF('10. Obj. Placement Tabl & Chart'!$E222=\"Right\",-1*'10. Obj. Placement Tabl & Chart'!$D222,'10. Obj. Placement Tabl & Chart'!$D222),)","v":0},{"$f":"IF('10. Obj. Placement Tabl & Chart'!$F222=2,'10. Obj. Placement Tabl & Chart'!$C222,)","v":0},{"$f":"IF('10. Obj. Placement Tabl & Chart'!$F222=2,IF('10. Obj. Placement Tabl & Chart'!$E222=\"Right\",-1*'10. Obj. Placement Tabl & Chart'!$D222,'10. Obj. Placement Tabl & Chart'!$D222),)","v":0},{"$f":"IF('10. Obj. Placement Tabl & Chart'!$F222=3,'10. Obj. Placement Tabl & Chart'!$C222,)","v":0},{"$f":"IF('10. Obj. Placement Tabl & Chart'!$F222=3,IF('10. Obj. Placement Tabl & Chart'!$E222=\"Right\",-1*'10. Obj. Placement Tabl & Chart'!$D222,'10. Obj. Placement Tabl & Chart'!$D222),)","v":0},{"$f":"IF('10. Obj. Placement Tabl & Chart'!$F222=4,'10. Obj. Placement Tabl & Chart'!$C222,)","v":0},{"$f":"IF('10. Obj. Placement Tabl & Chart'!$F222=4,IF('10. Obj. Placement Tabl & Chart'!$E222=\"Right\",-1*'10. Obj. Placement Tabl & Chart'!$D222,'10. Obj. Placement Tabl & Chart'!$D222),)","v":0}]
[null,null,null,null,null,null,null,null,null,null,null,null,null,null,null,null,null,null,null,null,null,null,null,null,null,null,null,null,null,null,null,null,null,null,null,null,null,0,{"$f":"IF(AL78=0,,SUM($BL$6:BL77)+ROUND(2*IF(AP78=1,$AV$37,IF(AP78=2,$AV$41,IF(AP78=3,$AV$45,IF(AP78=4,$AV$49,))))*RAND(),))","v":0},0,0,0,0,0,null,null,null,null,null,null,null,null,null,null,null,null,null,null,0.43563510521015802,0,0,0,0,0,null,0.97729328705588669,0,null,0,0,0,0,0,0,0.97729328705588669,null,0,0,0,0,0,0,0.97729328705588669,null,0,0,0,0,0,0,0.97729328705588669,null,0,0,0,0,0,0,0.97729328705588669,null,2,1,2,2,null,{"$f":"IF('10. Obj. Placement Tabl & Chart'!$F94=1,'10. Obj. Placement Tabl & Chart'!$C94,)","v":0},{"$f":"IF('10. Obj. Placement Tabl & Chart'!$F94=1,IF('10. Obj. Placement Tabl & Chart'!$E94=\"Right\",-1*'10. Obj. Placement Tabl & Chart'!$D94,'10. Obj. Placement Tabl & Chart'!$D94),)","v":0},{"$f":"IF('10. Obj. Placement Tabl & Chart'!$F94=2,'10. Obj. Placement Tabl & Chart'!$C94,)","v":0},{"$f":"IF('10. Obj. Placement Tabl & Chart'!$F94=2,IF('10. Obj. Placement Tabl & Chart'!$E94=\"Right\",-1*'10. Obj. Placement Tabl & Chart'!$D94,'10. Obj. Placement Tabl & Chart'!$D94),)","v":0},{"$f":"IF('10. Obj. Placement Tabl & Chart'!$F94=3,'10. Obj. Placement Tabl & Chart'!$C94,)","v":0},{"$f":"IF('10. Obj. Placement Tabl & Chart'!$F94=3,IF('10. Obj. Placement Tabl & Chart'!$E94=\"Right\",-1*'10. Obj. Placement Tabl & Chart'!$D94,'10. Obj. Placement Tabl & Chart'!$D94),)","v":0},{"$f":"IF('10. Obj. Placement Tabl & Chart'!$F94=4,'10. Obj. Placement Tabl & Chart'!$C94,)","v":0},{"$f":"IF('10. Obj. Placement Tabl & Chart'!$F94=4,IF('10. Obj. Placement Tabl & Chart'!$E94=\"Right\",-1*'10. Obj. Placement Tabl & Chart'!$D94,'10. Obj. Placement Tabl & Chart'!$D94),)","v":0},null,null,{"$f":"IF('10. Obj. Placement Tabl & Chart'!$F223=1,'10. Obj. Placement Tabl & Chart'!$C223,)","v":0},{"$f":"IF('10. Obj. Placement Tabl & Chart'!$F223=1,IF('10. Obj. Placement Tabl & Chart'!$E223=\"Right\",-1*'10. Obj. Placement Tabl & Chart'!$D223,'10. Obj. Placement Tabl & Chart'!$D223),)","v":0},{"$f":"IF('10. Obj. Placement Tabl & Chart'!$F223=2,'10. Obj. Placement Tabl & Chart'!$C223,)","v":0},{"$f":"IF('10. Obj. Placement Tabl & Chart'!$F223=2,IF('10. Obj. Placement Tabl & Chart'!$E223=\"Right\",-1*'10. Obj. Placement Tabl & Chart'!$D223,'10. Obj. Placement Tabl & Chart'!$D223),)","v":0},{"$f":"IF('10. Obj. Placement Tabl & Chart'!$F223=3,'10. Obj. Placement Tabl & Chart'!$C223,)","v":0},{"$f":"IF('10. Obj. Placement Tabl & Chart'!$F223=3,IF('10. Obj. Placement Tabl & Chart'!$E223=\"Right\",-1*'10. Obj. Placement Tabl & Chart'!$D223,'10. Obj. Placement Tabl & Chart'!$D223),)","v":0},{"$f":"IF('10. Obj. Placement Tabl & Chart'!$F223=4,'10. Obj. Placement Tabl & Chart'!$C223,)","v":0},{"$f":"IF('10. Obj. Placement Tabl & Chart'!$F223=4,IF('10. Obj. Placement Tabl & Chart'!$E223=\"Right\",-1*'10. Obj. Placement Tabl & Chart'!$D223,'10. Obj. Placement Tabl & Chart'!$D223),)","v":0}]
[null,null,null,null,null,null,null,null,null,null,null,null,null,null,null,null,null,null,null,null,null,null,null,null,null,null,null,null,null,null,null,null,null,null,null,null,null,0,{"$f":"IF(AL79=0,,SUM($BL$6:BL78)+ROUND(2*IF(AP79=1,$AV$37,IF(AP79=2,$AV$41,IF(AP79=3,$AV$45,IF(AP79=4,$AV$49,))))*RAND(),))","v":0},0,0,0,0,0,null,null,null,null,null,null,null,null,null,null,null,null,null,null,0.45372494882131076,0,0,0,0,0,null,0.50513525970264983,0,null,0,0,0,0,0,0,0.50513525970264983,null,0,0,0,0,0,0,0.50513525970264983,null,0,0,0,0,0,0,0.50513525970264983,null,0,0,0,0,0,0,0.50513525970264983,null,2,1,2,2,null,{"$f":"IF('10. Obj. Placement Tabl & Chart'!$F95=1,'10. Obj. Placement Tabl & Chart'!$C95,)","v":0},{"$f":"IF('10. Obj. Placement Tabl & Chart'!$F95=1,IF('10. Obj. Placement Tabl & Chart'!$E95=\"Right\",-1*'10. Obj. Placement Tabl & Chart'!$D95,'10. Obj. Placement Tabl & Chart'!$D95),)","v":0},{"$f":"IF('10. Obj. Placement Tabl & Chart'!$F95=2,'10. Obj. Placement Tabl & Chart'!$C95,)","v":0},{"$f":"IF('10. Obj. Placement Tabl & Chart'!$F95=2,IF('10. Obj. Placement Tabl & Chart'!$E95=\"Right\",-1*'10. Obj. Placement Tabl & Chart'!$D95,'10. Obj. Placement Tabl & Chart'!$D95),)","v":0},{"$f":"IF('10. Obj. Placement Tabl & Chart'!$F95=3,'10. Obj. Placement Tabl & Chart'!$C95,)","v":0},{"$f":"IF('10. Obj. Placement Tabl & Chart'!$F95=3,IF('10. Obj. Placement Tabl & Chart'!$E95=\"Right\",-1*'10. Obj. Placement Tabl & Chart'!$D95,'10. Obj. Placement Tabl & Chart'!$D95),)","v":0},{"$f":"IF('10. Obj. Placement Tabl & Chart'!$F95=4,'10. Obj. Placement Tabl & Chart'!$C95,)","v":0},{"$f":"IF('10. Obj. Placement Tabl & Chart'!$F95=4,IF('10. Obj. Placement Tabl & Chart'!$E95=\"Right\",-1*'10. Obj. Placement Tabl & Chart'!$D95,'10. Obj. Placement Tabl & Chart'!$D95),)","v":0},null,null,{"$f":"IF('10. Obj. Placement Tabl & Chart'!$F224=1,'10. Obj. Placement Tabl & Chart'!$C224,)","v":0},{"$f":"IF('10. Obj. Placement Tabl & Chart'!$F224=1,IF('10. Obj. Placement Tabl & Chart'!$E224=\"Right\",-1*'10. Obj. Placement Tabl & Chart'!$D224,'10. Obj. Placement Tabl & Chart'!$D224),)","v":0},{"$f":"IF('10. Obj. Placement Tabl & Chart'!$F224=2,'10. Obj. Placement Tabl & Chart'!$C224,)","v":0},{"$f":"IF('10. Obj. Placement Tabl & Chart'!$F224=2,IF('10. Obj. Placement Tabl & Chart'!$E224=\"Right\",-1*'10. Obj. Placement Tabl & Chart'!$D224,'10. Obj. Placement Tabl & Chart'!$D224),)","v":0},{"$f":"IF('10. Obj. Placement Tabl & Chart'!$F224=3,'10. Obj. Placement Tabl & Chart'!$C224,)","v":0},{"$f":"IF('10. Obj. Placement Tabl & Chart'!$F224=3,IF('10. Obj. Placement Tabl & Chart'!$E224=\"Right\",-1*'10. Obj. Placement Tabl & Chart'!$D224,'10. Obj. Placement Tabl & Chart'!$D224),)","v":0},{"$f":"IF('10. Obj. Placement Tabl & Chart'!$F224=4,'10. Obj. Placement Tabl & Chart'!$C224,)","v":0},{"$f":"IF('10. Obj. Placement Tabl & Chart'!$F224=4,IF('10. Obj. Placement Tabl & Chart'!$E224=\"Right\",-1*'10. Obj. Placement Tabl & Chart'!$D224,'10. Obj. Placement Tabl & Chart'!$D224),)","v":0}]
[null,null,null,null,null,null,null,null,null,null,null,null,null,null,null,null,null,null,null,null,null,null,null,null,null,null,null,null,null,null,null,null,null,null,null,null,null,0,{"$f":"IF(AL80=0,,SUM($BL$6:BL79)+ROUND(2*IF(AP80=1,$AV$37,IF(AP80=2,$AV$41,IF(AP80=3,$AV$45,IF(AP80=4,$AV$49,))))*RAND(),))","v":0},0,0,0,0,0,null,null,null,null,null,null,null,null,null,null,null,null,null,null,0.18864315237840035,0,0,0,0,0,null,0.3327664930479407,0,null,0,0,0,0,0,0,0.3327664930479407,null,0,0,0,0,0,0,0.3327664930479407,null,0,0,0,0,0,0,0.3327664930479407,null,0,0,0,0,0,0,0.3327664930479407,null,1,1,1,1,null,{"$f":"IF('10. Obj. Placement Tabl & Chart'!$F96=1,'10. Obj. Placement Tabl & Chart'!$C96,)","v":0},{"$f":"IF('10. Obj. Placement Tabl & Chart'!$F96=1,IF('10. Obj. Placement Tabl & Chart'!$E96=\"Right\",-1*'10. Obj. Placement Tabl & Chart'!$D96,'10. Obj. Placement Tabl & Chart'!$D96),)","v":0},{"$f":"IF('10. Obj. Placement Tabl & Chart'!$F96=2,'10. Obj. Placement Tabl & Chart'!$C96,)","v":0},{"$f":"IF('10. Obj. Placement Tabl & Chart'!$F96=2,IF('10. Obj. Placement Tabl & Chart'!$E96=\"Right\",-1*'10. Obj. Placement Tabl & Chart'!$D96,'10. Obj. Placement Tabl & Chart'!$D96),)","v":0},{"$f":"IF('10. Obj. Placement Tabl & Chart'!$F96=3,'10. Obj. Placement Tabl & Chart'!$C96,)","v":0},{"$f":"IF('10. Obj. Placement Tabl & Chart'!$F96=3,IF('10. Obj. Placement Tabl & Chart'!$E96=\"Right\",-1*'10. Obj. Placement Tabl & Chart'!$D96,'10. Obj. Placement Tabl & Chart'!$D96),)","v":0},{"$f":"IF('10. Obj. Placement Tabl & Chart'!$F96=4,'10. Obj. Placement Tabl & Chart'!$C96,)","v":0},{"$f":"IF('10. Obj. Placement Tabl & Chart'!$F96=4,IF('10. Obj. Placement Tabl & Chart'!$E96=\"Right\",-1*'10. Obj. Placement Tabl & Chart'!$D96,'10. Obj. Placement Tabl & Chart'!$D96),)","v":0},null,null,{"$f":"IF('10. Obj. Placement Tabl & Chart'!$F225=1,'10. Obj. Placement Tabl & Chart'!$C225,)","v":0},{"$f":"IF('10. Obj. Placement Tabl & Chart'!$F225=1,IF('10. Obj. Placement Tabl & Chart'!$E225=\"Right\",-1*'10. Obj. Placement Tabl & Chart'!$D225,'10. Obj. Placement Tabl & Chart'!$D225),)","v":0},{"$f":"IF('10. Obj. Placement Tabl & Chart'!$F225=2,'10. Obj. Placement Tabl & Chart'!$C225,)","v":0},{"$f":"IF('10. Obj. Placement Tabl & Chart'!$F225=2,IF('10. Obj. Placement Tabl & Chart'!$E225=\"Right\",-1*'10. Obj. Placement Tabl & Chart'!$D225,'10. Obj. Placement Tabl & Chart'!$D225),)","v":0},{"$f":"IF('10. Obj. Placement Tabl & Chart'!$F225=3,'10. Obj. Placement Tabl & Chart'!$C225,)","v":0},{"$f":"IF('10. Obj. Placement Tabl & Chart'!$F225=3,IF('10. Obj. Placement Tabl & Chart'!$E225=\"Right\",-1*'10. Obj. Placement Tabl & Chart'!$D225,'10. Obj. Placement Tabl & Chart'!$D225),)","v":0},{"$f":"IF('10. Obj. Placement Tabl & Chart'!$F225=4,'10. Obj. Placement Tabl & Chart'!$C225,)","v":0},{"$f":"IF('10. Obj. Placement Tabl & Chart'!$F225=4,IF('10. Obj. Placement Tabl & Chart'!$E225=\"Right\",-1*'10. Obj. Placement Tabl & Chart'!$D225,'10. Obj. Placement Tabl & Chart'!$D225),)","v":0}]
[null,null,null,null,null,null,null,null,null,null,null,null,null,null,null,null,null,null,null,null,null,null,null,null,null,null,null,null,null,null,null,null,null,null,null,null,null,0,{"$f":"IF(AL81=0,,SUM($BL$6:BL80)+ROUND(2*IF(AP81=1,$AV$37,IF(AP81=2,$AV$41,IF(AP81=3,$AV$45,IF(AP81=4,$AV$49,))))*RAND(),))","v":0},0,0,0,0,0,null,null,null,null,null,null,null,null,null,null,null,null,null,null,0.84610376235766749,0,0,0,0,0,null,0.80442050460031189,0,null,0,0,0,0,0,0,0.80442050460031189,null,0,0,0,0,0,0,0.80442050460031189,null,0,0,0,0,0,0,0.80442050460031189,null,0,0,0,0,0,0,0.80442050460031189,null,3,2,3,4,null,{"$f":"IF('10. Obj. Placement Tabl & Chart'!$F97=1,'10. Obj. Placement Tabl & Chart'!$C97,)","v":0},{"$f":"IF('10. Obj. Placement Tabl & Chart'!$F97=1,IF('10. Obj. Placement Tabl & Chart'!$E97=\"Right\",-1*'10. Obj. Placement Tabl & Chart'!$D97,'10. Obj. Placement Tabl & Chart'!$D97),)","v":0},{"$f":"IF('10. Obj. Placement Tabl & Chart'!$F97=2,'10. Obj. Placement Tabl & Chart'!$C97,)","v":0},{"$f":"IF('10. Obj. Placement Tabl & Chart'!$F97=2,IF('10. Obj. Placement Tabl & Chart'!$E97=\"Right\",-1*'10. Obj. Placement Tabl & Chart'!$D97,'10. Obj. Placement Tabl & Chart'!$D97),)","v":0},{"$f":"IF('10. Obj. Placement Tabl & Chart'!$F97=3,'10. Obj. Placement Tabl & Chart'!$C97,)","v":0},{"$f":"IF('10. Obj. Placement Tabl & Chart'!$F97=3,IF('10. Obj. Placement Tabl & Chart'!$E97=\"Right\",-1*'10. Obj. Placement Tabl & Chart'!$D97,'10. Obj. Placement Tabl & Chart'!$D97),)","v":0},{"$f":"IF('10. Obj. Placement Tabl & Chart'!$F97=4,'10. Obj. Placement Tabl & Chart'!$C97,)","v":0},{"$f":"IF('10. Obj. Placement Tabl & Chart'!$F97=4,IF('10. Obj. Placement Tabl & Chart'!$E97=\"Right\",-1*'10. Obj. Placement Tabl & Chart'!$D97,'10. Obj. Placement Tabl & Chart'!$D97),)","v":0},null,null,{"$f":"IF('10. Obj. Placement Tabl & Chart'!$F226=1,'10. Obj. Placement Tabl & Chart'!$C226,)","v":0},{"$f":"IF('10. Obj. Placement Tabl & Chart'!$F226=1,IF('10. Obj. Placement Tabl & Chart'!$E226=\"Right\",-1*'10. Obj. Placement Tabl & Chart'!$D226,'10. Obj. Placement Tabl & Chart'!$D226),)","v":0},{"$f":"IF('10. Obj. Placement Tabl & Chart'!$F226=2,'10. Obj. Placement Tabl & Chart'!$C226,)","v":0},{"$f":"IF('10. Obj. Placement Tabl & Chart'!$F226=2,IF('10. Obj. Placement Tabl & Chart'!$E226=\"Right\",-1*'10. Obj. Placement Tabl & Chart'!$D226,'10. Obj. Placement Tabl & Chart'!$D226),)","v":0},{"$f":"IF('10. Obj. Placement Tabl & Chart'!$F226=3,'10. Obj. Placement Tabl & Chart'!$C226,)","v":0},{"$f":"IF('10. Obj. Placement Tabl & Chart'!$F226=3,IF('10. Obj. Placement Tabl & Chart'!$E226=\"Right\",-1*'10. Obj. Placement Tabl & Chart'!$D226,'10. Obj. Placement Tabl & Chart'!$D226),)","v":0},{"$f":"IF('10. Obj. Placement Tabl & Chart'!$F226=4,'10. Obj. Placement Tabl & Chart'!$C226,)","v":0},{"$f":"IF('10. Obj. Placement Tabl & Chart'!$F226=4,IF('10. Obj. Placement Tabl & Chart'!$E226=\"Right\",-1*'10. Obj. Placement Tabl & Chart'!$D226,'10. Obj. Placement Tabl & Chart'!$D226),)","v":0}]
[null,null,null,null,null,null,null,null,null,null,null,null,null,null,null,null,null,null,null,null,null,null,null,null,null,null,null,null,null,null,null,null,null,null,null,null,null,0,{"$f":"IF(AL82=0,,SUM($BL$6:BL81)+ROUND(2*IF(AP82=1,$AV$37,IF(AP82=2,$AV$41,IF(AP82=3,$AV$45,IF(AP82=4,$AV$49,))))*RAND(),))","v":0},0,0,0,0,0,null,null,null,null,null,null,null,null,null,null,null,null,null,null,0.91441857740839305,0,0,0,0,0,null,0.20197604836369065,0,null,0,0,0,0,0,0,0.20197604836369065,null,0,0,0,0,0,0,0.20197604836369065,null,0,0,0,0,0,0,0.20197604836369065,null,0,0,0,0,0,0,0.20197604836369065,null,3,2,3,4,null,{"$f":"IF('10. Obj. Placement Tabl & Chart'!$F98=1,'10. Obj. Placement Tabl & Chart'!$C98,)","v":0},{"$f":"IF('10. Obj. Placement Tabl & Chart'!$F98=1,IF('10. Obj. Placement Tabl & Chart'!$E98=\"Right\",-1*'10. Obj. Placement Tabl & Chart'!$D98,'10. Obj. Placement Tabl & Chart'!$D98),)","v":0},{"$f":"IF('10. Obj. Placement Tabl & Chart'!$F98=2,'10. Obj. Placement Tabl & Chart'!$C98,)","v":0},{"$f":"IF('10. Obj. Placement Tabl & Chart'!$F98=2,IF('10. Obj. Placement Tabl & Chart'!$E98=\"Right\",-1*'10. Obj. Placement Tabl & Chart'!$D98,'10. Obj. Placement Tabl & Chart'!$D98),)","v":0},{"$f":"IF('10. Obj. Placement Tabl & Chart'!$F98=3,'10. Obj. Placement Tabl & Chart'!$C98,)","v":0},{"$f":"IF('10. Obj. Placement Tabl & Chart'!$F98=3,IF('10. Obj. Placement Tabl & Chart'!$E98=\"Right\",-1*'10. Obj. Placement Tabl & Chart'!$D98,'10. Obj. Placement Tabl & Chart'!$D98),)","v":0},{"$f":"IF('10. Obj. Placement Tabl & Chart'!$F98=4,'10. Obj. Placement Tabl & Chart'!$C98,)","v":0},{"$f":"IF('10. Obj. Placement Tabl & Chart'!$F98=4,IF('10. Obj. Placement Tabl & Chart'!$E98=\"Right\",-1*'10. Obj. Placement Tabl & Chart'!$D98,'10. Obj. Placement Tabl & Chart'!$D98),)","v":0},null,null,{"$f":"IF('10. Obj. Placement Tabl & Chart'!$F227=1,'10. Obj. Placement Tabl & Chart'!$C227,)","v":0},{"$f":"IF('10. Obj. Placement Tabl & Chart'!$F227=1,IF('10. Obj. Placement Tabl & Chart'!$E227=\"Right\",-1*'10. Obj. Placement Tabl & Chart'!$D227,'10. Obj. Placement Tabl & Chart'!$D227),)","v":0},{"$f":"IF('10. Obj. Placement Tabl & Chart'!$F227=2,'10. Obj. Placement Tabl & Chart'!$C227,)","v":0},{"$f":"IF('10. Obj. Placement Tabl & Chart'!$F227=2,IF('10. Obj. Placement Tabl & Chart'!$E227=\"Right\",-1*'10. Obj. Placement Tabl & Chart'!$D227,'10. Obj. Placement Tabl & Chart'!$D227),)","v":0},{"$f":"IF('10. Obj. Placement Tabl & Chart'!$F227=3,'10. Obj. Placement Tabl & Chart'!$C227,)","v":0},{"$f":"IF('10. Obj. Placement Tabl & Chart'!$F227=3,IF('10. Obj. Placement Tabl & Chart'!$E227=\"Right\",-1*'10. Obj. Placement Tabl & Chart'!$D227,'10. Obj. Placement Tabl & Chart'!$D227),)","v":0},{"$f":"IF('10. Obj. Placement Tabl & Chart'!$F227=4,'10. Obj. Placement Tabl & Chart'!$C227,)","v":0},{"$f":"IF('10. Obj. Placement Tabl & Chart'!$F227=4,IF('10. Obj. Placement Tabl & Chart'!$E227=\"Right\",-1*'10. Obj. Placement Tabl & Chart'!$D227,'10. Obj. Placement Tabl & Chart'!$D227),)","v":0}]
[null,null,null,null,null,null,null,null,null,null,null,null,null,null,null,null,null,null,null,null,null,null,null,null,null,null,null,null,null,null,null,null,null,null,null,null,null,0,{"$f":"IF(AL83=0,,SUM($BL$6:BL82)+ROUND(2*IF(AP83=1,$AV$37,IF(AP83=2,$AV$41,IF(AP83=3,$AV$45,IF(AP83=4,$AV$49,))))*RAND(),))","v":0},0,0,0,0,0,null,null,null,null,null,null,null,null,null,null,null,null,null,null,0.97715105883740316,0,0,0,0,0,null,0.42095195518248207,0,null,0,0,0,0,0,0,0.42095195518248207,null,0,0,0,0,0,0,0.42095195518248207,null,0,0,0,0,0,0,0.42095195518248207,null,0,0,0,0,0,0,0.42095195518248207,null,3,2,3,4,null,{"$f":"IF('10. Obj. Placement Tabl & Chart'!$F99=1,'10. Obj. Placement Tabl & Chart'!$C99,)","v":0},{"$f":"IF('10. Obj. Placement Tabl & Chart'!$F99=1,IF('10. Obj. Placement Tabl & Chart'!$E99=\"Right\",-1*'10. Obj. Placement Tabl & Chart'!$D99,'10. Obj. Placement Tabl & Chart'!$D99),)","v":0},{"$f":"IF('10. Obj. Placement Tabl & Chart'!$F99=2,'10. Obj. Placement Tabl & Chart'!$C99,)","v":0},{"$f":"IF('10. Obj. Placement Tabl & Chart'!$F99=2,IF('10. Obj. Placement Tabl & Chart'!$E99=\"Right\",-1*'10. Obj. Placement Tabl & Chart'!$D99,'10. Obj. Placement Tabl & Chart'!$D99),)","v":0},{"$f":"IF('10. Obj. Placement Tabl & Chart'!$F99=3,'10. Obj. Placement Tabl & Chart'!$C99,)","v":0},{"$f":"IF('10. Obj. Placement Tabl & Chart'!$F99=3,IF('10. Obj. Placement Tabl & Chart'!$E99=\"Right\",-1*'10. Obj. Placement Tabl & Chart'!$D99,'10. Obj. Placement Tabl & Chart'!$D99),)","v":0},{"$f":"IF('10. Obj. Placement Tabl & Chart'!$F99=4,'10. Obj. Placement Tabl & Chart'!$C99,)","v":0},{"$f":"IF('10. Obj. Placement Tabl & Chart'!$F99=4,IF('10. Obj. Placement Tabl & Chart'!$E99=\"Right\",-1*'10. Obj. Placement Tabl & Chart'!$D99,'10. Obj. Placement Tabl & Chart'!$D99),)","v":0},null,null,{"$f":"IF('10. Obj. Placement Tabl & Chart'!$F228=1,'10. Obj. Placement Tabl & Chart'!$C228,)","v":0},{"$f":"IF('10. Obj. Placement Tabl & Chart'!$F228=1,IF('10. Obj. Placement Tabl & Chart'!$E228=\"Right\",-1*'10. Obj. Placement Tabl & Chart'!$D228,'10. Obj. Placement Tabl & Chart'!$D228),)","v":0},{"$f":"IF('10. Obj. Placement Tabl & Chart'!$F228=2,'10. Obj. Placement Tabl & Chart'!$C228,)","v":0},{"$f":"IF('10. Obj. Placement Tabl & Chart'!$F228=2,IF('10. Obj. Placement Tabl & Chart'!$E228=\"Right\",-1*'10. Obj. Placement Tabl & Chart'!$D228,'10. Obj. Placement Tabl & Chart'!$D228),)","v":0},{"$f":"IF('10. Obj. Placement Tabl & Chart'!$F228=3,'10. Obj. Placement Tabl & Chart'!$C228,)","v":0},{"$f":"IF('10. Obj. Placement Tabl & Chart'!$F228=3,IF('10. Obj. Placement Tabl & Chart'!$E228=\"Right\",-1*'10. Obj. Placement Tabl & Chart'!$D228,'10. Obj. Placement Tabl & Chart'!$D228),)","v":0},{"$f":"IF('10. Obj. Placement Tabl & Chart'!$F228=4,'10. Obj. Placement Tabl & Chart'!$C228,)","v":0},{"$f":"IF('10. Obj. Placement Tabl & Chart'!$F228=4,IF('10. Obj. Placement Tabl & Chart'!$E228=\"Right\",-1*'10. Obj. Placement Tabl & Chart'!$D228,'10. Obj. Placement Tabl & Chart'!$D228),)","v":0}]
[null,null,null,null,null,null,null,null,null,null,null,null,null,null,null,null,null,null,null,null,null,null,null,null,null,null,null,null,null,null,null,null,null,null,null,null,null,0,{"$f":"IF(AL84=0,,SUM($BL$6:BL83)+ROUND(2*IF(AP84=1,$AV$37,IF(AP84=2,$AV$41,IF(AP84=3,$AV$45,IF(AP84=4,$AV$49,))))*RAND(),))","v":0},0,0,0,0,0,null,null,null,null,null,null,null,null,null,null,null,null,null,null,0.66739754998712753,0,0,0,0,0,null,0.59324283810196521,0,null,0,0,0,0,0,0,0.59324283810196521,null,0,0,0,0,0,0,0.59324283810196521,null,0,0,0,0,0,0,0.59324283810196521,null,0,0,0,0,0,0,0.59324283810196521,null,3,2,3,3,null,{"$f":"IF('10. Obj. Placement Tabl & Chart'!$F100=1,'10. Obj. Placement Tabl & Chart'!$C100,)","v":0},{"$f":"IF('10. Obj. Placement Tabl & Chart'!$F100=1,IF('10. Obj. Placement Tabl & Chart'!$E100=\"Right\",-1*'10. Obj. Placement Tabl & Chart'!$D100,'10. Obj. Placement Tabl & Chart'!$D100),)","v":0},{"$f":"IF('10. Obj. Placement Tabl & Chart'!$F100=2,'10. Obj. Placement Tabl & Chart'!$C100,)","v":0},{"$f":"IF('10. Obj. Placement Tabl & Chart'!$F100=2,IF('10. Obj. Placement Tabl & Chart'!$E100=\"Right\",-1*'10. Obj. Placement Tabl & Chart'!$D100,'10. Obj. Placement Tabl & Chart'!$D100),)","v":0},{"$f":"IF('10. Obj. Placement Tabl & Chart'!$F100=3,'10. Obj. Placement Tabl & Chart'!$C100,)","v":0},{"$f":"IF('10. Obj. Placement Tabl & Chart'!$F100=3,IF('10. Obj. Placement Tabl & Chart'!$E100=\"Right\",-1*'10. Obj. Placement Tabl & Chart'!$D100,'10. Obj. Placement Tabl & Chart'!$D100),)","v":0},{"$f":"IF('10. Obj. Placement Tabl & Chart'!$F100=4,'10. Obj. Placement Tabl & Chart'!$C100,)","v":0},{"$f":"IF('10. Obj. Placement Tabl & Chart'!$F100=4,IF('10. Obj. Placement Tabl & Chart'!$E100=\"Right\",-1*'10. Obj. Placement Tabl & Chart'!$D100,'10. Obj. Placement Tabl & Chart'!$D100),)","v":0},null,null,{"$f":"IF('10. Obj. Placement Tabl & Chart'!$F229=1,'10. Obj. Placement Tabl & Chart'!$C229,)","v":0},{"$f":"IF('10. Obj. Placement Tabl & Chart'!$F229=1,IF('10. Obj. Placement Tabl & Chart'!$E229=\"Right\",-1*'10. Obj. Placement Tabl & Chart'!$D229,'10. Obj. Placement Tabl & Chart'!$D229),)","v":0},{"$f":"IF('10. Obj. Placement Tabl & Chart'!$F229=2,'10. Obj. Placement Tabl & Chart'!$C229,)","v":0},{"$f":"IF('10. Obj. Placement Tabl & Chart'!$F229=2,IF('10. Obj. Placement Tabl & Chart'!$E229=\"Right\",-1*'10. Obj. Placement Tabl & Chart'!$D229,'10. Obj. Placement Tabl & Chart'!$D229),)","v":0},{"$f":"IF('10. Obj. Placement Tabl & Chart'!$F229=3,'10. Obj. Placement Tabl & Chart'!$C229,)","v":0},{"$f":"IF('10. Obj. Placement Tabl & Chart'!$F229=3,IF('10. Obj. Placement Tabl & Chart'!$E229=\"Right\",-1*'10. Obj. Placement Tabl & Chart'!$D229,'10. Obj. Placement Tabl & Chart'!$D229),)","v":0},{"$f":"IF('10. Obj. Placement Tabl & Chart'!$F229=4,'10. Obj. Placement Tabl & Chart'!$C229,)","v":0},{"$f":"IF('10. Obj. Placement Tabl & Chart'!$F229=4,IF('10. Obj. Placement Tabl & Chart'!$E229=\"Right\",-1*'10. Obj. Placement Tabl & Chart'!$D229,'10. Obj. Placement Tabl & Chart'!$D229),)","v":0}]
[null,null,null,null,null,null,null,null,null,null,null,null,null,null,null,null,null,null,null,null,null,null,null,null,null,null,null,null,null,null,null,null,null,null,null,null,null,0,{"$f":"IF(AL85=0,,SUM($BL$6:BL84)+ROUND(2*IF(AP85=1,$AV$37,IF(AP85=2,$AV$41,IF(AP85=3,$AV$45,IF(AP85=4,$AV$49,))))*RAND(),))","v":0},0,0,0,0,0,null,null,null,null,null,null,null,null,null,null,null,null,null,null,0.49682720895629406,0,0,0,0,0,null,0.79982384622151148,0,null,0,0,0,0,0,0,0.79982384622151148,null,0,0,0,0,0,0,0.79982384622151148,null,0,0,0,0,0,0,0.79982384622151148,null,0,0,0,0,0,0,0.79982384622151148,null,2,1,2,2,null,{"$f":"IF('10. Obj. Placement Tabl & Chart'!$F101=1,'10. Obj. Placement Tabl & Chart'!$C101,)","v":0},{"$f":"IF('10. Obj. Placement Tabl & Chart'!$F101=1,IF('10. Obj. Placement Tabl & Chart'!$E101=\"Right\",-1*'10. Obj. Placement Tabl & Chart'!$D101,'10. Obj. Placement Tabl & Chart'!$D101),)","v":0},{"$f":"IF('10. Obj. Placement Tabl & Chart'!$F101=2,'10. Obj. Placement Tabl & Chart'!$C101,)","v":0},{"$f":"IF('10. Obj. Placement Tabl & Chart'!$F101=2,IF('10. Obj. Placement Tabl & Chart'!$E101=\"Right\",-1*'10. Obj. Placement Tabl & Chart'!$D101,'10. Obj. Placement Tabl & Chart'!$D101),)","v":0},{"$f":"IF('10. Obj. Placement Tabl & Chart'!$F101=3,'10. Obj. Placement Tabl & Chart'!$C101,)","v":0},{"$f":"IF('10. Obj. Placement Tabl & Chart'!$F101=3,IF('10. Obj. Placement Tabl & Chart'!$E101=\"Right\",-1*'10. Obj. Placement Tabl & Chart'!$D101,'10. Obj. Placement Tabl & Chart'!$D101),)","v":0},{"$f":"IF('10. Obj. Placement Tabl & Chart'!$F101=4,'10. Obj. Placement Tabl & Chart'!$C101,)","v":0},{"$f":"IF('10. Obj. Placement Tabl & Chart'!$F101=4,IF('10. Obj. Placement Tabl & Chart'!$E101=\"Right\",-1*'10. Obj. Placement Tabl & Chart'!$D101,'10. Obj. Placement Tabl & Chart'!$D101),)","v":0},null,null,{"$f":"IF('10. Obj. Placement Tabl & Chart'!$F230=1,'10. Obj. Placement Tabl & Chart'!$C230,)","v":0},{"$f":"IF('10. Obj. Placement Tabl & Chart'!$F230=1,IF('10. Obj. Placement Tabl & Chart'!$E230=\"Right\",-1*'10. Obj. Placement Tabl & Chart'!$D230,'10. Obj. Placement Tabl & Chart'!$D230),)","v":0},{"$f":"IF('10. Obj. Placement Tabl & Chart'!$F230=2,'10. Obj. Placement Tabl & Chart'!$C230,)","v":0},{"$f":"IF('10. Obj. Placement Tabl & Chart'!$F230=2,IF('10. Obj. Placement Tabl & Chart'!$E230=\"Right\",-1*'10. Obj. Placement Tabl & Chart'!$D230,'10. Obj. Placement Tabl & Chart'!$D230),)","v":0},{"$f":"IF('10. Obj. Placement Tabl & Chart'!$F230=3,'10. Obj. Placement Tabl & Chart'!$C230,)","v":0},{"$f":"IF('10. Obj. Placement Tabl & Chart'!$F230=3,IF('10. Obj. Placement Tabl & Chart'!$E230=\"Right\",-1*'10. Obj. Placement Tabl & Chart'!$D230,'10. Obj. Placement Tabl & Chart'!$D230),)","v":0},{"$f":"IF('10. Obj. Placement Tabl & Chart'!$F230=4,'10. Obj. Placement Tabl & Chart'!$C230,)","v":0},{"$f":"IF('10. Obj. Placement Tabl & Chart'!$F230=4,IF('10. Obj. Placement Tabl & Chart'!$E230=\"Right\",-1*'10. Obj. Placement Tabl & Chart'!$D230,'10. Obj. Placement Tabl & Chart'!$D230),)","v":0}]
[null,null,null,null,null,null,null,null,null,null,null,null,null,null,null,null,null,null,null,null,null,null,null,null,null,null,null,null,null,null,null,null,null,null,null,null,null,0,{"$f":"IF(AL86=0,,SUM($BL$6:BL85)+ROUND(2*IF(AP86=1,$AV$37,IF(AP86=2,$AV$41,IF(AP86=3,$AV$45,IF(AP86=4,$AV$49,))))*RAND(),))","v":0},0,0,0,0,0,null,null,null,null,null,null,null,null,null,null,null,null,null,null,0.84311996813802759,0,0,0,0,0,null,0.62067621877996249,0,null,0,0,0,0,0,0,0.62067621877996249,null,0,0,0,0,0,0,0.62067621877996249,null,0,0,0,0,0,0,0.62067621877996249,null,0,0,0,0,0,0,0.62067621877996249,null,3,2,3,4,null,{"$f":"IF('10. Obj. Placement Tabl & Chart'!$F102=1,'10. Obj. Placement Tabl & Chart'!$C102,)","v":0},{"$f":"IF('10. Obj. Placement Tabl & Chart'!$F102=1,IF('10. Obj. Placement Tabl & Chart'!$E102=\"Right\",-1*'10. Obj. Placement Tabl & Chart'!$D102,'10. Obj. Placement Tabl & Chart'!$D102),)","v":0},{"$f":"IF('10. Obj. Placement Tabl & Chart'!$F102=2,'10. Obj. Placement Tabl & Chart'!$C102,)","v":0},{"$f":"IF('10. Obj. Placement Tabl & Chart'!$F102=2,IF('10. Obj. Placement Tabl & Chart'!$E102=\"Right\",-1*'10. Obj. Placement Tabl & Chart'!$D102,'10. Obj. Placement Tabl & Chart'!$D102),)","v":0},{"$f":"IF('10. Obj. Placement Tabl & Chart'!$F102=3,'10. Obj. Placement Tabl & Chart'!$C102,)","v":0},{"$f":"IF('10. Obj. Placement Tabl & Chart'!$F102=3,IF('10. Obj. Placement Tabl & Chart'!$E102=\"Right\",-1*'10. Obj. Placement Tabl & Chart'!$D102,'10. Obj. Placement Tabl & Chart'!$D102),)","v":0},{"$f":"IF('10. Obj. Placement Tabl & Chart'!$F102=4,'10. Obj. Placement Tabl & Chart'!$C102,)","v":0},{"$f":"IF('10. Obj. Placement Tabl & Chart'!$F102=4,IF('10. Obj. Placement Tabl & Chart'!$E102=\"Right\",-1*'10. Obj. Placement Tabl & Chart'!$D102,'10. Obj. Placement Tabl & Chart'!$D102),)","v":0},null,null,{"$f":"IF('10. Obj. Placement Tabl & Chart'!$F231=1,'10. Obj. Placement Tabl & Chart'!$C231,)","v":0},{"$f":"IF('10. Obj. Placement Tabl & Chart'!$F231=1,IF('10. Obj. Placement Tabl & Chart'!$E231=\"Right\",-1*'10. Obj. Placement Tabl & Chart'!$D231,'10. Obj. Placement Tabl & Chart'!$D231),)","v":0},{"$f":"IF('10. Obj. Placement Tabl & Chart'!$F231=2,'10. Obj. Placement Tabl & Chart'!$C231,)","v":0},{"$f":"IF('10. Obj. Placement Tabl & Chart'!$F231=2,IF('10. Obj. Placement Tabl & Chart'!$E231=\"Right\",-1*'10. Obj. Placement Tabl & Chart'!$D231,'10. Obj. Placement Tabl & Chart'!$D231),)","v":0},{"$f":"IF('10. Obj. Placement Tabl & Chart'!$F231=3,'10. Obj. Placement Tabl & Chart'!$C231,)","v":0},{"$f":"IF('10. Obj. Placement Tabl & Chart'!$F231=3,IF('10. Obj. Placement Tabl & Chart'!$E231=\"Right\",-1*'10. Obj. Placement Tabl & Chart'!$D231,'10. Obj. Placement Tabl & Chart'!$D231),)","v":0},{"$f":"IF('10. Obj. Placement Tabl & Chart'!$F231=4,'10. Obj. Placement Tabl & Chart'!$C231,)","v":0},{"$f":"IF('10. Obj. Placement Tabl & Chart'!$F231=4,IF('10. Obj. Placement Tabl & Chart'!$E231=\"Right\",-1*'10. Obj. Placement Tabl & Chart'!$D231,'10. Obj. Placement Tabl & Chart'!$D231),)","v":0}]
[null,null,null,null,null,null,null,null,null,null,null,null,null,null,null,null,null,null,null,null,null,null,null,null,null,null,null,null,null,null,null,null,null,null,null,null,null,0,{"$f":"IF(AL87=0,,SUM($BL$6:BL86)+ROUND(2*IF(AP87=1,$AV$37,IF(AP87=2,$AV$41,IF(AP87=3,$AV$45,IF(AP87=4,$AV$49,))))*RAND(),))","v":0},0,0,0,0,0,null,null,null,null,null,null,null,null,null,null,null,null,null,null,0.10196943708193495,0,0,0,0,0,null,0.13791625935215202,0,null,0,0,0,0,0,0,0.13791625935215202,null,0,0,0,0,0,0,0.13791625935215202,null,0,0,0,0,0,0,0.13791625935215202,null,0,0,0,0,0,0,0.13791625935215202,null,1,1,1,1,null,{"$f":"IF('10. Obj. Placement Tabl & Chart'!$F103=1,'10. Obj. Placement Tabl & Chart'!$C103,)","v":0},{"$f":"IF('10. Obj. Placement Tabl & Chart'!$F103=1,IF('10. Obj. Placement Tabl & Chart'!$E103=\"Right\",-1*'10. Obj. Placement Tabl & Chart'!$D103,'10. Obj. Placement Tabl & Chart'!$D103),)","v":0},{"$f":"IF('10. Obj. Placement Tabl & Chart'!$F103=2,'10. Obj. Placement Tabl & Chart'!$C103,)","v":0},{"$f":"IF('10. Obj. Placement Tabl & Chart'!$F103=2,IF('10. Obj. Placement Tabl & Chart'!$E103=\"Right\",-1*'10. Obj. Placement Tabl & Chart'!$D103,'10. Obj. Placement Tabl & Chart'!$D103),)","v":0},{"$f":"IF('10. Obj. Placement Tabl & Chart'!$F103=3,'10. Obj. Placement Tabl & Chart'!$C103,)","v":0},{"$f":"IF('10. Obj. Placement Tabl & Chart'!$F103=3,IF('10. Obj. Placement Tabl & Chart'!$E103=\"Right\",-1*'10. Obj. Placement Tabl & Chart'!$D103,'10. Obj. Placement Tabl & Chart'!$D103),)","v":0},{"$f":"IF('10. Obj. Placement Tabl & Chart'!$F103=4,'10. Obj. Placement Tabl & Chart'!$C103,)","v":0},{"$f":"IF('10. Obj. Placement Tabl & Chart'!$F103=4,IF('10. Obj. Placement Tabl & Chart'!$E103=\"Right\",-1*'10. Obj. Placement Tabl & Chart'!$D103,'10. Obj. Placement Tabl & Chart'!$D103),)","v":0},null,null,{"$f":"IF('10. Obj. Placement Tabl & Chart'!$F232=1,'10. Obj. Placement Tabl & Chart'!$C232,)","v":0},{"$f":"IF('10. Obj. Placement Tabl & Chart'!$F232=1,IF('10. Obj. Placement Tabl & Chart'!$E232=\"Right\",-1*'10. Obj. Placement Tabl & Chart'!$D232,'10. Obj. Placement Tabl & Chart'!$D232),)","v":0},{"$f":"IF('10. Obj. Placement Tabl & Chart'!$F232=2,'10. Obj. Placement Tabl & Chart'!$C232,)","v":0},{"$f":"IF('10. Obj. Placement Tabl & Chart'!$F232=2,IF('10. Obj. Placement Tabl & Chart'!$E232=\"Right\",-1*'10. Obj. Placement Tabl & Chart'!$D232,'10. Obj. Placement Tabl & Chart'!$D232),)","v":0},{"$f":"IF('10. Obj. Placement Tabl & Chart'!$F232=3,'10. Obj. Placement Tabl & Chart'!$C232,)","v":0},{"$f":"IF('10. Obj. Placement Tabl & Chart'!$F232=3,IF('10. Obj. Placement Tabl & Chart'!$E232=\"Right\",-1*'10. Obj. Placement Tabl & Chart'!$D232,'10. Obj. Placement Tabl & Chart'!$D232),)","v":0},{"$f":"IF('10. Obj. Placement Tabl & Chart'!$F232=4,'10. Obj. Placement Tabl & Chart'!$C232,)","v":0},{"$f":"IF('10. Obj. Placement Tabl & Chart'!$F232=4,IF('10. Obj. Placement Tabl & Chart'!$E232=\"Right\",-1*'10. Obj. Placement Tabl & Chart'!$D232,'10. Obj. Placement Tabl & Chart'!$D232),)","v":0}]
[null,null,null,null,null,null,null,null,null,null,null,null,null,null,null,null,null,null,null,null,null,null,null,null,null,null,null,null,null,null,null,null,null,null,null,null,null,0,{"$f":"IF(AL88=0,,SUM($BL$6:BL87)+ROUND(2*IF(AP88=1,$AV$37,IF(AP88=2,$AV$41,IF(AP88=3,$AV$45,IF(AP88=4,$AV$49,))))*RAND(),))","v":0},0,0,0,0,0,null,null,null,null,null,null,null,null,null,null,null,null,null,null,0.78608092952297159,0,0,0,0,0,null,0.73889960452578818,0,null,0,0,0,0,0,0,0.73889960452578818,null,0,0,0,0,0,0,0.73889960452578818,null,0,0,0,0,0,0,0.73889960452578818,null,0,0,0,0,0,0,0.73889960452578818,null,3,2,3,4,null,{"$f":"IF('10. Obj. Placement Tabl & Chart'!$F104=1,'10. Obj. Placement Tabl & Chart'!$C104,)","v":0},{"$f":"IF('10. Obj. Placement Tabl & Chart'!$F104=1,IF('10. Obj. Placement Tabl & Chart'!$E104=\"Right\",-1*'10. Obj. Placement Tabl & Chart'!$D104,'10. Obj. Placement Tabl & Chart'!$D104),)","v":0},{"$f":"IF('10. Obj. Placement Tabl & Chart'!$F104=2,'10. Obj. Placement Tabl & Chart'!$C104,)","v":0},{"$f":"IF('10. Obj. Placement Tabl & Chart'!$F104=2,IF('10. Obj. Placement Tabl & Chart'!$E104=\"Right\",-1*'10. Obj. Placement Tabl & Chart'!$D104,'10. Obj. Placement Tabl & Chart'!$D104),)","v":0},{"$f":"IF('10. Obj. Placement Tabl & Chart'!$F104=3,'10. Obj. Placement Tabl & Chart'!$C104,)","v":0},{"$f":"IF('10. Obj. Placement Tabl & Chart'!$F104=3,IF('10. Obj. Placement Tabl & Chart'!$E104=\"Right\",-1*'10. Obj. Placement Tabl & Chart'!$D104,'10. Obj. Placement Tabl & Chart'!$D104),)","v":0},{"$f":"IF('10. Obj. Placement Tabl & Chart'!$F104=4,'10. Obj. Placement Tabl & Chart'!$C104,)","v":0},{"$f":"IF('10. Obj. Placement Tabl & Chart'!$F104=4,IF('10. Obj. Placement Tabl & Chart'!$E104=\"Right\",-1*'10. Obj. Placement Tabl & Chart'!$D104,'10. Obj. Placement Tabl & Chart'!$D104),)","v":0},null,null,{"$f":"IF('10. Obj. Placement Tabl & Chart'!$F233=1,'10. Obj. Placement Tabl & Chart'!$C233,)","v":0},{"$f":"IF('10. Obj. Placement Tabl & Chart'!$F233=1,IF('10. Obj. Placement Tabl & Chart'!$E233=\"Right\",-1*'10. Obj. Placement Tabl & Chart'!$D233,'10. Obj. Placement Tabl & Chart'!$D233),)","v":0},{"$f":"IF('10. Obj. Placement Tabl & Chart'!$F233=2,'10. Obj. Placement Tabl & Chart'!$C233,)","v":0},{"$f":"IF('10. Obj. Placement Tabl & Chart'!$F233=2,IF('10. Obj. Placement Tabl & Chart'!$E233=\"Right\",-1*'10. Obj. Placement Tabl & Chart'!$D233,'10. Obj. Placement Tabl & Chart'!$D233),)","v":0},{"$f":"IF('10. Obj. Placement Tabl & Chart'!$F233=3,'10. Obj. Placement Tabl & Chart'!$C233,)","v":0},{"$f":"IF('10. Obj. Placement Tabl & Chart'!$F233=3,IF('10. Obj. Placement Tabl & Chart'!$E233=\"Right\",-1*'10. Obj. Placement Tabl & Chart'!$D233,'10. Obj. Placement Tabl & Chart'!$D233),)","v":0},{"$f":"IF('10. Obj. Placement Tabl & Chart'!$F233=4,'10. Obj. Placement Tabl & Chart'!$C233,)","v":0},{"$f":"IF('10. Obj. Placement Tabl & Chart'!$F233=4,IF('10. Obj. Placement Tabl & Chart'!$E233=\"Right\",-1*'10. Obj. Placement Tabl & Chart'!$D233,'10. Obj. Placement Tabl & Chart'!$D233),)","v":0}]
[null,null,null,null,null,null,null,null,null,null,null,null,null,null,null,null,null,null,null,null,null,null,null,null,null,null,null,null,null,null,null,null,null,null,null,null,null,0,{"$f":"IF(AL89=0,,SUM($BL$6:BL88)+ROUND(2*IF(AP89=1,$AV$37,IF(AP89=2,$AV$41,IF(AP89=3,$AV$45,IF(AP89=4,$AV$49,))))*RAND(),))","v":0},0,0,0,0,0,null,null,null,null,null,null,null,null,null,null,null,null,null,null,0.27066930640396047,0,0,0,0,0,null,0.28494155338738503,0,null,0,0,0,0,0,0,0.28494155338738503,null,0,0,0,0,0,0,0.28494155338738503,null,0,0,0,0,0,0,0.28494155338738503,null,0,0,0,0,0,0,0.28494155338738503,null,1,1,1,2,null,{"$f":"IF('10. Obj. Placement Tabl & Chart'!$F105=1,'10. Obj. Placement Tabl & Chart'!$C105,)","v":0},{"$f":"IF('10. Obj. Placement Tabl & Chart'!$F105=1,IF('10. Obj. Placement Tabl & Chart'!$E105=\"Right\",-1*'10. Obj. Placement Tabl & Chart'!$D105,'10. Obj. Placement Tabl & Chart'!$D105),)","v":0},{"$f":"IF('10. Obj. Placement Tabl & Chart'!$F105=2,'10. Obj. Placement Tabl & Chart'!$C105,)","v":0},{"$f":"IF('10. Obj. Placement Tabl & Chart'!$F105=2,IF('10. Obj. Placement Tabl & Chart'!$E105=\"Right\",-1*'10. Obj. Placement Tabl & Chart'!$D105,'10. Obj. Placement Tabl & Chart'!$D105),)","v":0},{"$f":"IF('10. Obj. Placement Tabl & Chart'!$F105=3,'10. Obj. Placement Tabl & Chart'!$C105,)","v":0},{"$f":"IF('10. Obj. Placement Tabl & Chart'!$F105=3,IF('10. Obj. Placement Tabl & Chart'!$E105=\"Right\",-1*'10. Obj. Placement Tabl & Chart'!$D105,'10. Obj. Placement Tabl & Chart'!$D105),)","v":0},{"$f":"IF('10. Obj. Placement Tabl & Chart'!$F105=4,'10. Obj. Placement Tabl & Chart'!$C105,)","v":0},{"$f":"IF('10. Obj. Placement Tabl & Chart'!$F105=4,IF('10. Obj. Placement Tabl & Chart'!$E105=\"Right\",-1*'10. Obj. Placement Tabl & Chart'!$D105,'10. Obj. Placement Tabl & Chart'!$D105),)","v":0},null,null,{"$f":"IF('10. Obj. Placement Tabl & Chart'!$F234=1,'10. Obj. Placement Tabl & Chart'!$C234,)","v":0},{"$f":"IF('10. Obj. Placement Tabl & Chart'!$F234=1,IF('10. Obj. Placement Tabl & Chart'!$E234=\"Right\",-1*'10. Obj. Placement Tabl & Chart'!$D234,'10. Obj. Placement Tabl & Chart'!$D234),)","v":0},{"$f":"IF('10. Obj. Placement Tabl & Chart'!$F234=2,'10. Obj. Placement Tabl & Chart'!$C234,)","v":0},{"$f":"IF('10. Obj. Placement Tabl & Chart'!$F234=2,IF('10. Obj. Placement Tabl & Chart'!$E234=\"Right\",-1*'10. Obj. Placement Tabl & Chart'!$D234,'10. Obj. Placement Tabl & Chart'!$D234),)","v":0},{"$f":"IF('10. Obj. Placement Tabl & Chart'!$F234=3,'10. Obj. Placement Tabl & Chart'!$C234,)","v":0},{"$f":"IF('10. Obj. Placement Tabl & Chart'!$F234=3,IF('10. Obj. Placement Tabl & Chart'!$E234=\"Right\",-1*'10. Obj. Placement Tabl & Chart'!$D234,'10. Obj. Placement Tabl & Chart'!$D234),)","v":0},{"$f":"IF('10. Obj. Placement Tabl & Chart'!$F234=4,'10. Obj. Placement Tabl & Chart'!$C234,)","v":0},{"$f":"IF('10. Obj. Placement Tabl & Chart'!$F234=4,IF('10. Obj. Placement Tabl & Chart'!$E234=\"Right\",-1*'10. Obj. Placement Tabl & Chart'!$D234,'10. Obj. Placement Tabl & Chart'!$D234),)","v":0}]
[null,null,null,null,null,null,null,null,null,null,null,null,null,null,null,null,null,null,null,null,null,null,null,null,null,null,null,null,null,null,null,null,null,null,null,null,null,0,{"$f":"IF(AL90=0,,SUM($BL$6:BL89)+ROUND(2*IF(AP90=1,$AV$37,IF(AP90=2,$AV$41,IF(AP90=3,$AV$45,IF(AP90=4,$AV$49,))))*RAND(),))","v":0},0,0,0,0,0,null,null,null,null,null,null,null,null,null,null,null,null,null,null,0.74327446180716228,0,0,0,0,0,null,0.92149692139558192,0,null,0,0,0,0,0,0,0.92149692139558192,null,0,0,0,0,0,0,0.92149692139558192,null,0,0,0,0,0,0,0.92149692139558192,null,0,0,0,0,0,0,0.92149692139558192,null,3,2,3,3,null,{"$f":"IF('10. Obj. Placement Tabl & Chart'!$F106=1,'10. Obj. Placement Tabl & Chart'!$C106,)","v":0},{"$f":"IF('10. Obj. Placement Tabl & Chart'!$F106=1,IF('10. Obj. Placement Tabl & Chart'!$E106=\"Right\",-1*'10. Obj. Placement Tabl & Chart'!$D106,'10. Obj. Placement Tabl & Chart'!$D106),)","v":0},{"$f":"IF('10. Obj. Placement Tabl & Chart'!$F106=2,'10. Obj. Placement Tabl & Chart'!$C106,)","v":0},{"$f":"IF('10. Obj. Placement Tabl & Chart'!$F106=2,IF('10. Obj. Placement Tabl & Chart'!$E106=\"Right\",-1*'10. Obj. Placement Tabl & Chart'!$D106,'10. Obj. Placement Tabl & Chart'!$D106),)","v":0},{"$f":"IF('10. Obj. Placement Tabl & Chart'!$F106=3,'10. Obj. Placement Tabl & Chart'!$C106,)","v":0},{"$f":"IF('10. Obj. Placement Tabl & Chart'!$F106=3,IF('10. Obj. Placement Tabl & Chart'!$E106=\"Right\",-1*'10. Obj. Placement Tabl & Chart'!$D106,'10. Obj. Placement Tabl & Chart'!$D106),)","v":0},{"$f":"IF('10. Obj. Placement Tabl & Chart'!$F106=4,'10. Obj. Placement Tabl & Chart'!$C106,)","v":0},{"$f":"IF('10. Obj. Placement Tabl & Chart'!$F106=4,IF('10. Obj. Placement Tabl & Chart'!$E106=\"Right\",-1*'10. Obj. Placement Tabl & Chart'!$D106,'10. Obj. Placement Tabl & Chart'!$D106),)","v":0},null,null,{"$f":"IF('10. Obj. Placement Tabl & Chart'!$F235=1,'10. Obj. Placement Tabl & Chart'!$C235,)","v":0},{"$f":"IF('10. Obj. Placement Tabl & Chart'!$F235=1,IF('10. Obj. Placement Tabl & Chart'!$E235=\"Right\",-1*'10. Obj. Placement Tabl & Chart'!$D235,'10. Obj. Placement Tabl & Chart'!$D235),)","v":0},{"$f":"IF('10. Obj. Placement Tabl & Chart'!$F235=2,'10. Obj. Placement Tabl & Chart'!$C235,)","v":0},{"$f":"IF('10. Obj. Placement Tabl & Chart'!$F235=2,IF('10. Obj. Placement Tabl & Chart'!$E235=\"Right\",-1*'10. Obj. Placement Tabl & Chart'!$D235,'10. Obj. Placement Tabl & Chart'!$D235),)","v":0},{"$f":"IF('10. Obj. Placement Tabl & Chart'!$F235=3,'10. Obj. Placement Tabl & Chart'!$C235,)","v":0},{"$f":"IF('10. Obj. Placement Tabl & Chart'!$F235=3,IF('10. Obj. Placement Tabl & Chart'!$E235=\"Right\",-1*'10. Obj. Placement Tabl & Chart'!$D235,'10. Obj. Placement Tabl & Chart'!$D235),)","v":0},{"$f":"IF('10. Obj. Placement Tabl & Chart'!$F235=4,'10. Obj. Placement Tabl & Chart'!$C235,)","v":0},{"$f":"IF('10. Obj. Placement Tabl & Chart'!$F235=4,IF('10. Obj. Placement Tabl & Chart'!$E235=\"Right\",-1*'10. Obj. Placement Tabl & Chart'!$D235,'10. Obj. Placement Tabl & Chart'!$D235),)","v":0}]
[null,null,null,null,null,null,null,null,null,null,null,null,null,null,null,null,null,null,null,null,null,null,null,null,null,null,null,null,null,null,null,null,null,null,null,null,null,0,{"$f":"IF(AL91=0,,SUM($BL$6:BL90)+ROUND(2*IF(AP91=1,$AV$37,IF(AP91=2,$AV$41,IF(AP91=3,$AV$45,IF(AP91=4,$AV$49,))))*RAND(),))","v":0},0,0,0,0,0,null,null,null,null,null,null,null,null,null,null,null,null,null,null,0.29473689419313942,0,0,0,0,0,null,0.66325456783358672,0,null,0,0,0,0,0,0,0.66325456783358672,null,0,0,0,0,0,0,0.66325456783358672,null,0,0,0,0,0,0,0.66325456783358672,null,0,0,0,0,0,0,0.66325456783358672,null,1,1,1,2,null,{"$f":"IF('10. Obj. Placement Tabl & Chart'!$F107=1,'10. Obj. Placement Tabl & Chart'!$C107,)","v":0},{"$f":"IF('10. Obj. Placement Tabl & Chart'!$F107=1,IF('10. Obj. Placement Tabl & Chart'!$E107=\"Right\",-1*'10. Obj. Placement Tabl & Chart'!$D107,'10. Obj. Placement Tabl & Chart'!$D107),)","v":0},{"$f":"IF('10. Obj. Placement Tabl & Chart'!$F107=2,'10. Obj. Placement Tabl & Chart'!$C107,)","v":0},{"$f":"IF('10. Obj. Placement Tabl & Chart'!$F107=2,IF('10. Obj. Placement Tabl & Chart'!$E107=\"Right\",-1*'10. Obj. Placement Tabl & Chart'!$D107,'10. Obj. Placement Tabl & Chart'!$D107),)","v":0},{"$f":"IF('10. Obj. Placement Tabl & Chart'!$F107=3,'10. Obj. Placement Tabl & Chart'!$C107,)","v":0},{"$f":"IF('10. Obj. Placement Tabl & Chart'!$F107=3,IF('10. Obj. Placement Tabl & Chart'!$E107=\"Right\",-1*'10. Obj. Placement Tabl & Chart'!$D107,'10. Obj. Placement Tabl & Chart'!$D107),)","v":0},{"$f":"IF('10. Obj. Placement Tabl & Chart'!$F107=4,'10. Obj. Placement Tabl & Chart'!$C107,)","v":0},{"$f":"IF('10. Obj. Placement Tabl & Chart'!$F107=4,IF('10. Obj. Placement Tabl & Chart'!$E107=\"Right\",-1*'10. Obj. Placement Tabl & Chart'!$D107,'10. Obj. Placement Tabl & Chart'!$D107),)","v":0},null,null,{"$f":"IF('10. Obj. Placement Tabl & Chart'!$F236=1,'10. Obj. Placement Tabl & Chart'!$C236,)","v":0},{"$f":"IF('10. Obj. Placement Tabl & Chart'!$F236=1,IF('10. Obj. Placement Tabl & Chart'!$E236=\"Right\",-1*'10. Obj. Placement Tabl & Chart'!$D236,'10. Obj. Placement Tabl & Chart'!$D236),)","v":0},{"$f":"IF('10. Obj. Placement Tabl & Chart'!$F236=2,'10. Obj. Placement Tabl & Chart'!$C236,)","v":0},{"$f":"IF('10. Obj. Placement Tabl & Chart'!$F236=2,IF('10. Obj. Placement Tabl & Chart'!$E236=\"Right\",-1*'10. Obj. Placement Tabl & Chart'!$D236,'10. Obj. Placement Tabl & Chart'!$D236),)","v":0},{"$f":"IF('10. Obj. Placement Tabl & Chart'!$F236=3,'10. Obj. Placement Tabl & Chart'!$C236,)","v":0},{"$f":"IF('10. Obj. Placement Tabl & Chart'!$F236=3,IF('10. Obj. Placement Tabl & Chart'!$E236=\"Right\",-1*'10. Obj. Placement Tabl & Chart'!$D236,'10. Obj. Placement Tabl & Chart'!$D236),)","v":0},{"$f":"IF('10. Obj. Placement Tabl & Chart'!$F236=4,'10. Obj. Placement Tabl & Chart'!$C236,)","v":0},{"$f":"IF('10. Obj. Placement Tabl & Chart'!$F236=4,IF('10. Obj. Placement Tabl & Chart'!$E236=\"Right\",-1*'10. Obj. Placement Tabl & Chart'!$D236,'10. Obj. Placement Tabl & Chart'!$D236),)","v":0}]
[null,null,null,null,null,null,null,null,null,null,null,null,null,null,null,null,null,null,null,null,null,null,null,null,null,null,null,null,null,null,null,null,null,null,null,null,null,0,{"$f":"IF(AL92=0,,SUM($BL$6:BL91)+ROUND(2*IF(AP92=1,$AV$37,IF(AP92=2,$AV$41,IF(AP92=3,$AV$45,IF(AP92=4,$AV$49,))))*RAND(),))","v":0},0,0,0,0,0,null,null,null,null,null,null,null,null,null,null,null,null,null,null,0.93658684180005491,0,0,0,0,0,null,0.76898594867978842,0,null,0,0,0,0,0,0,0.76898594867978842,null,0,0,0,0,0,0,0.76898594867978842,null,0,0,0,0,0,0,0.76898594867978842,null,0,0,0,0,0,0,0.76898594867978842,null,3,2,3,4,null,{"$f":"IF('10. Obj. Placement Tabl & Chart'!$F108=1,'10. Obj. Placement Tabl & Chart'!$C108,)","v":0},{"$f":"IF('10. Obj. Placement Tabl & Chart'!$F108=1,IF('10. Obj. Placement Tabl & Chart'!$E108=\"Right\",-1*'10. Obj. Placement Tabl & Chart'!$D108,'10. Obj. Placement Tabl & Chart'!$D108),)","v":0},{"$f":"IF('10. Obj. Placement Tabl & Chart'!$F108=2,'10. Obj. Placement Tabl & Chart'!$C108,)","v":0},{"$f":"IF('10. Obj. Placement Tabl & Chart'!$F108=2,IF('10. Obj. Placement Tabl & Chart'!$E108=\"Right\",-1*'10. Obj. Placement Tabl & Chart'!$D108,'10. Obj. Placement Tabl & Chart'!$D108),)","v":0},{"$f":"IF('10. Obj. Placement Tabl & Chart'!$F108=3,'10. Obj. Placement Tabl & Chart'!$C108,)","v":0},{"$f":"IF('10. Obj. Placement Tabl & Chart'!$F108=3,IF('10. Obj. Placement Tabl & Chart'!$E108=\"Right\",-1*'10. Obj. Placement Tabl & Chart'!$D108,'10. Obj. Placement Tabl & Chart'!$D108),)","v":0},{"$f":"IF('10. Obj. Placement Tabl & Chart'!$F108=4,'10. Obj. Placement Tabl & Chart'!$C108,)","v":0},{"$f":"IF('10. Obj. Placement Tabl & Chart'!$F108=4,IF('10. Obj. Placement Tabl & Chart'!$E108=\"Right\",-1*'10. Obj. Placement Tabl & Chart'!$D108,'10. Obj. Placement Tabl & Chart'!$D108),)","v":0},null,null,{"$f":"IF('10. Obj. Placement Tabl & Chart'!$F237=1,'10. Obj. Placement Tabl & Chart'!$C237,)","v":0},{"$f":"IF('10. Obj. Placement Tabl & Chart'!$F237=1,IF('10. Obj. Placement Tabl & Chart'!$E237=\"Right\",-1*'10. Obj. Placement Tabl & Chart'!$D237,'10. Obj. Placement Tabl & Chart'!$D237),)","v":0},{"$f":"IF('10. Obj. Placement Tabl & Chart'!$F237=2,'10. Obj. Placement Tabl & Chart'!$C237,)","v":0},{"$f":"IF('10. Obj. Placement Tabl & Chart'!$F237=2,IF('10. Obj. Placement Tabl & Chart'!$E237=\"Right\",-1*'10. Obj. Placement Tabl & Chart'!$D237,'10. Obj. Placement Tabl & Chart'!$D237),)","v":0},{"$f":"IF('10. Obj. Placement Tabl & Chart'!$F237=3,'10. Obj. Placement Tabl & Chart'!$C237,)","v":0},{"$f":"IF('10. Obj. Placement Tabl & Chart'!$F237=3,IF('10. Obj. Placement Tabl & Chart'!$E237=\"Right\",-1*'10. Obj. Placement Tabl & Chart'!$D237,'10. Obj. Placement Tabl & Chart'!$D237),)","v":0},{"$f":"IF('10. Obj. Placement Tabl & Chart'!$F237=4,'10. Obj. Placement Tabl & Chart'!$C237,)","v":0},{"$f":"IF('10. Obj. Placement Tabl & Chart'!$F237=4,IF('10. Obj. Placement Tabl & Chart'!$E237=\"Right\",-1*'10. Obj. Placement Tabl & Chart'!$D237,'10. Obj. Placement Tabl & Chart'!$D237),)","v":0}]
[null,null,null,null,null,null,null,null,null,null,null,null,null,null,null,null,null,null,null,null,null,null,null,null,null,null,null,null,null,null,null,null,null,null,null,null,null,0,{"$f":"IF(AL93=0,,SUM($BL$6:BL92)+ROUND(2*IF(AP93=1,$AV$37,IF(AP93=2,$AV$41,IF(AP93=3,$AV$45,IF(AP93=4,$AV$49,))))*RAND(),))","v":0},0,0,0,0,0,null,null,null,null,null,null,null,null,null,null,null,null,null,null,0.64606717186195384,0,0,0,0,0,null,0.37338528167890217,0,null,0,0,0,0,0,0,0.37338528167890217,null,0,0,0,0,0,0,0.37338528167890217,null,0,0,0,0,0,0,0.37338528167890217,null,0,0,0,0,0,0,0.37338528167890217,null,2,2,2,3,null,{"$f":"IF('10. Obj. Placement Tabl & Chart'!$F109=1,'10. Obj. Placement Tabl & Chart'!$C109,)","v":0},{"$f":"IF('10. Obj. Placement Tabl & Chart'!$F109=1,IF('10. Obj. Placement Tabl & Chart'!$E109=\"Right\",-1*'10. Obj. Placement Tabl & Chart'!$D109,'10. Obj. Placement Tabl & Chart'!$D109),)","v":0},{"$f":"IF('10. Obj. Placement Tabl & Chart'!$F109=2,'10. Obj. Placement Tabl & Chart'!$C109,)","v":0},{"$f":"IF('10. Obj. Placement Tabl & Chart'!$F109=2,IF('10. Obj. Placement Tabl & Chart'!$E109=\"Right\",-1*'10. Obj. Placement Tabl & Chart'!$D109,'10. Obj. Placement Tabl & Chart'!$D109),)","v":0},{"$f":"IF('10. Obj. Placement Tabl & Chart'!$F109=3,'10. Obj. Placement Tabl & Chart'!$C109,)","v":0},{"$f":"IF('10. Obj. Placement Tabl & Chart'!$F109=3,IF('10. Obj. Placement Tabl & Chart'!$E109=\"Right\",-1*'10. Obj. Placement Tabl & Chart'!$D109,'10. Obj. Placement Tabl & Chart'!$D109),)","v":0},{"$f":"IF('10. Obj. Placement Tabl & Chart'!$F109=4,'10. Obj. Placement Tabl & Chart'!$C109,)","v":0},{"$f":"IF('10. Obj. Placement Tabl & Chart'!$F109=4,IF('10. Obj. Placement Tabl & Chart'!$E109=\"Right\",-1*'10. Obj. Placement Tabl & Chart'!$D109,'10. Obj. Placement Tabl & Chart'!$D109),)","v":0},null,null,{"$f":"IF('10. Obj. Placement Tabl & Chart'!$F238=1,'10. Obj. Placement Tabl & Chart'!$C238,)","v":0},{"$f":"IF('10. Obj. Placement Tabl & Chart'!$F238=1,IF('10. Obj. Placement Tabl & Chart'!$E238=\"Right\",-1*'10. Obj. Placement Tabl & Chart'!$D238,'10. Obj. Placement Tabl & Chart'!$D238),)","v":0},{"$f":"IF('10. Obj. Placement Tabl & Chart'!$F238=2,'10. Obj. Placement Tabl & Chart'!$C238,)","v":0},{"$f":"IF('10. Obj. Placement Tabl & Chart'!$F238=2,IF('10. Obj. Placement Tabl & Chart'!$E238=\"Right\",-1*'10. Obj. Placement Tabl & Chart'!$D238,'10. Obj. Placement Tabl & Chart'!$D238),)","v":0},{"$f":"IF('10. Obj. Placement Tabl & Chart'!$F238=3,'10. Obj. Placement Tabl & Chart'!$C238,)","v":0},{"$f":"IF('10. Obj. Placement Tabl & Chart'!$F238=3,IF('10. Obj. Placement Tabl & Chart'!$E238=\"Right\",-1*'10. Obj. Placement Tabl & Chart'!$D238,'10. Obj. Placement Tabl & Chart'!$D238),)","v":0},{"$f":"IF('10. Obj. Placement Tabl & Chart'!$F238=4,'10. Obj. Placement Tabl & Chart'!$C238,)","v":0},{"$f":"IF('10. Obj. Placement Tabl & Chart'!$F238=4,IF('10. Obj. Placement Tabl & Chart'!$E238=\"Right\",-1*'10. Obj. Placement Tabl & Chart'!$D238,'10. Obj. Placement Tabl & Chart'!$D238),)","v":0}]
[null,null,null,null,null,null,null,null,null,null,null,null,null,null,null,null,null,null,null,null,null,null,null,null,null,null,null,null,null,null,null,null,null,null,null,null,null,0,{"$f":"IF(AL94=0,,SUM($BL$6:BL93)+ROUND(2*IF(AP94=1,$AV$37,IF(AP94=2,$AV$41,IF(AP94=3,$AV$45,IF(AP94=4,$AV$49,))))*RAND(),))","v":0},0,0,0,0,0,null,null,null,null,null,null,null,null,null,null,null,null,null,null,0.54638309434262455,0,0,0,0,0,null,0.81449854780171627,0,null,0,0,0,0,0,0,0.81449854780171627,null,0,0,0,0,0,0,0.81449854780171627,null,0,0,0,0,0,0,0.81449854780171627,null,0,0,0,0,0,0,0.81449854780171627,null,2,2,2,3,null,{"$f":"IF('10. Obj. Placement Tabl & Chart'!$F110=1,'10. Obj. Placement Tabl & Chart'!$C110,)","v":0},{"$f":"IF('10. Obj. Placement Tabl & Chart'!$F110=1,IF('10. Obj. Placement Tabl & Chart'!$E110=\"Right\",-1*'10. Obj. Placement Tabl & Chart'!$D110,'10. Obj. Placement Tabl & Chart'!$D110),)","v":0},{"$f":"IF('10. Obj. Placement Tabl & Chart'!$F110=2,'10. Obj. Placement Tabl & Chart'!$C110,)","v":0},{"$f":"IF('10. Obj. Placement Tabl & Chart'!$F110=2,IF('10. Obj. Placement Tabl & Chart'!$E110=\"Right\",-1*'10. Obj. Placement Tabl & Chart'!$D110,'10. Obj. Placement Tabl & Chart'!$D110),)","v":0},{"$f":"IF('10. Obj. Placement Tabl & Chart'!$F110=3,'10. Obj. Placement Tabl & Chart'!$C110,)","v":0},{"$f":"IF('10. Obj. Placement Tabl & Chart'!$F110=3,IF('10. Obj. Placement Tabl & Chart'!$E110=\"Right\",-1*'10. Obj. Placement Tabl & Chart'!$D110,'10. Obj. Placement Tabl & Chart'!$D110),)","v":0},{"$f":"IF('10. Obj. Placement Tabl & Chart'!$F110=4,'10. Obj. Placement Tabl & Chart'!$C110,)","v":0},{"$f":"IF('10. Obj. Placement Tabl & Chart'!$F110=4,IF('10. Obj. Placement Tabl & Chart'!$E110=\"Right\",-1*'10. Obj. Placement Tabl & Chart'!$D110,'10. Obj. Placement Tabl & Chart'!$D110),)","v":0},null,null,{"$f":"IF('10. Obj. Placement Tabl & Chart'!$F239=1,'10. Obj. Placement Tabl & Chart'!$C239,)","v":0},{"$f":"IF('10. Obj. Placement Tabl & Chart'!$F239=1,IF('10. Obj. Placement Tabl & Chart'!$E239=\"Right\",-1*'10. Obj. Placement Tabl & Chart'!$D239,'10. Obj. Placement Tabl & Chart'!$D239),)","v":0},{"$f":"IF('10. Obj. Placement Tabl & Chart'!$F239=2,'10. Obj. Placement Tabl & Chart'!$C239,)","v":0},{"$f":"IF('10. Obj. Placement Tabl & Chart'!$F239=2,IF('10. Obj. Placement Tabl & Chart'!$E239=\"Right\",-1*'10. Obj. Placement Tabl & Chart'!$D239,'10. Obj. Placement Tabl & Chart'!$D239),)","v":0},{"$f":"IF('10. Obj. Placement Tabl & Chart'!$F239=3,'10. Obj. Placement Tabl & Chart'!$C239,)","v":0},{"$f":"IF('10. Obj. Placement Tabl & Chart'!$F239=3,IF('10. Obj. Placement Tabl & Chart'!$E239=\"Right\",-1*'10. Obj. Placement Tabl & Chart'!$D239,'10. Obj. Placement Tabl & Chart'!$D239),)","v":0},{"$f":"IF('10. Obj. Placement Tabl & Chart'!$F239=4,'10. Obj. Placement Tabl & Chart'!$C239,)","v":0},{"$f":"IF('10. Obj. Placement Tabl & Chart'!$F239=4,IF('10. Obj. Placement Tabl & Chart'!$E239=\"Right\",-1*'10. Obj. Placement Tabl & Chart'!$D239,'10. Obj. Placement Tabl & Chart'!$D239),)","v":0}]
[null,null,null,null,null,null,null,null,null,null,null,null,null,null,null,null,null,null,null,null,null,null,null,null,null,null,null,null,null,null,null,null,null,null,null,null,null,0,{"$f":"IF(AL95=0,,SUM($BL$6:BL94)+ROUND(2*IF(AP95=1,$AV$37,IF(AP95=2,$AV$41,IF(AP95=3,$AV$45,IF(AP95=4,$AV$49,))))*RAND(),))","v":0},0,0,0,0,0,null,null,null,null,null,null,null,null,null,null,null,null,null,null,0.96143624219996027,0,0,0,0,0,null,0.83563850760019498,0,null,0,0,0,0,0,0,0.83563850760019498,null,0,0,0,0,0,0,0.83563850760019498,null,0,0,0,0,0,0,0.83563850760019498,null,0,0,0,0,0,0,0.83563850760019498,null,3,2,3,4,null,{"$f":"IF('10. Obj. Placement Tabl & Chart'!$F111=1,'10. Obj. Placement Tabl & Chart'!$C111,)","v":0},{"$f":"IF('10. Obj. Placement Tabl & Chart'!$F111=1,IF('10. Obj. Placement Tabl & Chart'!$E111=\"Right\",-1*'10. Obj. Placement Tabl & Chart'!$D111,'10. Obj. Placement Tabl & Chart'!$D111),)","v":0},{"$f":"IF('10. Obj. Placement Tabl & Chart'!$F111=2,'10. Obj. Placement Tabl & Chart'!$C111,)","v":0},{"$f":"IF('10. Obj. Placement Tabl & Chart'!$F111=2,IF('10. Obj. Placement Tabl & Chart'!$E111=\"Right\",-1*'10. Obj. Placement Tabl & Chart'!$D111,'10. Obj. Placement Tabl & Chart'!$D111),)","v":0},{"$f":"IF('10. Obj. Placement Tabl & Chart'!$F111=3,'10. Obj. Placement Tabl & Chart'!$C111,)","v":0},{"$f":"IF('10. Obj. Placement Tabl & Chart'!$F111=3,IF('10. Obj. Placement Tabl & Chart'!$E111=\"Right\",-1*'10. Obj. Placement Tabl & Chart'!$D111,'10. Obj. Placement Tabl & Chart'!$D111),)","v":0},{"$f":"IF('10. Obj. Placement Tabl & Chart'!$F111=4,'10. Obj. Placement Tabl & Chart'!$C111,)","v":0},{"$f":"IF('10. Obj. Placement Tabl & Chart'!$F111=4,IF('10. Obj. Placement Tabl & Chart'!$E111=\"Right\",-1*'10. Obj. Placement Tabl & Chart'!$D111,'10. Obj. Placement Tabl & Chart'!$D111),)","v":0},null,null,{"$f":"IF('10. Obj. Placement Tabl & Chart'!$F240=1,'10. Obj. Placement Tabl & Chart'!$C240,)","v":0},{"$f":"IF('10. Obj. Placement Tabl & Chart'!$F240=1,IF('10. Obj. Placement Tabl & Chart'!$E240=\"Right\",-1*'10. Obj. Placement Tabl & Chart'!$D240,'10. Obj. Placement Tabl & Chart'!$D240),)","v":0},{"$f":"IF('10. Obj. Placement Tabl & Chart'!$F240=2,'10. Obj. Placement Tabl & Chart'!$C240,)","v":0},{"$f":"IF('10. Obj. Placement Tabl & Chart'!$F240=2,IF('10. Obj. Placement Tabl & Chart'!$E240=\"Right\",-1*'10. Obj. Placement Tabl & Chart'!$D240,'10. Obj. Placement Tabl & Chart'!$D240),)","v":0},{"$f":"IF('10. Obj. Placement Tabl & Chart'!$F240=3,'10. Obj. Placement Tabl & Chart'!$C240,)","v":0},{"$f":"IF('10. Obj. Placement Tabl & Chart'!$F240=3,IF('10. Obj. Placement Tabl & Chart'!$E240=\"Right\",-1*'10. Obj. Placement Tabl & Chart'!$D240,'10. Obj. Placement Tabl & Chart'!$D240),)","v":0},{"$f":"IF('10. Obj. Placement Tabl & Chart'!$F240=4,'10. Obj. Placement Tabl & Chart'!$C240,)","v":0},{"$f":"IF('10. Obj. Placement Tabl & Chart'!$F240=4,IF('10. Obj. Placement Tabl & Chart'!$E240=\"Right\",-1*'10. Obj. Placement Tabl & Chart'!$D240,'10. Obj. Placement Tabl & Chart'!$D240),)","v":0}]
[null,null,null,null,null,null,null,null,null,null,null,null,null,null,null,null,null,null,null,null,null,null,null,null,null,null,null,null,null,null,null,null,null,null,null,null,null,0,{"$f":"IF(AL96=0,,SUM($BL$6:BL95)+ROUND(2*IF(AP96=1,$AV$37,IF(AP96=2,$AV$41,IF(AP96=3,$AV$45,IF(AP96=4,$AV$49,))))*RAND(),))","v":0},0,0,0,0,0,null,null,null,null,null,null,null,null,null,null,null,null,null,null,0.26265824485894862,0,0,0,0,0,null,0.96192300552102794,0,null,0,0,0,0,0,0,0.96192300552102794,null,0,0,0,0,0,0,0.96192300552102794,null,0,0,0,0,0,0,0.96192300552102794,null,0,0,0,0,0,0,0.96192300552102794,null,1,1,1,2,null,{"$f":"IF('10. Obj. Placement Tabl & Chart'!$F112=1,'10. Obj. Placement Tabl & Chart'!$C112,)","v":0},{"$f":"IF('10. Obj. Placement Tabl & Chart'!$F112=1,IF('10. Obj. Placement Tabl & Chart'!$E112=\"Right\",-1*'10. Obj. Placement Tabl & Chart'!$D112,'10. Obj. Placement Tabl & Chart'!$D112),)","v":0},{"$f":"IF('10. Obj. Placement Tabl & Chart'!$F112=2,'10. Obj. Placement Tabl & Chart'!$C112,)","v":0},{"$f":"IF('10. Obj. Placement Tabl & Chart'!$F112=2,IF('10. Obj. Placement Tabl & Chart'!$E112=\"Right\",-1*'10. Obj. Placement Tabl & Chart'!$D112,'10. Obj. Placement Tabl & Chart'!$D112),)","v":0},{"$f":"IF('10. Obj. Placement Tabl & Chart'!$F112=3,'10. Obj. Placement Tabl & Chart'!$C112,)","v":0},{"$f":"IF('10. Obj. Placement Tabl & Chart'!$F112=3,IF('10. Obj. Placement Tabl & Chart'!$E112=\"Right\",-1*'10. Obj. Placement Tabl & Chart'!$D112,'10. Obj. Placement Tabl & Chart'!$D112),)","v":0},{"$f":"IF('10. Obj. Placement Tabl & Chart'!$F112=4,'10. Obj. Placement Tabl & Chart'!$C112,)","v":0},{"$f":"IF('10. Obj. Placement Tabl & Chart'!$F112=4,IF('10. Obj. Placement Tabl & Chart'!$E112=\"Right\",-1*'10. Obj. Placement Tabl & Chart'!$D112,'10. Obj. Placement Tabl & Chart'!$D112),)","v":0},null,null,{"$f":"IF('10. Obj. Placement Tabl & Chart'!$F241=1,'10. Obj. Placement Tabl & Chart'!$C241,)","v":0},{"$f":"IF('10. Obj. Placement Tabl & Chart'!$F241=1,IF('10. Obj. Placement Tabl & Chart'!$E241=\"Right\",-1*'10. Obj. Placement Tabl & Chart'!$D241,'10. Obj. Placement Tabl & Chart'!$D241),)","v":0},{"$f":"IF('10. Obj. Placement Tabl & Chart'!$F241=2,'10. Obj. Placement Tabl & Chart'!$C241,)","v":0},{"$f":"IF('10. Obj. Placement Tabl & Chart'!$F241=2,IF('10. Obj. Placement Tabl & Chart'!$E241=\"Right\",-1*'10. Obj. Placement Tabl & Chart'!$D241,'10. Obj. Placement Tabl & Chart'!$D241),)","v":0},{"$f":"IF('10. Obj. Placement Tabl & Chart'!$F241=3,'10. Obj. Placement Tabl & Chart'!$C241,)","v":0},{"$f":"IF('10. Obj. Placement Tabl & Chart'!$F241=3,IF('10. Obj. Placement Tabl & Chart'!$E241=\"Right\",-1*'10. Obj. Placement Tabl & Chart'!$D241,'10. Obj. Placement Tabl & Chart'!$D241),)","v":0},{"$f":"IF('10. Obj. Placement Tabl & Chart'!$F241=4,'10. Obj. Placement Tabl & Chart'!$C241,)","v":0},{"$f":"IF('10. Obj. Placement Tabl & Chart'!$F241=4,IF('10. Obj. Placement Tabl & Chart'!$E241=\"Right\",-1*'10. Obj. Placement Tabl & Chart'!$D241,'10. Obj. Placement Tabl & Chart'!$D241),)","v":0}]
[null,null,null,null,null,null,null,null,null,null,null,null,null,null,null,null,null,null,null,null,null,null,null,null,null,null,null,null,null,null,null,null,null,null,null,null,null,0,{"$f":"IF(AL97=0,,SUM($BL$6:BL96)+ROUND(2*IF(AP97=1,$AV$37,IF(AP97=2,$AV$41,IF(AP97=3,$AV$45,IF(AP97=4,$AV$49,))))*RAND(),))","v":0},0,0,0,0,0,null,null,null,null,null,null,null,null,null,null,null,null,null,null,0.9861148026744746,0,0,0,0,0,null,0.36932133607314921,0,null,0,0,0,0,0,0,0.36932133607314921,null,0,0,0,0,0,0,0.36932133607314921,null,0,0,0,0,0,0,0.36932133607314921,null,0,0,0,0,0,0,0.36932133607314921,null,3,2,3,4,null,{"$f":"IF('10. Obj. Placement Tabl & Chart'!$F113=1,'10. Obj. Placement Tabl & Chart'!$C113,)","v":0},{"$f":"IF('10. Obj. Placement Tabl & Chart'!$F113=1,IF('10. Obj. Placement Tabl & Chart'!$E113=\"Right\",-1*'10. Obj. Placement Tabl & Chart'!$D113,'10. Obj. Placement Tabl & Chart'!$D113),)","v":0},{"$f":"IF('10. Obj. Placement Tabl & Chart'!$F113=2,'10. Obj. Placement Tabl & Chart'!$C113,)","v":0},{"$f":"IF('10. Obj. Placement Tabl & Chart'!$F113=2,IF('10. Obj. Placement Tabl & Chart'!$E113=\"Right\",-1*'10. Obj. Placement Tabl & Chart'!$D113,'10. Obj. Placement Tabl & Chart'!$D113),)","v":0},{"$f":"IF('10. Obj. Placement Tabl & Chart'!$F113=3,'10. Obj. Placement Tabl & Chart'!$C113,)","v":0},{"$f":"IF('10. Obj. Placement Tabl & Chart'!$F113=3,IF('10. Obj. Placement Tabl & Chart'!$E113=\"Right\",-1*'10. Obj. Placement Tabl & Chart'!$D113,'10. Obj. Placement Tabl & Chart'!$D113),)","v":0},{"$f":"IF('10. Obj. Placement Tabl & Chart'!$F113=4,'10. Obj. Placement Tabl & Chart'!$C113,)","v":0},{"$f":"IF('10. Obj. Placement Tabl & Chart'!$F113=4,IF('10. Obj. Placement Tabl & Chart'!$E113=\"Right\",-1*'10. Obj. Placement Tabl & Chart'!$D113,'10. Obj. Placement Tabl & Chart'!$D113),)","v":0},null,null,{"$f":"IF('10. Obj. Placement Tabl & Chart'!$F242=1,'10. Obj. Placement Tabl & Chart'!$C242,)","v":0},{"$f":"IF('10. Obj. Placement Tabl & Chart'!$F242=1,IF('10. Obj. Placement Tabl & Chart'!$E242=\"Right\",-1*'10. Obj. Placement Tabl & Chart'!$D242,'10. Obj. Placement Tabl & Chart'!$D242),)","v":0},{"$f":"IF('10. Obj. Placement Tabl & Chart'!$F242=2,'10. Obj. Placement Tabl & Chart'!$C242,)","v":0},{"$f":"IF('10. Obj. Placement Tabl & Chart'!$F242=2,IF('10. Obj. Placement Tabl & Chart'!$E242=\"Right\",-1*'10. Obj. Placement Tabl & Chart'!$D242,'10. Obj. Placement Tabl & Chart'!$D242),)","v":0},{"$f":"IF('10. Obj. Placement Tabl & Chart'!$F242=3,'10. Obj. Placement Tabl & Chart'!$C242,)","v":0},{"$f":"IF('10. Obj. Placement Tabl & Chart'!$F242=3,IF('10. Obj. Placement Tabl & Chart'!$E242=\"Right\",-1*'10. Obj. Placement Tabl & Chart'!$D242,'10. Obj. Placement Tabl & Chart'!$D242),)","v":0},{"$f":"IF('10. Obj. Placement Tabl & Chart'!$F242=4,'10. Obj. Placement Tabl & Chart'!$C242,)","v":0},{"$f":"IF('10. Obj. Placement Tabl & Chart'!$F242=4,IF('10. Obj. Placement Tabl & Chart'!$E242=\"Right\",-1*'10. Obj. Placement Tabl & Chart'!$D242,'10. Obj. Placement Tabl & Chart'!$D242),)","v":0}]
[null,null,null,null,null,null,null,null,null,null,null,null,null,null,null,null,null,null,null,null,null,null,null,null,null,null,null,null,null,null,null,null,null,null,null,null,null,0,{"$f":"IF(AL98=0,,SUM($BL$6:BL97)+ROUND(2*IF(AP98=1,$AV$37,IF(AP98=2,$AV$41,IF(AP98=3,$AV$45,IF(AP98=4,$AV$49,))))*RAND(),))","v":0},0,0,0,0,0,null,null,null,null,null,null,null,null,null,null,null,null,null,null,0.25757172373398385,0,0,0,0,0,null,0.21784192888285159,0,null,0,0,0,0,0,0,0.21784192888285159,null,0,0,0,0,0,0,0.21784192888285159,null,0,0,0,0,0,0,0.21784192888285159,null,0,0,0,0,0,0,0.21784192888285159,null,1,1,1,2,null,{"$f":"IF('10. Obj. Placement Tabl & Chart'!$F114=1,'10. Obj. Placement Tabl & Chart'!$C114,)","v":0},{"$f":"IF('10. Obj. Placement Tabl & Chart'!$F114=1,IF('10. Obj. Placement Tabl & Chart'!$E114=\"Right\",-1*'10. Obj. Placement Tabl & Chart'!$D114,'10. Obj. Placement Tabl & Chart'!$D114),)","v":0},{"$f":"IF('10. Obj. Placement Tabl & Chart'!$F114=2,'10. Obj. Placement Tabl & Chart'!$C114,)","v":0},{"$f":"IF('10. Obj. Placement Tabl & Chart'!$F114=2,IF('10. Obj. Placement Tabl & Chart'!$E114=\"Right\",-1*'10. Obj. Placement Tabl & Chart'!$D114,'10. Obj. Placement Tabl & Chart'!$D114),)","v":0},{"$f":"IF('10. Obj. Placement Tabl & Chart'!$F114=3,'10. Obj. Placement Tabl & Chart'!$C114,)","v":0},{"$f":"IF('10. Obj. Placement Tabl & Chart'!$F114=3,IF('10. Obj. Placement Tabl & Chart'!$E114=\"Right\",-1*'10. Obj. Placement Tabl & Chart'!$D114,'10. Obj. Placement Tabl & Chart'!$D114),)","v":0},{"$f":"IF('10. Obj. Placement Tabl & Chart'!$F114=4,'10. Obj. Placement Tabl & Chart'!$C114,)","v":0},{"$f":"IF('10. Obj. Placement Tabl & Chart'!$F114=4,IF('10. Obj. Placement Tabl & Chart'!$E114=\"Right\",-1*'10. Obj. Placement Tabl & Chart'!$D114,'10. Obj. Placement Tabl & Chart'!$D114),)","v":0},null,null,{"$f":"IF('10. Obj. Placement Tabl & Chart'!$F243=1,'10. Obj. Placement Tabl & Chart'!$C243,)","v":0},{"$f":"IF('10. Obj. Placement Tabl & Chart'!$F243=1,IF('10. Obj. Placement Tabl & Chart'!$E243=\"Right\",-1*'10. Obj. Placement Tabl & Chart'!$D243,'10. Obj. Placement Tabl & Chart'!$D243),)","v":0},{"$f":"IF('10. Obj. Placement Tabl & Chart'!$F243=2,'10. Obj. Placement Tabl & Chart'!$C243,)","v":0},{"$f":"IF('10. Obj. Placement Tabl & Chart'!$F243=2,IF('10. Obj. Placement Tabl & Chart'!$E243=\"Right\",-1*'10. Obj. Placement Tabl & Chart'!$D243,'10. Obj. Placement Tabl & Chart'!$D243),)","v":0},{"$f":"IF('10. Obj. Placement Tabl & Chart'!$F243=3,'10. Obj. Placement Tabl & Chart'!$C243,)","v":0},{"$f":"IF('10. Obj. Placement Tabl & Chart'!$F243=3,IF('10. Obj. Placement Tabl & Chart'!$E243=\"Right\",-1*'10. Obj. Placement Tabl & Chart'!$D243,'10. Obj. Placement Tabl & Chart'!$D243),)","v":0},{"$f":"IF('10. Obj. Placement Tabl & Chart'!$F243=4,'10. Obj. Placement Tabl & Chart'!$C243,)","v":0},{"$f":"IF('10. Obj. Placement Tabl & Chart'!$F243=4,IF('10. Obj. Placement Tabl & Chart'!$E243=\"Right\",-1*'10. Obj. Placement Tabl & Chart'!$D243,'10. Obj. Placement Tabl & Chart'!$D243),)","v":0}]
[null,null,null,null,null,null,null,null,null,null,null,null,null,null,null,null,null,null,null,null,null,null,null,null,null,null,null,null,null,null,null,null,null,null,null,null,null,0,{"$f":"IF(AL99=0,,SUM($BL$6:BL98)+ROUND(2*IF(AP99=1,$AV$37,IF(AP99=2,$AV$41,IF(AP99=3,$AV$45,IF(AP99=4,$AV$49,))))*RAND(),))","v":0},0,0,0,0,0,null,null,null,null,null,null,null,null,null,null,null,null,null,null,0.11889886803690641,0,0,0,0,0,null,0.26270104793893412,0,null,0,0,0,0,0,0,0.26270104793893412,null,0,0,0,0,0,0,0.26270104793893412,null,0,0,0,0,0,0,0.26270104793893412,null,0,0,0,0,0,0,0.26270104793893412,null,1,1,1,1,null,{"$f":"IF('10. Obj. Placement Tabl & Chart'!$F115=1,'10. Obj. Placement Tabl & Chart'!$C115,)","v":0},{"$f":"IF('10. Obj. Placement Tabl & Chart'!$F115=1,IF('10. Obj. Placement Tabl & Chart'!$E115=\"Right\",-1*'10. Obj. Placement Tabl & Chart'!$D115,'10. Obj. Placement Tabl & Chart'!$D115),)","v":0},{"$f":"IF('10. Obj. Placement Tabl & Chart'!$F115=2,'10. Obj. Placement Tabl & Chart'!$C115,)","v":0},{"$f":"IF('10. Obj. Placement Tabl & Chart'!$F115=2,IF('10. Obj. Placement Tabl & Chart'!$E115=\"Right\",-1*'10. Obj. Placement Tabl & Chart'!$D115,'10. Obj. Placement Tabl & Chart'!$D115),)","v":0},{"$f":"IF('10. Obj. Placement Tabl & Chart'!$F115=3,'10. Obj. Placement Tabl & Chart'!$C115,)","v":0},{"$f":"IF('10. Obj. Placement Tabl & Chart'!$F115=3,IF('10. Obj. Placement Tabl & Chart'!$E115=\"Right\",-1*'10. Obj. Placement Tabl & Chart'!$D115,'10. Obj. Placement Tabl & Chart'!$D115),)","v":0},{"$f":"IF('10. Obj. Placement Tabl & Chart'!$F115=4,'10. Obj. Placement Tabl & Chart'!$C115,)","v":0},{"$f":"IF('10. Obj. Placement Tabl & Chart'!$F115=4,IF('10. Obj. Placement Tabl & Chart'!$E115=\"Right\",-1*'10. Obj. Placement Tabl & Chart'!$D115,'10. Obj. Placement Tabl & Chart'!$D115),)","v":0},null,null,{"$f":"IF('10. Obj. Placement Tabl & Chart'!$F244=1,'10. Obj. Placement Tabl & Chart'!$C244,)","v":0},{"$f":"IF('10. Obj. Placement Tabl & Chart'!$F244=1,IF('10. Obj. Placement Tabl & Chart'!$E244=\"Right\",-1*'10. Obj. Placement Tabl & Chart'!$D244,'10. Obj. Placement Tabl & Chart'!$D244),)","v":0},{"$f":"IF('10. Obj. Placement Tabl & Chart'!$F244=2,'10. Obj. Placement Tabl & Chart'!$C244,)","v":0},{"$f":"IF('10. Obj. Placement Tabl & Chart'!$F244=2,IF('10. Obj. Placement Tabl & Chart'!$E244=\"Right\",-1*'10. Obj. Placement Tabl & Chart'!$D244,'10. Obj. Placement Tabl & Chart'!$D244),)","v":0},{"$f":"IF('10. Obj. Placement Tabl & Chart'!$F244=3,'10. Obj. Placement Tabl & Chart'!$C244,)","v":0},{"$f":"IF('10. Obj. Placement Tabl & Chart'!$F244=3,IF('10. Obj. Placement Tabl & Chart'!$E244=\"Right\",-1*'10. Obj. Placement Tabl & Chart'!$D244,'10. Obj. Placement Tabl & Chart'!$D244),)","v":0},{"$f":"IF('10. Obj. Placement Tabl & Chart'!$F244=4,'10. Obj. Placement Tabl & Chart'!$C244,)","v":0},{"$f":"IF('10. Obj. Placement Tabl & Chart'!$F244=4,IF('10. Obj. Placement Tabl & Chart'!$E244=\"Right\",-1*'10. Obj. Placement Tabl & Chart'!$D244,'10. Obj. Placement Tabl & Chart'!$D244),)","v":0}]
[null,null,null,null,null,null,null,null,null,null,null,null,null,null,null,null,null,null,null,null,null,null,null,null,null,null,null,null,null,null,null,null,null,null,null,null,null,0,{"$f":"IF(AL100=0,,SUM($BL$6:BL99)+ROUND(2*IF(AP100=1,$AV$37,IF(AP100=2,$AV$41,IF(AP100=3,$AV$45,IF(AP100=4,$AV$49,))))*RAND(),))","v":0},0,0,0,0,0,null,null,null,null,null,null,null,null,null,null,null,null,null,null,0.83794098900646952,0,0,0,0,0,null,0.6447438023325428,0,null,0,0,0,0,0,0,0.6447438023325428,null,0,0,0,0,0,0,0.6447438023325428,null,0,0,0,0,0,0,0.6447438023325428,null,0,0,0,0,0,0,0.6447438023325428,null,3,2,3,4,null,{"$f":"IF('10. Obj. Placement Tabl & Chart'!$F116=1,'10. Obj. Placement Tabl & Chart'!$C116,)","v":0},{"$f":"IF('10. Obj. Placement Tabl & Chart'!$F116=1,IF('10. Obj. Placement Tabl & Chart'!$E116=\"Right\",-1*'10. Obj. Placement Tabl & Chart'!$D116,'10. Obj. Placement Tabl & Chart'!$D116),)","v":0},{"$f":"IF('10. Obj. Placement Tabl & Chart'!$F116=2,'10. Obj. Placement Tabl & Chart'!$C116,)","v":0},{"$f":"IF('10. Obj. Placement Tabl & Chart'!$F116=2,IF('10. Obj. Placement Tabl & Chart'!$E116=\"Right\",-1*'10. Obj. Placement Tabl & Chart'!$D116,'10. Obj. Placement Tabl & Chart'!$D116),)","v":0},{"$f":"IF('10. Obj. Placement Tabl & Chart'!$F116=3,'10. Obj. Placement Tabl & Chart'!$C116,)","v":0},{"$f":"IF('10. Obj. Placement Tabl & Chart'!$F116=3,IF('10. Obj. Placement Tabl & Chart'!$E116=\"Right\",-1*'10. Obj. Placement Tabl & Chart'!$D116,'10. Obj. Placement Tabl & Chart'!$D116),)","v":0},{"$f":"IF('10. Obj. Placement Tabl & Chart'!$F116=4,'10. Obj. Placement Tabl & Chart'!$C116,)","v":0},{"$f":"IF('10. Obj. Placement Tabl & Chart'!$F116=4,IF('10. Obj. Placement Tabl & Chart'!$E116=\"Right\",-1*'10. Obj. Placement Tabl & Chart'!$D116,'10. Obj. Placement Tabl & Chart'!$D116),)","v":0},null,null,{"$f":"IF('10. Obj. Placement Tabl & Chart'!$F245=1,'10. Obj. Placement Tabl & Chart'!$C245,)","v":0},{"$f":"IF('10. Obj. Placement Tabl & Chart'!$F245=1,IF('10. Obj. Placement Tabl & Chart'!$E245=\"Right\",-1*'10. Obj. Placement Tabl & Chart'!$D245,'10. Obj. Placement Tabl & Chart'!$D245),)","v":0},{"$f":"IF('10. Obj. Placement Tabl & Chart'!$F245=2,'10. Obj. Placement Tabl & Chart'!$C245,)","v":0},{"$f":"IF('10. Obj. Placement Tabl & Chart'!$F245=2,IF('10. Obj. Placement Tabl & Chart'!$E245=\"Right\",-1*'10. Obj. Placement Tabl & Chart'!$D245,'10. Obj. Placement Tabl & Chart'!$D245),)","v":0},{"$f":"IF('10. Obj. Placement Tabl & Chart'!$F245=3,'10. Obj. Placement Tabl & Chart'!$C245,)","v":0},{"$f":"IF('10. Obj. Placement Tabl & Chart'!$F245=3,IF('10. Obj. Placement Tabl & Chart'!$E245=\"Right\",-1*'10. Obj. Placement Tabl & Chart'!$D245,'10. Obj. Placement Tabl & Chart'!$D245),)","v":0},{"$f":"IF('10. Obj. Placement Tabl & Chart'!$F245=4,'10. Obj. Placement Tabl & Chart'!$C245,)","v":0},{"$f":"IF('10. Obj. Placement Tabl & Chart'!$F245=4,IF('10. Obj. Placement Tabl & Chart'!$E245=\"Right\",-1*'10. Obj. Placement Tabl & Chart'!$D245,'10. Obj. Placement Tabl & Chart'!$D245),)","v":0}]
[null,null,null,null,null,null,null,null,null,null,null,null,null,null,null,null,null,null,null,null,null,null,null,null,null,null,null,null,null,null,null,null,null,null,null,null,null,0,{"$f":"IF(AL101=0,,SUM($BL$6:BL100)+ROUND(2*IF(AP101=1,$AV$37,IF(AP101=2,$AV$41,IF(AP101=3,$AV$45,IF(AP101=4,$AV$49,))))*RAND(),))","v":0},0,0,0,0,0,null,null,null,null,null,null,null,null,null,null,null,null,null,null,0.4165142494010019,0,0,0,0,0,null,0.75122485541571149,0,null,0,0,0,0,0,0,0.75122485541571149,null,0,0,0,0,0,0,0.75122485541571149,null,0,0,0,0,0,0,0.75122485541571149,null,0,0,0,0,0,0,0.75122485541571149,null,2,1,2,2,null,{"$f":"IF('10. Obj. Placement Tabl & Chart'!$F117=1,'10. Obj. Placement Tabl & Chart'!$C117,)","v":0},{"$f":"IF('10. Obj. Placement Tabl & Chart'!$F117=1,IF('10. Obj. Placement Tabl & Chart'!$E117=\"Right\",-1*'10. Obj. Placement Tabl & Chart'!$D117,'10. Obj. Placement Tabl & Chart'!$D117),)","v":0},{"$f":"IF('10. Obj. Placement Tabl & Chart'!$F117=2,'10. Obj. Placement Tabl & Chart'!$C117,)","v":0},{"$f":"IF('10. Obj. Placement Tabl & Chart'!$F117=2,IF('10. Obj. Placement Tabl & Chart'!$E117=\"Right\",-1*'10. Obj. Placement Tabl & Chart'!$D117,'10. Obj. Placement Tabl & Chart'!$D117),)","v":0},{"$f":"IF('10. Obj. Placement Tabl & Chart'!$F117=3,'10. Obj. Placement Tabl & Chart'!$C117,)","v":0},{"$f":"IF('10. Obj. Placement Tabl & Chart'!$F117=3,IF('10. Obj. Placement Tabl & Chart'!$E117=\"Right\",-1*'10. Obj. Placement Tabl & Chart'!$D117,'10. Obj. Placement Tabl & Chart'!$D117),)","v":0},{"$f":"IF('10. Obj. Placement Tabl & Chart'!$F117=4,'10. Obj. Placement Tabl & Chart'!$C117,)","v":0},{"$f":"IF('10. Obj. Placement Tabl & Chart'!$F117=4,IF('10. Obj. Placement Tabl & Chart'!$E117=\"Right\",-1*'10. Obj. Placement Tabl & Chart'!$D117,'10. Obj. Placement Tabl & Chart'!$D117),)","v":0},null,null,{"$f":"IF('10. Obj. Placement Tabl & Chart'!$F246=1,'10. Obj. Placement Tabl & Chart'!$C246,)","v":0},{"$f":"IF('10. Obj. Placement Tabl & Chart'!$F246=1,IF('10. Obj. Placement Tabl & Chart'!$E246=\"Right\",-1*'10. Obj. Placement Tabl & Chart'!$D246,'10. Obj. Placement Tabl & Chart'!$D246),)","v":0},{"$f":"IF('10. Obj. Placement Tabl & Chart'!$F246=2,'10. Obj. Placement Tabl & Chart'!$C246,)","v":0},{"$f":"IF('10. Obj. Placement Tabl & Chart'!$F246=2,IF('10. Obj. Placement Tabl & Chart'!$E246=\"Right\",-1*'10. Obj. Placement Tabl & Chart'!$D246,'10. Obj. Placement Tabl & Chart'!$D246),)","v":0},{"$f":"IF('10. Obj. Placement Tabl & Chart'!$F246=3,'10. Obj. Placement Tabl & Chart'!$C246,)","v":0},{"$f":"IF('10. Obj. Placement Tabl & Chart'!$F246=3,IF('10. Obj. Placement Tabl & Chart'!$E246=\"Right\",-1*'10. Obj. Placement Tabl & Chart'!$D246,'10. Obj. Placement Tabl & Chart'!$D246),)","v":0},{"$f":"IF('10. Obj. Placement Tabl & Chart'!$F246=4,'10. Obj. Placement Tabl & Chart'!$C246,)","v":0},{"$f":"IF('10. Obj. Placement Tabl & Chart'!$F246=4,IF('10. Obj. Placement Tabl & Chart'!$E246=\"Right\",-1*'10. Obj. Placement Tabl & Chart'!$D246,'10. Obj. Placement Tabl & Chart'!$D246),)","v":0}]
[null,null,null,null,null,null,null,null,null,null,null,null,null,null,null,null,null,null,null,null,null,null,null,null,null,null,null,null,null,null,null,null,null,null,null,null,null,0,{"$f":"IF(AL102=0,,SUM($BL$6:BL101)+ROUND(2*IF(AP102=1,$AV$37,IF(AP102=2,$AV$41,IF(AP102=3,$AV$45,IF(AP102=4,$AV$49,))))*RAND(),))","v":0},{"$f":"IF(BO102<0.5,BO102,ROUND(BO102,))","v":0},0,0,0,0,null,null,null,null,null,null,null,null,null,null,null,null,null,null,{"$f":"RAND()","v":0.58512302969426677},0,0,0,0,{"$f":"3*IF(AP102=1,$AV$37,IF(AP102=2,$AV$41,IF(AP102=3,$AV$45,$AV$49)))","v":0},null,{"$f":"RAND()","v":0.40999394358273},{"$f":"ROUND(IF(AM102=0,,1.5*IF(AP102=1,$AV$37*BW102,IF(AP102=2,$AV$41*CE102,IF(AP102=3,$AV$45*CM102,$AV$49*CU102)))),2)","v":0},null,0,0,0,0,0,0,{"$f":"IF(BQ102=1,$BN102*$AZ$7,IF(BQ102=2,$AZ$7+$BN102*$BA$7,IF(BQ102=3,($AZ$7+$BA$7)+$BN102*($BB$7),IF(BQ102=4,SUM($AZ$7:$BB$7)+$BN102*$BC$7,IF(BQ102=5,SUM($AZ$7:$BC$7)+$BN102*$BD$7,$BN102)))))","v":0.40999394358273},null,{"$f":"IF(SUM(BZ102:CD102)=0,,IF($BN102<=BZ102/SUM(BZ102:CD102),1,IF($BN102<=(BZ102+CA102)/SUM(BZ102:CD102),2,IF($BN102<=SUM(BZ102:CB102)/SUM(BZ102:CD102),3,IF($BN102<=SUM(BZ102:CC102)/SUM(BZ102:CD102),4,5)))))","v":0},0,0,0,0,0,{"$f":"IF(BY102=1,$BN102*$AZ$7,IF(BY102=2,$AZ$7+$BN102*$BA$7,IF(BY102=3,($AZ$7+$BA$7)+$BN102*($BB$7),IF(BY102=4,SUM($AZ$7:$BB$7)+$BN102*$BC$7,IF(BY102=5,SUM($AZ$7:$BC$7)+$BN102*$BD$7,$BN102)))))","v":0.40999394358273},null,{"$f":"IF(SUM(CH102:CL102)=0,,IF($BN102<=CH102/SUM(CH102:CL102),1,IF($BN102<=(CH102+CI102)/SUM(CH102:CL102),2,IF($BN102<=SUM(CH102:CJ102)/SUM(CH102:CL102),3,IF($BN102<=SUM(CH102:CK102)/SUM(CH102:CL102),4,5)))))","v":0},0,0,0,0,0,{"$f":"IF(CG102=1,$BN102*$AZ$7,IF(CG102=2,$AZ$7+$BN102*$BA$7,IF(CG102=3,($AZ$7+$BA$7)+$BN102*($BB$7),IF(CG102=4,SUM($AZ$7:$BB$7)+$BN102*$BC$7,IF(CG102=5,SUM($AZ$7:$BC$7)+$BN102*$BD$7,$BN102)))))","v":0.40999394358273},null,{"$f":"IF(SUM(CP102:CT102)=0,,IF($BN102<=CP102/SUM(CP102:CT102),1,IF($BN102<=(CP102+CQ102)/SUM(CP102:CT102),2,IF($BN102<=SUM(CP102:CR102)/SUM(CP102:CT102),3,IF($BN102<=SUM(CP102:CS102)/SUM(CP102:CT102),4,5)))))","v":0},0,0,0,0,0,{"$f":"IF(CO102=1,$BN102*$AZ$7,IF(CO102=2,$AZ$7+$BN102*$BA$7,IF(CO102=3,($AZ$7+$BA$7)+$BN102*($BB$7),IF(CO102=4,SUM($AZ$7:$BB$7)+$BN102*$BC$7,IF(CO102=5,SUM($AZ$7:$BC$7)+$BN102*$BD$7,$BN102)))))","v":0.40999394358273},null,{"$f":"IF($BC$3=1,1,IF($BC$3=2,CX102,IF($BC$3=3,CY102,CZ102)))","v":2},{"$f":"IF(BG102<0.5,1,2)","v":2},{"$f":"IF(BG102<1/3,1,IF(BG102<2/3,2,3))","v":2},{"$f":"IF(BG102<0.25,1,IF(BG102<0.5,2,IF(BG102<0.75,3,4)))","v":3},null,{"$f":"IF('10. Obj. Placement Tabl & Chart'!$F118=1,'10. Obj. Placement Tabl & Chart'!$C118,)","v":0},{"$f":"IF('10. Obj. Placement Tabl & Chart'!$F118=1,IF('10. Obj. Placement Tabl & Chart'!$E118=\"Right\",-1*'10. Obj. Placement Tabl & Chart'!$D118,'10. Obj. Placement Tabl & Chart'!$D118),)","v":0},{"$f":"IF('10. Obj. Placement Tabl & Chart'!$F118=2,'10. Obj. Placement Tabl & Chart'!$C118,)","v":0},{"$f":"IF('10. Obj. Placement Tabl & Chart'!$F118=2,IF('10. Obj. Placement Tabl & Chart'!$E118=\"Right\",-1*'10. Obj. Placement Tabl & Chart'!$D118,'10. Obj. Placement Tabl & Chart'!$D118),)","v":0},{"$f":"IF('10. Obj. Placement Tabl & Chart'!$F118=3,'10. Obj. Placement Tabl & Chart'!$C118,)","v":0},{"$f":"IF('10. Obj. Placement Tabl & Chart'!$F118=3,IF('10. Obj. Placement Tabl & Chart'!$E118=\"Right\",-1*'10. Obj. Placement Tabl & Chart'!$D118,'10. Obj. Placement Tabl & Chart'!$D118),)","v":0},{"$f":"IF('10. Obj. Placement Tabl & Chart'!$F118=4,'10. Obj. Placement Tabl & Chart'!$C118,)","v":0},{"$f":"IF('10. Obj. Placement Tabl & Chart'!$F118=4,IF('10. Obj. Placement Tabl & Chart'!$E118=\"Right\",-1*'10. Obj. Placement Tabl & Chart'!$D118,'10. Obj. Placement Tabl & Chart'!$D118),)","v":0},null,null,{"$f":"IF('10. Obj. Placement Tabl & Chart'!$F247=1,'10. Obj. Placement Tabl & Chart'!$C247,)","v":0},{"$f":"IF('10. Obj. Placement Tabl & Chart'!$F247=1,IF('10. Obj. Placement Tabl & Chart'!$E247=\"Right\",-1*'10. Obj. Placement Tabl & Chart'!$D247,'10. Obj. Placement Tabl & Chart'!$D247),)","v":0},{"$f":"IF('10. Obj. Placement Tabl & Chart'!$F247=2,'10. Obj. Placement Tabl & Chart'!$C247,)","v":0},{"$f":"IF('10. Obj. Placement Tabl & Chart'!$F247=2,IF('10. Obj. Placement Tabl & Chart'!$E247=\"Right\",-1*'10. Obj. Placement Tabl & Chart'!$D247,'10. Obj. Placement Tabl & Chart'!$D247),)","v":0},{"$f":"IF('10. Obj. Placement Tabl & Chart'!$F247=3,'10. Obj. Placement Tabl & Chart'!$C247,)","v":0},{"$f":"IF('10. Obj. Placement Tabl & Chart'!$F247=3,IF('10. Obj. Placement Tabl & Chart'!$E247=\"Right\",-1*'10. Obj. Placement Tabl & Chart'!$D247,'10. Obj. Placement Tabl & Chart'!$D247),)","v":0},{"$f":"IF('10. Obj. Placement Tabl & Chart'!$F247=4,'10. Obj. Placement Tabl & Chart'!$C247,)","v":0},{"$f":"IF('10. Obj. Placement Tabl & Chart'!$F247=4,IF('10. Obj. Placement Tabl & Chart'!$E247=\"Right\",-1*'10. Obj. Placement Tabl & Chart'!$D247,'10. Obj. Placement Tabl & Chart'!$D247),)","v":0}]
[null,null,null,null,null,null,null,null,null,null,null,null,null,null,null,null,null,null,null,null,null,null,null,null,null,null,null,null,null,null,null,null,null,null,null,null,null,{"$f":"IF(AL102=0,,IF(SUM(BH103:BK103)=0,IF(AM102<=$AZ$19,AL102+1,),AL102+1))","v":0},{"$f":"IF(AL103=0,,SUM($BL$6:BL102)+ROUND(2*IF(AP103=1,$AV$37,IF(AP103=2,$AV$41,IF(AP103=3,$AV$45,IF(AP103=4,$AV$49,))))*RAND(),))","v":0},0,{"$f":"IF(AM103=0,,IF(RAND()>=0.5,\"Right\",\"Left\"))","v":0},{"$f":"IF(AL103=0,,IF(SUM(BH103:BK103)=0,CW103,IF(AP102=0,,IF(BG103<=(BH103/SUM(BH103:BK103)),1,IF(BG103<=((BH103+BI103)/SUM(BH103:BK103)),2,IF(BG103<=((BH103+BI103+BJ103)/SUM(BH103:BK103)),3,4))))))","v":0},{"$f":"IF(AM103=0,,IF(AP103=1,$AT$36,IF(AP103=2,$AT$40,IF(AP103=3,$AT$44,$AT$48))))","v":0},{"$f":"IF(AM103=0,,RAND()*360)","v":0},null,null,null,null,null,null,null,null,null,null,null,null,null,null,0.83014329836148837,{"$f":"IF(BH102=0,,IF(AP102=1,BH102-1,BH102))","v":0},{"$f":"IF(BI102=0,,IF(AP102=2,BI102-1,BI102))","v":0},{"$f":"IF(BJ102=0,,IF(AP102=3,BJ102-1,BJ102))","v":0},{"$f":"IF(BK102=0,,IF(AP102=4,BK102-1,BK102))","v":0},0,null,0.49154718026697586,0,null,{"$f":"IF(SUM(BR103:BV103)=0,,IF($BN103<=BR103/SUM(BR103:BV103),1,IF($BN103<=(BR103+BS103)/SUM(BR103:BV103),2,IF($BN103<=SUM(BR103:BT103)/SUM(BR103:BV103),3,IF($BN103<=SUM(BR103:BU103)/SUM(BR103:BV103),4,5)))))","v":0},{"$f":"IF(BR102=0,,IF(AND($AP102=1,$BQ102=1),BR102-1,BR102))","v":0},{"$f":"IF(BS102=0,,IF(AND($AP102=1,$BQ102=2),BS102-1,BS102))","v":0},{"$f":"IF(BT102=0,,IF(AND($AP102=1,$BQ102=3),BT102-1,BT102))","v":0},{"$f":"IF(BU102=0,,IF(AND($AP102=1,$BQ102=4),BU102-1,BU102))","v":0},{"$f":"IF(BV102=0,,IF(AND($AP102=1,$BQ102=5),BV102-1,BV102))","v":0},0.49154718026697586,null,0,{"$f":"IF(BZ102=0,,IF(AND($AP102=2,$BY102=1),BZ102-1,BZ102))","v":0},{"$f":"IF(CA102=0,,IF(AND($AP102=2,$BY102=2),CA102-1,CA102))","v":0},{"$f":"IF(CB102=0,,IF(AND($AP102=2,$BY102=3),CB102-1,CB102))","v":0},{"$f":"IF(CC102=0,,IF(AND($AP102=2,$BY102=4),CC102-1,CC102))","v":0},{"$f":"IF(CD102=0,,IF(AND($AP102=2,$BY102=5),CD102-1,CD102))","v":0},0.49154718026697586,null,0,{"$f":"IF(CH102=0,,IF(AND($AP102=3,$CG102=1),CH102-1,CH102))","v":0},{"$f":"IF(CI102=0,,IF(AND($AP102=3,$CG102=2),CI102-1,CI102))","v":0},{"$f":"IF(CJ102=0,,IF(AND($AP102=3,$CG102=3),CJ102-1,CJ102))","v":0},{"$f":"IF(CK102=0,,IF(AND($AP102=3,$CG102=4),CK102-1,CK102))","v":0},{"$f":"IF(CL102=0,,IF(AND($AP102=3,$CG102=5),CL102-1,CL102))","v":0},0.49154718026697586,null,0,{"$f":"IF(CP102=0,,IF(AND($AP102=4,$CO102=1),CP102-1,CP102))","v":0},{"$f":"IF(CQ102=0,,IF(AND($AP102=4,$CO102=2),CQ102-1,CQ102))","v":0},{"$f":"IF(CR102=0,,IF(AND($AP102=4,$CO102=3),CR102-1,CR102))","v":0},{"$f":"IF(CS102=0,,IF(AND($AP102=4,$CO102=4),CS102-1,CS102))","v":0},{"$f":"IF(CT102=0,,IF(AND($AP102=4,$CO102=5),CT102-1,CT102))","v":0},0.49154718026697586,null,3,2,3,4,null,{"$f":"IF('10. Obj. Placement Tabl & Chart'!$F119=1,'10. Obj. Placement Tabl & Chart'!$C119,)","v":0},{"$f":"IF('10. Obj. Placement Tabl & Chart'!$F119=1,IF('10. Obj. Placement Tabl & Chart'!$E119=\"Right\",-1*'10. Obj. Placement Tabl & Chart'!$D119,'10. Obj. Placement Tabl & Chart'!$D119),)","v":0},{"$f":"IF('10. Obj. Placement Tabl & Chart'!$F119=2,'10. Obj. Placement Tabl & Chart'!$C119,)","v":0},{"$f":"IF('10. Obj. Placement Tabl & Chart'!$F119=2,IF('10. Obj. Placement Tabl & Chart'!$E119=\"Right\",-1*'10. Obj. Placement Tabl & Chart'!$D119,'10. Obj. Placement Tabl & Chart'!$D119),)","v":0},{"$f":"IF('10. Obj. Placement Tabl & Chart'!$F119=3,'10. Obj. Placement Tabl & Chart'!$C119,)","v":0},{"$f":"IF('10. Obj. Placement Tabl & Chart'!$F119=3,IF('10. Obj. Placement Tabl & Chart'!$E119=\"Right\",-1*'10. Obj. Placement Tabl & Chart'!$D119,'10. Obj. Placement Tabl & Chart'!$D119),)","v":0},{"$f":"IF('10. Obj. Placement Tabl & Chart'!$F119=4,'10. Obj. Placement Tabl & Chart'!$C119,)","v":0},{"$f":"IF('10. Obj. Placement Tabl & Chart'!$F119=4,IF('10. Obj. Placement Tabl & Chart'!$E119=\"Right\",-1*'10. Obj. Placement Tabl & Chart'!$D119,'10. Obj. Placement Tabl & Chart'!$D119),)","v":0},null,null,{"$f":"IF('10. Obj. Placement Tabl & Chart'!$F248=1,'10. Obj. Placement Tabl & Chart'!$C248,)","v":0},{"$f":"IF('10. Obj. Placement Tabl & Chart'!$F248=1,IF('10. Obj. Placement Tabl & Chart'!$E248=\"Right\",-1*'10. Obj. Placement Tabl & Chart'!$D248,'10. Obj. Placement Tabl & Chart'!$D248),)","v":0},{"$f":"IF('10. Obj. Placement Tabl & Chart'!$F248=2,'10. Obj. Placement Tabl & Chart'!$C248,)","v":0},{"$f":"IF('10. Obj. Placement Tabl & Chart'!$F248=2,IF('10. Obj. Placement Tabl & Chart'!$E248=\"Right\",-1*'10. Obj. Placement Tabl & Chart'!$D248,'10. Obj. Placement Tabl & Chart'!$D248),)","v":0},{"$f":"IF('10. Obj. Placement Tabl & Chart'!$F248=3,'10. Obj. Placement Tabl & Chart'!$C248,)","v":0},{"$f":"IF('10. Obj. Placement Tabl & Chart'!$F248=3,IF('10. Obj. Placement Tabl & Chart'!$E248=\"Right\",-1*'10. Obj. Placement Tabl & Chart'!$D248,'10. Obj. Placement Tabl & Chart'!$D248),)","v":0},{"$f":"IF('10. Obj. Placement Tabl & Chart'!$F248=4,'10. Obj. Placement Tabl & Chart'!$C248,)","v":0},{"$f":"IF('10. Obj. Placement Tabl & Chart'!$F248=4,IF('10. Obj. Placement Tabl & Chart'!$E248=\"Right\",-1*'10. Obj. Placement Tabl & Chart'!$D248,'10. Obj. Placement Tabl & Chart'!$D248),)","v":0}]
[null,null,null,null,null,null,null,null,null,null,null,null,null,null,null,null,null,null,null,null,null,null,null,null,null,null,null,null,null,null,null,null,null,null,null,null,null,0,{"$f":"IF(AL104=0,,SUM($BL$6:BL103)+ROUND(2*IF(AP104=1,$AV$37,IF(AP104=2,$AV$41,IF(AP104=3,$AV$45,IF(AP104=4,$AV$49,))))*RAND(),))","v":0},0,0,0,0,0,null,null,null,null,null,null,null,null,null,null,null,null,null,null,0.31183757156956915,0,0,0,0,0,null,0.86038825647657813,0,null,0,0,0,0,0,0,0.86038825647657813,null,0,0,0,0,0,0,0.86038825647657813,null,0,0,0,0,0,0,0.86038825647657813,null,0,0,0,0,0,0,0.86038825647657813,null,1,1,1,2,null,{"$f":"IF('10. Obj. Placement Tabl & Chart'!$F120=1,'10. Obj. Placement Tabl & Chart'!$C120,)","v":0},{"$f":"IF('10. Obj. Placement Tabl & Chart'!$F120=1,IF('10. Obj. Placement Tabl & Chart'!$E120=\"Right\",-1*'10. Obj. Placement Tabl & Chart'!$D120,'10. Obj. Placement Tabl & Chart'!$D120),)","v":0},{"$f":"IF('10. Obj. Placement Tabl & Chart'!$F120=2,'10. Obj. Placement Tabl & Chart'!$C120,)","v":0},{"$f":"IF('10. Obj. Placement Tabl & Chart'!$F120=2,IF('10. Obj. Placement Tabl & Chart'!$E120=\"Right\",-1*'10. Obj. Placement Tabl & Chart'!$D120,'10. Obj. Placement Tabl & Chart'!$D120),)","v":0},{"$f":"IF('10. Obj. Placement Tabl & Chart'!$F120=3,'10. Obj. Placement Tabl & Chart'!$C120,)","v":0},{"$f":"IF('10. Obj. Placement Tabl & Chart'!$F120=3,IF('10. Obj. Placement Tabl & Chart'!$E120=\"Right\",-1*'10. Obj. Placement Tabl & Chart'!$D120,'10. Obj. Placement Tabl & Chart'!$D120),)","v":0},{"$f":"IF('10. Obj. Placement Tabl & Chart'!$F120=4,'10. Obj. Placement Tabl & Chart'!$C120,)","v":0},{"$f":"IF('10. Obj. Placement Tabl & Chart'!$F120=4,IF('10. Obj. Placement Tabl & Chart'!$E120=\"Right\",-1*'10. Obj. Placement Tabl & Chart'!$D120,'10. Obj. Placement Tabl & Chart'!$D120),)","v":0},null,null,{"$f":"IF('10. Obj. Placement Tabl & Chart'!$F249=1,'10. Obj. Placement Tabl & Chart'!$C249,)","v":0},{"$f":"IF('10. Obj. Placement Tabl & Chart'!$F249=1,IF('10. Obj. Placement Tabl & Chart'!$E249=\"Right\",-1*'10. Obj. Placement Tabl & Chart'!$D249,'10. Obj. Placement Tabl & Chart'!$D249),)","v":0},{"$f":"IF('10. Obj. Placement Tabl & Chart'!$F249=2,'10. Obj. Placement Tabl & Chart'!$C249,)","v":0},{"$f":"IF('10. Obj. Placement Tabl & Chart'!$F249=2,IF('10. Obj. Placement Tabl & Chart'!$E249=\"Right\",-1*'10. Obj. Placement Tabl & Chart'!$D249,'10. Obj. Placement Tabl & Chart'!$D249),)","v":0},{"$f":"IF('10. Obj. Placement Tabl & Chart'!$F249=3,'10. Obj. Placement Tabl & Chart'!$C249,)","v":0},{"$f":"IF('10. Obj. Placement Tabl & Chart'!$F249=3,IF('10. Obj. Placement Tabl & Chart'!$E249=\"Right\",-1*'10. Obj. Placement Tabl & Chart'!$D249,'10. Obj. Placement Tabl & Chart'!$D249),)","v":0},{"$f":"IF('10. Obj. Placement Tabl & Chart'!$F249=4,'10. Obj. Placement Tabl & Chart'!$C249,)","v":0},{"$f":"IF('10. Obj. Placement Tabl & Chart'!$F249=4,IF('10. Obj. Placement Tabl & Chart'!$E249=\"Right\",-1*'10. Obj. Placement Tabl & Chart'!$D249,'10. Obj. Placement Tabl & Chart'!$D249),)","v":0}]
[null,null,null,null,null,null,null,null,null,null,null,null,null,null,null,null,null,null,null,null,null,null,null,null,null,null,null,null,null,null,null,null,null,null,null,null,null,0,{"$f":"IF(AL105=0,,SUM($BL$6:BL104)+ROUND(2*IF(AP105=1,$AV$37,IF(AP105=2,$AV$41,IF(AP105=3,$AV$45,IF(AP105=4,$AV$49,))))*RAND(),))","v":0},0,0,0,0,0,null,null,null,null,null,null,null,null,null,null,null,null,null,null,0.8414660182900463,0,0,0,0,0,null,0.69775618790287564,0,null,0,0,0,0,0,0,0.69775618790287564,null,0,0,0,0,0,0,0.69775618790287564,null,0,0,0,0,0,0,0.69775618790287564,null,0,0,0,0,0,0,0.69775618790287564,null,3,2,3,4,null,{"$f":"IF('10. Obj. Placement Tabl & Chart'!$F121=1,'10. Obj. Placement Tabl & Chart'!$C121,)","v":0},{"$f":"IF('10. Obj. Placement Tabl & Chart'!$F121=1,IF('10. Obj. Placement Tabl & Chart'!$E121=\"Right\",-1*'10. Obj. Placement Tabl & Chart'!$D121,'10. Obj. Placement Tabl & Chart'!$D121),)","v":0},{"$f":"IF('10. Obj. Placement Tabl & Chart'!$F121=2,'10. Obj. Placement Tabl & Chart'!$C121,)","v":0},{"$f":"IF('10. Obj. Placement Tabl & Chart'!$F121=2,IF('10. Obj. Placement Tabl & Chart'!$E121=\"Right\",-1*'10. Obj. Placement Tabl & Chart'!$D121,'10. Obj. Placement Tabl & Chart'!$D121),)","v":0},{"$f":"IF('10. Obj. Placement Tabl & Chart'!$F121=3,'10. Obj. Placement Tabl & Chart'!$C121,)","v":0},{"$f":"IF('10. Obj. Placement Tabl & Chart'!$F121=3,IF('10. Obj. Placement Tabl & Chart'!$E121=\"Right\",-1*'10. Obj. Placement Tabl & Chart'!$D121,'10. Obj. Placement Tabl & Chart'!$D121),)","v":0},{"$f":"IF('10. Obj. Placement Tabl & Chart'!$F121=4,'10. Obj. Placement Tabl & Chart'!$C121,)","v":0},{"$f":"IF('10. Obj. Placement Tabl & Chart'!$F121=4,IF('10. Obj. Placement Tabl & Chart'!$E121=\"Right\",-1*'10. Obj. Placement Tabl & Chart'!$D121,'10. Obj. Placement Tabl & Chart'!$D121),)","v":0},null,null,{"$f":"IF('10. Obj. Placement Tabl & Chart'!$F250=1,'10. Obj. Placement Tabl & Chart'!$C250,)","v":0},{"$f":"IF('10. Obj. Placement Tabl & Chart'!$F250=1,IF('10. Obj. Placement Tabl & Chart'!$E250=\"Right\",-1*'10. Obj. Placement Tabl & Chart'!$D250,'10. Obj. Placement Tabl & Chart'!$D250),)","v":0},{"$f":"IF('10. Obj. Placement Tabl & Chart'!$F250=2,'10. Obj. Placement Tabl & Chart'!$C250,)","v":0},{"$f":"IF('10. Obj. Placement Tabl & Chart'!$F250=2,IF('10. Obj. Placement Tabl & Chart'!$E250=\"Right\",-1*'10. Obj. Placement Tabl & Chart'!$D250,'10. Obj. Placement Tabl & Chart'!$D250),)","v":0},{"$f":"IF('10. Obj. Placement Tabl & Chart'!$F250=3,'10. Obj. Placement Tabl & Chart'!$C250,)","v":0},{"$f":"IF('10. Obj. Placement Tabl & Chart'!$F250=3,IF('10. Obj. Placement Tabl & Chart'!$E250=\"Right\",-1*'10. Obj. Placement Tabl & Chart'!$D250,'10. Obj. Placement Tabl & Chart'!$D250),)","v":0},{"$f":"IF('10. Obj. Placement Tabl & Chart'!$F250=4,'10. Obj. Placement Tabl & Chart'!$C250,)","v":0},{"$f":"IF('10. Obj. Placement Tabl & Chart'!$F250=4,IF('10. Obj. Placement Tabl & Chart'!$E250=\"Right\",-1*'10. Obj. Placement Tabl & Chart'!$D250,'10. Obj. Placement Tabl & Chart'!$D250),)","v":0}]
[null,null,null,null,null,null,null,null,null,null,null,null,null,null,null,null,null,null,null,null,null,null,null,null,null,null,null,null,null,null,null,null,null,null,null,null,null,0,{"$f":"IF(AL106=0,,SUM($BL$6:BL105)+ROUND(2*IF(AP106=1,$AV$37,IF(AP106=2,$AV$41,IF(AP106=3,$AV$45,IF(AP106=4,$AV$49,))))*RAND(),))","v":0},0,0,0,0,0,null,null,null,null,null,null,null,null,null,null,null,null,null,null,0.23115482262620834,0,0,0,0,0,null,0.47634695184491938,0,null,0,0,0,0,0,0,0.47634695184491938,null,0,0,0,0,0,0,0.47634695184491938,null,0,0,0,0,0,0,0.47634695184491938,null,0,0,0,0,0,0,0.47634695184491938,null,1,1,1,1,null,{"$f":"IF('10. Obj. Placement Tabl & Chart'!$F122=1,'10. Obj. Placement Tabl & Chart'!$C122,)","v":0},{"$f":"IF('10. Obj. Placement Tabl & Chart'!$F122=1,IF('10. Obj. Placement Tabl & Chart'!$E122=\"Right\",-1*'10. Obj. Placement Tabl & Chart'!$D122,'10. Obj. Placement Tabl & Chart'!$D122),)","v":0},{"$f":"IF('10. Obj. Placement Tabl & Chart'!$F122=2,'10. Obj. Placement Tabl & Chart'!$C122,)","v":0},{"$f":"IF('10. Obj. Placement Tabl & Chart'!$F122=2,IF('10. Obj. Placement Tabl & Chart'!$E122=\"Right\",-1*'10. Obj. Placement Tabl & Chart'!$D122,'10. Obj. Placement Tabl & Chart'!$D122),)","v":0},{"$f":"IF('10. Obj. Placement Tabl & Chart'!$F122=3,'10. Obj. Placement Tabl & Chart'!$C122,)","v":0},{"$f":"IF('10. Obj. Placement Tabl & Chart'!$F122=3,IF('10. Obj. Placement Tabl & Chart'!$E122=\"Right\",-1*'10. Obj. Placement Tabl & Chart'!$D122,'10. Obj. Placement Tabl & Chart'!$D122),)","v":0},{"$f":"IF('10. Obj. Placement Tabl & Chart'!$F122=4,'10. Obj. Placement Tabl & Chart'!$C122,)","v":0},{"$f":"IF('10. Obj. Placement Tabl & Chart'!$F122=4,IF('10. Obj. Placement Tabl & Chart'!$E122=\"Right\",-1*'10. Obj. Placement Tabl & Chart'!$D122,'10. Obj. Placement Tabl & Chart'!$D122),)","v":0},null,null,{"$f":"IF('10. Obj. Placement Tabl & Chart'!$F251=1,'10. Obj. Placement Tabl & Chart'!$C251,)","v":0},{"$f":"IF('10. Obj. Placement Tabl & Chart'!$F251=1,IF('10. Obj. Placement Tabl & Chart'!$E251=\"Right\",-1*'10. Obj. Placement Tabl & Chart'!$D251,'10. Obj. Placement Tabl & Chart'!$D251),)","v":0},{"$f":"IF('10. Obj. Placement Tabl & Chart'!$F251=2,'10. Obj. Placement Tabl & Chart'!$C251,)","v":0},{"$f":"IF('10. Obj. Placement Tabl & Chart'!$F251=2,IF('10. Obj. Placement Tabl & Chart'!$E251=\"Right\",-1*'10. Obj. Placement Tabl & Chart'!$D251,'10. Obj. Placement Tabl & Chart'!$D251),)","v":0},{"$f":"IF('10. Obj. Placement Tabl & Chart'!$F251=3,'10. Obj. Placement Tabl & Chart'!$C251,)","v":0},{"$f":"IF('10. Obj. Placement Tabl & Chart'!$F251=3,IF('10. Obj. Placement Tabl & Chart'!$E251=\"Right\",-1*'10. Obj. Placement Tabl & Chart'!$D251,'10. Obj. Placement Tabl & Chart'!$D251),)","v":0},{"$f":"IF('10. Obj. Placement Tabl & Chart'!$F251=4,'10. Obj. Placement Tabl & Chart'!$C251,)","v":0},{"$f":"IF('10. Obj. Placement Tabl & Chart'!$F251=4,IF('10. Obj. Placement Tabl & Chart'!$E251=\"Right\",-1*'10. Obj. Placement Tabl & Chart'!$D251,'10. Obj. Placement Tabl & Chart'!$D251),)","v":0}]
[null,null,null,null,null,null,null,null,null,null,null,null,null,null,null,null,null,null,null,null,null,null,null,null,null,null,null,null,null,null,null,null,null,null,null,null,null,0,{"$f":"IF(AL107=0,,SUM($BL$6:BL106)+ROUND(2*IF(AP107=1,$AV$37,IF(AP107=2,$AV$41,IF(AP107=3,$AV$45,IF(AP107=4,$AV$49,))))*RAND(),))","v":0},0,0,0,0,0,null,null,null,null,null,null,null,null,null,null,null,null,null,null,9.0399935790198782E-2,0,0,0,0,0,null,0.52094063694358284,0,null,0,0,0,0,0,0,0.52094063694358284,null,0,0,0,0,0,0,0.52094063694358284,null,0,0,0,0,0,0,0.52094063694358284,null,0,0,0,0,0,0,0.52094063694358284,null,1,1,1,1,null,{"$f":"IF('10. Obj. Placement Tabl & Chart'!$F123=1,'10. Obj. Placement Tabl & Chart'!$C123,)","v":0},{"$f":"IF('10. Obj. Placement Tabl & Chart'!$F123=1,IF('10. Obj. Placement Tabl & Chart'!$E123=\"Right\",-1*'10. Obj. Placement Tabl & Chart'!$D123,'10. Obj. Placement Tabl & Chart'!$D123),)","v":0},{"$f":"IF('10. Obj. Placement Tabl & Chart'!$F123=2,'10. Obj. Placement Tabl & Chart'!$C123,)","v":0},{"$f":"IF('10. Obj. Placement Tabl & Chart'!$F123=2,IF('10. Obj. Placement Tabl & Chart'!$E123=\"Right\",-1*'10. Obj. Placement Tabl & Chart'!$D123,'10. Obj. Placement Tabl & Chart'!$D123),)","v":0},{"$f":"IF('10. Obj. Placement Tabl & Chart'!$F123=3,'10. Obj. Placement Tabl & Chart'!$C123,)","v":0},{"$f":"IF('10. Obj. Placement Tabl & Chart'!$F123=3,IF('10. Obj. Placement Tabl & Chart'!$E123=\"Right\",-1*'10. Obj. Placement Tabl & Chart'!$D123,'10. Obj. Placement Tabl & Chart'!$D123),)","v":0},{"$f":"IF('10. Obj. Placement Tabl & Chart'!$F123=4,'10. Obj. Placement Tabl & Chart'!$C123,)","v":0},{"$f":"IF('10. Obj. Placement Tabl & Chart'!$F123=4,IF('10. Obj. Placement Tabl & Chart'!$E123=\"Right\",-1*'10. Obj. Placement Tabl & Chart'!$D123,'10. Obj. Placement Tabl & Chart'!$D123),)","v":0},null,null,{"$f":"IF('10. Obj. Placement Tabl & Chart'!$F252=1,'10. Obj. Placement Tabl & Chart'!$C252,)","v":0},{"$f":"IF('10. Obj. Placement Tabl & Chart'!$F252=1,IF('10. Obj. Placement Tabl & Chart'!$E252=\"Right\",-1*'10. Obj. Placement Tabl & Chart'!$D252,'10. Obj. Placement Tabl & Chart'!$D252),)","v":0},{"$f":"IF('10. Obj. Placement Tabl & Chart'!$F252=2,'10. Obj. Placement Tabl & Chart'!$C252,)","v":0},{"$f":"IF('10. Obj. Placement Tabl & Chart'!$F252=2,IF('10. Obj. Placement Tabl & Chart'!$E252=\"Right\",-1*'10. Obj. Placement Tabl & Chart'!$D252,'10. Obj. Placement Tabl & Chart'!$D252),)","v":0},{"$f":"IF('10. Obj. Placement Tabl & Chart'!$F252=3,'10. Obj. Placement Tabl & Chart'!$C252,)","v":0},{"$f":"IF('10. Obj. Placement Tabl & Chart'!$F252=3,IF('10. Obj. Placement Tabl & Chart'!$E252=\"Right\",-1*'10. Obj. Placement Tabl & Chart'!$D252,'10. Obj. Placement Tabl & Chart'!$D252),)","v":0},{"$f":"IF('10. Obj. Placement Tabl & Chart'!$F252=4,'10. Obj. Placement Tabl & Chart'!$C252,)","v":0},{"$f":"IF('10. Obj. Placement Tabl & Chart'!$F252=4,IF('10. Obj. Placement Tabl & Chart'!$E252=\"Right\",-1*'10. Obj. Placement Tabl & Chart'!$D252,'10. Obj. Placement Tabl & Chart'!$D252),)","v":0}]
[null,null,null,null,null,null,null,null,null,null,null,null,null,null,null,null,null,null,null,null,null,null,null,null,null,null,null,null,null,null,null,null,null,null,null,null,null,0,{"$f":"IF(AL108=0,,SUM($BL$6:BL107)+ROUND(2*IF(AP108=1,$AV$37,IF(AP108=2,$AV$41,IF(AP108=3,$AV$45,IF(AP108=4,$AV$49,))))*RAND(),))","v":0},0,0,0,0,0,null,null,null,null,null,null,null,null,null,null,null,null,null,null,0.70468641388822906,0,0,0,0,0,null,9.2506806507373529E-2,0,null,0,0,0,0,0,0,9.2506806507373529E-2,null,0,0,0,0,0,0,9.2506806507373529E-2,null,0,0,0,0,0,0,9.2506806507373529E-2,null,0,0,0,0,0,0,9.2506806507373529E-2,null,3,2,3,3,null,{"$f":"IF('10. Obj. Placement Tabl & Chart'!$F124=1,'10. Obj. Placement Tabl & Chart'!$C124,)","v":0},{"$f":"IF('10. Obj. Placement Tabl & Chart'!$F124=1,IF('10. Obj. Placement Tabl & Chart'!$E124=\"Right\",-1*'10. Obj. Placement Tabl & Chart'!$D124,'10. Obj. Placement Tabl & Chart'!$D124),)","v":0},{"$f":"IF('10. Obj. Placement Tabl & Chart'!$F124=2,'10. Obj. Placement Tabl & Chart'!$C124,)","v":0},{"$f":"IF('10. Obj. Placement Tabl & Chart'!$F124=2,IF('10. Obj. Placement Tabl & Chart'!$E124=\"Right\",-1*'10. Obj. Placement Tabl & Chart'!$D124,'10. Obj. Placement Tabl & Chart'!$D124),)","v":0},{"$f":"IF('10. Obj. Placement Tabl & Chart'!$F124=3,'10. Obj. Placement Tabl & Chart'!$C124,)","v":0},{"$f":"IF('10. Obj. Placement Tabl & Chart'!$F124=3,IF('10. Obj. Placement Tabl & Chart'!$E124=\"Right\",-1*'10. Obj. Placement Tabl & Chart'!$D124,'10. Obj. Placement Tabl & Chart'!$D124),)","v":0},{"$f":"IF('10. Obj. Placement Tabl & Chart'!$F124=4,'10. Obj. Placement Tabl & Chart'!$C124,)","v":0},{"$f":"IF('10. Obj. Placement Tabl & Chart'!$F124=4,IF('10. Obj. Placement Tabl & Chart'!$E124=\"Right\",-1*'10. Obj. Placement Tabl & Chart'!$D124,'10. Obj. Placement Tabl & Chart'!$D124),)","v":0},null,null,{"$f":"IF('10. Obj. Placement Tabl & Chart'!$F253=1,'10. Obj. Placement Tabl & Chart'!$C253,)","v":0},{"$f":"IF('10. Obj. Placement Tabl & Chart'!$F253=1,IF('10. Obj. Placement Tabl & Chart'!$E253=\"Right\",-1*'10. Obj. Placement Tabl & Chart'!$D253,'10. Obj. Placement Tabl & Chart'!$D253),)","v":0},{"$f":"IF('10. Obj. Placement Tabl & Chart'!$F253=2,'10. Obj. Placement Tabl & Chart'!$C253,)","v":0},{"$f":"IF('10. Obj. Placement Tabl & Chart'!$F253=2,IF('10. Obj. Placement Tabl & Chart'!$E253=\"Right\",-1*'10. Obj. Placement Tabl & Chart'!$D253,'10. Obj. Placement Tabl & Chart'!$D253),)","v":0},{"$f":"IF('10. Obj. Placement Tabl & Chart'!$F253=3,'10. Obj. Placement Tabl & Chart'!$C253,)","v":0},{"$f":"IF('10. Obj. Placement Tabl & Chart'!$F253=3,IF('10. Obj. Placement Tabl & Chart'!$E253=\"Right\",-1*'10. Obj. Placement Tabl & Chart'!$D253,'10. Obj. Placement Tabl & Chart'!$D253),)","v":0},{"$f":"IF('10. Obj. Placement Tabl & Chart'!$F253=4,'10. Obj. Placement Tabl & Chart'!$C253,)","v":0},{"$f":"IF('10. Obj. Placement Tabl & Chart'!$F253=4,IF('10. Obj. Placement Tabl & Chart'!$E253=\"Right\",-1*'10. Obj. Placement Tabl & Chart'!$D253,'10. Obj. Placement Tabl & Chart'!$D253),)","v":0}]
[null,null,null,null,null,null,null,null,null,null,null,null,null,null,null,null,null,null,null,null,null,null,null,null,null,null,null,null,null,null,null,null,null,null,null,null,null,0,{"$f":"IF(AL109=0,,SUM($BL$6:BL108)+ROUND(2*IF(AP109=1,$AV$37,IF(AP109=2,$AV$41,IF(AP109=3,$AV$45,IF(AP109=4,$AV$49,))))*RAND(),))","v":0},0,0,0,0,0,null,null,null,null,null,null,null,null,null,null,null,null,null,null,0.8670414705498577,0,0,0,0,0,null,0.45339441519110313,0,null,0,0,0,0,0,0,0.45339441519110313,null,0,0,0,0,0,0,0.45339441519110313,null,0,0,0,0,0,0,0.45339441519110313,null,0,0,0,0,0,0,0.45339441519110313,null,3,2,3,4,null,{"$f":"IF('10. Obj. Placement Tabl & Chart'!$F125=1,'10. Obj. Placement Tabl & Chart'!$C125,)","v":0},{"$f":"IF('10. Obj. Placement Tabl & Chart'!$F125=1,IF('10. Obj. Placement Tabl & Chart'!$E125=\"Right\",-1*'10. Obj. Placement Tabl & Chart'!$D125,'10. Obj. Placement Tabl & Chart'!$D125),)","v":0},{"$f":"IF('10. Obj. Placement Tabl & Chart'!$F125=2,'10. Obj. Placement Tabl & Chart'!$C125,)","v":0},{"$f":"IF('10. Obj. Placement Tabl & Chart'!$F125=2,IF('10. Obj. Placement Tabl & Chart'!$E125=\"Right\",-1*'10. Obj. Placement Tabl & Chart'!$D125,'10. Obj. Placement Tabl & Chart'!$D125),)","v":0},{"$f":"IF('10. Obj. Placement Tabl & Chart'!$F125=3,'10. Obj. Placement Tabl & Chart'!$C125,)","v":0},{"$f":"IF('10. Obj. Placement Tabl & Chart'!$F125=3,IF('10. Obj. Placement Tabl & Chart'!$E125=\"Right\",-1*'10. Obj. Placement Tabl & Chart'!$D125,'10. Obj. Placement Tabl & Chart'!$D125),)","v":0},{"$f":"IF('10. Obj. Placement Tabl & Chart'!$F125=4,'10. Obj. Placement Tabl & Chart'!$C125,)","v":0},{"$f":"IF('10. Obj. Placement Tabl & Chart'!$F125=4,IF('10. Obj. Placement Tabl & Chart'!$E125=\"Right\",-1*'10. Obj. Placement Tabl & Chart'!$D125,'10. Obj. Placement Tabl & Chart'!$D125),)","v":0},null,null,{"$f":"IF('10. Obj. Placement Tabl & Chart'!$F254=1,'10. Obj. Placement Tabl & Chart'!$C254,)","v":0},{"$f":"IF('10. Obj. Placement Tabl & Chart'!$F254=1,IF('10. Obj. Placement Tabl & Chart'!$E254=\"Right\",-1*'10. Obj. Placement Tabl & Chart'!$D254,'10. Obj. Placement Tabl & Chart'!$D254),)","v":0},{"$f":"IF('10. Obj. Placement Tabl & Chart'!$F254=2,'10. Obj. Placement Tabl & Chart'!$C254,)","v":0},{"$f":"IF('10. Obj. Placement Tabl & Chart'!$F254=2,IF('10. Obj. Placement Tabl & Chart'!$E254=\"Right\",-1*'10. Obj. Placement Tabl & Chart'!$D254,'10. Obj. Placement Tabl & Chart'!$D254),)","v":0},{"$f":"IF('10. Obj. Placement Tabl & Chart'!$F254=3,'10. Obj. Placement Tabl & Chart'!$C254,)","v":0},{"$f":"IF('10. Obj. Placement Tabl & Chart'!$F254=3,IF('10. Obj. Placement Tabl & Chart'!$E254=\"Right\",-1*'10. Obj. Placement Tabl & Chart'!$D254,'10. Obj. Placement Tabl & Chart'!$D254),)","v":0},{"$f":"IF('10. Obj. Placement Tabl & Chart'!$F254=4,'10. Obj. Placement Tabl & Chart'!$C254,)","v":0},{"$f":"IF('10. Obj. Placement Tabl & Chart'!$F254=4,IF('10. Obj. Placement Tabl & Chart'!$E254=\"Right\",-1*'10. Obj. Placement Tabl & Chart'!$D254,'10. Obj. Placement Tabl & Chart'!$D254),)","v":0}]
[null,null,null,null,null,null,null,null,null,null,null,null,null,null,null,null,null,null,null,null,null,null,null,null,null,null,null,null,null,null,null,null,null,null,null,null,null,0,{"$f":"IF(AL110=0,,SUM($BL$6:BL109)+ROUND(2*IF(AP110=1,$AV$37,IF(AP110=2,$AV$41,IF(AP110=3,$AV$45,IF(AP110=4,$AV$49,))))*RAND(),))","v":0},0,0,0,0,0,null,null,null,null,null,null,null,null,null,null,null,null,null,null,0.83366634104864668,0,0,0,0,0,null,0.18117193529431541,0,null,0,0,0,0,0,0,0.18117193529431541,null,0,0,0,0,0,0,0.18117193529431541,null,0,0,0,0,0,0,0.18117193529431541,null,0,0,0,0,0,0,0.18117193529431541,null,3,2,3,4,null,{"$f":"IF('10. Obj. Placement Tabl & Chart'!$F126=1,'10. Obj. Placement Tabl & Chart'!$C126,)","v":0},{"$f":"IF('10. Obj. Placement Tabl & Chart'!$F126=1,IF('10. Obj. Placement Tabl & Chart'!$E126=\"Right\",-1*'10. Obj. Placement Tabl & Chart'!$D126,'10. Obj. Placement Tabl & Chart'!$D126),)","v":0},{"$f":"IF('10. Obj. Placement Tabl & Chart'!$F126=2,'10. Obj. Placement Tabl & Chart'!$C126,)","v":0},{"$f":"IF('10. Obj. Placement Tabl & Chart'!$F126=2,IF('10. Obj. Placement Tabl & Chart'!$E126=\"Right\",-1*'10. Obj. Placement Tabl & Chart'!$D126,'10. Obj. Placement Tabl & Chart'!$D126),)","v":0},{"$f":"IF('10. Obj. Placement Tabl & Chart'!$F126=3,'10. Obj. Placement Tabl & Chart'!$C126,)","v":0},{"$f":"IF('10. Obj. Placement Tabl & Chart'!$F126=3,IF('10. Obj. Placement Tabl & Chart'!$E126=\"Right\",-1*'10. Obj. Placement Tabl & Chart'!$D126,'10. Obj. Placement Tabl & Chart'!$D126),)","v":0},{"$f":"IF('10. Obj. Placement Tabl & Chart'!$F126=4,'10. Obj. Placement Tabl & Chart'!$C126,)","v":0},{"$f":"IF('10. Obj. Placement Tabl & Chart'!$F126=4,IF('10. Obj. Placement Tabl & Chart'!$E126=\"Right\",-1*'10. Obj. Placement Tabl & Chart'!$D126,'10. Obj. Placement Tabl & Chart'!$D126),)","v":0},null,null,{"$f":"IF('10. Obj. Placement Tabl & Chart'!$F255=1,'10. Obj. Placement Tabl & Chart'!$C255,)","v":0},{"$f":"IF('10. Obj. Placement Tabl & Chart'!$F255=1,IF('10. Obj. Placement Tabl & Chart'!$E255=\"Right\",-1*'10. Obj. Placement Tabl & Chart'!$D255,'10. Obj. Placement Tabl & Chart'!$D255),)","v":0},{"$f":"IF('10. Obj. Placement Tabl & Chart'!$F255=2,'10. Obj. Placement Tabl & Chart'!$C255,)","v":0},{"$f":"IF('10. Obj. Placement Tabl & Chart'!$F255=2,IF('10. Obj. Placement Tabl & Chart'!$E255=\"Right\",-1*'10. Obj. Placement Tabl & Chart'!$D255,'10. Obj. Placement Tabl & Chart'!$D255),)","v":0},{"$f":"IF('10. Obj. Placement Tabl & Chart'!$F255=3,'10. Obj. Placement Tabl & Chart'!$C255,)","v":0},{"$f":"IF('10. Obj. Placement Tabl & Chart'!$F255=3,IF('10. Obj. Placement Tabl & Chart'!$E255=\"Right\",-1*'10. Obj. Placement Tabl & Chart'!$D255,'10. Obj. Placement Tabl & Chart'!$D255),)","v":0},{"$f":"IF('10. Obj. Placement Tabl & Chart'!$F255=4,'10. Obj. Placement Tabl & Chart'!$C255,)","v":0},{"$f":"IF('10. Obj. Placement Tabl & Chart'!$F255=4,IF('10. Obj. Placement Tabl & Chart'!$E255=\"Right\",-1*'10. Obj. Placement Tabl & Chart'!$D255,'10. Obj. Placement Tabl & Chart'!$D255),)","v":0}]
[null,null,null,null,null,null,null,null,null,null,null,null,null,null,null,null,null,null,null,null,null,null,null,null,null,null,null,null,null,null,null,null,null,null,null,null,null,0,{"$f":"IF(AL111=0,,SUM($BL$6:BL110)+ROUND(2*IF(AP111=1,$AV$37,IF(AP111=2,$AV$41,IF(AP111=3,$AV$45,IF(AP111=4,$AV$49,))))*RAND(),))","v":0},0,0,0,0,0,null,null,null,null,null,null,null,null,null,null,null,null,null,null,0.92345036546019799,0,0,0,0,0,null,0.61169324635949218,0,null,0,0,0,0,0,0,0.61169324635949218,null,0,0,0,0,0,0,0.61169324635949218,null,0,0,0,0,0,0,0.61169324635949218,null,0,0,0,0,0,0,0.61169324635949218,null,3,2,3,4,null,{"$f":"IF('10. Obj. Placement Tabl & Chart'!$F127=1,'10. Obj. Placement Tabl & Chart'!$C127,)","v":0},{"$f":"IF('10. Obj. Placement Tabl & Chart'!$F127=1,IF('10. Obj. Placement Tabl & Chart'!$E127=\"Right\",-1*'10. Obj. Placement Tabl & Chart'!$D127,'10. Obj. Placement Tabl & Chart'!$D127),)","v":0},{"$f":"IF('10. Obj. Placement Tabl & Chart'!$F127=2,'10. Obj. Placement Tabl & Chart'!$C127,)","v":0},{"$f":"IF('10. Obj. Placement Tabl & Chart'!$F127=2,IF('10. Obj. Placement Tabl & Chart'!$E127=\"Right\",-1*'10. Obj. Placement Tabl & Chart'!$D127,'10. Obj. Placement Tabl & Chart'!$D127),)","v":0},{"$f":"IF('10. Obj. Placement Tabl & Chart'!$F127=3,'10. Obj. Placement Tabl & Chart'!$C127,)","v":0},{"$f":"IF('10. Obj. Placement Tabl & Chart'!$F127=3,IF('10. Obj. Placement Tabl & Chart'!$E127=\"Right\",-1*'10. Obj. Placement Tabl & Chart'!$D127,'10. Obj. Placement Tabl & Chart'!$D127),)","v":0},{"$f":"IF('10. Obj. Placement Tabl & Chart'!$F127=4,'10. Obj. Placement Tabl & Chart'!$C127,)","v":0},{"$f":"IF('10. Obj. Placement Tabl & Chart'!$F127=4,IF('10. Obj. Placement Tabl & Chart'!$E127=\"Right\",-1*'10. Obj. Placement Tabl & Chart'!$D127,'10. Obj. Placement Tabl & Chart'!$D127),)","v":0},null,null,{"$f":"IF('10. Obj. Placement Tabl & Chart'!$F256=1,'10. Obj. Placement Tabl & Chart'!$C256,)","v":0},{"$f":"IF('10. Obj. Placement Tabl & Chart'!$F256=1,IF('10. Obj. Placement Tabl & Chart'!$E256=\"Right\",-1*'10. Obj. Placement Tabl & Chart'!$D256,'10. Obj. Placement Tabl & Chart'!$D256),)","v":0},{"$f":"IF('10. Obj. Placement Tabl & Chart'!$F256=2,'10. Obj. Placement Tabl & Chart'!$C256,)","v":0},{"$f":"IF('10. Obj. Placement Tabl & Chart'!$F256=2,IF('10. Obj. Placement Tabl & Chart'!$E256=\"Right\",-1*'10. Obj. Placement Tabl & Chart'!$D256,'10. Obj. Placement Tabl & Chart'!$D256),)","v":0},{"$f":"IF('10. Obj. Placement Tabl & Chart'!$F256=3,'10. Obj. Placement Tabl & Chart'!$C256,)","v":0},{"$f":"IF('10. Obj. Placement Tabl & Chart'!$F256=3,IF('10. Obj. Placement Tabl & Chart'!$E256=\"Right\",-1*'10. Obj. Placement Tabl & Chart'!$D256,'10. Obj. Placement Tabl & Chart'!$D256),)","v":0},{"$f":"IF('10. Obj. Placement Tabl & Chart'!$F256=4,'10. Obj. Placement Tabl & Chart'!$C256,)","v":0},{"$f":"IF('10. Obj. Placement Tabl & Chart'!$F256=4,IF('10. Obj. Placement Tabl & Chart'!$E256=\"Right\",-1*'10. Obj. Placement Tabl & Chart'!$D256,'10. Obj. Placement Tabl & Chart'!$D256),)","v":0}]
[null,null,null,null,null,null,null,null,null,null,null,null,null,null,null,null,null,null,null,null,null,null,null,null,null,null,null,null,null,null,null,null,null,null,null,null,null,0,{"$f":"IF(AL112=0,,SUM($BL$6:BL111)+ROUND(2*IF(AP112=1,$AV$37,IF(AP112=2,$AV$41,IF(AP112=3,$AV$45,IF(AP112=4,$AV$49,))))*RAND(),))","v":0},0,0,0,0,0,null,null,null,null,null,null,null,null,null,null,null,null,null,null,0.94490370466360696,0,0,0,0,0,null,0.13733407096935779,0,null,0,0,0,0,0,0,0.13733407096935779,null,0,0,0,0,0,0,0.13733407096935779,null,0,0,0,0,0,0,0.13733407096935779,null,0,0,0,0,0,0,0.13733407096935779,null,3,2,3,4,null,{"$f":"IF('10. Obj. Placement Tabl & Chart'!$F128=1,'10. Obj. Placement Tabl & Chart'!$C128,)","v":0},{"$f":"IF('10. Obj. Placement Tabl & Chart'!$F128=1,IF('10. Obj. Placement Tabl & Chart'!$E128=\"Right\",-1*'10. Obj. Placement Tabl & Chart'!$D128,'10. Obj. Placement Tabl & Chart'!$D128),)","v":0},{"$f":"IF('10. Obj. Placement Tabl & Chart'!$F128=2,'10. Obj. Placement Tabl & Chart'!$C128,)","v":0},{"$f":"IF('10. Obj. Placement Tabl & Chart'!$F128=2,IF('10. Obj. Placement Tabl & Chart'!$E128=\"Right\",-1*'10. Obj. Placement Tabl & Chart'!$D128,'10. Obj. Placement Tabl & Chart'!$D128),)","v":0},{"$f":"IF('10. Obj. Placement Tabl & Chart'!$F128=3,'10. Obj. Placement Tabl & Chart'!$C128,)","v":0},{"$f":"IF('10. Obj. Placement Tabl & Chart'!$F128=3,IF('10. Obj. Placement Tabl & Chart'!$E128=\"Right\",-1*'10. Obj. Placement Tabl & Chart'!$D128,'10. Obj. Placement Tabl & Chart'!$D128),)","v":0},{"$f":"IF('10. Obj. Placement Tabl & Chart'!$F128=4,'10. Obj. Placement Tabl & Chart'!$C128,)","v":0},{"$f":"IF('10. Obj. Placement Tabl & Chart'!$F128=4,IF('10. Obj. Placement Tabl & Chart'!$E128=\"Right\",-1*'10. Obj. Placement Tabl & Chart'!$D128,'10. Obj. Placement Tabl & Chart'!$D128),)","v":0},null,null,{"$f":"IF('10. Obj. Placement Tabl & Chart'!$F257=1,'10. Obj. Placement Tabl & Chart'!$C257,)","v":0},{"$f":"IF('10. Obj. Placement Tabl & Chart'!$F257=1,IF('10. Obj. Placement Tabl & Chart'!$E257=\"Right\",-1*'10. Obj. Placement Tabl & Chart'!$D257,'10. Obj. Placement Tabl & Chart'!$D257),)","v":0},{"$f":"IF('10. Obj. Placement Tabl & Chart'!$F257=2,'10. Obj. Placement Tabl & Chart'!$C257,)","v":0},{"$f":"IF('10. Obj. Placement Tabl & Chart'!$F257=2,IF('10. Obj. Placement Tabl & Chart'!$E257=\"Right\",-1*'10. Obj. Placement Tabl & Chart'!$D257,'10. Obj. Placement Tabl & Chart'!$D257),)","v":0},{"$f":"IF('10. Obj. Placement Tabl & Chart'!$F257=3,'10. Obj. Placement Tabl & Chart'!$C257,)","v":0},{"$f":"IF('10. Obj. Placement Tabl & Chart'!$F257=3,IF('10. Obj. Placement Tabl & Chart'!$E257=\"Right\",-1*'10. Obj. Placement Tabl & Chart'!$D257,'10. Obj. Placement Tabl & Chart'!$D257),)","v":0},{"$f":"IF('10. Obj. Placement Tabl & Chart'!$F257=4,'10. Obj. Placement Tabl & Chart'!$C257,)","v":0},{"$f":"IF('10. Obj. Placement Tabl & Chart'!$F257=4,IF('10. Obj. Placement Tabl & Chart'!$E257=\"Right\",-1*'10. Obj. Placement Tabl & Chart'!$D257,'10. Obj. Placement Tabl & Chart'!$D257),)","v":0}]
[null,null,null,null,null,null,null,null,null,null,null,null,null,null,null,null,null,null,null,null,null,null,null,null,null,null,null,null,null,null,null,null,null,null,null,null,null,0,{"$f":"IF(AL113=0,,SUM($BL$6:BL112)+ROUND(2*IF(AP113=1,$AV$37,IF(AP113=2,$AV$41,IF(AP113=3,$AV$45,IF(AP113=4,$AV$49,))))*RAND(),))","v":0},0,0,0,0,0,null,null,null,null,null,null,null,null,null,null,null,null,null,null,0.20744845688244884,0,0,0,0,0,null,0.23923442216097779,0,null,0,0,0,0,0,0,0.23923442216097779,null,0,0,0,0,0,0,0.23923442216097779,null,0,0,0,0,0,0,0.23923442216097779,null,0,0,0,0,0,0,0.23923442216097779,null,1,1,1,1,null,{"$f":"IF('10. Obj. Placement Tabl & Chart'!$F129=1,'10. Obj. Placement Tabl & Chart'!$C129,)","v":0},{"$f":"IF('10. Obj. Placement Tabl & Chart'!$F129=1,IF('10. Obj. Placement Tabl & Chart'!$E129=\"Right\",-1*'10. Obj. Placement Tabl & Chart'!$D129,'10. Obj. Placement Tabl & Chart'!$D129),)","v":0},{"$f":"IF('10. Obj. Placement Tabl & Chart'!$F129=2,'10. Obj. Placement Tabl & Chart'!$C129,)","v":0},{"$f":"IF('10. Obj. Placement Tabl & Chart'!$F129=2,IF('10. Obj. Placement Tabl & Chart'!$E129=\"Right\",-1*'10. Obj. Placement Tabl & Chart'!$D129,'10. Obj. Placement Tabl & Chart'!$D129),)","v":0},{"$f":"IF('10. Obj. Placement Tabl & Chart'!$F129=3,'10. Obj. Placement Tabl & Chart'!$C129,)","v":0},{"$f":"IF('10. Obj. Placement Tabl & Chart'!$F129=3,IF('10. Obj. Placement Tabl & Chart'!$E129=\"Right\",-1*'10. Obj. Placement Tabl & Chart'!$D129,'10. Obj. Placement Tabl & Chart'!$D129),)","v":0},{"$f":"IF('10. Obj. Placement Tabl & Chart'!$F129=4,'10. Obj. Placement Tabl & Chart'!$C129,)","v":0},{"$f":"IF('10. Obj. Placement Tabl & Chart'!$F129=4,IF('10. Obj. Placement Tabl & Chart'!$E129=\"Right\",-1*'10. Obj. Placement Tabl & Chart'!$D129,'10. Obj. Placement Tabl & Chart'!$D129),)","v":0},null,null,{"$f":"IF('10. Obj. Placement Tabl & Chart'!$F258=1,'10. Obj. Placement Tabl & Chart'!$C258,)","v":0},{"$f":"IF('10. Obj. Placement Tabl & Chart'!$F258=1,IF('10. Obj. Placement Tabl & Chart'!$E258=\"Right\",-1*'10. Obj. Placement Tabl & Chart'!$D258,'10. Obj. Placement Tabl & Chart'!$D258),)","v":0},{"$f":"IF('10. Obj. Placement Tabl & Chart'!$F258=2,'10. Obj. Placement Tabl & Chart'!$C258,)","v":0},{"$f":"IF('10. Obj. Placement Tabl & Chart'!$F258=2,IF('10. Obj. Placement Tabl & Chart'!$E258=\"Right\",-1*'10. Obj. Placement Tabl & Chart'!$D258,'10. Obj. Placement Tabl & Chart'!$D258),)","v":0},{"$f":"IF('10. Obj. Placement Tabl & Chart'!$F258=3,'10. Obj. Placement Tabl & Chart'!$C258,)","v":0},{"$f":"IF('10. Obj. Placement Tabl & Chart'!$F258=3,IF('10. Obj. Placement Tabl & Chart'!$E258=\"Right\",-1*'10. Obj. Placement Tabl & Chart'!$D258,'10. Obj. Placement Tabl & Chart'!$D258),)","v":0},{"$f":"IF('10. Obj. Placement Tabl & Chart'!$F258=4,'10. Obj. Placement Tabl & Chart'!$C258,)","v":0},{"$f":"IF('10. Obj. Placement Tabl & Chart'!$F258=4,IF('10. Obj. Placement Tabl & Chart'!$E258=\"Right\",-1*'10. Obj. Placement Tabl & Chart'!$D258,'10. Obj. Placement Tabl & Chart'!$D258),)","v":0}]
[null,null,null,null,null,null,null,null,null,null,null,null,null,null,null,null,null,null,null,null,null,null,null,null,null,null,null,null,null,null,null,null,null,null,null,null,null,0,{"$f":"IF(AL114=0,,SUM($BL$6:BL113)+ROUND(2*IF(AP114=1,$AV$37,IF(AP114=2,$AV$41,IF(AP114=3,$AV$45,IF(AP114=4,$AV$49,))))*RAND(),))","v":0},0,0,0,0,0,null,null,null,null,null,null,null,null,null,null,null,null,null,null,0.54331063120888934,0,0,0,0,0,null,0.50984088852591269,0,null,0,0,0,0,0,0,0.50984088852591269,null,0,0,0,0,0,0,0.50984088852591269,null,0,0,0,0,0,0,0.50984088852591269,null,0,0,0,0,0,0,0.50984088852591269,null,2,2,2,3,null,{"$f":"IF('10. Obj. Placement Tabl & Chart'!$F130=1,'10. Obj. Placement Tabl & Chart'!$C130,)","v":0},{"$f":"IF('10. Obj. Placement Tabl & Chart'!$F130=1,IF('10. Obj. Placement Tabl & Chart'!$E130=\"Right\",-1*'10. Obj. Placement Tabl & Chart'!$D130,'10. Obj. Placement Tabl & Chart'!$D130),)","v":0},{"$f":"IF('10. Obj. Placement Tabl & Chart'!$F130=2,'10. Obj. Placement Tabl & Chart'!$C130,)","v":0},{"$f":"IF('10. Obj. Placement Tabl & Chart'!$F130=2,IF('10. Obj. Placement Tabl & Chart'!$E130=\"Right\",-1*'10. Obj. Placement Tabl & Chart'!$D130,'10. Obj. Placement Tabl & Chart'!$D130),)","v":0},{"$f":"IF('10. Obj. Placement Tabl & Chart'!$F130=3,'10. Obj. Placement Tabl & Chart'!$C130,)","v":0},{"$f":"IF('10. Obj. Placement Tabl & Chart'!$F130=3,IF('10. Obj. Placement Tabl & Chart'!$E130=\"Right\",-1*'10. Obj. Placement Tabl & Chart'!$D130,'10. Obj. Placement Tabl & Chart'!$D130),)","v":0},{"$f":"IF('10. Obj. Placement Tabl & Chart'!$F130=4,'10. Obj. Placement Tabl & Chart'!$C130,)","v":0},{"$f":"IF('10. Obj. Placement Tabl & Chart'!$F130=4,IF('10. Obj. Placement Tabl & Chart'!$E130=\"Right\",-1*'10. Obj. Placement Tabl & Chart'!$D130,'10. Obj. Placement Tabl & Chart'!$D130),)","v":0},null,null,{"$f":"IF('10. Obj. Placement Tabl & Chart'!$F259=1,'10. Obj. Placement Tabl & Chart'!$C259,)","v":0},{"$f":"IF('10. Obj. Placement Tabl & Chart'!$F259=1,IF('10. Obj. Placement Tabl & Chart'!$E259=\"Right\",-1*'10. Obj. Placement Tabl & Chart'!$D259,'10. Obj. Placement Tabl & Chart'!$D259),)","v":0},{"$f":"IF('10. Obj. Placement Tabl & Chart'!$F259=2,'10. Obj. Placement Tabl & Chart'!$C259,)","v":0},{"$f":"IF('10. Obj. Placement Tabl & Chart'!$F259=2,IF('10. Obj. Placement Tabl & Chart'!$E259=\"Right\",-1*'10. Obj. Placement Tabl & Chart'!$D259,'10. Obj. Placement Tabl & Chart'!$D259),)","v":0},{"$f":"IF('10. Obj. Placement Tabl & Chart'!$F259=3,'10. Obj. Placement Tabl & Chart'!$C259,)","v":0},{"$f":"IF('10. Obj. Placement Tabl & Chart'!$F259=3,IF('10. Obj. Placement Tabl & Chart'!$E259=\"Right\",-1*'10. Obj. Placement Tabl & Chart'!$D259,'10. Obj. Placement Tabl & Chart'!$D259),)","v":0},{"$f":"IF('10. Obj. Placement Tabl & Chart'!$F259=4,'10. Obj. Placement Tabl & Chart'!$C259,)","v":0},{"$f":"IF('10. Obj. Placement Tabl & Chart'!$F259=4,IF('10. Obj. Placement Tabl & Chart'!$E259=\"Right\",-1*'10. Obj. Placement Tabl & Chart'!$D259,'10. Obj. Placement Tabl & Chart'!$D259),)","v":0}]
[null,null,null,null,null,null,null,null,null,null,null,null,null,null,null,null,null,null,null,null,null,null,null,null,null,null,null,null,null,null,null,null,null,null,null,null,null,0,{"$f":"IF(AL115=0,,SUM($BL$6:BL114)+ROUND(2*IF(AP115=1,$AV$37,IF(AP115=2,$AV$41,IF(AP115=3,$AV$45,IF(AP115=4,$AV$49,))))*RAND(),))","v":0},0,0,0,0,0,null,null,null,null,null,null,null,null,null,null,null,null,null,null,0.74706458030888201,0,0,0,0,0,null,2.3953568004547954E-2,0,null,0,0,0,0,0,0,2.3953568004547954E-2,null,0,0,0,0,0,0,2.3953568004547954E-2,null,0,0,0,0,0,0,2.3953568004547954E-2,null,0,0,0,0,0,0,2.3953568004547954E-2,null,3,2,3,3,null,{"$f":"IF('10. Obj. Placement Tabl & Chart'!$F131=1,'10. Obj. Placement Tabl & Chart'!$C131,)","v":0},{"$f":"IF('10. Obj. Placement Tabl & Chart'!$F131=1,IF('10. Obj. Placement Tabl & Chart'!$E131=\"Right\",-1*'10. Obj. Placement Tabl & Chart'!$D131,'10. Obj. Placement Tabl & Chart'!$D131),)","v":0},{"$f":"IF('10. Obj. Placement Tabl & Chart'!$F131=2,'10. Obj. Placement Tabl & Chart'!$C131,)","v":0},{"$f":"IF('10. Obj. Placement Tabl & Chart'!$F131=2,IF('10. Obj. Placement Tabl & Chart'!$E131=\"Right\",-1*'10. Obj. Placement Tabl & Chart'!$D131,'10. Obj. Placement Tabl & Chart'!$D131),)","v":0},{"$f":"IF('10. Obj. Placement Tabl & Chart'!$F131=3,'10. Obj. Placement Tabl & Chart'!$C131,)","v":0},{"$f":"IF('10. Obj. Placement Tabl & Chart'!$F131=3,IF('10. Obj. Placement Tabl & Chart'!$E131=\"Right\",-1*'10. Obj. Placement Tabl & Chart'!$D131,'10. Obj. Placement Tabl & Chart'!$D131),)","v":0},{"$f":"IF('10. Obj. Placement Tabl & Chart'!$F131=4,'10. Obj. Placement Tabl & Chart'!$C131,)","v":0},{"$f":"IF('10. Obj. Placement Tabl & Chart'!$F131=4,IF('10. Obj. Placement Tabl & Chart'!$E131=\"Right\",-1*'10. Obj. Placement Tabl & Chart'!$D131,'10. Obj. Placement Tabl & Chart'!$D131),)","v":0},null,null,{"$f":"IF('10. Obj. Placement Tabl & Chart'!$F260=1,'10. Obj. Placement Tabl & Chart'!$C260,)","v":0},{"$f":"IF('10. Obj. Placement Tabl & Chart'!$F260=1,IF('10. Obj. Placement Tabl & Chart'!$E260=\"Right\",-1*'10. Obj. Placement Tabl & Chart'!$D260,'10. Obj. Placement Tabl & Chart'!$D260),)","v":0},{"$f":"IF('10. Obj. Placement Tabl & Chart'!$F260=2,'10. Obj. Placement Tabl & Chart'!$C260,)","v":0},{"$f":"IF('10. Obj. Placement Tabl & Chart'!$F260=2,IF('10. Obj. Placement Tabl & Chart'!$E260=\"Right\",-1*'10. Obj. Placement Tabl & Chart'!$D260,'10. Obj. Placement Tabl & Chart'!$D260),)","v":0},{"$f":"IF('10. Obj. Placement Tabl & Chart'!$F260=3,'10. Obj. Placement Tabl & Chart'!$C260,)","v":0},{"$f":"IF('10. Obj. Placement Tabl & Chart'!$F260=3,IF('10. Obj. Placement Tabl & Chart'!$E260=\"Right\",-1*'10. Obj. Placement Tabl & Chart'!$D260,'10. Obj. Placement Tabl & Chart'!$D260),)","v":0},{"$f":"IF('10. Obj. Placement Tabl & Chart'!$F260=4,'10. Obj. Placement Tabl & Chart'!$C260,)","v":0},{"$f":"IF('10. Obj. Placement Tabl & Chart'!$F260=4,IF('10. Obj. Placement Tabl & Chart'!$E260=\"Right\",-1*'10. Obj. Placement Tabl & Chart'!$D260,'10. Obj. Placement Tabl & Chart'!$D260),)","v":0}]
[null,null,null,null,null,null,null,null,null,null,null,null,null,null,null,null,null,null,null,null,null,null,null,null,null,null,null,null,null,null,null,null,null,null,null,null,null,0,{"$f":"IF(AL116=0,,SUM($BL$6:BL115)+ROUND(2*IF(AP116=1,$AV$37,IF(AP116=2,$AV$41,IF(AP116=3,$AV$45,IF(AP116=4,$AV$49,))))*RAND(),))","v":0},0,0,0,0,0,null,null,null,null,null,null,null,null,null,null,null,null,null,null,0.9974568489012875,0,0,0,0,0,null,0.31141417362138302,0,null,0,0,0,0,0,0,0.31141417362138302,null,0,0,0,0,0,0,0.31141417362138302,null,0,0,0,0,0,0,0.31141417362138302,null,0,0,0,0,0,0,0.31141417362138302,null,3,2,3,4,null,{"$f":"IF('10. Obj. Placement Tabl & Chart'!$F132=1,'10. Obj. Placement Tabl & Chart'!$C132,)","v":0},{"$f":"IF('10. Obj. Placement Tabl & Chart'!$F132=1,IF('10. Obj. Placement Tabl & Chart'!$E132=\"Right\",-1*'10. Obj. Placement Tabl & Chart'!$D132,'10. Obj. Placement Tabl & Chart'!$D132),)","v":0},{"$f":"IF('10. Obj. Placement Tabl & Chart'!$F132=2,'10. Obj. Placement Tabl & Chart'!$C132,)","v":0},{"$f":"IF('10. Obj. Placement Tabl & Chart'!$F132=2,IF('10. Obj. Placement Tabl & Chart'!$E132=\"Right\",-1*'10. Obj. Placement Tabl & Chart'!$D132,'10. Obj. Placement Tabl & Chart'!$D132),)","v":0},{"$f":"IF('10. Obj. Placement Tabl & Chart'!$F132=3,'10. Obj. Placement Tabl & Chart'!$C132,)","v":0},{"$f":"IF('10. Obj. Placement Tabl & Chart'!$F132=3,IF('10. Obj. Placement Tabl & Chart'!$E132=\"Right\",-1*'10. Obj. Placement Tabl & Chart'!$D132,'10. Obj. Placement Tabl & Chart'!$D132),)","v":0},{"$f":"IF('10. Obj. Placement Tabl & Chart'!$F132=4,'10. Obj. Placement Tabl & Chart'!$C132,)","v":0},{"$f":"IF('10. Obj. Placement Tabl & Chart'!$F132=4,IF('10. Obj. Placement Tabl & Chart'!$E132=\"Right\",-1*'10. Obj. Placement Tabl & Chart'!$D132,'10. Obj. Placement Tabl & Chart'!$D132),)","v":0},null,null,{"$f":"IF('10. Obj. Placement Tabl & Chart'!$F261=1,'10. Obj. Placement Tabl & Chart'!$C261,)","v":0},{"$f":"IF('10. Obj. Placement Tabl & Chart'!$F261=1,IF('10. Obj. Placement Tabl & Chart'!$E261=\"Right\",-1*'10. Obj. Placement Tabl & Chart'!$D261,'10. Obj. Placement Tabl & Chart'!$D261),)","v":0},{"$f":"IF('10. Obj. Placement Tabl & Chart'!$F261=2,'10. Obj. Placement Tabl & Chart'!$C261,)","v":0},{"$f":"IF('10. Obj. Placement Tabl & Chart'!$F261=2,IF('10. Obj. Placement Tabl & Chart'!$E261=\"Right\",-1*'10. Obj. Placement Tabl & Chart'!$D261,'10. Obj. Placement Tabl & Chart'!$D261),)","v":0},{"$f":"IF('10. Obj. Placement Tabl & Chart'!$F261=3,'10. Obj. Placement Tabl & Chart'!$C261,)","v":0},{"$f":"IF('10. Obj. Placement Tabl & Chart'!$F261=3,IF('10. Obj. Placement Tabl & Chart'!$E261=\"Right\",-1*'10. Obj. Placement Tabl & Chart'!$D261,'10. Obj. Placement Tabl & Chart'!$D261),)","v":0},{"$f":"IF('10. Obj. Placement Tabl & Chart'!$F261=4,'10. Obj. Placement Tabl & Chart'!$C261,)","v":0},{"$f":"IF('10. Obj. Placement Tabl & Chart'!$F261=4,IF('10. Obj. Placement Tabl & Chart'!$E261=\"Right\",-1*'10. Obj. Placement Tabl & Chart'!$D261,'10. Obj. Placement Tabl & Chart'!$D261),)","v":0}]
[null,null,null,null,null,null,null,null,null,null,null,null,null,null,null,null,null,null,null,null,null,null,null,null,null,null,null,null,null,null,null,null,null,null,null,null,null,0,{"$f":"IF(AL117=0,,SUM($BL$6:BL116)+ROUND(2*IF(AP117=1,$AV$37,IF(AP117=2,$AV$41,IF(AP117=3,$AV$45,IF(AP117=4,$AV$49,))))*RAND(),))","v":0},0,0,0,0,0,null,null,null,null,null,null,null,null,null,null,null,null,null,null,0.22124414959832184,0,0,0,0,0,null,0.58661462341256687,0,null,0,0,0,0,0,0,0.58661462341256687,null,0,0,0,0,0,0,0.58661462341256687,null,0,0,0,0,0,0,0.58661462341256687,null,0,0,0,0,0,0,0.58661462341256687,null,1,1,1,1,null,{"$f":"IF('10. Obj. Placement Tabl & Chart'!$F133=1,'10. Obj. Placement Tabl & Chart'!$C133,)","v":0},{"$f":"IF('10. Obj. Placement Tabl & Chart'!$F133=1,IF('10. Obj. Placement Tabl & Chart'!$E133=\"Right\",-1*'10. Obj. Placement Tabl & Chart'!$D133,'10. Obj. Placement Tabl & Chart'!$D133),)","v":0},{"$f":"IF('10. Obj. Placement Tabl & Chart'!$F133=2,'10. Obj. Placement Tabl & Chart'!$C133,)","v":0},{"$f":"IF('10. Obj. Placement Tabl & Chart'!$F133=2,IF('10. Obj. Placement Tabl & Chart'!$E133=\"Right\",-1*'10. Obj. Placement Tabl & Chart'!$D133,'10. Obj. Placement Tabl & Chart'!$D133),)","v":0},{"$f":"IF('10. Obj. Placement Tabl & Chart'!$F133=3,'10. Obj. Placement Tabl & Chart'!$C133,)","v":0},{"$f":"IF('10. Obj. Placement Tabl & Chart'!$F133=3,IF('10. Obj. Placement Tabl & Chart'!$E133=\"Right\",-1*'10. Obj. Placement Tabl & Chart'!$D133,'10. Obj. Placement Tabl & Chart'!$D133),)","v":0},{"$f":"IF('10. Obj. Placement Tabl & Chart'!$F133=4,'10. Obj. Placement Tabl & Chart'!$C133,)","v":0},{"$f":"IF('10. Obj. Placement Tabl & Chart'!$F133=4,IF('10. Obj. Placement Tabl & Chart'!$E133=\"Right\",-1*'10. Obj. Placement Tabl & Chart'!$D133,'10. Obj. Placement Tabl & Chart'!$D133),)","v":0},null,null,{"$f":"IF('10. Obj. Placement Tabl & Chart'!$F262=1,'10. Obj. Placement Tabl & Chart'!$C262,)","v":0},{"$f":"IF('10. Obj. Placement Tabl & Chart'!$F262=1,IF('10. Obj. Placement Tabl & Chart'!$E262=\"Right\",-1*'10. Obj. Placement Tabl & Chart'!$D262,'10. Obj. Placement Tabl & Chart'!$D262),)","v":0},{"$f":"IF('10. Obj. Placement Tabl & Chart'!$F262=2,'10. Obj. Placement Tabl & Chart'!$C262,)","v":0},{"$f":"IF('10. Obj. Placement Tabl & Chart'!$F262=2,IF('10. Obj. Placement Tabl & Chart'!$E262=\"Right\",-1*'10. Obj. Placement Tabl & Chart'!$D262,'10. Obj. Placement Tabl & Chart'!$D262),)","v":0},{"$f":"IF('10. Obj. Placement Tabl & Chart'!$F262=3,'10. Obj. Placement Tabl & Chart'!$C262,)","v":0},{"$f":"IF('10. Obj. Placement Tabl & Chart'!$F262=3,IF('10. Obj. Placement Tabl & Chart'!$E262=\"Right\",-1*'10. Obj. Placement Tabl & Chart'!$D262,'10. Obj. Placement Tabl & Chart'!$D262),)","v":0},{"$f":"IF('10. Obj. Placement Tabl & Chart'!$F262=4,'10. Obj. Placement Tabl & Chart'!$C262,)","v":0},{"$f":"IF('10. Obj. Placement Tabl & Chart'!$F262=4,IF('10. Obj. Placement Tabl & Chart'!$E262=\"Right\",-1*'10. Obj. Placement Tabl & Chart'!$D262,'10. Obj. Placement Tabl & Chart'!$D262),)","v":0}]
[null,null,null,null,null,null,null,null,null,null,null,null,null,null,null,null,null,null,null,null,null,null,null,null,null,null,null,null,null,null,null,null,null,null,null,null,null,0,{"$f":"IF(AL118=0,,SUM($BL$6:BL117)+ROUND(2*IF(AP118=1,$AV$37,IF(AP118=2,$AV$41,IF(AP118=3,$AV$45,IF(AP118=4,$AV$49,))))*RAND(),))","v":0},0,0,0,0,0,null,null,null,null,null,null,null,null,null,null,null,null,null,null,0.65308298050808433,0,0,0,0,0,null,0.79777615852895689,0,null,0,0,0,0,0,0,0.79777615852895689,null,0,0,0,0,0,0,0.79777615852895689,null,0,0,0,0,0,0,0.79777615852895689,null,0,0,0,0,0,0,0.79777615852895689,null,2,2,2,3,null,{"$f":"IF('10. Obj. Placement Tabl & Chart'!$F134=1,'10. Obj. Placement Tabl & Chart'!$C134,)","v":0},{"$f":"IF('10. Obj. Placement Tabl & Chart'!$F134=1,IF('10. Obj. Placement Tabl & Chart'!$E134=\"Right\",-1*'10. Obj. Placement Tabl & Chart'!$D134,'10. Obj. Placement Tabl & Chart'!$D134),)","v":0},{"$f":"IF('10. Obj. Placement Tabl & Chart'!$F134=2,'10. Obj. Placement Tabl & Chart'!$C134,)","v":0},{"$f":"IF('10. Obj. Placement Tabl & Chart'!$F134=2,IF('10. Obj. Placement Tabl & Chart'!$E134=\"Right\",-1*'10. Obj. Placement Tabl & Chart'!$D134,'10. Obj. Placement Tabl & Chart'!$D134),)","v":0},{"$f":"IF('10. Obj. Placement Tabl & Chart'!$F134=3,'10. Obj. Placement Tabl & Chart'!$C134,)","v":0},{"$f":"IF('10. Obj. Placement Tabl & Chart'!$F134=3,IF('10. Obj. Placement Tabl & Chart'!$E134=\"Right\",-1*'10. Obj. Placement Tabl & Chart'!$D134,'10. Obj. Placement Tabl & Chart'!$D134),)","v":0},{"$f":"IF('10. Obj. Placement Tabl & Chart'!$F134=4,'10. Obj. Placement Tabl & Chart'!$C134,)","v":0},{"$f":"IF('10. Obj. Placement Tabl & Chart'!$F134=4,IF('10. Obj. Placement Tabl & Chart'!$E134=\"Right\",-1*'10. Obj. Placement Tabl & Chart'!$D134,'10. Obj. Placement Tabl & Chart'!$D134),)","v":0},null,null,{"$f":"IF('10. Obj. Placement Tabl & Chart'!$F263=1,'10. Obj. Placement Tabl & Chart'!$C263,)","v":0},{"$f":"IF('10. Obj. Placement Tabl & Chart'!$F263=1,IF('10. Obj. Placement Tabl & Chart'!$E263=\"Right\",-1*'10. Obj. Placement Tabl & Chart'!$D263,'10. Obj. Placement Tabl & Chart'!$D263),)","v":0},{"$f":"IF('10. Obj. Placement Tabl & Chart'!$F263=2,'10. Obj. Placement Tabl & Chart'!$C263,)","v":0},{"$f":"IF('10. Obj. Placement Tabl & Chart'!$F263=2,IF('10. Obj. Placement Tabl & Chart'!$E263=\"Right\",-1*'10. Obj. Placement Tabl & Chart'!$D263,'10. Obj. Placement Tabl & Chart'!$D263),)","v":0},{"$f":"IF('10. Obj. Placement Tabl & Chart'!$F263=3,'10. Obj. Placement Tabl & Chart'!$C263,)","v":0},{"$f":"IF('10. Obj. Placement Tabl & Chart'!$F263=3,IF('10. Obj. Placement Tabl & Chart'!$E263=\"Right\",-1*'10. Obj. Placement Tabl & Chart'!$D263,'10. Obj. Placement Tabl & Chart'!$D263),)","v":0},{"$f":"IF('10. Obj. Placement Tabl & Chart'!$F263=4,'10. Obj. Placement Tabl & Chart'!$C263,)","v":0},{"$f":"IF('10. Obj. Placement Tabl & Chart'!$F263=4,IF('10. Obj. Placement Tabl & Chart'!$E263=\"Right\",-1*'10. Obj. Placement Tabl & Chart'!$D263,'10. Obj. Placement Tabl & Chart'!$D263),)","v":0}]
[null,null,null,null,null,null,null,null,null,null,null,null,null,null,null,null,null,null,null,null,null,null,null,null,null,null,null,null,null,null,null,null,null,null,null,null,null,0,{"$f":"IF(AL119=0,,SUM($BL$6:BL118)+ROUND(2*IF(AP119=1,$AV$37,IF(AP119=2,$AV$41,IF(AP119=3,$AV$45,IF(AP119=4,$AV$49,))))*RAND(),))","v":0},0,0,0,0,0,null,null,null,null,null,null,null,null,null,null,null,null,null,null,8.9775296676612548E-2,0,0,0,0,0,null,0.43126066687370923,0,null,0,0,0,0,0,0,0.43126066687370923,null,0,0,0,0,0,0,0.43126066687370923,null,0,0,0,0,0,0,0.43126066687370923,null,0,0,0,0,0,0,0.43126066687370923,null,1,1,1,1,null,{"$f":"IF('10. Obj. Placement Tabl & Chart'!$F135=1,'10. Obj. Placement Tabl & Chart'!$C135,)","v":0},{"$f":"IF('10. Obj. Placement Tabl & Chart'!$F135=1,IF('10. Obj. Placement Tabl & Chart'!$E135=\"Right\",-1*'10. Obj. Placement Tabl & Chart'!$D135,'10. Obj. Placement Tabl & Chart'!$D135),)","v":0},{"$f":"IF('10. Obj. Placement Tabl & Chart'!$F135=2,'10. Obj. Placement Tabl & Chart'!$C135,)","v":0},{"$f":"IF('10. Obj. Placement Tabl & Chart'!$F135=2,IF('10. Obj. Placement Tabl & Chart'!$E135=\"Right\",-1*'10. Obj. Placement Tabl & Chart'!$D135,'10. Obj. Placement Tabl & Chart'!$D135),)","v":0},{"$f":"IF('10. Obj. Placement Tabl & Chart'!$F135=3,'10. Obj. Placement Tabl & Chart'!$C135,)","v":0},{"$f":"IF('10. Obj. Placement Tabl & Chart'!$F135=3,IF('10. Obj. Placement Tabl & Chart'!$E135=\"Right\",-1*'10. Obj. Placement Tabl & Chart'!$D135,'10. Obj. Placement Tabl & Chart'!$D135),)","v":0},{"$f":"IF('10. Obj. Placement Tabl & Chart'!$F135=4,'10. Obj. Placement Tabl & Chart'!$C135,)","v":0},{"$f":"IF('10. Obj. Placement Tabl & Chart'!$F135=4,IF('10. Obj. Placement Tabl & Chart'!$E135=\"Right\",-1*'10. Obj. Placement Tabl & Chart'!$D135,'10. Obj. Placement Tabl & Chart'!$D135),)","v":0},null,null,{"$f":"IF('10. Obj. Placement Tabl & Chart'!$F264=1,'10. Obj. Placement Tabl & Chart'!$C264,)","v":0},{"$f":"IF('10. Obj. Placement Tabl & Chart'!$F264=1,IF('10. Obj. Placement Tabl & Chart'!$E264=\"Right\",-1*'10. Obj. Placement Tabl & Chart'!$D264,'10. Obj. Placement Tabl & Chart'!$D264),)","v":0},{"$f":"IF('10. Obj. Placement Tabl & Chart'!$F264=2,'10. Obj. Placement Tabl & Chart'!$C264,)","v":0},{"$f":"IF('10. Obj. Placement Tabl & Chart'!$F264=2,IF('10. Obj. Placement Tabl & Chart'!$E264=\"Right\",-1*'10. Obj. Placement Tabl & Chart'!$D264,'10. Obj. Placement Tabl & Chart'!$D264),)","v":0},{"$f":"IF('10. Obj. Placement Tabl & Chart'!$F264=3,'10. Obj. Placement Tabl & Chart'!$C264,)","v":0},{"$f":"IF('10. Obj. Placement Tabl & Chart'!$F264=3,IF('10. Obj. Placement Tabl & Chart'!$E264=\"Right\",-1*'10. Obj. Placement Tabl & Chart'!$D264,'10. Obj. Placement Tabl & Chart'!$D264),)","v":0},{"$f":"IF('10. Obj. Placement Tabl & Chart'!$F264=4,'10. Obj. Placement Tabl & Chart'!$C264,)","v":0},{"$f":"IF('10. Obj. Placement Tabl & Chart'!$F264=4,IF('10. Obj. Placement Tabl & Chart'!$E264=\"Right\",-1*'10. Obj. Placement Tabl & Chart'!$D264,'10. Obj. Placement Tabl & Chart'!$D264),)","v":0}]
[null,null,null,null,null,null,null,null,null,null,null,null,null,null,null,null,null,null,null,null,null,null,null,null,null,null,null,null,null,null,null,null,null,null,null,null,null,0,{"$f":"IF(AL120=0,,SUM($BL$6:BL119)+ROUND(2*IF(AP120=1,$AV$37,IF(AP120=2,$AV$41,IF(AP120=3,$AV$45,IF(AP120=4,$AV$49,))))*RAND(),))","v":0},0,0,0,0,0,null,null,null,null,null,null,null,null,null,null,null,null,null,null,3.3293960960194546E-2,0,0,0,0,0,null,4.905692132065409E-2,0,null,0,0,0,0,0,0,4.905692132065409E-2,null,0,0,0,0,0,0,4.905692132065409E-2,null,0,0,0,0,0,0,4.905692132065409E-2,null,0,0,0,0,0,0,4.905692132065409E-2,null,1,1,1,1,null,{"$f":"IF('10. Obj. Placement Tabl & Chart'!$F136=1,'10. Obj. Placement Tabl & Chart'!$C136,)","v":0},{"$f":"IF('10. Obj. Placement Tabl & Chart'!$F136=1,IF('10. Obj. Placement Tabl & Chart'!$E136=\"Right\",-1*'10. Obj. Placement Tabl & Chart'!$D136,'10. Obj. Placement Tabl & Chart'!$D136),)","v":0},{"$f":"IF('10. Obj. Placement Tabl & Chart'!$F136=2,'10. Obj. Placement Tabl & Chart'!$C136,)","v":0},{"$f":"IF('10. Obj. Placement Tabl & Chart'!$F136=2,IF('10. Obj. Placement Tabl & Chart'!$E136=\"Right\",-1*'10. Obj. Placement Tabl & Chart'!$D136,'10. Obj. Placement Tabl & Chart'!$D136),)","v":0},{"$f":"IF('10. Obj. Placement Tabl & Chart'!$F136=3,'10. Obj. Placement Tabl & Chart'!$C136,)","v":0},{"$f":"IF('10. Obj. Placement Tabl & Chart'!$F136=3,IF('10. Obj. Placement Tabl & Chart'!$E136=\"Right\",-1*'10. Obj. Placement Tabl & Chart'!$D136,'10. Obj. Placement Tabl & Chart'!$D136),)","v":0},{"$f":"IF('10. Obj. Placement Tabl & Chart'!$F136=4,'10. Obj. Placement Tabl & Chart'!$C136,)","v":0},{"$f":"IF('10. Obj. Placement Tabl & Chart'!$F136=4,IF('10. Obj. Placement Tabl & Chart'!$E136=\"Right\",-1*'10. Obj. Placement Tabl & Chart'!$D136,'10. Obj. Placement Tabl & Chart'!$D136),)","v":0},null,null,{"$f":"IF('10. Obj. Placement Tabl & Chart'!$F265=1,'10. Obj. Placement Tabl & Chart'!$C265,)","v":0},{"$f":"IF('10. Obj. Placement Tabl & Chart'!$F265=1,IF('10. Obj. Placement Tabl & Chart'!$E265=\"Right\",-1*'10. Obj. Placement Tabl & Chart'!$D265,'10. Obj. Placement Tabl & Chart'!$D265),)","v":0},{"$f":"IF('10. Obj. Placement Tabl & Chart'!$F265=2,'10. Obj. Placement Tabl & Chart'!$C265,)","v":0},{"$f":"IF('10. Obj. Placement Tabl & Chart'!$F265=2,IF('10. Obj. Placement Tabl & Chart'!$E265=\"Right\",-1*'10. Obj. Placement Tabl & Chart'!$D265,'10. Obj. Placement Tabl & Chart'!$D265),)","v":0},{"$f":"IF('10. Obj. Placement Tabl & Chart'!$F265=3,'10. Obj. Placement Tabl & Chart'!$C265,)","v":0},{"$f":"IF('10. Obj. Placement Tabl & Chart'!$F265=3,IF('10. Obj. Placement Tabl & Chart'!$E265=\"Right\",-1*'10. Obj. Placement Tabl & Chart'!$D265,'10. Obj. Placement Tabl & Chart'!$D265),)","v":0},{"$f":"IF('10. Obj. Placement Tabl & Chart'!$F265=4,'10. Obj. Placement Tabl & Chart'!$C265,)","v":0},{"$f":"IF('10. Obj. Placement Tabl & Chart'!$F265=4,IF('10. Obj. Placement Tabl & Chart'!$E265=\"Right\",-1*'10. Obj. Placement Tabl & Chart'!$D265,'10. Obj. Placement Tabl & Chart'!$D265),)","v":0}]
[null,null,null,null,null,null,null,null,null,null,null,null,null,null,null,null,null,null,null,null,null,null,null,null,null,null,null,null,null,null,null,null,null,null,null,null,null,null,null,null,null,null,null,null,null,null,null,null,null,null,null,null,null,null,null,null,null,null,null,null,null,null,null,null,null,null,null,null,null,null,null,null,null,null,null,null,null,null,null,null,null,null,null,null,null,null,null,null,null,null,null,null,null,null,null,null,null,null,null,null,null,null,null,null,null,{"$f":"IF('10. Obj. Placement Tabl & Chart'!$F137=1,'10. Obj. Placement Tabl & Chart'!$C137,)","v":0},{"$f":"IF('10. Obj. Placement Tabl & Chart'!$F137=1,IF('10. Obj. Placement Tabl & Chart'!$E137=\"Right\",-1*'10. Obj. Placement Tabl & Chart'!$D137,'10. Obj. Placement Tabl & Chart'!$D137),)","v":0},{"$f":"IF('10. Obj. Placement Tabl & Chart'!$F137=2,'10. Obj. Placement Tabl & Chart'!$C137,)","v":0},{"$f":"IF('10. Obj. Placement Tabl & Chart'!$F137=2,IF('10. Obj. Placement Tabl & Chart'!$E137=\"Right\",-1*'10. Obj. Placement Tabl & Chart'!$D137,'10. Obj. Placement Tabl & Chart'!$D137),)","v":0},{"$f":"IF('10. Obj. Placement Tabl & Chart'!$F137=3,'10. Obj. Placement Tabl & Chart'!$C137,)","v":0},{"$f":"IF('10. Obj. Placement Tabl & Chart'!$F137=3,IF('10. Obj. Placement Tabl & Chart'!$E137=\"Right\",-1*'10. Obj. Placement Tabl & Chart'!$D137,'10. Obj. Placement Tabl & Chart'!$D137),)","v":0},{"$f":"IF('10. Obj. Placement Tabl & Chart'!$F137=4,'10. Obj. Placement Tabl & Chart'!$C137,)","v":0},{"$f":"IF('10. Obj. Placement Tabl & Chart'!$F137=4,IF('10. Obj. Placement Tabl & Chart'!$E137=\"Right\",-1*'10. Obj. Placement Tabl & Chart'!$D137,'10. Obj. Placement Tabl & Chart'!$D137),)","v":0},null,null,{"$f":"IF('10. Obj. Placement Tabl & Chart'!$F266=1,'10. Obj. Placement Tabl & Chart'!$C266,)","v":0},{"$f":"IF('10. Obj. Placement Tabl & Chart'!$F266=1,IF('10. Obj. Placement Tabl & Chart'!$E266=\"Right\",-1*'10. Obj. Placement Tabl & Chart'!$D266,'10. Obj. Placement Tabl & Chart'!$D266),)","v":0},{"$f":"IF('10. Obj. Placement Tabl & Chart'!$F266=2,'10. Obj. Placement Tabl & Chart'!$C266,)","v":0},{"$f":"IF('10. Obj. Placement Tabl & Chart'!$F266=2,IF('10. Obj. Placement Tabl & Chart'!$E266=\"Right\",-1*'10. Obj. Placement Tabl & Chart'!$D266,'10. Obj. Placement Tabl & Chart'!$D266),)","v":0},{"$f":"IF('10. Obj. Placement Tabl & Chart'!$F266=3,'10. Obj. Placement Tabl & Chart'!$C266,)","v":0},{"$f":"IF('10. Obj. Placement Tabl & Chart'!$F266=3,IF('10. Obj. Placement Tabl & Chart'!$E266=\"Right\",-1*'10. Obj. Placement Tabl & Chart'!$D266,'10. Obj. Placement Tabl & Chart'!$D266),)","v":0},{"$f":"IF('10. Obj. Placement Tabl & Chart'!$F266=4,'10. Obj. Placement Tabl & Chart'!$C266,)","v":0},{"$f":"IF('10. Obj. Placement Tabl & Chart'!$F266=4,IF('10. Obj. Placement Tabl & Chart'!$E266=\"Right\",-1*'10. Obj. Placement Tabl & Chart'!$D266,'10. Obj. Placement Tabl & Chart'!$D266),)","v":0}]